Workbook

Sheet ทะเบียนคุมเงินงบประมาณ 61
A1: ทะเบียนคุมเงินงบประมาณรายจ่ายจังหวัดฉะเชิงเทรา
A2: ประจำปีงบประมาณ พ.ศ. 2561
B3: สำนักงานจังหวัดฉะเชิงเทรา
A4: หน่วย | B4: ลำดับ | C4: โครงการ/กิจกรรม | D4: งบประมาณ | E4: วันที่เสนอ | F4: รายการ | G4: เลข PO/จำนวนเงิน/ผู้รับจ้าง | H4: สัญญาลงวันที่/ | I4: เบิกจ่ายแล้ว | J4: คงเหลือ | K4: วันที่เบิก/เลขที่เอกสาร | L4: หมายเหตุ
A5: ดำเนินการ | B5: ที่ | H5: สิ้นสุดวันที่
A6: กลุ่มอำนวยการ | B6: 1 | C6: เพิ่มประสิทธิภาพการปฏิบัติงานของสำนัก | D6: =+D10+D18+D28+D34+D44+D51 -> 2500000 | E6: คงเหลือ รวม 14 กิจกรรม | I6: =+I10+I18+I28+I34+I44+I51 -> 212531.2 | J6: =+D6-I6 -> 2287468.8
C7: งานจังหวัดฉะเชิงเทรา
C10: กิจกรรมหลักที่1 ค่าใช้จ่ายในการประชุมหาริชือต่างๆ | D10: 150000 | F10: คงเหลือ | I10: =+I11+I12+I13 -> 14630 | J10: =D10-I10 -> 135370
E11: 22605 | F11: ค่าอาหารว่างและเครื่องดื่ม | I11: 4865
C12: เช่น การประชุมเพื่อจัดทำแผนพัฒนาจังหวัดและกลุ่มจังหวัดกับภาคส่วนต่างๆ คณะกรมการจังหวัด ประชุมวีดีทัศน์ทางไกล ประชุมคณะกรรมการและคณะทำงานต่างๆ ตลอดจนการประชุมเพื่อแก้ไขปัญหาความเดือดร้อนต่างๆ ประชุมเกี่ยวกับปรัชญาเศรษฐกิจพอเพียง การประชุมติดตามงบประมาณ รวมถุงการประชุมอื่นๆ ที่ขับเคลื่อนการปฏิบัติงานของจังหวัด ฯลฯ | E12: 22633 | F12: ค่าอาหารว่างและเครื่องดื่ม | I12: 4865
E13: 22633 | F13: ค่าอาหารว่างและเครื่องดื่ม | I13: 4900
C18: กิจกรรมหลักที่ 2 ค่าประชุม กบจ.5 ครั้ง | D18: 329000 | F18: คงเหลือ | I18: =+I19+I21+I22+I23+I24+I25+I26 -> 65800 | J18: =D18-I18 -> 263200
C19: กลุ่มยุทธ | E19: 22618 | F19: ยืมเงิน ก.บ.จ. เลขที่ 1/2562 | I19: 65800
C28: กิจกรรมหลักที่3การสำรวจความคิดเห็นของประชาชน | D28: 100000 | F28: คงเหลือ | I28: =+I29+I30+I31 -> 0 | J28: =D28-I28 -> 100000
C29: เช่น ค่าใช้จ่ายในการเผยแพร่ประชาสัมพันธ์ตามนโยบายของรัฐบาล และกระทรวงมหาดไทย การปฏิบัติตามคำรับรองการปฏิบัติราชการประจำปี ฯลฯ
C34: กิจกรรมหลักที่4 การพัฒนาประสิทธิภาพในการบริหารจัดการและการส่งเสริมคุณภาพการบริหารจัดการภาครัฐ | D34: 1031000 | F34: คงเหลือ | I34: =+I35+I36+I37+I38+I39 -> 55850 | J34: =D34-I34 -> 975150
E35: 22607 | F35: ค่าบริการ WIFI ต.ค.,พ.ย. 61 | I35: 15836
E36: 22627 | F36: ค่าซ่อมแซมรถยนต์ | I36: 10910
C37: เช่น ค่าอำนวยการต่างๆ ค่าวัสดุสำนักงาน ค่าถ่ายเอกสาร ค่าซ่อมแซมวัสดุอุปกรณ์สำหรับการปฏิบัติราชการ การพัฒนาระบบฐานข้อมูลของจังหวัด ค่าใช่จ่ายในการให้บริการระบบสื่อสารและอินเตอร?เน้ต การจัดทำเอกสารและคู่มือต่างๆ ค่าล่วงเวลา รวมถึงค่าใช่จ่ายการปฏิบัติงานตามนโยบายสำคัญ/แผนงานสำคัญของจังหวัดฯลฯ | E37: 22627 | F37: ค่าปรับปรุงผนังห้อง ผวจ. | I37: 16585
E38: 22627 | F38: ค่าซ่อมเปลี่ยนเครื่องปรับอากาศ | I38: 4601
E39: 22649 | F39: ค่าบริการ WIFI ธ.ค. 61 | I39: 7918
E40: 22649 | F40: ค่าเปลี่ยนถังน้ำและว่างท่อ | I40: 24000
C44: กิจกรรมหลักที่ 5 การเผยแพร่ประชาสัมพันธ์เพื่อให้เกิดความรู้ความเข้าใจแก่ภาคส่วนต่างๆ | D44: 50000 | F44: คงเหลือ | I44: 0 | J44: =D44-I44 -> 50000
C45: เช่น ค่าจัดทำรายงานผลการปฏิบัติงานประจำปีจังหวัดฉะเชิงเทราตามงบยุทะศาสตร์จังหวัด/กลุ่มจังหวัด พ.ศ. 2562 ฯลฯ
C51: กิจกรรมหลักที่6 การติดตามประเมินผลการปฏิบัติงานตามแผนปฏิบัติราชการ ประจำปีงบประมาณ 2562 และแผนงานสำคัญของจังหวัด | D51: 840000 | F51: คงเหลือ | I51: =SUM(I52:I58) -> 76251.2 | J51: =D51-I51 -> 763748.8
C52: เช่น ค่าใช้จ่ายการลงพื้นที่ตรวจติดตามแผนงาน/โครงการการเดินทางไปราชการ ค่าน้ำมันเชื้อเพลิง ฯลฯ | E52: 22605 | F52: ค่าน้ำมันเชื้อเพลิง ต.ค. 61 | I52: 38839.1
E53: 22633 | F53: ค่าน้ำมันเชื้อเพลิง พ.ย. 61 | I53: 36910.1 | O53: 1050
E54: 22640 | F54: ค่าใช้จ่ายในการเดินทางไปราชการ | I54: 502 | O54: 2790
O55: 1225
O56: 1750
O57: 1050
O58: =SUM(O53:O57) -> 7865
A59: รวม 1 โครงการ สนจ.ฉช | D59: =+D6 -> 2500000 | I59: =+I6 -> 212531.2 | J59: =+D59-I59 -> 2287468.8
A60: กลุ่มอำนวยการ | B60: 2 | C60: จ้างเหมาบุคลากรเพื่อดำเนินงานในสำนัก | D60: 1620000 | E60: คงเหลือ | I60: =SUM(I61:I72) -> 405000 | J60: =D60-I60 -> 1215000
A61: กลุ่มยุทธศาสตร์ | C61: งานจังหวัดฉะเชิงเทรา | E61: 7 พ.ย 61 | F61: ค่าจ้างเหมา ต.ค. 61 จำนวน 9 คน | I61: 135000
E62: 22618 | F62: ค่าจ้างเหมา พ.ย. 61 จำนวน 9 คน | I62: 135000
E63: 22648 | F63: ค่าจ้างเหมา ธ.ค. 61 จำนวน 9 คน | I63: 135000
A73: รวม 1 โครงการ สนจ.ฉช | D73: =+D60 -> 1620000 | I73: =+I60 -> 405000 | J73: =+B73-G73 -> 0
A74: สนง.ประชาสัมพันธ์ | C74: จ้างเหมาบุคคลการประชาสัมพันธ์เพื่อ | D74: 180000 | E74: คงเหลือ | I74: =SUM(I75:I85) -> 30000 | J74: =D74-I74 -> 150000
C75: สนับสนุนการพัฒนาจังหวัดฉะเชิงเทรา | E75: 22599 | F75: ค่าจ้างเหมา ต.ค. 61 | I75: 15000
E76: 22622 | F76: ค่าจ้างเหมา ต.ค. 61 | I76: 15000
A80: สนง.ท่องเที่ยวฯ | C80: โครงการจัดการแข่งขันชิงจ้าวความเร็วทางน้ำชิงถ้วยพระราชทานฯ ประจำปี 2561 จังหวัดฉะเชิงเทรา | D80: 200000 | E80: คงเหลือ | I80: =SUM(I81:I91) -> 0 | J80: =D80-I80 -> 200000
A86: อำเภอเมือง
B87: 1 | C87: ซ่อมสร้างถนนลาดยางสายตรงข้ามวัดโสธร หมู่ที่ 2 ตำบลบางตีนเป็ด อำเภอเมืองฉะเชิงเทราจังหวัดฉะเชิงเทรา | D87: 3789000 | E87: คงเหลือ | I87: =+I88 -> 0 | J87: =+D87-I87 -> 3789000
C92: ก่อสร้างถนนคอนกรีตเสริมเหล็ก ถนนประสานมิตร ซอย 3 หมู่ที่ 6,11,12 อำเภอเมืองฉะเชิงเทรา จังหวัดฉะเชิงเทรา | D92: 4212000 | E92: คงเหลือ | I92: =+I93 -> 0 | J92: =+D92-I92 -> 4212000
A96: รวม 2 โครงการ อำเภอเมือง | D96: =+D87+D92 -> 8001000 | J96: =+J87 -> 3789000
A97: อำเภอแปลงยาว
B98: 1 | C98: ก่อสร้างถนนคอนกรีตเสริมเหล็ก สายหนองหอย หมู่ที่ 12 บ้านคลอง ตำบลแปลงยาว จังหวัดฉะเชิงเทรา | D98: 1030000 | E98: คงเหลือ | J98: =+D98-I98 -> 1030000
B102: 2 | C102: ขุดฝังท่อระบายน้ำและบ่อพักคอนกรีตเสริมเหล็ก ขนาด 0.60 เมตร พร้อมเสริมลูกรังหลังท่อซอยเทศบาล 3/1 หมู่ที่3 ตำบลหัวสำโรง อำเภอแปลงยาว จังหวัดฉะเชิงเทรา | D102: 1996000 | E102: คงเหลือ | I102: =+I103 -> 0 | J102: =+D102-I102 -> 1996000
B106: 3 | C106: ก่อสร้างถนนลาดยาง สายหนองน้ำกิน - หนองประดู่ หมู่ที่ 10 ตำบลวังเย็น อำเภอแปลงยาว จังหวัดฉะเชิงเทรา | D106: 5490000 | E106: คงเหลือ | I106: =+I107 -> 0 | J106: =+D106-I106 -> 5490000
A109: รวม 4 โครงการ อำเภอแปลงยาว | D109: =+D98+D102+D106 -> 8516000 | J109: =+B109 -> 0
A110: อำเภอคลองเขื่อน
B111: 1 | C111: ขยายเขตประปาส่วนภูมิภาค หมู่ที่ 1 - หมู่ที่ 6 ตำบลคลองเขื่อน อำเภอคลองเขื่อน จังหวัดฉะเชิงเทรา | D111: 16359000 | E111: คงเหลือ | I111: =SUM(I112:I115) -> 0 | J111: =+D111-I111 -> 16359000
A115: รวม 1 โครงการ อำเภอคลองเขื่อน | D115: =+D111 -> 16359000 | J115: =+B115 -> 0
A116: อำเภอบางคล้า
B117: 1 | C117: ก่อสร้างถนนคอนกรีตเสริมเหล็ก สายบางชัน หมู่ที่ 4 ตำบลบางกระเจ็ด อำเภอบางคล้า จังหวัดฉะเชิงเทรา | D117: 3094000 | E117: คงเหลือ | I117: =+I120 -> 0 | J117: =D117-I117 -> 3094000
B120: 2 | C120: ซ่อมสร้างถนนลาดยาง สายสามแยกหัวไทร - สามแยกสลิดใหญ่ หมู่ที่ 8 ตำบลบางกระเจ็ด อำเภอบางคล้า จังหวัดฉะเชิงเทรา | D120: 4387000 | E120: คงเหลือ | I120: =+I123 -> 0 | J120: =D120-I120 -> 4387000
B123: 3 | C123: ก่อสร้างถนนลาดยางสายจากคลองบางไผ่ หมู่ที่ 3 ตำบลคลองขุด อำเภอบ้านโพธิ์ เชื่อมถนนสายวัดราษฏร์ศรัทราธรรม หมู่ที่ 3 ตำบลเสม็ดใต้ อำเภอบางคล้า จังหวัดฉะเชิงเทรา | D123: 7016000 | E123: คงเหลือ | J123: =+D123-I123 -> 7016000
B126: 4 | C126: ก่อสร้างถนนลาดยาง สายจากคลองชลประทาน ซอย 4 ถึงบ้านนางสมบุญ บุญเรือง หมู่ที่ 1 ตำบลเสม็ดใต้ อำเภอบางคล้า จังหวัดฉะเชิงเทรา | D126: 3700000 | E126: คงเหลือ | I126: =+I127 -> 0 | J126: =+D126-I126 -> 3700000
A130: รวม 3 โครงการ อำเภอบางคล้า | D130: =+D126+D123+D120+D117 -> 18197000 | J130: =+B130 -> 0
A131: อำเภอบ้านโพธิ์
B132: 1 | C132: ก่อสร้างถนนคอนกรีตเสริมเหล็ก สายคลองบ้านโพธิ์ 1/1 หมู่ที่ 1 ตำบลคลองบ้านโพธิ์ อำเภอบ้านโพธิ์ จังหวัดฉะเชิงเทรา | D132: 4905400 | E132: คงเหลือ | J132: =+D132-I132 -> 4905400
B136: 2 | C136: ซ่อมสร้างถนนลาดยางสายตลาดหนองตีนนก หมู่ที่ 5 ตำบลหนองตีนนก อำเภอบ้านโพธิ์ จังหวัดฉะเชิงเทรา | D136: 2951500 | E136: คงเหลือ | I136: =+I137 -> 0 | J136: =+D136-I136 -> 2951500
A140: รวม 2 โครงการ อำเภอบ้านโพธิ์ | D140: =+D132+D136 -> 7856900 | J140: =B140-G140 -> 0
A141: อำเภอพนมสารคาม
B142: 1 | C142: ก่อสร้างถนนคอนกรีตเสริมเหล็ก หมู่ที่ 13 ซอยสุสิต ถึง สระหลวง ตำบลบ้านซ่อง อำเภอพนมสารคาม จังหวัดฉะเชิงเทรา | D142: 1446000 | E142: คงเหลือ | I142: =SUM(I143:I146) -> 0 | J142: =+D142-I142 -> 1446000
B145: 2 | C145: ซ่อมสร้างถนนลาดยาง สายโรงเลื่อยจักร – ห้วยหิน หมู่ที่ 3 ตำบลเกาะขนุน อำเภอพนมสารคาม จังหวัดฉะเชิงเทรา | D145: 1542600 | E145: คงเหลือ | I145: =SUM(I146:I147) -> 0 | J145: =+D145-I145 -> 1542600
A147: รวม 2 โครงการ อำเภอพนมสารคาม | D147: =+D142+D145 -> 2988600 | J147: =+B147 -> 0
A148: อำเภอสนามชัยเขต
B149: 1 | C149: ซ่อมสร้างถนนลาดยาง สายเขาผานาง – ท่าวัว ตำบลท่ากระดาน อำเภอสนามชัยเขต จังหวัดฉะเชิงเทรา | D149: 1300000 | E149: คงเหลือ | I149: =SUM(I150:I152) -> 0 | J149: =+D149-I149 -> 1300000
B153: 2 | C153: ก่อสร้างปรับปรุงผิวจราจรถนนลาดยางสายโปร่งเจริญ – หินแร่ ตำบลท่ากระดาน อำเภอสนามชัยเขต จังหวัดฉะเชิงเทรา | D153: 3250000 | E153: คงเหลือ | J153: =+D153-I153 -> 3250000
B157: 3 | C157: ก่อสร้างถนนลาดยาง สายแปลงไผ่ - แปลงแปด หมู่ที่ 10 ตำบลลาดกระทิง อำเภอสนามชัยเขต จังหวัดฉะเชิงเทรา | D157: 3096600 | E157: คงเหลือ | J157: =+D157-I157 -> 3096600
B160: 4 | C160: ก่อสร้างถนนลาดยาง สายกะบกหวาน-ท่าทองดำ ตำบลทุ่งพระยา อำเภอสนามชัยเขต จังหวัดฉะเชิงเทรา | D160: 2500000 | E160: คงเหลือ | J160: =+D160-I160 -> 2500000
B162: 5 | C162: ก่อสร้างถนนลาดยาง สายหนองแสง หมู่ที่ 1 ตำบลลาดกระทิง อำเภอสนามชัยเขต - ห้วยพูลใน ตำบลเกาะขนุน อำเภอพนมสารคาม จังหวัดฉะเชิงเทรา | D162: 3557600 | E162: คงเหลือ | J162: =+D162-I162 -> 3557600
A164: รวม 4 โครงการ อำเภอสนามชัยเขต | D164: =+D160+D157+D153+D149 -> 10146600 | J164: =B164-G164 -> 0
A165: อำเภอบางน้ำเปรี้ยว
B166: 1 | C166: ซ่อมสร้างถนนลาดยาง สายวัดโพรงอากาศ หมู่ที่ 9 - หมู่ที่ 16 ตำบลโพรงอากาศ อำเภอบางน้ำเปรี้ยว จังหวัดฉะเชิงเทรา | D166: 10000000 | E166: คงเหลือ | I166: =SUM(I167:I169) -> 0 | J166: =+D166-I166 -> 10000000
A170: รวม 1 โครงการ อำเภอบางน้ำเปรี้ยว | D170: =SUM(D166:D169) -> 10000000 | J170: =B170-G170 -> 0
A171: หน่วย | B171: ลำดับ | C171: โครงการ/กิจกรรม | D171: งบประมาณ | E171: วันที่ | F171: รายการ | G171: เลข PO/จำนวนเงิน | I171: เบิกจ่ายแล้ว | J171: คงเหลือ
A172: ดำเนินการ | B172: ที่
A173: อำเภอบางปะกง
B174: 1 | C174: ก่อสร้างถนนคอนกรีตเสริมเหล็ก สายสะพานเหลืองเชื่อมหอมศีล หมู่ 6 ตำบลบางเกลือ อำเภอบางปะกง จังหวัดฉะเชิงเทรา | D174: 1400000 | E174: คงเหลือ | I174: =SUM(I175:I176) -> 0 | J174: =+D174-I174 -> 1400000
B176: 2 | C176: ก่อสร้างถนนคอนกรีตเสริมเหล็กคลองก้นบึ้งตอนที่ 2 หมู่ที่ 4 ตำบลสองคลอง อำเภอบางปะกง จังหวัดฉะเชิงเทรา | D176: 4100000 | E176: คงเหลือ | I176: =SUM(I177:I179) -> 0 | J176: =+D176-I176 -> 4100000
A178: รวม 1 โครงการ อำเภอบางปะกง | D178: =SUM(D174:D176) -> 5500000 | J178: =B178-G178 -> 0
A179: หน่วย | B179: ลำดับ | C179: โครงการ/กิจกรรม | D179: งบประมาณ | E179: วันที่ | F179: รายการ | G179: เลข PO/จำนวนเงิน | I179: เบิกจ่ายแล้ว | J179: คงเหลือ
A180: ดำเนินการ | B180: ที่
A181: อำเภอท่าตะเกียบ
B182: 1 | C182: ก่อสร้างปรับปรุงผิวจราจรลาดยางสาย หมู่ที่ 1 บ้านวังวุ้ง - หมู่ที่ 17 บ้านชมพู ตำบลท่าตะเกียบ อำเภอท่าตะเกียบ จังหวัดฉะเชิงเทรา | D182: 17500000 | E182: คงเหลือ | I182: =SUM(I183:I184) -> 0 | J182: =+D182-I182 -> 17500000
A185: รวม 1 โครงการ อำเภอท่าตะเกียบ | J185: =B185-G185 -> 0
A186: หน่วย | B186: ลำดับ | C186: โครงการ/กิจกรรม | D186: งบประมาณ | E186: วันที่ | F186: รายการ | G186: เลข PO/จำนวนเงิน | I186: เบิกจ่ายแล้ว | J186: คงเหลือ
A187: ดำเนินการ | B187: ที่
A188: อำเภอราชสาส์น
B189: 1 | C189: ปรับปรุงถนนลาดยาง สายเข้าวัดแสนภูมราวาส หมู่ที่ 4 ตำบลเมืองใหม่ อำเภอราชสาส์น จังหวัดฉะเชิงเทรา | D189: 800000 | E189: คงเหลือ | I189: =SUM(I191:I195) -> 0 | J189: =+D189-I189 -> 800000
C191: ก่อสร้างถนนคอนกรีตเสริมเหล็ก สายคันคลองหนองตาลอ หมู่ที่ 3 และหมู่ที่ 14 ตำบลดงน้อย อำเภอราชสาส์น จังหวัดฉะเชิงเทรา | D191: 4475900 | E191: คงเหลือ | I191: =SUM(I193:I197) -> 0 | J191: =+D191-I191 -> 4475900
C193: ก่อสร้างถนนคอนกรีตเสริมเหล็ก สายกกสับใน - ปากน้ำ หมู่ที่ 3 ตำบลเมืองใหม่ อำเภอราชสาส์นจังหวัดฉะเชิงเทรา | D193: 2454000 | E193: คงเหลือ | I193: =SUM(I195:I199) -> 0 | J193: =+D193-I193 -> 2454000
C195: ก่อสร้างถนนคอนกรีตเสริมเหล็กถนนสายในหมู่บ้าน บ้านเตาอิฐ จากถนนพนมสารคาม – ราชสาส์น ถึงบริเวณบ้านนายสมพร เพิ่มพูน หมู่ที่ 4 ตำบลบางคา อำเภอราชสาส์น จังหวัดฉะเชิงเทรา | D195: 2430400 | E195: คงเหลือ | J195: =+D195-I195 -> 2430400
A197: รวม 1 โครงการ อำเภอราชสาส์น | D197: =SUM(D189:D195) -> 10160300 | J197: =B197-G197 -> 0
A198: หน่วย | B198: ลำดับ | C198: โครงการ/กิจกรรม | D198: งบประมาณ | E198: วันที่ | F198: รายการ | G198: เลข PO/จำนวนเงิน | I198: เบิกจ่ายแล้ว | J198: คงเหลือ
A199: ดำเนินการ | B199: ที่
A200: โครงการชลประทานฉะเชิงเทรา
...

Sheet งบลงทุน
A1: ทะเบียนคุมเงินงบประมาณจังหวัดฉะเชิงเทรา ประจำปีงบประมาณ พ.ศ. 2562 (งบลงทุน)
A3: ลำดับที่ | B3: โครงการ | C3: หน่วยงานที่รับผิดชอบ | D3: งบประมาณ | E3: PO | F3: เบิกจ่าย | G3: คงเหลือ | H3: หมายเหตุ
A4: 1 | B4: โครงการซ่อมสร้างถนนลาดยางสายตรงข้ามวัดโสธร หมู่ที่ 2 ตำบลบางตีนเป็ด อำเภอเมือง ฉะเชิงเทราจังหวัดฉะเชิงเทรา | C4: อำเภอเมืองฉะเชิงเทรา | D4: 3789000 | G4: =D4-E4 -> 3789000
A5: 2 | B5: โครงการก่อสร้างถนนคอนกรีตเสริมเหล็ก ถนนประสานมิตร ซอย 3 หมู่ที่ 6,11,12 ตำบลบางเตย อำเภอเมืองฉะเชิงเทรา จังหวัดฉะเชิงเทรา | D5: 4212000 | G5: =D5-E5 -> 4212000
A6: 3 | B6: โครงการก่อสร้างถนนคอนกรีตเสริมเหล็ก สายหนองหอย หมู่ที่ 12 บ้านคลอง ตำบลแปลงยาว จังหวัดฉะเชิงเทรา | C6: อำเภอแปลงยาว | D6: 1030000 | G6: =D6-E6 -> 1030000
A7: 4 | B7: โครงการอขุดฝังท่อระบายน้ำและบ่อพักคอนกรีตเสริมเหล็ก ขนาด 0.60 เมตร พร้อมเสริมลูกรังหลังท่อซอยเทศบาล 3/1 หมู่ที่3 ตำบลหัวสำโรง อำเภอแปลงยาว จังหวัดฉะเชิงเทรา | D7: 1996000 | G7: =D7-E7 -> 1996000
A8: 5 | B8: โครงการก่อสร้างถนนลาดยาง สายหนองน้ำกิน - หนองประดู่ หมู่ที่ 10 ตำบลวังเย็น อำเภอแปลงยาว จังหวัดฉะเชิงเทรา | D8: 5490000 | G8: =D8-E8 -> 5490000
A9: 6 | B9: โครงการก่อสร้างถนนคอนกรีตเสริมเหล็กถนนสายในหมู่บ้าน บ้านเตาอิฐ จากถนนพนมสารคาม – ราชสาส์น ถึงบริเวณบ้านนายสมพร เพิ่มพูน หมู่ที่ 4 ตำบลบางคา อำเภอราชสาส์น จังหวัดฉะเชิงเทรา | C9: อำเภอราชสาส์น | D9: 2430400 | G9: =D9-E9 -> 2430400
A10: 7 | B10: โครงการก่อสร้างถนนคอนกรีตเสริมเหล็ก สายกกสับใน - ปากน้ำ หมู่ที่ 3 ตำบลเมืองใหม่ อำเภอราชสาส์น จังหวัดฉะเชิงเทรา | D10: 2454000 | G10: =D10-E10 -> 2454000
A11: 8 | B11: โครงการปรับปรุงถนนลาดยาง สายเข้าวัดแสนภุมราวาส หมู่ที่ 4 ตำบลเมืองใหม่ อำเภอราชสาส์น จังหวัดฉะเชิงเทรา | D11: 800000 | G11: =D11-E11 -> 800000
A12: 9 | B12: ก่อสร้างถนนคอนกรีตเสริมเหล็ก สายคันคลองหนองตาลอ หมู่ที่ 3 และหมู่ที่ 14 ตำบลดงน้อย อำเภอราชสาส์น จังหวัดฉะเชิงเทรา | D12: 4475900 | G12: =D12-E12 -> 4475900
A13: 10 | B13: โครงการก่อสร้างถนนคอนกรีตเสริมเหล็ก สายบางครก หมู่ที่ ๖ ตำบลบางเกลือ เชื่อมหมู่ที่ ๓ ตำบลหอมศีล อำเภอบางปะกง จังหวัดฉะเชิงเทรา | C13: อำเภอบางปะกง | D13: 1400000 | G13: =D13-E13 -> 1400000
A14: 11 | B14: โครงการก่อสร้างถนนคอนกรีตเสริมเหล็กคลองก้นบึ้งตอนที่ 2 หมู่ที่ 4 ตำบลสองคลอง อำเภอบางปะกง จังหวัดฉะเชิงเทรา | D14: 4100000 | G14: =D14-E14 -> 4100000
A15: 12 | B15: โครงการซ่อมสร้างถนนสาย อำเภอท่าตะเกียบ-บ้านท่ากลอย หมู่ 4 ตำบลท่าตะเกียบ อำเภอท่าตะเกียบ จังหวัดฉะเชิงเทรา | C15: ทางหลวงชนบท | D15: 9750000 | G15: =D15-E15 -> 9750000
A16: 13 | B16: โครงการซ่อมสร้างถนนสาย แยก ทางหลวงชนบท ฉช.4022 เชื่อมหมู่ 15 ตำบลทุ่งพระยา อำเภอสนามชัยเขต จังหวัดฉะเชิงเทรา | D16: 9500000 | G16: =D16-E16 -> 9500000
A17: 14 | B17: โครงการซ่อมสร้างถนนลาดยาง สายเขาผานาง – ท่าวัว ตำบลท่ากระดาน อำเภอสนามชัยเขต จังหวัดฉะเชิงเทรา | C17: อำเภอสนามชัยเขต | D17: 1300000 | G17: =D17-E17 -> 1300000
A18: 15 | B18: โครงการก่อสร้างผิวจราจรถนนลาดยางสายโปร่งเจริญ – หินแร่ ตำบลท่ากระดาน อำเภอสนามชัยเขต จังหวัดฉะเชิงเทรา | D18: 3250000 | G18: =D18-E18 -> 3250000
A19: 16 | B19: โครงการก่อสร้างถนนลาดยาง สายหนองแสง หมู่ที่ 1 ตำบลลาดกระทิง อำเภอสนามชัยเขต - ห้วยพลูใน ตำบลเกาะขนุน อำเภอพนมสารคาม จังหวัดฉะเชิงเทรา | D19: 3557600 | G19: =D19-E19 -> 3557600
A20: 17 | B20: โครงการก่อสร้างถนนลาดยาง สายแปลงไผ่ - แปลงแปด หมู่ที่ 10 ตำบลลาดกระทิง อำเภอสนามชัยเขต จังหวัดฉะเชิงเทรา | D20: 3096600 | G20: =D20-E20 -> 3096600
A21: 18 | B21: โครงการก่อสร้างถนนลาดยาง สายกะบกหวาน-ท่าทองดำ ตำบลทุ่งพระยา อำเภอสนามชัยเขต จังหวัดฉะเชิงเทรา | D21: 2500000 | G21: =D21-E21 -> 2500000
A22: 19 | B22: โครงการก่อสร้างถนนคอนกรีตเสริมเหล็ก สายคลองบ้านโพธิ์ 1/1 หมู่ที่ 1 ตำบลคลองบ้านโพธิ์ อำเภอบ้านโพธิ์ จังหวัดฉะเชิงเทรา | C22: อำเภอบ้านโพธิ์ | D22: 4905400 | G22: =D22-E22 -> 4905400
A23: 20 | B23: โครงการซ่อมสร้างถนนลาดยางสายตลาดหนองตีนนก หมู่ที่ 5 ตำบลหนองตีนนก อำเภอบ้านโพธิ์ จังหวัดฉะเชิงเทรา | D23: 2951500 | G23: =D23-E23 -> 2951500
A24: 21 | B24: โครงการก่อสร้างถนนลาดยาง สายจากคลองชลประทาน ซอย 4 ถึงบ้านนางสมบุญ บุญเรือง หมู่ที่ 1 ตำบลเสม็ดใต้ อำเภอบางคล้า จังหวัดฉะเชิงเทรา | C24: อำเภอบางคล้า | D24: 3700000 | G24: =D24-E24 -> 3700000
A25: 22 | B25: โครงการก่อสร้างถนนคอนกรีตเสริมเหล็ก สายบางชัน หมู่ที่ 4 ตำบลบางกระเจ็ด อำเภอบางคล้า จังหวัดฉะเชิงเทรา | D25: 3094000 | G25: =D25-E25 -> 3094000
A26: 23 | B26: โครงการซ่อมสร้างถนนลาดยาง สายสามแยกหัวไทร - สามแยกสลิดใหญ่ หมู่ที่ 8 ตำบลบางกระเจ็ด อำเภอบางคล้า จังหวัดฉะเชิงเทรา | D26: 4387000 | G26: =D26-E26 -> 4387000
A27: 24 | B27: โครงการก่อสร้างถนนลาดยางสายจากคลองบางไผ่ หมู่ที่ 3 ตำบลคลองขุด อำเภอบ้านโพธิ์ เชื่อมถนนสายวัดราษฏร์ศรัทราธรรม หมู่ที่ 3 ตำบลเสม็ดใต้ อำเภอบางคล้า จังหวัดฉะเชิงเทรา | D27: 7016000 | G27: =D27-E27 -> 7016000
A28: 25 | B28: โครงการซ่อมสร้างถนนลาดยาง สายโรงเลื่อยจักร – ห้วยหิน หมู่ที่ 3 ตำบลเกาะขนุน อำเภอพนมสารคาม จังหวัดฉะเชิงเทรา | C28: อำเภอพนมสารคาม | D28: 1542600 | G28: =D28-E28 -> 1542600
A29: 26 | B29: โครงการก่อสร้างถนนคอนกรีตเสริมเหล็ก หมู่ที่ 13 ซอยสุสิต ถึง สระหลวง ตำบลบ้านซ่อง อำเภอพนมสารคาม จังหวัดฉะเชิงเทรา | D29: 1446000 | G29: =D29-E29 -> 1446000
A30: 27 | B30: โครงการก่อสร้างปรับปรุงผิวจราจรลาดยางสาย หมู่ที่ 1 บ้านวังวุ้ง - หมู่ที่ 17 บ้านชมพู ตำบลท่าตะเกียบ อำเภอท่าตะเกียบ จังหวัดฉะเชิงเทรา | C30: อำเภอท่าตะเกียบ | D30: 17500000 | G30: =D30-E30 -> 17500000
A31: 28 | B31: โครงการซ่อมสร้างถนนลาดยาง สายวัดโพรงอากาศ หมู่ที่ 9 - หมู่ที่ 16 ตำบลโพรงอากาศ อำเภอบางน้ำเปรี้ยว จังหวัดฉะเชิงเทรา | C31: อำเภอบางน้ำเปรี้ยว | D31: 10000000 | G31: =D31-E31 -> 10000000
A32: 29 | B32: โครงการก่อสร้างเขื่อนป้องกันตลิ่งริมคลองบางกระเจ็ด หมู่ที่ 2 บริเวณวัดสามแยก (ช่วงที่ 2) ตำบลบางกระเจ็ด อำเภอบางคล้า จังหวัดฉะเชิงเทรา | C32: โยธาธิการและผังเมืองจังหวัดฉะเชิงเทรา | D32: 15000000 | G32: =D32-E32 -> 15000000
A33: 30 | B33: โครงการก่อสร้างเขื่อนป้องกันตลิ่งริมทะเล หมู่ที่ 2 บริเวณปากคลองเจริญวัย ด้านซ้าย (ช่วงที่ 2) ตำบลสองคลอง อำเภอบางปะกง จังหวัดฉะเชิงเทรา | D33: 14000000 | G33: =D33-E33 -> 14000000
A34: 31 | B34: โครงการก่อสร้างเขื่อนป้องกันตลิ่งริมทะเล หมู่ที่ 2 บริเวณปากคลองเจริญวัยด้านขวา (ช่วงที่ 2) ตำบลสองคลอง อำเภอบางปะกง จังหวัดฉะเชิงเทรา | D34: 14000000 | G34: =D34-E34 -> 14000000
A35: 32 | B35: โครงการก่อสร้างอาคารบังคับน้ำบ้านวังซุง พร้อมอุปกรณ์ประกอบ | C35: โครงการชลประทานฉะเชิงเทรา | D35: 7500000 | G35: =D35-E35 -> 7500000
A36: 33 | B36: โครงการก่อสร้างอาคารบังคับน้ำบ้านคลองตะเคียน | D36: 5000000 | G36: =D36-E36 -> 5000000
A37: 34 | B37: โครงการขยายเขตประปาส่วนภูมิภาค หมู่ที่ 1 - หมู่ที่ 6 ตำบลคลองเขื่อน อำเภอคลองเขื่อน จังหวัดฉะเชิงเทรา | C37: อำเภอคลองเขื่อน | D37: 16359000 | G37: =D37-E37 -> 16359000 | H37: ยกเลิกโครงการ
A38: 35 | B38: อนุรักษ์ป้องกันช้างป่า | C38: สำนักงานทรัพยากรธรรมชาติและสิ่งแวดล้อม | D38: 14950000 | G38: =D38-E38 -> 14950000 | H38: ยกเลิกโครงการ
B39: 1. โครงการ ก่อสร้างถนนลาดยาวผิวจราจรชนิดแคบซีล สายท่าเลียบ - ชำป่างาม ตำบลท่ากระดาน อำเภอสนามชัยเขต จังหวัดฉะเชิงเทรา | C39: อำเภอสนามชัยเขต | D39: 3819000 | G39: =D39-E39 -> 3819000 | H39: โอนเปลี่ยนแปลง
B40: 2. โครงการ ก่อสร้างถนนลาดยางแอสฟัลติกคอนกรีต ซอย 1 หมู่ที่ 5 ตำบลคลองเขื่อน อำเภอคลองเขื่อน จังหวัดฉะเชิงเทรา | C40: อำเภอคลองเขื่อน | D40: 4420000 | G40: =D40-E40 -> 4420000 | H40: โอนเปลี่ยนแปลง
B41: 3. โครงการ ซ่อมสร้างปรับปรุงผิวจราจร ถนนสายรัศมีวัสดุภัณฑ์ หมู่ที่ 1, 2, 3, 4, 6, 7 ตำบลหนองจอก อำเภอบางปะกง จังหวัดฉะเชิงเทรา | C41: อำเภอบางปะกง | D41: 6740000 | G41: =D41-E41 -> 6740000 | H41: โอนเปลี่ยนแปลง
B42: 4. โครงการ ซ่อมสร้างถนนสายแยก ทช.ฉช.3009 เชื่อมบ้านโปร่งตาสา หมู่ 7 ตำบลทุ่งพระยา อำเภอสนามชัยเขต จังหวัดฉะเชิงเทรา | C42: ทางหลวงชนบท | D42: 9848000 | G42: =D42-E42 -> 9848000 | H42: โอนเปลี่ยนแปลง
B43: 5.โครงการ ปรับปรุงถนนลาดยาวแอสฟัลท์ติกคอนกรีต สายเลียบคลองชลประทาน หมู่ที่ 4 - หมู่ที่ 5 ตำบลก้อนแก้ว อำเภอคลองเขื่อน จังหวัดฉะเชิงเทรา | C43: อำเภอคลองเขื่อน | D43: 6482000 | G43: =D43-E43 -> 6482000 | H43: โอนเปลี่ยนแปลง
A44: รวม | D44: =+D37+D36+D35+D34+D33+D32+D30+D29+D28+D27+D26+D25+D24+D23+D22+D21+D20+D19+D18+D17+D16+D15+D14+D13+D12+D11+D10+D9+D8+D7+D6+D5+D4+D31+D38 -> 208483000 | G44: =SUM(G4:G43) -> 239792000
D47: =+D44+#REF! -> #REF!

Sheet สรุปรวม
A1: บัญชีโครงการตามแผนปฏิบัติราชการประจำปีของจังหวัดฉะเชิงเทรา ประจำปีงบประมาณ พ.ศ. ๒๕๖2
A2: จำนวน 56 โครงการ 1 รายการค่าใช้จ่าย งบประมาณ 260,068,200 บาท
A4: ลำดับ | B4: โครงการ | C4: งบประมาณ (บาท) | D4: อนุมัติโครงการแล้ว | E4: ยังไม่อนุมัติ โครงการ | F4: กระบวนการจัดซื่อจัดจ้าง | O4: ผลการดำเนินงาน | R4: การลงนามในสัญญา (ถ้ามี) | U4: การเบิกจ่าย | Y4: หมายเหตุ
O5: ทำ Po แล้ว | P5: ยังไม่ทำ PO | Q5: ดำเนินการแล้วเสร็จ | R5: วันที่เริ่มต้นสัญญา | S5: วันที่สิ้นสุดสัญญา | T5: วงเงินตามสัญญา | U5: เบิกจ่ายแล้ว (บาท) | V5: คิดเป็นร้อยละ (%) | W5: คงเหลือยังไม่เบิกจ่าย (บาท) | X5: เงินเหลือจ่ายจากการลงนามในสัญญา (บาท)
A6: อำเภอเมืองฉะเชิงเทรา
A7: 1 | B7: โครงการซ่อมสร้างถนนลาดยางสายตรงข้ามวัดโสธร หมู่ที่ 2 ตำบลบางตีนเป็ด อำเภอเมือง ฉะเชิงเทราจังหวัดฉะเชิงเทรา | C7: 3789000 | D7: อนุมัติโครงการแล้ว วันที่ 21 พ.ย. 61 | P7: P | V7: =(U7/C7)*100 -> 0
A8: 2 | B8: โครงการก่อสร้างถนนคอนกรีตเสริมเหล็ก ถนนประสานมิตร ซอย 3 หมู่ที่ 6,11,12 ตำบลบางเตย อำเภอเมืองฉะเชิงเทรา จังหวัดฉะเชิงเทรา | C8: 4212000 | D8: อนุมัติโครงการแล้ว วันที่ 21 พ.ย. 61 | P8: P | U8: =+งบลงทุน!F4 -> 0 | V8: =(U8/C8)*100 -> 0
A9: อำเภอบ้านโพธิ์
A10: 3 | B10: โครงการก่อสร้างถนนคอนกรีตเสริมเหล็ก สายคลองบ้านโพธิ์ 1/1 หมู่ที่ 1 ตำบลคลองบ้านโพธิ์ อำเภอบ้านโพธิ์ จังหวัดฉะเชิงเทรา | C10: 4905400 | D10: อนุมัติโครงการแล้ว วันที่ 23 พ.ย. 61 | P10: P | U10: =+งบลงทุน!F17 -> 0 | V10: =(U10/C10)*100 -> 0 | Y10: เงินมาแล้ว
A11: 4 | B11: โครงการซ่อมสร้างถนนลาดยางสายตลาดหนองตีนนก หมู่ที่ 5 ตำบลหนองตีนนก อำเภอบ้านโพธิ์ จังหวัดฉะเชิงเทรา | C11: 2951500 | D11: อนุมัติโครงการแล้ว วันที่ 23 พ.ย. 61 | P11: P | U11: =+งบลงทุน!F18 -> 0 | V11: =(U11/C11)*100 -> 0
A12: อำเภอบางปะกง
A13: 5 | B13: โครงการก่อสร้างถนนคอนกรีตเสริมเหล็ก สายบางครก หมู่ที่ ๖ ตำบลบางเกลือ เชื่อมหมู่ที่ ๓ ตำบลหอมศีล อำเภอบางปะกง จังหวัดฉะเชิงเทรา | C13: 1400000 | D13: อนุมัติโครงการแล้ว วันที่ 23 พ.ย. 61 | P13: P | U13: =+งบลงทุน!F25 -> 0 | V13: =(U13/C13)*100 -> 0 | Y13: เงินมาแล้ว
A14: 6 | B14: โครงการก่อสร้างถนนคอนกรีตเสริมเหล็กคลองก้นบึ้งตอนที่ 2 หมู่ที่ 4 ตำบลสองคลอง อำเภอบางปะกง จังหวัดฉะเชิงเทรา | C14: 4100000 | P14: P
A15: อำเภอบางน้ำเปรี้ยว
A16: 7 | B16: โครงการซ่อมสร้างถนนลาดยาง สายวัดโพรงอากาศ หมู่ที่ 9 - หมู่ที่ 16 ตำบลโพรงอากาศ อำเภอบางน้ำเปรี้ยว จังหวัดฉะเชิงเทรา | C16: 10000000 | D16: อนุมัติโครงการแล้ว วันที่ 23 พ.ย. 61 | P16: P | U16: =+งบลงทุน!F30 -> 0 | V16: =(U16/C16)*100 -> 0
A17: อำเภอพนมสารคาม
A18: 8 | B18: โครงการซ่อมสร้างถนนลาดยาง สายโรงเลื่อยจักร – ห้วยหิน หมู่ที่ 3 ตำบลเกาะขนุน อำเภอพนมสารคาม จังหวัดฉะเชิงเทรา | C18: 1542600 | P18: P | U18: =+งบลงทุน!F11 -> 0 | V18: =(U18/C18)*100 -> 0
A19: 9 | B19: โครงการก่อสร้างถนนคอนกรีตเสริมเหล็ก หมู่ที่ 13 ซอยสุสิต ถึง สระหลวง ตำบลบ้านซ่อง อำเภอพนมสารคาม จังหวัดฉะเชิงเทรา | C19: 1446000 | D19: อนุมัติโครงการแล้ว วันที่ 23 พ.ย. 61 | P19: P | Y19: เงินมาแล้ว
A20: อำเภอคลองเขื่อน
A21: 10 | B21: โครงการขยายเขตประปาส่วนภูมิภาค หมู่ที่ 1 - หมู่ที่ 6 ตำบลคลองเขื่อน อำเภอคลองเขื่อน จังหวัดฉะเชิงเทรา | C21: 16359000 | P21: P | U21: =+งบลงทุน!F9 -> 0 | V21: =(U21/C21)*100 -> 0 | Y21: ยกเลิกโครงการ
A22: อำเภอราชสาส์น
A23: 11 | B23: โครงการก่อสร้างถนนคอนกรีตเสริมเหล็กถนนสายในหมู่บ้าน บ้านเตาอิฐ จากถนนพนมสารคาม – ราชสาส์น ถึงบริเวณบ้านนายสมพร เพิ่มพูน หมู่ที่ 4 ตำบลบางคา อำเภอราชสาส์น จังหวัดฉะเชิงเทรา | C23: 2430400 | D23: อนุมัติโครงการแล้ว วันที่ 14 พ.ย. 61 | P23: P | V23: =(U23/C23)*100 -> 0 | Y23: เงินมาแล้ว
A24: 12 | B24: โครงการก่อสร้างถนนคอนกรีตเสริมเหล็ก สายกกสับใน - ปากน้ำ หมู่ที่ 3 ตำบลเมืองใหม่ อำเภอราชสาส์น จังหวัดฉะเชิงเทรา | C24: 2454000 | D24: อนุมัติโครงการแล้ว วันที่ 14 พ.ย. 61 | P24: P | Y24: เงินมาแล้ว
A25: 13 | B25: โครงการปรับปรุงถนนลาดยาง สายเข้าวัดแสนภุมราวาส หมู่ที่ 4 ตำบลเมืองใหม่ อำเภอราชสาส์น จังหวัดฉะเชิงเทรา | C25: 800000 | D25: อนุมัติโครงการแล้ว วันที่ 14 พ.ย. 61 | P25: P | Y25: เงินมาแล้ว
A26: 14 | B26: ก่อสร้างถนนคอนกรีตเสริมเหล็ก สายคันคลองหนองตาลอ หมู่ที่ 3 และหมู่ที่ 14 ตำบลดงน้อย อำเภอราชสาส์น จังหวัดฉะเชิงเทรา | C26: 4475900 | D26: อนุมัติโครงการแล้ว วันที่ 14 พ.ย. 61 | P26: P | Y26: เงินมาแล้ว
A27: อำเภอบางคล้า
A28: 15 | B28: โครงการก่อสร้างถนนลาดยาง สายจากคลองชลประทาน ซอย 4 ถึงบ้านนางสมบุญ บุญเรือง หมู่ที่ 1 ตำบลเสม็ดใต้ อำเภอบางคล้า จังหวัดฉะเชิงเทรา | C28: 3700000 | D28: อนุมัติโครงการแล้ว วันที่ 21 พ.ย. 61 | P28: P | V28: =(U28/C28)*100 -> 0
A29: 16 | B29: โครงการก่อสร้างถนนคอนกรีตเสริมเหล็ก สายบางชัน หมู่ที่ 4 ตำบลบางกระเจ็ด อำเภอบางคล้า จังหวัดฉะเชิงเทรา | C29: 3094000 | D29: อนุมัติโครงการแล้ว วันที่ 21 พ.ย. 61 | P29: P | U29: =+งบลงทุน!F15 -> 0 | V29: =(U29/C29)*100 -> 0
A30: 17 | B30: โครงการซ่อมสร้างถนนลาดยาง สายสามแยกหัวไทร - สามแยกสลิดใหญ่ หมู่ที่ 8 ตำบลบางกระเจ็ด อำเภอบางคล้า จังหวัดฉะเชิงเทรา | C30: 4387000 | D30: อนุมัติโครงการแล้ว วันที่ 21 พ.ย. 61 | P30: P
A31: 18 | B31: โครงการก่อสร้างถนนลาดยางสายจากคลองบางไผ่ หมู่ที่ 3 ตำบลคลองขุด อำเภอบ้านโพธิ์ เชื่อมถนนสายวัดราษฏร์ศรัทราธรรม หมู่ที่ 3 ตำบลเสม็ดใต้ อำเภอบางคล้า จังหวัดฉะเชิงเทรา | C31: 7016000 | D31: อนุมัติโครงการแล้ว วันที่ 21 พ.ย. 61 | P31: P
A32: อำเภอแปลงยาว
A33: 19 | B33: โครงการก่อสร้างถนนคอนกรีตเสริมเหล็ก สายหนองหอย หมู่ที่ 12 บ้านคลอง ตำบลแปลงยาว จังหวัดฉะเชิงเทรา | C33: 1030000 | D33: อนุมัติโครงการแล้ว วันที่ 30 พ.ย. 61 | P33: P | Y33: เงินมาแล้ว
A34: 20 | B34: โครงการอขุดฝังท่อระบายน้ำและบ่อพักคอนกรีตเสริมเหล็ก ขนาด 0.60 เมตร พร้อมเสริมลูกรังหลังท่อซอยเทศบาล 3/1 หมู่ที่3 ตำบลหัวสำโรง อำเภอแปลงยาว จังหวัดฉะเชิงเทรา | C34: 1996000 | D34: อนุมัติโครงการแล้ว วันที่ 30 พ.ย. 61 | P34: P | Y34: เงินมาแล้ว
A35: 21 | B35: โครงการก่อสร้างถนนลาดยาง สายหนองน้ำกิน - หนองประดู่ หมู่ที่ 10 ตำบลวังเย็น อำเภอแปลงยาว จังหวัดฉะเชิงเทรา | C35: 5490000 | D35: อนุมัติโครงการแล้ว วันที่ 30 พ.ย. 61 | P35: P | Y35: เงินมาแล้ว
A36: อำเภอสนามชัยเขต
A37: 22 | B37: โครงการซ่อมสร้างถนนลาดยาง สายเขาผานาง – ท่าวัว ตำบลท่ากระดาน อำเภอสนามชัยเขต จังหวัดฉะเชิงเทรา | C37: 1300000 | D37: อนุมัติโครงการแล้ว วันที่ 23 พ.ย. 61 | P37: P | V37: =(U37/C37)*100 -> 0
A38: 23 | B38: โครงการก่อสร้างผิวจราจรถนนลาดยางสายโปร่งเจริญ – หินแร่ ตำบลท่ากระดาน อำเภอสนามชัยเขต จังหวัดฉะเชิงเทรา | C38: 3250000 | D38: อนุมัติโครงการแล้ว วันที่ 23 พ.ย. 61 | P38: P
A39: 24 | B39: โครงการก่อสร้างถนนลาดยาง สายหนองแสง หมู่ที่ 1 ตำบลลาดกระทิง อำเภอสนามชัยเขต - ห้วยพลูใน ตำบลเกาะขนุน อำเภอพนมสารคาม จังหวัดฉะเชิงเทรา | C39: 3557600 | D39: อนุมัติโครงการแล้ว วันที่ 23 พ.ย. 61 | P39: P
A40: 25 | B40: โครงการก่อสร้างถนนลาดยาง สายแปลงไผ่ - แปลงแปด หมู่ที่ 10 ตำบลลาดกระทิง อำเภอสนามชัยเขต จังหวัดฉะเชิงเทรา | C40: 3096600 | D40: อนุมัติโครงการแล้ว วันที่ 23 พ.ย. 61 | P40: P
A41: 26 | B41: โครงการก่อสร้างถนนลาดยาง สายกะบกหวาน-ท่าทองดำ ตำบลทุ่งพระยา อำเภอสนามชัยเขต จังหวัดฉะเชิงเทรา | C41: 2500000 | D41: อนุมัติโครงการแล้ว วันที่ 23 พ.ย. 61 | P41: P
A42: อำเภอท่าตะเกียบ
A43: 27 | B43: โครงการก่อสร้างปรับปรุงผิวจราจรลาดยางสาย หมู่ที่ 1 บ้านวังวุ้ง - หมู่ที่ 17 บ้านชมพู ตำบลท่าตะเกียบ อำเภอท่าตะเกียบ จังหวัดฉะเชิงเทรา | C43: 17500000 | D43: อนุมัติโครงการแล้ว วันที่ 14 พ.ย. 61 | P43: P | V43: =(U43/C43)*100 -> 0
A44: แขวงทางหลวงชนบทฉะเชิงเทรา
A45: 28 | B45: โครงการซ่อมสร้างถนนสาย อำเภอท่าตะเกียบ-บ้านท่ากลอย หมู่ 4 ตำบลท่าตะเกียบ อำเภอท่าตะเกียบ จังหวัดฉะเชิงเทรา | C45: 9750000 | D45: อนุมัติโครงการแล้ว วันที่ 30 พ.ย. 61 | P45: P | V45: =(U45/C45)*100 -> 0 | Y45: เงินมาแล้ว
A46: 29 | B46: โครงการซ่อมสร้างถนนสาย แยก ทางหลวงชนบท ฉช.4022 เชื่อมหมู่ 15 ตำบลทุ่งพระยา อำเภอสนามชัยเขต จังหวัดฉะเชิงเทรา | C46: 9500000 | D46: อนุมัติโครงการแล้ว วันที่ 30 พ.ย. 61 | P46: P | V46: =(U46/C46)*100 -> 0 | Y46: เงินมาแล้ว
A47: สำนักงานโยธาธิการและผังเมืองจังหวัดฉะเชิงเทรา
A48: 30 | B48: โครงการก่อสร้างเขื่อนป้องกันตลิ่งริมคลองบางกระเจ็ด หมู่ที่ 2 บริเวณวัดสามแยก (ช่วงที่ 2) ตำบลบางกระเจ็ด อำเภอบางคล้า จังหวัดฉะเชิงเทรา | C48: 15000000 | D48: อนุมัติโครงการแล้ว วันที่ 23 พ.ย. 61 | P48: P | V48: =(U48/C48)*100 -> 0 | Y48: เงินมาแล้ว
A49: 31 | B49: โครงการก่อสร้างเขื่อนป้องกันตลิ่งริมทะเล หมู่ที่ 2 บริเวณปากคลองเจริญวัย ด้านซ้าย (ช่วงที่ 2) ตำบลสองคลอง อำเภอบางปะกง จังหวัดฉะเชิงเทรา | C49: 14000000 | D49: อนุมัติโครงการแล้ว วันที่ 23 พ.ย. 61 | P49: P | Y49: เงินมาแล้ว
A50: 32 | B50: โครงการก่อสร้างเขื่อนป้องกันตลิ่งริมทะเล หมู่ที่ 2 บริเวณปากคลองเจริญวัยด้านขวา (ช่วงที่ 2) ตำบลสองคลอง อำเภอบางปะกง จังหวัดฉะเชิงเทรา | C50: 14000000 | D50: อนุมัติโครงการแล้ว วันที่ 23 พ.ย. 61 | P50: P | Y50: เงินมาแล้ว
A51: โครงการชลประทานฉะเชิงเทรา
A52: 33 | B52: โครงการก่อสร้างอาคารบังคับน้ำบ้านวังซุง พร้อมอุปกรณ์ประกอบ | C52: 7500000 | D52: อนุมัติโครงการแล้ว วันที่ 14 พ.ย. 61 | P52: P | V52: =(U52/C52)*100 -> 0 | Y52: เงินมาแล้ว
A53: 34 | B53: โครงการก่อสร้างอาคารบังคับน้ำบ้านคลองตะเคียน | C53: 5000000 | D53: อนุมัติโครงการแล้ว วันที่ 14 พ.ย. 61 | P53: P | Y53: เงินมาแล้ว
A54: สำนักงานพาณิชย์จังหวัดฉะเชิงเทรา
A55: 35 | B55: โครงการสร้างโอกาสและขยายช่องทางการค้า | C55: 6100000 | U55: =+#REF! -> #REF! | V55: =(U55/C55)*100 -> #REF!
A56: สำนักงานวัฒนธรรมจังหวัดฉะเชิงเทรา
A57: 36 | B57: โครงการเสริมสร้างศักยภาพแหล่งท่องเที่ยวทางวัฒนธรรม (พิพิธภัณฑ์เมืองฉะเชิงเทรา) เพื่อสร้างมูลค่าเพิ่มแก่ชุมชน | C57: 2109600 | D57: อนุมัติโครงการแล้ว วันที่ 2 พ.ย. 61 | U57: =+#REF! -> #REF! | V57: =(U57/C57)*100 -> #REF!
A58: สำนักงานการท่องเที่ยวและกีฬาจังหวัดฉะเชิงเทรา
A59: 37 | B59: โครงการส่งเสริมการท่องเที่ยวชุมชนจังหวัดฉะเชิงเทรา | C59: 1000000 | U59: =+#REF! -> #REF! | V59: =(U59/C59)*100 -> #REF! | Y59: เงินมาแล้ว
B60: สำนักงานประชาสัมพันธ์จังหวัดฉะเชิงเทรา
A61: 38 | B61: โครงการประชาสัมพันธ์ภาพลักษณ์การท่องเที่ยวจังหวัดฉะเชิงเทรา | C61: 3352000 | D61: อนุมัติโครงการแล้ว วันที่ 18 ก.ย. 61 | U61: =+#REF! -> #REF! | V61: =(U61/C61)*100 -> #REF! | Y61: เงินมาแล้ว
A62: เกษตรและสหกรณ์จังหวัดฉะเชิงเทรา
A63: 39 | B63: โครงการพัฒนาสินค้าเกษตรปลอดภัยสูง จังหวัดฉะเชิงเทรา | C63: 6286000 | V63: =(U63/C63)*100 -> 0 | Y63: 6062500
A64: 40 | B64: โครงการส่งเสริมและพัฒนาเกษตรกร สถาบันเกษตรกรให้มีความเข้มแข็งโดยยึดหลักปรัชญาเศรษฐกิจพอเพียง | C64: 4641200 | V64: =(U64/C64)*100 -> 0 | Y64: 223500
A65: สำนักงานเกษตรจังหวัดฉะเชิงเทรา
A66: 41 | B66: โครงการสร้างจิตสำนึกในการอนุรักษ์พันธุ์ไม้ผลมะม่วงขายตึก ให้กับเกษตรกร จังหวัดฉะเชิงเทรา | C66: 217800 | V66: =(U66/C66)*100 -> 0
A67: 42 | B67: โครงการจำหน่ายสินค้าเกษตรปลอดภัยและของดีเมืองแปดริ้ว จังหวัดฉะเชิงเทรา | C67: 1992800
A68: สำนักงานพัฒนาชุมชนจังหวัดฉะเชิงเทรา
A69: 43 | B69: โครงการส่งเสริมอาชีพและเพิ่มรายได้ให้ครัวเรือนยากจนตามแนวทางปรัชญาของเศรษฐกิจพอเพียง | C69: 897300 | D69: อนุมัติโครงการแล้ว วันที่ 23 พ.ย. 61 | V69: =(U69/C69)*100 -> 0
A70: ที่ทำการปกครองจังหวัด
A71: 44 | B71: โครงการพัฒนาและขยายเครือข่ายประชาชนด้านการข่าวจังหวัดฉะเชิงเทรา ประจำปีงบประมาณ พ.ศ. 2562 | C71: 223000 | V71: =(U71/C71)*100 -> 0 | Y71: เงินมาแล้ว
A72: 45 | B72: โครงการฝึกอบรมจัดตั้งชุดรักษาความปลอดภัยหมู่บ้าน (ชรบ.) เพื่อความมั่นคง จังหวัดฉะเชิงเทรา ประจำปีงบประมาณ พ.ศ. 2562 | C72: 822800 | V72: =(U72/C72)*100 -> 0 | Y72: เงินมาแล้ว
A73: 46 | B73: โครงการประชารัฐร่วมใจสร้างหมู่บ้าน ชุมชนมั่นคง ปลอดภัยยาเสพติดอย่างยั่งยืน จังหวัดฉะเชิงเทรา | C73: 5500000 | Y73: เงินมาแล้ว
A74: สำนักงานพลังงานจังหวัดฉะเชิงเทรา
A75: 47 | B75: โครงการอนุรักษ์พลังงานแบบมีส่วนร่วม | C75: 500000 | D75: อนุมัติโครงการแล้ว วันที่ 30 พ.ย. 61 | V75: =(U75/C75)*100 -> 0
A76: กองอำนวยการรักษาความมั่นคงภายในจังหวัดฉะเชิงเทรา
A77: 48 | B77: โครงการพัฒนาเยาวชน เพื่อสังคมเป็นสุข | C77: 740000 | V77: =(U77/C77)*100 -> 0 | Y77: เงินมาแล้ว
A78: 49 | B78: โครงการหมู่บ้านอาสาพัฒนาและป้องกันตนเอง 12 หมู่บ้าน | C78: 690000 | Y78: เงินมาแล้ว
A79: 50 | B79: ขับเคลื่อนยุทธศาสตร์การพัฒนา เพื่อเสริมสร้างความมั่นคงแห่งชาติ จังหวัดฉะเชิงเทรา | C79: 2456400 | Y79: เงินมาแล้ว
A80: สำนักงานทรัพยากรและธรรมชาติจังหวัดฉะเชิงเทรา
A81: 51 | B81: อนุรักษ์ป้องกันช้างป่า | C81: 14950000
A82: 52 | B82: โครงการเสริมสร้างจิตสำนึกในการอนุรักษ์ทรัพยากรธรรมชาติและสิ่งแวดล้อม | C82: 500000
A83: 53 | B83: โครงการจัดการขยะชุมชนตามแนวทาง “จังหวัดสะอาด”ลดมลพิษเมืองระเบียงเศรษฐกิจตะวันออกสู่สิ่งแวดล้อมที่ดี | C83: 1801900 | V83: =(U83/C83)*100 -> 0
A84: 54 | B84: โครงการเพิ่มประสิทธิภาพการกำจัดขยะของท้องถิ่นสู่มาตรฐานอย่างเป็นระบบตามแนวทาง Roadmap ของรัฐบาล | C84: 100000 | V84: =(U84/C84)*100 -> 0
A85: สำนักงานจังหวัดฉะเชิงเทรา
A86: 55 | B86: โครงการอนุรักษ์พันธุกรรมพืช อันเนื่องมาจากพระราชดำริ สมเด็จพระเทพรัตนราชสุดาฯ สยามบรมราชกุมารี จังหวัดฉะเชิงเทรา | C86: 2654400 | D86: อนุมัติโครงการแล้ว วันที่ 23 พ.ย. 61 | V86: =(U86/C86)*100 -> 0
B87: ค่าใช้จ่ายในการบริหารจังหวัดแบบบูรณาการ (งบ 9 ล้าน) | C87: 9000000 | D87: คงเหลือยังไม่อนุมัติโครงการ | E87: =+C87-D88 -> 4700000 | Y87: 5000000
B88: อนุมติโครงการเรียบร้อยแล้ว 4 โครงการ | D88: =+C89+C90+C92 -> 4300000 | U88: =+U89+U90+U91+U92 -> #REF! | V88: =(U88/C87)*100 -> #REF!
B89: โครงการจ้างเหมาบุคลากรเพื่อดำเนินงานในสำนักงานจังหวัดฉะเชิงเทรา (สนง.จังหวัดฉะเชิงเทรา) | C89: 1620000 | D89: อนุมัติแล้ว 19 กันยายน ๒๕๖1 | T89: =+#REF! -> #REF! | U89: =+#REF! -> #REF!
B90: โครงการจ้างบุคลากรประชาสัมพันธ์เพื่อสนับสนุนการพัฒนาจังหวัดฉะเชิงเทรา (สนง.ประชาสัมพันธ์จังหวัดฉะเชิงเทรา) | C90: 180000 | D90: อนุมัติแล้ว 19 กันยายน ๒๕๖1 | T90: =+#REF! -> #REF! | U90: =+#REF! -> #REF!
B91: โครงการจัดการแข่งขันชิงจ้าวความเร็วทางน้ำชิงถ้วยพระราชทานฯ ประจำปี 2561 จังหวัดฉะเชิงเทรา (สนง.การท่องเที่ยวและกีฬาจังหวัดฉะเชิงเทรา) | C91: 207500 | D91: อนุมัติแล้ว ๕ พฤศจิกายน ๒๕๖1 | T91: =+#REF! -> #REF!
B92: โครงการเพิ่มประสิทธิภาพการปฏิบัติงานของสำนักงานจังหวัดฉะเชิงเทรา ประจำปีงบประมาณ พ.ศ. 2562 (สนง.จังหวัดฉะเชิงเทรา) | C92: 2500000 | D92: อนุมัติแล้ว ๑๐ พฤศจิกายน ๒๕61 | T92: =+#REF! -> #REF! | U92: =+#REF! -> #REF!
B93: รวม | C93: =+C7+C8+C10+C11+C13+C14+C16+C18+C19+C21+C23+C24+C25+C26+C28+C29+C30+C31+C33+C34+C35+C37+C38+C39+C40+C41+C43+C45+C46+C48+C49+C50+C52+C53+C55+C57+C59+C61+C63+C64+C66+C67+C69+C71+C72+C73+C75+C77+C78+C79+C81+C82+C83+C84+C86+C87 -> 260068200 | U93: =+U7+U8+U10+U11+U13+U14+U16+U18+U19+U21+U23+U24+U25+U26+U28+U29+U30+U31+U33+U34+U35+U37+U38+U39+U40+U41+U43+U45+U46+U48+U49+U50+U52+U53+U55+U57+U59+U61+U63+U64+U66+U67+U69+U71+U72+U73+U75+U77+U78+U79+U81+U82+U83+U84+U86+U88 -> #REF! | V93: =(U93/C93)*100 -> #REF! | W93: =+W7+W8+W10+W11+W13+W14+W16+W18+W19+W21+W23+W24+W25+W26+W28+W29+W30+W31+W33+W34+W35+W37+W38+W39+W40+W41+W43+W45+W46+W48+W49+W50+W52+W53+W55+W57+W59+W61+W63+W64+W66+W67+W69+W71+W72+W73+W75+W77+W78+W79+W81+W82+W83+W84+W86+W88 -> 0 | X93: =+X7+X8+X10+X11+X13+X14+X16+X18+X19+X21+X23+X24+X25+X26+X28+X29+X30+X31+X33+X34+X35+X37+X38+X39+X40+X41+X43+X45+X46+X48+X49+X50+X52+X53+X55+X57+X59+X61+X63+X64+X66+X67+X69+X71+X72+X73+X75+X77+X78+X79+X81+X82+X83+X84+X86+X88 -> 0

Sheet Sheet2
A1: แบบรายงานผลการดำเนินงานตามแผนปฏิบัติราชการประจำปีงบประมาณ พ.ศ. 2564
A2: โครงการ.................................................................................................
A3: กิจกรรมหลัก...............................................................................
A4: หน่วยงาน..........................................................
A6: ลำดับ | B6: กิจกรรม | C6: งบประมาณ (บาท) | D6: ผลการดำเนินงาน | K6: การลงนามในสัญญา (ถ้ามี) | Q6: การเบิกจ่าย | V6: หมายเหตุ
D7: ประกาศร่าง TOR /ร่างเอกสารประกวดราคา | E7: ประกาศเชิญชวน | F7: ประกาศผู้ชนะ | G7: รออุทธรณ์ | H7: ทำสัญญา | I7: ทำ Po แล้ว | J7: ยังไม่ทำ PO | K7: วันที่เริ่มต้นสัญญา | L7: วันที่สิ้นสุดสัญญา | M7: วงเงินตามสัญญา | N7: งวดงานที่ 1 | O7: งวดงานที่ 2 | P7: งวดงานที่ 3 | Q7: เบิกจ่ายแล้ว (บาท) | R7: ดำเนินการแล้วเสร็จ | S7: คิดเป็นร้อยละ (%) | T7: คงเหลือยังไม่เบิกจ่าย (บาท) | U7: เงินเหลือจ่ายจากการลงนามในสัญญา (บาท)
B8: กรุณาใส่รายละเอียดกิจกรรมทุกรายการ
A9: 1
A10: 2
A11: 3
A12: 4
A13: 5
A14: 6
A16: หมายเหตุ : ปัญหาอุปสรรค (ถ้ามี)
B17: รายงานตัดยอดข้อมูล ณ วันที่ 25 ของเดือน และจัดส่งรายงานภายในวันที่ 30 ของทุกเดือน จนกว่าจะดำเนินงานโครงการแล้วเสร็จ และจัดส่งข้อมูล
B18: ทาง E-mail : paco_cco@opsmoac.go.th โดยเริ่มรายงานเดือนมกราคม 2564 เป็นครั้งแรก
