Workbook

Sheet ทะเบียนคุมเงินงบประมาณ 61
A1: ทะเบียนคุมเงินงบประมาณรายจ่ายจังหวัดฉะเชิงเทรา
A2: ประจำปีงบประมาณ พ.ศ. 2561
B3: สำนักงานจังหวัดฉะเชิงเทรา
A4: หน่วย | B4: ลำดับ | C4: โครงการ/กิจกรรม | D4: งบประมาณ | E4: วันที่เสนอ | F4: รายการ | G4: เลข PO/จำนวนเงิน/ผู้รับจ้าง | H4: สัญญาลงวันที่/ | I4: เบิกจ่ายแล้ว | J4: คงเหลือ | K4: วันที่เบิก/เลขที่เอกสาร | L4: หมายเหตุ
A5: ดำเนินการ | B5: ที่ | H5: สิ้นสุดวันที่
A6: กลุ่มอำนวยการ | B6: 1 | C6: เพิ่มประสิทธิภาพการปฏิบัติงานของสำนัก | D6: =+D10+D18+D28+D34+D44+D51 -> 2500000 | E6: คงเหลือ รวม 14 กิจกรรม | I6: =+I10+I18+I28+I34+I44+I51 -> 212531.2 | J6: =+D6-I6 -> 2287468.8
C7: งานจังหวัดฉะเชิงเทรา
C10: กิจกรรมหลักที่1 ค่าใช้จ่ายในการประชุมหาริชือต่างๆ | D10: 150000 | F10: คงเหลือ | I10: =+I11+I12+I13 -> 14630 | J10: =D10-I10 -> 135370
E11: 22605 | F11: ค่าอาหารว่างและเครื่องดื่ม | I11: 4865
C12: เช่น การประชุมเพื่อจัดทำแผนพัฒนาจังหวัดและกลุ่มจังหวัดกับภาคส่วนต่างๆ คณะกรมการจังหวัด ประชุมวีดีทัศน์ทางไกล ประชุมคณะกรรมการและคณะทำงานต่างๆ ตลอดจนการประชุมเพื่อแก้ไขปัญหาความเดือดร้อนต่างๆ ประชุมเกี่ยวกับปรัชญาเศรษฐกิจพอเพียง การประชุมติดตามงบประมาณ รวมถุงการประชุมอื่นๆ ที่ขับเคลื่อนการปฏิบัติงานของจังหวัด ฯลฯ | E12: 22633 | F12: ค่าอาหารว่างและเครื่องดื่ม | I12: 4865
E13: 22633 | F13: ค่าอาหารว่างและเครื่องดื่ม | I13: 4900
C18: กิจกรรมหลักที่ 2 ค่าประชุม กบจ.5 ครั้ง | D18: 329000 | F18: คงเหลือ | I18: =+I19+I21+I22+I23+I24+I25+I26 -> 65800 | J18: =D18-I18 -> 263200
C19: กลุ่มยุทธ | E19: 22618 | F19: ยืมเงิน ก.บ.จ. เลขที่ 1/2562 | I19: 65800
C28: กิจกรรมหลักที่3การสำรวจความคิดเห็นของประชาชน | D28: 100000 | F28: คงเหลือ | I28: =+I29+I30+I31 -> 0 | J28: =D28-I28 -> 100000
C29: เช่น ค่าใช้จ่ายในการเผยแพร่ประชาสัมพันธ์ตามนโยบายของรัฐบาล และกระทรวงมหาดไทย การปฏิบัติตามคำรับรองการปฏิบัติราชการประจำปี ฯลฯ
C34: กิจกรรมหลักที่4 การพัฒนาประสิทธิภาพในการบริหารจัดการและการส่งเสริมคุณภาพการบริหารจัดการภาครัฐ | D34: 1031000 | F34: คงเหลือ | I34: =+I35+I36+I37+I38+I39 -> 55850 | J34: =D34-I34 -> 975150
E35: 22607 | F35: ค่าบริการ WIFI ต.ค.,พ.ย. 61 | I35: 15836
E36: 22627 | F36: ค่าซ่อมแซมรถยนต์ | I36: 10910
C37: เช่น ค่าอำนวยการต่างๆ ค่าวัสดุสำนักงาน ค่าถ่ายเอกสาร ค่าซ่อมแซมวัสดุอุปกรณ์สำหรับการปฏิบัติราชการ การพัฒนาระบบฐานข้อมูลของจังหวัด ค่าใช่จ่ายในการให้บริการระบบสื่อสารและอินเตอร?เน้ต การจัดทำเอกสารและคู่มือต่างๆ ค่าล่วงเวลา รวมถึงค่าใช่จ่ายการปฏิบัติงานตามนโยบายสำคัญ/แผนงานสำคัญของจังหวัดฯลฯ | E37: 22627 | F37: ค่าปรับปรุงผนังห้อง ผวจ. | I37: 16585
E38: 22627 | F38: ค่าซ่อมเปลี่ยนเครื่องปรับอากาศ | I38: 4601
E39: 22649 | F39: ค่าบริการ WIFI ธ.ค. 61 | I39: 7918
E40: 22649 | F40: ค่าเปลี่ยนถังน้ำและว่างท่อ | I40: 24000
C44: กิจกรรมหลักที่ 5 การเผยแพร่ประชาสัมพันธ์เพื่อให้เกิดความรู้ความเข้าใจแก่ภาคส่วนต่างๆ | D44: 50000 | F44: คงเหลือ | I44: 0 | J44: =D44-I44 -> 50000
C45: เช่น ค่าจัดทำรายงานผลการปฏิบัติงานประจำปีจังหวัดฉะเชิงเทราตามงบยุทะศาสตร์จังหวัด/กลุ่มจังหวัด พ.ศ. 2562 ฯลฯ
C51: กิจกรรมหลักที่6 การติดตามประเมินผลการปฏิบัติงานตามแผนปฏิบัติราชการ ประจำปีงบประมาณ 2562 และแผนงานสำคัญของจังหวัด | D51: 840000 | F51: คงเหลือ | I51: =SUM(I52:I58) -> 76251.2 | J51: =D51-I51 -> 763748.8
C52: เช่น ค่าใช้จ่ายการลงพื้นที่ตรวจติดตามแผนงาน/โครงการการเดินทางไปราชการ ค่าน้ำมันเชื้อเพลิง ฯลฯ | E52: 22605 | F52: ค่าน้ำมันเชื้อเพลิง ต.ค. 61 | I52: 38839.1
E53: 22633 | F53: ค่าน้ำมันเชื้อเพลิง พ.ย. 61 | I53: 36910.1 | O53: 1050
E54: 22640 | F54: ค่าใช้จ่ายในการเดินทางไปราชการ | I54: 502 | O54: 2790
O55: 1225
O56: 1750
O57: 1050
O58: =SUM(O53:O57) -> 7865
A59: รวม 1 โครงการ สนจ.ฉช | D59: =+D6 -> 2500000 | I59: =+I6 -> 212531.2 | J59: =+D59-I59 -> 2287468.8
A60: กลุ่มอำนวยการ | B60: 2 | C60: จ้างเหมาบุคลากรเพื่อดำเนินงานในสำนัก | D60: 1620000 | E60: คงเหลือ | I60: =SUM(I61:I72) -> 405000 | J60: =D60-I60 -> 1215000
A61: กลุ่มยุทธศาสตร์ | C61: งานจังหวัดฉะเชิงเทรา | E61: 7 พ.ย 61 | F61: ค่าจ้างเหมา ต.ค. 61 จำนวน 9 คน | I61: 135000
E62: 22618 | F62: ค่าจ้างเหมา พ.ย. 61 จำนวน 9 คน | I62: 135000
E63: 22648 | F63: ค่าจ้างเหมา ธ.ค. 61 จำนวน 9 คน | I63: 135000
A73: รวม 1 โครงการ สนจ.ฉช | D73: =+D60 -> 1620000 | I73: =+I60 -> 405000 | J73: =+B73-G73 -> 0
A74: สนง.ประชาสัมพันธ์ | C74: จ้างเหมาบุคคลการประชาสัมพันธ์เพื่อ | D74: 180000 | E74: คงเหลือ | I74: =SUM(I75:I85) -> 30000 | J74: =D74-I74 -> 150000
C75: สนับสนุนการพัฒนาจังหวัดฉะเชิงเทรา | E75: 22599 | F75: ค่าจ้างเหมา ต.ค. 61 | I75: 15000
...

Sheet งบลงทุน
A1: ทะเบียนคุมเงินงบประมาณจังหวัดฉะเชิงเทรา ประจำปีงบประมาณ พ.ศ. 2562 (งบลงทุน)
A3: ลำดับที่ | B3: โครงการ | C3: หน่วยงานที่รับผิดชอบ | D3: งบประมาณ | E3: PO | F3: เบิกจ่าย | G3: คงเหลือ | H3: หมายเหตุ
A4: 1 | B4: โครงการซ่อมสร้างถนนลาดยางสายตรงข้ามวัดโสธร หมู่ที่ 2 ตำบลบางตีนเป็ด อำเภอเมือง ฉะเชิงเทราจังหวัดฉะเชิงเทรา | C4: อำเภอเมืองฉะเชิงเทรา | D4: 3789000 | G4: =D4-E4 -> 3789000
A5: 2 | B5: โครงการก่อสร้างถนนคอนกรีตเสริมเหล็ก ถนนประสานมิตร ซอย 3 หมู่ที่ 6,11,12 ตำบลบางเตย อำเภอเมืองฉะเชิงเทรา จังหวัดฉะเชิงเทรา | D5: 4212000 | G5: =D5-E5 -> 4212000
A6: 3 | B6: โครงการก่อสร้างถนนคอนกรีตเสริมเหล็ก สายหนองหอย หมู่ที่ 12 บ้านคลอง ตำบลแปลงยาว จังหวัดฉะเชิงเทรา | C6: อำเภอแปลงยาว | D6: 1030000 | G6: =D6-E6 -> 1030000
A7: 4 | B7: โครงการอขุดฝังท่อระบายน้ำและบ่อพักคอนกรีตเสริมเหล็ก ขนาด 0.60 เมตร พร้อมเสริมลูกรังหลังท่อซอยเทศบาล 3/1 หมู่ที่3 ตำบลหัวสำโรง อำเภอแปลงยาว จังหวัดฉะเชิงเทรา | D7: 1996000 | G7: =D7-E7 -> 1996000
A8: 5 | B8: โครงการก่อสร้างถนนลาดยาง สายหนองน้ำกิน - หนองประดู่ หมู่ที่ 10 ตำบลวังเย็น อำเภอแปลงยาว จังหวัดฉะเชิงเทรา | D8: 5490000 | G8: =D8-E8 -> 5490000
A9: 6 | B9: โครงการก่อสร้างถนนคอนกรีตเสริมเหล็กถนนสายในหมู่บ้าน บ้านเตาอิฐ จากถนนพนมสารคาม – ราชสาส์น ถึงบริเวณบ้านนายสมพร เพิ่มพูน หมู่ที่ 4 ตำบลบางคา อำเภอราชสาส์น จังหวัดฉะเชิงเทรา | C9: อำเภอราชสาส์น | D9: 2430400 | G9: =D9-E9 -> 2430400
A10: 7 | B10: โครงการก่อสร้างถนนคอนกรีตเสริมเหล็ก สายกกสับใน - ปากน้ำ หมู่ที่ 3 ตำบลเมืองใหม่ อำเภอราชสาส์น จังหวัดฉะเชิงเทรา | D10: 2454000 | G10: =D10-E10 -> 2454000
A11: 8 | B11: โครงการปรับปรุงถนนลาดยาง สายเข้าวัดแสนภุมราวาส หมู่ที่ 4 ตำบลเมืองใหม่ อำเภอราชสาส์น จังหวัดฉะเชิงเทรา | D11: 800000 | G11: =D11-E11 -> 800000
A12: 9 | B12: ก่อสร้างถนนคอนกรีตเสริมเหล็ก สายคันคลองหนองตาลอ หมู่ที่ 3 และหมู่ที่ 14 ตำบลดงน้อย อำเภอราชสาส์น จังหวัดฉะเชิงเทรา | D12: 4475900 | G12: =D12-E12 -> 4475900
A13: 10 | B13: โครงการก่อสร้างถนนคอนกรีตเสริมเหล็ก สายบางครก หมู่ที่ ๖ ตำบลบางเกลือ เชื่อมหมู่ที่ ๓ ตำบลหอมศีล อำเภอบางปะกง จังหวัดฉะเชิงเทรา | C13: อำเภอบางปะกง | D13: 1400000 | G13: =D13-E13 -> 1400000
A14: 11 | B14: โครงการก่อสร้างถนนคอนกรีตเสริมเหล็กคลองก้นบึ้งตอนที่ 2 หมู่ที่ 4 ตำบลสองคลอง อำเภอบางปะกง จังหวัดฉะเชิงเทรา | D14: 4100000 | G14: =D14-E14 -> 4100000
A15: 12 | B15: โครงการซ่อมสร้างถนนสาย อำเภอท่าตะเกียบ-บ้านท่ากลอย หมู่ 4 ตำบลท่าตะเกียบ อำเภอท่าตะเกียบ จังหวัดฉะเชิงเทรา | C15: ทางหลวงชนบท | D15: 9750000 | G15: =D15-E15 -> 9750000
A16: 13 | B16: โครงการซ่อมสร้างถนนสาย แยก ทางหลวงชนบท ฉช.4022 เชื่อมหมู่ 15 ตำบลทุ่งพระยา อำเภอสนามชัยเขต จังหวัดฉะเชิงเทรา | D16: 9500000 | G16: =D16-E16 -> 9500000
A17: 14 | B17: โครงการซ่อมสร้างถนนลาดยาง สายเขาผานาง – ท่าวัว ตำบลท่ากระดาน อำเภอสนามชัยเขต จังหวัดฉะเชิงเทรา | C17: อำเภอสนามชัยเขต | D17: 1300000 | G17: =D17-E17 -> 1300000
A18: 15 | B18: โครงการก่อสร้างผิวจราจรถนนลาดยางสายโปร่งเจริญ – หินแร่ ตำบลท่ากระดาน อำเภอสนามชัยเขต จังหวัดฉะเชิงเทรา | D18: 3250000 | G18: =D18-E18 -> 3250000
A19: 16 | B19: โครงการก่อสร้างถนนลาดยาง สายหนองแสง หมู่ที่ 1 ตำบลลาดกระทิง อำเภอสนามชัยเขต - ห้วยพลูใน ตำบลเกาะขนุน อำเภอพนมสารคาม จังหวัดฉะเชิงเทรา | D19: 3557600 | G19: =D19-E19 -> 3557600
A20: 17 | B20: โครงการก่อสร้างถนนลาดยาง สายแปลงไผ่ - แปลงแปด หมู่ที่ 10 ตำบลลาดกระทิง อำเภอสนามชัยเขต จังหวัดฉะเชิงเทรา | D20: 3096600 | G20: =D20-E20 -> 3096600
A21: 18 | B21: โครงการก่อสร้างถนนลาดยาง สายกะบกหวาน-ท่าทองดำ ตำบลทุ่งพระยา อำเภอสนามชัยเขต จังหวัดฉะเชิงเทรา | D21: 2500000 | G21: =D21-E21 -> 2500000
A22: 19 | B22: โครงการก่อสร้างถนนคอนกรีตเสริมเหล็ก สายคลองบ้านโพธิ์ 1/1 หมู่ที่ 1 ตำบลคลองบ้านโพธิ์ อำเภอบ้านโพธิ์ จังหวัดฉะเชิงเทรา | C22: อำเภอบ้านโพธิ์ | D22: 4905400 | G22: =D22-E22 -> 4905400
A23: 20 | B23: โครงการซ่อมสร้างถนนลาดยางสายตลาดหนองตีนนก หมู่ที่ 5 ตำบลหนองตีนนก อำเภอบ้านโพธิ์ จังหวัดฉะเชิงเทรา | D23: 2951500 | G23: =D23-E23 -> 2951500
A24: 21 | B24: โครงการก่อสร้างถนนลาดยาง สายจากคลองชลประทาน ซอย 4 ถึงบ้านนางสมบุญ บุญเรือง หมู่ที่ 1 ตำบลเสม็ดใต้ อำเภอบางคล้า จังหวัดฉะเชิงเทรา | C24: อำเภอบางคล้า | D24: 3700000 | G24: =D24-E24 -> 3700000
A25: 22 | B25: โครงการก่อสร้างถนนคอนกรีตเสริมเหล็ก สายบางชัน หมู่ที่ 4 ตำบลบางกระเจ็ด อำเภอบางคล้า จังหวัดฉะเชิงเทรา | D25: 3094000 | G25: =D25-E25 -> 3094000
A26: 23 | B26: โครงการซ่อมสร้างถนนลาดยาง สายสามแยกหัวไทร - สามแยกสลิดใหญ่ หมู่ที่ 8 ตำบลบางกระเจ็ด อำเภอบางคล้า จังหวัดฉะเชิงเทรา | D26: 4387000 | G26: =D26-E26 -> 4387000
A27: 24 | B27: โครงการก่อสร้างถนนลาดยางสายจากคลองบางไผ่ หมู่ที่ 3 ตำบลคลองขุด อำเภอบ้านโพธิ์ เชื่อมถนนสายวัดราษฏร์ศรัทราธรรม หมู่ที่ 3 ตำบลเสม็ดใต้ อำเภอบางคล้า จังหวัดฉะเชิงเทรา | D27: 7016000 | G27: =D27-E27 -> 7016000
A28: 25 | B28: โครงการซ่อมสร้างถนนลาดยาง สายโรงเลื่อยจักร – ห้วยหิน หมู่ที่ 3 ตำบลเกาะขนุน อำเภอพนมสารคาม จังหวัดฉะเชิงเทรา | C28: อำเภอพนมสารคาม | D28: 1542600 | G28: =D28-E28 -> 1542600
A29: 26 | B29: โครงการก่อสร้างถนนคอนกรีตเสริมเหล็ก หมู่ที่ 13 ซอยสุสิต ถึง สระหลวง ตำบลบ้านซ่อง อำเภอพนมสารคาม จังหวัดฉะเชิงเทรา | D29: 1446000 | G29: =D29-E29 -> 1446000
A30: 27 | B30: โครงการก่อสร้างปรับปรุงผิวจราจรลาดยางสาย หมู่ที่ 1 บ้านวังวุ้ง - หมู่ที่ 17 บ้านชมพู ตำบลท่าตะเกียบ อำเภอท่าตะเกียบ จังหวัดฉะเชิงเทรา | C30: อำเภอท่าตะเกียบ | D30: 17500000 | G30: =D30-E30 -> 17500000
A31: 28 | B31: โครงการซ่อมสร้างถนนลาดยาง สายวัดโพรงอากาศ หมู่ที่ 9 - หมู่ที่ 16 ตำบลโพรงอากาศ อำเภอบางน้ำเปรี้ยว จังหวัดฉะเชิงเทรา | C31: อำเภอบางน้ำเปรี้ยว | D31: 10000000 | G31: =D31-E31 -> 10000000
A32: 29 | B32: โครงการก่อสร้างเขื่อนป้องกันตลิ่งริมคลองบางกระเจ็ด หมู่ที่ 2 บริเวณวัดสามแยก (ช่วงที่ 2) ตำบลบางกระเจ็ด อำเภอบางคล้า จังหวัดฉะเชิงเทรา | C32: โยธาธิการและผังเมืองจังหวัดฉะเชิงเทรา | D32: 15000000 | G32: =D32-E32 -> 15000000
A33: 30 | B33: โครงการก่อสร้างเขื่อนป้องกันตลิ่งริมทะเล หมู่ที่ 2 บริเวณปากคลองเจริญวัย ด้านซ้าย (ช่วงที่ 2) ตำบลสองคลอง อำเภอบางปะกง จังหวัดฉะเชิงเทรา | D33: 14000000 | G33: =D33-E33 -> 14000000
A34: 31 | B34: โครงการก่อสร้างเขื่อนป้องกันตลิ่งริมทะเล หมู่ที่ 2 บริเวณปากคลองเจริญวัยด้านขวา (ช่วงที่ 2) ตำบลสองคลอง อำเภอบางปะกง จังหวัดฉะเชิงเทรา | D34: 14000000 | G34: =D34-E34 -> 14000000
A35: 32 | B35: โครงการก่อสร้างอาคารบังคับน้ำบ้านวังซุง พร้อมอุปกรณ์ประกอบ | C35: โครงการชลประทานฉะเชิงเทรา | D35: 7500000 | G35: =D35-E35 -> 7500000
A36: 33 | B36: โครงการก่อสร้างอาคารบังคับน้ำบ้านคลองตะเคียน | D36: 5000000 | G36: =D36-E36 -> 5000000
A37: 34 | B37: โครงการขยายเขตประปาส่วนภูมิภาค หมู่ที่ 1 - หมู่ที่ 6 ตำบลคลองเขื่อน อำเภอคลองเขื่อน จังหวัดฉะเชิงเทรา | C37: อำเภอคลองเขื่อน | D37: 16359000 | G37: =D37-E37 -> 16359000 | H37: ยกเลิกโครงการ
A38: 35 | B38: อนุรักษ์ป้องกันช้างป่า | C38: สำนักงานทรัพยากรธรรมชาติและสิ่งแวดล้อม | D38: 14950000 | G38: =D38-E38 -> 14950000 | H38: ยกเลิกโครงการ
B39: 1. โครงการ ก่อสร้างถนนลาดยาวผิวจราจรชนิดแคบซีล สายท่าเลียบ - ชำป่างาม ตำบลท่ากระดาน อำเภอสนามชัยเขต จังหวัดฉะเชิงเทรา | C39: อำเภอสนามชัยเขต | D39: 3819000 | G39: =D39-E39 -> 3819000 | H39: โอนเปลี่ยนแปลง
B40: 2. โครงการ ก่อสร้างถนนลาดยางแอสฟัลติกคอนกรีต ซอย 1 หมู่ที่ 5 ตำบลคลองเขื่อน อำเภอคลองเขื่อน จังหวัดฉะเชิงเทรา | C40: อำเภอคลองเขื่อน | D40: 4420000 | G40: =D40-E40 -> 4420000 | H40: โอนเปลี่ยนแปลง
B41: 3. โครงการ ซ่อมสร้างปรับปรุงผิวจราจร ถนนสายรัศมีวัสดุภัณฑ์ หมู่ที่ 1, 2, 3, 4, 6, 7 ตำบลหนองจอก อำเภอบางปะกง จังหวัดฉะเชิงเทรา | C41: อำเภอบางปะกง | D41: 6740000 | G41: =D41-E41 -> 6740000 | H41: โอนเปลี่ยนแปลง
...

Sheet สรุปรวม
A1: บัญชีโครงการตามแผนปฏิบัติราชการประจำปีของจังหวัดฉะเชิงเทรา ประจำปีงบประมาณ พ.ศ. ๒๕๖2
A2: จำนวน 56 โครงการ 1 รายการค่าใช้จ่าย งบประมาณ 260,068,200 บาท
A4: ลำดับ | B4: โครงการ | C4: งบประมาณ (บาท) | D4: อนุมัติโครงการแล้ว | E4: ยังไม่อนุมัติ โครงการ | F4: กระบวนการจัดซื่อจัดจ้าง | O4: ผลการดำเนินงาน | R4: การลงนามในสัญญา (ถ้ามี) | U4: การเบิกจ่าย | Y4: หมายเหตุ
O5: ทำ Po แล้ว | P5: ยังไม่ทำ PO | Q5: ดำเนินการแล้วเสร็จ | R5: วันที่เริ่มต้นสัญญา | S5: วันที่สิ้นสุดสัญญา | T5: วงเงินตามสัญญา | U5: เบิกจ่ายแล้ว (บาท) | V5: คิดเป็นร้อยละ (%) | W5: คงเหลือยังไม่เบิกจ่าย (บาท) | X5: เงินเหลือจ่ายจากการลงนามในสัญญา (บาท)
A6: อำเภอเมืองฉะเชิงเทรา
A7: 1 | B7: โครงการซ่อมสร้างถนนลาดยางสายตรงข้ามวัดโสธร หมู่ที่ 2 ตำบลบางตีนเป็ด อำเภอเมือง ฉะเชิงเทราจังหวัดฉะเชิงเทรา | C7: 3789000 | D7: อนุมัติโครงการแล้ว วันที่ 21 พ.ย. 61 | P7: P | V7: =(U7/C7)*100 -> 0
A8: 2 | B8: โครงการก่อสร้างถนนคอนกรีตเสริมเหล็ก ถนนประสานมิตร ซอย 3 หมู่ที่ 6,11,12 ตำบลบางเตย อำเภอเมืองฉะเชิงเทรา จังหวัดฉะเชิงเทรา | C8: 4212000 | D8: อนุมัติโครงการแล้ว วันที่ 21 พ.ย. 61 | P8: P | U8: =+งบลงทุน!F4 -> 0 | V8: =(U8/C8)*100 -> 0
A9: อำเภอบ้านโพธิ์
A10: 3 | B10: โครงการก่อสร้างถนนคอนกรีตเสริมเหล็ก สายคลองบ้านโพธิ์ 1/1 หมู่ที่ 1 ตำบลคลองบ้านโพธิ์ อำเภอบ้านโพธิ์ จังหวัดฉะเชิงเทรา | C10: 4905400 | D10: อนุมัติโครงการแล้ว วันที่ 23 พ.ย. 61 | P10: P | U10: =+งบลงทุน!F17 -> 0 | V10: =(U10/C10)*100 -> 0 | Y10: เงินมาแล้ว
A11: 4 | B11: โครงการซ่อมสร้างถนนลาดยางสายตลาดหนองตีนนก หมู่ที่ 5 ตำบลหนองตีนนก อำเภอบ้านโพธิ์ จังหวัดฉะเชิงเทรา | C11: 2951500 | D11: อนุมัติโครงการแล้ว วันที่ 23 พ.ย. 61 | P11: P | U11: =+งบลงทุน!F18 -> 0 | V11: =(U11/C11)*100 -> 0
A12: อำเภอบางปะกง
A13: 5 | B13: โครงการก่อสร้างถนนคอนกรีตเสริมเหล็ก สายบางครก หมู่ที่ ๖ ตำบลบางเกลือ เชื่อมหมู่ที่ ๓ ตำบลหอมศีล อำเภอบางปะกง จังหวัดฉะเชิงเทรา | C13: 1400000 | D13: อนุมัติโครงการแล้ว วันที่ 23 พ.ย. 61 | P13: P | U13: =+งบลงทุน!F25 -> 0 | V13: =(U13/C13)*100 -> 0 | Y13: เงินมาแล้ว
A14: 6 | B14: โครงการก่อสร้างถนนคอนกรีตเสริมเหล็กคลองก้นบึ้งตอนที่ 2 หมู่ที่ 4 ตำบลสองคลอง อำเภอบางปะกง จังหวัดฉะเชิงเทรา | C14: 4100000 | P14: P
A15: อำเภอบางน้ำเปรี้ยว
A16: 7 | B16: โครงการซ่อมสร้างถนนลาดยาง สายวัดโพรงอากาศ หมู่ที่ 9 - หมู่ที่ 16 ตำบลโพรงอากาศ อำเภอบางน้ำเปรี้ยว จังหวัดฉะเชิงเทรา | C16: 10000000 | D16: อนุมัติโครงการแล้ว วันที่ 23 พ.ย. 61 | P16: P | U16: =+งบลงทุน!F30 -> 0 | V16: =(U16/C16)*100 -> 0
A17: อำเภอพนมสารคาม
A18: 8 | B18: โครงการซ่อมสร้างถนนลาดยาง สายโรงเลื่อยจักร – ห้วยหิน หมู่ที่ 3 ตำบลเกาะขนุน อำเภอพนมสารคาม จังหวัดฉะเชิงเทรา | C18: 1542600 | P18: P | U18: =+งบลงทุน!F11 -> 0 | V18: =(U18/C18)*100 -> 0
A19: 9 | B19: โครงการก่อสร้างถนนคอนกรีตเสริมเหล็ก หมู่ที่ 13 ซอยสุสิต ถึง สระหลวง ตำบลบ้านซ่อง อำเภอพนมสารคาม จังหวัดฉะเชิงเทรา | C19: 1446000 | D19: อนุมัติโครงการแล้ว วันที่ 23 พ.ย. 61 | P19: P | Y19: เงินมาแล้ว
A20: อำเภอคลองเขื่อน
A21: 10 | B21: โครงการขยายเขตประปาส่วนภูมิภาค หมู่ที่ 1 - หมู่ที่ 6 ตำบลคลองเขื่อน อำเภอคลองเขื่อน จังหวัดฉะเชิงเทรา | C21: 16359000 | P21: P | U21: =+งบลงทุน!F9 -> 0 | V21: =(U21/C21)*100 -> 0 | Y21: ยกเลิกโครงการ
A22: อำเภอราชสาส์น
A23: 11 | B23: โครงการก่อสร้างถนนคอนกรีตเสริมเหล็กถนนสายในหมู่บ้าน บ้านเตาอิฐ จากถนนพนมสารคาม – ราชสาส์น ถึงบริเวณบ้านนายสมพร เพิ่มพูน หมู่ที่ 4 ตำบลบางคา อำเภอราชสาส์น จังหวัดฉะเชิงเทรา | C23: 2430400 | D23: อนุมัติโครงการแล้ว วันที่ 14 พ.ย. 61 | P23: P | V23: =(U23/C23)*100 -> 0 | Y23: เงินมาแล้ว
A24: 12 | B24: โครงการก่อสร้างถนนคอนกรีตเสริมเหล็ก สายกกสับใน - ปากน้ำ หมู่ที่ 3 ตำบลเมืองใหม่ อำเภอราชสาส์น จังหวัดฉะเชิงเทรา | C24: 2454000 | D24: อนุมัติโครงการแล้ว วันที่ 14 พ.ย. 61 | P24: P | Y24: เงินมาแล้ว
A25: 13 | B25: โครงการปรับปรุงถนนลาดยาง สายเข้าวัดแสนภุมราวาส หมู่ที่ 4 ตำบลเมืองใหม่ อำเภอราชสาส์น จังหวัดฉะเชิงเทรา | C25: 800000 | D25: อนุมัติโครงการแล้ว วันที่ 14 พ.ย. 61 | P25: P | Y25: เงินมาแล้ว
A26: 14 | B26: ก่อสร้างถนนคอนกรีตเสริมเหล็ก สายคันคลองหนองตาลอ หมู่ที่ 3 และหมู่ที่ 14 ตำบลดงน้อย อำเภอราชสาส์น จังหวัดฉะเชิงเทรา | C26: 4475900 | D26: อนุมัติโครงการแล้ว วันที่ 14 พ.ย. 61 | P26: P | Y26: เงินมาแล้ว
A27: อำเภอบางคล้า
A28: 15 | B28: โครงการก่อสร้างถนนลาดยาง สายจากคลองชลประทาน ซอย 4 ถึงบ้านนางสมบุญ บุญเรือง หมู่ที่ 1 ตำบลเสม็ดใต้ อำเภอบางคล้า จังหวัดฉะเชิงเทรา | C28: 3700000 | D28: อนุมัติโครงการแล้ว วันที่ 21 พ.ย. 61 | P28: P | V28: =(U28/C28)*100 -> 0
A29: 16 | B29: โครงการก่อสร้างถนนคอนกรีตเสริมเหล็ก สายบางชัน หมู่ที่ 4 ตำบลบางกระเจ็ด อำเภอบางคล้า จังหวัดฉะเชิงเทรา | C29: 3094000 | D29: อนุมัติโครงการแล้ว วันที่ 21 พ.ย. 61 | P29: P | U29: =+งบลงทุน!F15 -> 0 | V29: =(U29/C29)*100 -> 0
A30: 17 | B30: โครงการซ่อมสร้างถนนลาดยาง สายสามแยกหัวไทร - สามแยกสลิดใหญ่ หมู่ที่ 8 ตำบลบางกระเจ็ด อำเภอบางคล้า จังหวัดฉะเชิงเทรา | C30: 4387000 | D30: อนุมัติโครงการแล้ว วันที่ 21 พ.ย. 61 | P30: P
A31: 18 | B31: โครงการก่อสร้างถนนลาดยางสายจากคลองบางไผ่ หมู่ที่ 3 ตำบลคลองขุด อำเภอบ้านโพธิ์ เชื่อมถนนสายวัดราษฏร์ศรัทราธรรม หมู่ที่ 3 ตำบลเสม็ดใต้ อำเภอบางคล้า จังหวัดฉะเชิงเทรา | C31: 7016000 | D31: อนุมัติโครงการแล้ว วันที่ 21 พ.ย. 61 | P31: P
A32: อำเภอแปลงยาว
A33: 19 | B33: โครงการก่อสร้างถนนคอนกรีตเสริมเหล็ก สายหนองหอย หมู่ที่ 12 บ้านคลอง ตำบลแปลงยาว จังหวัดฉะเชิงเทรา | C33: 1030000 | D33: อนุมัติโครงการแล้ว วันที่ 30 พ.ย. 61 | P33: P | Y33: เงินมาแล้ว
A34: 20 | B34: โครงการอขุดฝังท่อระบายน้ำและบ่อพักคอนกรีตเสริมเหล็ก ขนาด 0.60 เมตร พร้อมเสริมลูกรังหลังท่อซอยเทศบาล 3/1 หมู่ที่3 ตำบลหัวสำโรง อำเภอแปลงยาว จังหวัดฉะเชิงเทรา | C34: 1996000 | D34: อนุมัติโครงการแล้ว วันที่ 30 พ.ย. 61 | P34: P | Y34: เงินมาแล้ว
A35: 21 | B35: โครงการก่อสร้างถนนลาดยาง สายหนองน้ำกิน - หนองประดู่ หมู่ที่ 10 ตำบลวังเย็น อำเภอแปลงยาว จังหวัดฉะเชิงเทรา | C35: 5490000 | D35: อนุมัติโครงการแล้ว วันที่ 30 พ.ย. 61 | P35: P | Y35: เงินมาแล้ว
A36: อำเภอสนามชัยเขต
A37: 22 | B37: โครงการซ่อมสร้างถนนลาดยาง สายเขาผานาง – ท่าวัว ตำบลท่ากระดาน อำเภอสนามชัยเขต จังหวัดฉะเชิงเทรา | C37: 1300000 | D37: อนุมัติโครงการแล้ว วันที่ 23 พ.ย. 61 | P37: P | V37: =(U37/C37)*100 -> 0
A38: 23 | B38: โครงการก่อสร้างผิวจราจรถนนลาดยางสายโปร่งเจริญ – หินแร่ ตำบลท่ากระดาน อำเภอสนามชัยเขต จังหวัดฉะเชิงเทรา | C38: 3250000 | D38: อนุมัติโครงการแล้ว วันที่ 23 พ.ย. 61 | P38: P
A39: 24 | B39: โครงการก่อสร้างถนนลาดยาง สายหนองแสง หมู่ที่ 1 ตำบลลาดกระทิง อำเภอสนามชัยเขต - ห้วยพลูใน ตำบลเกาะขนุน อำเภอพนมสารคาม จังหวัดฉะเชิงเทรา | C39: 3557600 | D39: อนุมัติโครงการแล้ว วันที่ 23 พ.ย. 61 | P39: P
A40: 25 | B40: โครงการก่อสร้างถนนลาดยาง สายแปลงไผ่ - แปลงแปด หมู่ที่ 10 ตำบลลาดกระทิง อำเภอสนามชัยเขต จังหวัดฉะเชิงเทรา | C40: 3096600 | D40: อนุมัติโครงการแล้ว วันที่ 23 พ.ย. 61 | P40: P
A41: 26 | B41: โครงการก่อสร้างถนนลาดยาง สายกะบกหวาน-ท่าทองดำ ตำบลทุ่งพระยา อำเภอสนามชัยเขต จังหวัดฉะเชิงเทรา | C41: 2500000 | D41: อนุมัติโครงการแล้ว วันที่ 23 พ.ย. 61 | P41: P
...

Sheet Sheet2
A1: แบบรายงานผลการดำเนินงานตามแผนปฏิบัติราชการประจำปีงบประมาณ พ.ศ. 2564
A2: โครงการ.................................................................................................
A3: กิจกรรมหลัก...............................................................................
A4: หน่วยงาน..........................................................
A6: ลำดับ | B6: กิจกรรม | C6: งบประมาณ (บาท) | D6: ผลการดำเนินงาน | K6: การลงนามในสัญญา (ถ้ามี) | Q6: การเบิกจ่าย | V6: หมายเหตุ
D7: ประกาศร่าง TOR /ร่างเอกสารประกวดราคา | E7: ประกาศเชิญชวน | F7: ประกาศผู้ชนะ | G7: รออุทธรณ์ | H7: ทำสัญญา | I7: ทำ Po แล้ว | J7: ยังไม่ทำ PO | K7: วันที่เริ่มต้นสัญญา | L7: วันที่สิ้นสุดสัญญา | M7: วงเงินตามสัญญา | N7: งวดงานที่ 1 | O7: งวดงานที่ 2 | P7: งวดงานที่ 3 | Q7: เบิกจ่ายแล้ว (บาท) | R7: ดำเนินการแล้วเสร็จ | S7: คิดเป็นร้อยละ (%) | T7: คงเหลือยังไม่เบิกจ่าย (บาท) | U7: เงินเหลือจ่ายจากการลงนามในสัญญา (บาท)
B8: กรุณาใส่รายละเอียดกิจกรรมทุกรายการ
A9: 1
A10: 2
A11: 3
A12: 4
A13: 5
A14: 6
A16: หมายเหตุ : ปัญหาอุปสรรค (ถ้ามี)
B17: รายงานตัดยอดข้อมูล ณ วันที่ 25 ของเดือน และจัดส่งรายงานภายในวันที่ 30 ของทุกเดือน จนกว่าจะดำเนินงานโครงการแล้วเสร็จ และจัดส่งข้อมูล
B18: ทาง E-mail : paco_cco@opsmoac.go.th โดยเริ่มรายงานเดือนมกราคม 2564 เป็นครั้งแรก
