Workbook

Sheet ปร.6
A2: แบบสรุปราคากลางงานก่อสร้างอาคาร
A3: ชื่อโครงการ/งานก่อสร้าง | C3: ='[1]ปร.5(ก)'!C3 -> ปรับปรุง ซ่อมแซม ต่อเติม อาคารสำนักงานเกษตรและสหกร์ จังหวัดเชียงราย
A4: สถานที่ก่อสร้าง | C4: ='[1]ปร.4(ก)'!C4 -> สำนักงานเกษตรและสหกรณ์ จังหวัดเชียงราย
A5: แบบเลขที่ | C5: ='ปร.4(ก)'!J4 -> 0
A6: หน่วยงานเจ้าของโครงการ | C6: ='ปร.4(ก)'!C2 -> สำนักงานเกษตรและสหกรณ์จังหวัดเชียงราย
A7: แบบ ปร.4 และ ปร.5 ที่ แนบ จำนวน | C7: 1 | D7: ชุด/งาน
A8: คำนวณราคากลางเมื่อวันที่
A9: ลำดับที่ | B9: รายการ | D9: ค่าก่อสร้าง | E9: หมายเหตุ
B10: สรุปผลดังนี้
A11: 1 | B11: ='[1]ปร.5(ก)'!B10 -> ประเภทงานอาคาร | D11: ='ปร.5(ก)'!E20 -> 0
A12: 2 | B12: ประเภทครุภัณฑ์ (จัดซื้อ) | D12: ='ปร.5(ข)'!E19 -> 0
B14: รวมค่าก่อสร้างเป็นเงินทั้งสิ้น | D14: =D11+D12 -> 0
B15: คิดเป็นเงินประมาณ | D15: =IF(D14<10000000,ROUNDDOWN(D14,0),ROUNDDOWN(D14,0)) -> 0
B16: ตัวอักษร | C16: ="( "&BAHTTEXT(D15)&" )" -> ( ศูนย์บาทถ้วน )

Sheet ปร.5(ก)
A1: แบบสรุปค่าก่อสร้าง
A2: ส่วนราชการ ฝ่าย/งาน | C2: ='ปร.4(ก)'!C2 -> สำนักงานเกษตรและสหกรณ์จังหวัดเชียงราย
A3: ชื่อโครงการ/งานก่อสร้าง | C3: ='ปร.4(ก)'!C3 -> ปรับปรุง ซ่อมแซม ต่อเติม อาคารสำนักงานเกษตรและสหกร์ จังหวัดเชียงราย
A4: สถานที่ก่อสร้าง | C4: ='ปร.4(ก)'!C4 -> สำนักงานเกษตรและสหกรณ์ จังหวัดเชียงราย
A5: หน่วยงานออกแบบแปลนและรายการ | C5: ='ปร.4(ก)'!F5 -> 0
A6: แบบเลขที่ | C6: ='ปร.4(ก)'!J4 -> 0
A7: ประมาณราคาตามแบบ ปร.4 | C7: จำนวน | D7: 8 | E7: แผ่น
A8: คำนวณราคากลางเมื่อวันที่
A9: ลำดับที่ | B9: รายการ | C9: ค่างานต้นทุน | D9: Factor F | E9: ค่าก่อสร้าง | F9: หมายเหตุ
A10: 1 | B10: ประเภทงานอาคาร | C10: ='ปร.4(ก)'!J31 -> 0 | D10: =M11 -> 0 | E10: =C10*D10 -> 0 | J10: สูตร Factor F | K10: อาคาร
A11: 2 | B11: ค่าใช้จ่ายพิเศษ | C11: ='ปร.4(ก)'!J196 -> 0 | D11: 1 | E11: =C11 -> 0
B14: เงื่อนไข
B15: เงินล่วงหน้าจ่าย 0 %
B16: เงินประกันผลงานหัก 0%
B17: ดอกเบี้ยเงินกู้ 5%
B18: ภาษีมูลค่าเพิ่ม 7%
A19: สรุป | B19: รวมค่าก่อสร้างเป็นเงินทั้งสิ้น | E19: =E10+E11 -> 0
B20: คิดเป็นเงินประมาณ | E20: =IF(E19<10000000,ROUNDDOWN(E19,-3),ROUNDDOWN(E19,-3)) -> 0
B21: ตัวอักษร | C21: ="( "&BAHTTEXT(E20)&" )" -> ( ศูนย์บาทถ้วน )
A22: ขนาดหรือเนื้อที่อาคาร | C22: - | D22: ตารางเมตร
A23: เฉลี่ยราคาประมาณ | C23: - | D23: บาท/ตารางเมตร

Sheet ปร.5(ข)
A1: แบบสรุปงานครุภัณฑ์ (จัดซื้อ)
A2: ส่วนราชการ ฝ่าย/งาน | C2: ='ปร.5(ก)'!C2 -> สำนักงานเกษตรและสหกรณ์จังหวัดเชียงราย
A3: ชื่อโครงการ/งานก่อสร้าง | C3: ='ปร.5(ก)'!C3 -> ปรับปรุง ซ่อมแซม ต่อเติม อาคารสำนักงานเกษตรและสหกร์ จังหวัดเชียงราย
A4: สถานที่ก่อสร้าง | C4: ='ปร.5(ก)'!C4 -> สำนักงานเกษตรและสหกรณ์ จังหวัดเชียงราย
A5: หน่วยงานออกแบบแปลนและรายการ | C5: ='ปร.4(ก)'!F5 -> 0
A6: แบบเลขที่ | C6: ='ปร.4(ก)'!J4 -> 0
A7: ประมาณราคาตามแบบ ปร.4 | C7: จำนวน | E7: แผ่น
A8: คำนวณราคากลางเมื่อวันที่
A9: ลำดับที่ | B9: รายการ | C9: ค่างานต้นทุน | D9: ภาษี | E9: ค่าก่อสร้าง | F9: หมายเหตุ
D10: มูลค่าเพิ่ม
A11: 1 | B11: ประเภทครุภัณฑ์(จัดซื้อ) | C11: ='ปร.4(ข)'!J46 -> 0 | D11: 0.07 | E11: =C11+H11 -> 0 | H11: =C11*D11 -> 0
A12: 2 | B12: ประเภท ......................................... | C12: 0 | D12: - | E12: -
B13: เงื่อนไข
B14: เงินล่วงหน้าจ่าย 15 %
B15: เงินประกันผลงานหัก 0%
B16: ดอกเบี้ยเงินกู้ 6%
B17: ภาษีมูลค่าเพิ่ม 7%
A18: สรุป | B18: รวมค่างานครุภัณฑ์ลอยตัว (จัดซื้อ) เป็นเงินทั้งสิ้น | E18: =E11 -> 0
B19: คิดเป็นเงินประมาณ | E19: =E18 -> 0
B20: ตัวอักษร | C20: ="( "&BAHTTEXT(E19)&" )" -> ( ศูนย์บาทถ้วน )

Sheet ปร.4(ก)
A1: แบบแสดงรายการ ปริมาณงาน ค่าวัสดุ และค่าแรง
A2: กลุ่มงาน/งาน : | C2: สำนักงานเกษตรและสหกรณ์จังหวัดเชียงราย
A3: ชื่อโครงการ/งานก่อสร้าง : | C3: ปรับปรุง ซ่อมแซม ต่อเติม อาคารสำนักงานเกษตรและสหกร์ จังหวัดเชียงราย
A4: สถานที่ก่อสร้าง : | C4: สำนักงานเกษตรและสหกรณ์ จังหวัดเชียงราย | I4: แบบเลขที่
A5: ฝ่าย/งาน : | E5: สำนัก | I5: กรม
A6: คำนวณราคากลางโดย : | H6: เมื่อวันที่
A7: ลำดับที่ | B7: รายการ | D7: จำนวน | E7: หน่วย | F7: ค่าวัสดุ | H7: ค่าแรงงาน | J7: รวมค่าวัสดุ | K7: หมายเหตุ
F8: ราคาต่อหน่วย | G8: จำนวนเงิน | H8: ราคาต่อหน่วย | I8: จำนวนเงิน | J8: และแรงงาน
B9: รายการสรุปหมวดงาน
A10: 1 | B10: หมวดงานโครงสร้างวิศวกรรม
A11: 2 | B11: หมวดงานสถาปัยตยกรรม
A12: 3 | B12: หมวดงานระบบไฟฟ้าและสื่อสาร
A13: 4 | B13: หมวดงานรื้อถอน
B31: รวมราคาวัสดุและค่าแรงงานเป็นเงินประมาณ | J31: =SUM(J10:J30) -> 0
A32: 1 | B32: หมวดงานโครงสร้างวิศวกรรม
A33: 1.1 | B33: งานฐานรากและโครงสร้าง คสล.
B34: - ขุดดิน | D34: 45 | E34: ลบ.ม.
B35: - ทรายหยาบ | D35: 2 | E35: ลบ.ม.
B36: - คอนกรีตหยาบ | D36: 1 | E36: ลบ.ม.
B37: - คอนกรีตโครงสร้าง fc' 240 ksc. ทรงกระบอก | D37: 13 | E37: ลบ.ม.
B38: - แบบหล่อคอนกรีต | D38: 130 | E38: ตร.ม.
B39: - ค่าแรงแบบหล่อคอนกรีต | D39: 130 | E39: ตร.ม.
B40: - ค้ำยันแบบหล่อคอนกรีต | D40: 39 | E40: ลบ.ฟ.
B41: - ตะปู | D41: 44 | E41: กก.
B42: - งานเหล็กเส้นเสริมคอนกรีต
B43: - เหล็ก SR 24 dia. 6 มม. | D43: 125 | E43: กก.
B44: - เหล็ก SD 40 dia. 12 มม. | D44: 502 | E44: กก.
B45: dia. 16 มม. | D45: 264 | E45: กก.
B46: - ลวดผูกเหล็ก | D46: 18 | E46: กก.
A47: 1.2 | B47: งานโครงสร้างหลังคาเหล็กรูปพรรณ
B48: - [ 100x50x20x3.2 mm. | D48: 1253 | E48: กก.
B49: - * 50x50x3.2 mm. | D49: 1510 | E49: กก.
B50: - * 100x50x3.2 mm. | D50: 680 | E50: กก.
B51: - * 150x50x3.2 mm. | D51: 1792 | E51: กก.
B52: - PLATE 8"x8" หนา 9 mm. | D52: 6 | E52: แผ่น
B53: - เหล็ก J-BOLT ขนาดเส้นผ่านศูนย์กลางไม่น้อยกว่า 15 mm.ยาวไม่น้อยกว่า 0.40 ม. | D53: 16 | E53: ตัว
B54: - ทาสีกันสนิม | D54: 520 | E54: ตร.ม.
B55: รวมยอดยกไป | J55: =SUM(J34:J54) -> 0
B56: รวมยอดยกมา | J56: =J55 -> 0
B57: - หลังคาเมทัลซีทหนา 0.40 มม.เคลือบสีพร้อมฉนวนกันความร้อนพียูโฟมหนา 1'' | D57: 181 | E57: ตร.ม.
B58: - น๊อตยึดหลังคาเมทัลซีท ชนิดปลายสว่าน | D58: 3 | E58: กล่อง
B59: - เชิงชายไม้สำเร็จรูป 6 นิ้ว | D59: 20 | E59: แผ่น
B60: - เชิงชายไม้สำเร็จรูป 8 นิ้ว | D60: 20 | E60: แผ่น
B79: รวมหมวดงานโครงสร้างวิศวกรรม | J79: =SUM(J56:J78) -> 0
A80: 2 | B80: หมวดงานสถาปัตยกรรม
A81: 2.1 | B81: งานพื้นและตกแต่งผิวพื้น
B82: - พื้น ค.ส.ล. ผิวปูกระเบื้องแกรนิตโต้ผิวมัน ขนาดแผ่น 0.60x0.60 ม. | D82: 171 | E82: ตร.ม.
B83: - พื้น ค.ส.ล. ผสมน้ำยากันซึม ผิวปูกระเบื้องแกรนิตโต้ผิวด้าน ขนาดแผ่น 0.60x0.60 ม. | D83: 14 | E83: ตร.ม.
A84: 2.2 | B84: งานผนังและตกแต่งผิวผนัง
B85: - ผนังก่ออิฐมอญ ครึ่งแผ่น | D85: 166 | E85: ตร.ม.
B86: - ฉาบปูน | D86: 340 | E86: ตร.ม.
B87: - ผนังโครงเคร่าไม้เนื้อแข็ง ขนาด 1 1/2"x3" กรุไม้ยางนา 10 มม. ปิดทับด้วยแผ่นลาเนต | D87: 15 | E87: ตร.ม.
B88: - ตราสัญลักษณ์แผ่นเหล็กซิงค์ยกขอบ ขนาดเส้นผ่านศูนย์กลาง 0.35ม. | D88: 1 | E88: ชุด
B89: - ตัวอักษรแผ่นพลาสวูด ภาษาไทย สูง 15 ซม. | D89: 1 | E89: ชุด
B90: - งานทาสีน้ำพลาสติก | D90: 348 | E90: ตร.ม.
A91: 2.3 | B91: งานฝ้าเพดาน
B92: - ฝ้าเพดานยิบซั่มบอร์ดชนิดกันชื้นหนา 9 มม. ฉาบรอยต่อเรียบ โครงเคร่าเหล็กชุปสังกะสี | D92: 148 | E92: ตร.ม.
B93: พร้อมงานทาสี
A94: 2.4 | B94: งานประตู-หน้าต่าง
B95: - ประตู เบอร์1 | D95: 1 | E95: ชุด
B96: - ประตู เบอร์2 | D96: 1 | E96: ชุด
B97: - ประตู เบอร์3 | D97: 1 | E97: ชุด
B98: - ประตู เบอร์4 | D98: 2 | E98: ชุด
B99: - ประตู เบอร์5 | D99: 1 | E99: ชุด
B100: - หน้าต่าง เบอร์1 | D100: 1 | E100: ชุด
B101: - หน้าต่าง เบอร์1A | D101: 2 | E101: ชุด
B102: รวมยอดยกไป | J102: =SUM(J80:J101) -> 0
B103: รวมยอดยกมา | J103: =J102 -> 0
B104: - หน้าต่าง เบอร์2 | D104: 1 | E104: ชุด
B105: - หน้าต่าง เบอร์3 | D105: 1 | E105: ชุด
B106: - หน้าต่าง เบอร์4 | D106: 1 | E106: ชุด
B107: - หน้าต่าง เบอร์5 | D107: 2 | E107: ชุด
B108: - ม่านมู่ลี่บังแสง หน้าต่าง แบบม้วน | D108: 2 | E108: ชุด
A109: 2.5 | B109: เคาว์เตอร์เตรียมอาหารพร้องซิงค์ล้างจานอุปกรณ์ครบชุด | D109: 1 | E109: งาน
B126: รวมหมวดงานสถาปัตยกรรม | J126: =SUM(J103:J125) -> 0
A127: 3 | B127: หมวดงานระบบไฟฟ้า
A128: 3.1 | B128: ดวงโคมไฟฟ้าและอุปกรณ์
B129: - โคมไฟ DOWNLIGHT ทรงกลม ขนาดเส้นผ่านศูนย์กลาง 6" หลอด LED 12 วัตต์ | D129: 25 | E129: ชุด
B130: - โคมไฟแบบมีตะแกรงอลูมิเนียม ชนิดฝังฝ้าเพดานยิบซั่ม ขนาด 30x120 ซม. | D130: 17 | E130: ชุด
B131: หลอด LED TUBE T5 2-16 w.
B132: -โคมเพดาน ทรงกลม ติดฝ้าเพดาน เส้นผ่านศูนย์กลาง 12'' หลอดไฟ LED 16 วัตต์ | D132: 1 | E132: ชุด
B133: -ไฟเส้น LED STRIP ซ่อนในหลืบเพดาน | D133: 26.4 | E133: เมตร
B134: - ชุดโคมไฟ ติดผนัง | D134: 6 | E134: ชุด
B135: - สวิตช์ทางเดี่ยว 16A,250V พร้อมฝาครอบสีขาว PVC หรือ PC | D135: 19 | E135: ชุด
B136: - เต้ารับไฟฟ้าคู่ ขนาด 16A, 250V มีขาดิน พร้อมฝาครอบสีขาว PVC หรือ PC | D136: 20 | E136: ชุด
B137: - ตู้ควบคุมระบบไฟฟ้า | D137: 1 | E137: ชุด
B138: - Grounding System | D138: 1 | E138: ชุด
B139: - Accessories | D139: 1 | E139: ชุด
A140: 3.2 | B140: งานเดินสายไฟฟ้าวงจร่อย
B141: งานเดินสายไฟฟ้า THW 1Cx1.5 Sq.m. ,THW 1Cx2.5 Sq.m. ,THW 1Cx4 Sq.m.
B142: - สายไฟฟ้าดวงโคม รวมท่อร้อยสายไฟ | D142: 53 | E142: จุด
B143: - สายสวิตช์ไฟฟ้า รวมท่อร้อยสายไฟ | D143: 19 | E143: จุด
B144: - สายเต้ารับไฟฟ้า รวมท่อร้อยสายไฟ | D144: 20 | E144: จุด
B150: รวมหมวดงานระบบไฟฟ้า | J150: =SUM(J128:J149) -> 0
A151: 4 | B151: งานรื้อถอน
B152: - รื้อถอนโครงหลังคาเหล็ก (ทุกรูปทรงของหลังคา) | D152: 99 | E152: ตร.ม.
B153: - รื้อถอนวัสดุมุงหลังคา (ลอนคู่หรือลักษณะใกล้เคียง) | D153: 99 | E153: ตร.ม.
B154: - รื้อถอนประตูไม้พร้อมวงกบไม้ 1 ช่อง (บานเดี่ยว) | D154: 3 | E154: ชุด
B155: - รื้อถอนหน้าต่างไม้พร้อมวงกบไม้ 1 ช่อง (บานเดี่ยว) | D155: 3 | E155: ชุด
B156: - รื้อถอนผนังก่ออิฐฉาบปูนครึ่งแผ่น (วัสดุก่อ/ฉาบทุกชนิด) | D156: 38 | E156: ตร.ม.
...

Sheet ปร.4(ข)
A1: แบบแสดงรายการ ปริมาณงาน ค่าวัสดุ และค่าแรง
A2: กลุ่มงาน/งาน : | C2: ='ปร.4(ก)'!C2 -> สำนักงานเกษตรและสหกรณ์จังหวัดเชียงราย
A3: ชื่อโครงการ/งานก่อสร้าง : | C3: ='ปร.4(ก)'!C3 -> ปรับปรุง ซ่อมแซม ต่อเติม อาคารสำนักงานเกษตรและสหกร์ จังหวัดเชียงราย
A4: สถานที่ก่อสร้าง : | C4: ='ปร.4(ก)'!C4 -> สำนักงานเกษตรและสหกรณ์ จังหวัดเชียงราย | E4: แบบเลขที่ | F4: ='ปร.4(ก)'!J4 -> 0 | I4: รายการที่
A5: ฝ่าย/งาน : | C5: ='ปร.4(ก)'!C5 -> 0 | E5: สำนัก/กอง | F5: ='ปร.4(ก)'!F5 -> 0 | I5: กรม | J5: ='ปร.4(ก)'!J5 -> 0
A6: ประมาณราคาโดย : | H6: เมื่อวันที่
A7: ลำดับที่ | B7: รายการ | D7: จำนวน | E7: หน่วย | F7: ค่าวัสดุ | H7: ค่าแรงงาน | J7: รวมค่าวัสดุ | K7: หมายเหตุ
F8: ราคาต่อหน่วย | G8: จำนวนเงิน | H8: ราคาต่อหน่วย | I8: จำนวนเงิน | J8: และแรงงาน
B9: หมวดงานครุภัณฑ์
A10: 1 | B10: งานครุภัณฑ์ลอยตัว
B11: - โต๊ะประชุมประธาน ขนาด 160x60x75 ซม. | D11: 1 | E11: ชุด
B12: - โต๊ะผู้เข้าร่วมประชุม ขนาด 130x60x75 ซม. | D12: 21 | E12: ชุด
B13: - เก้าอี้ประชุมสูง ขนาด 62x65x118-126 ซม | D13: 1 | E13: ชุด
B14: - เก้าอี้ประชุมต่ำ ขนาด 54.5x52x80.5 ซม | D14: 61 | E14: ชุด
A15: 2 | B15: งานอุปกรณ์ระบบโสต
B16: - ตู้ลำโพงขนาด 8 นิ้ว 2 ทาง | D16: 4 | E16: ชุด
B17: - มิกเซอร์ ขนาด 12 ช่อง | D17: 1 | E17: ชุด
B18: - เครื่องควบคุมและจ่ายไฟชุดไมค์ประชุม Central Unit | D18: 1 | E18: ชุด
B19: - ชุดไมค์ผู้เข้าร่วมประชุม Delegate Unit | D19: 20 | E19: ชุด
B20: - ชุดไมค์ประธาน Chairman Unit | D20: 1 | E20: ชุด
B21: - เคริ่องผสมสัญญาณเสียง EQ | D21: 1 | E21: ชุด
B22: - เพาเวอร์แอมป์ 470+470 วัตต์ | D22: 1 | E22: ชุด
B23: - ตู้ RACK 3 ฝาพร้อมล้อ | D23: 1 | E23: ชุด
A24: 3 | B24: งานอุปกรณ์ระบบโสตทัศน์
B25: - เครื่อง DLP Projector | D25: 1 | E25: ชุด
B26: - จอรับภาพมอเตอร์ไฟฟ้า ขนาด 120 นิ้ว สัดส่วนจอภาพ (16;9) | D26: 1 | E26: ชุด
B27: - ค่าติดตั้งพร้อมอุปกรณ์และงานทดสอบ ระบบเครื่องเสียง | D27: 1 | E27: ชุด
B28: - ค่าติดตั้งพร้อมอุปกรณ์และงานทดสอบ ระบบชุดประชุม | D28: 1 | E28: ชุด
B29: รวมยอดยกไป | J29: =SUM(J11:J28) -> 0
B30: รวมยอดยกมา | J30: =J29 -> 0
A31: 4 | B31: หมวดงานระบบปรับอากาศและระบบระบายอากาศ
B32: เครื่องปรับอากาศแบบแยกส่วน
B33: - ขนาด 24,000 บีทียู | D33: 2 | E33: ตัว
B46: ยอดรวม | J46: =SUM(J30:J45) -> 0
P54: =#REF!+#REF!+#REF!+#REF!+#REF!+#REF!+#REF!+#REF!+#REF!+#REF! -> #REF!
