Workbook

Sheet สรุปผล
A1: แบบ ตผจ. 01
A2: แบบสรุปรายงานความก้าวหน้าผลการดำเนินงานโครงการตามแผนปฏิบัติการด้านการเกษตรและสหกรณ์ของจังหวัดเชียงราย ประจำปีงบประมาณ พ.ศ. 2568
A3: ประจำไตรมาสที่ 2 ณ วันที่ 31 เดือน มีนาคม พ.ศ. 2568
A4: กระทรวงเกษตรและสหกรณ์
A5: จำแนกตามประเด็นการพัฒนาภายใต้แผนปฏิบัติการด้านการเกษตรและสหกรณ์ พ.ศ. 2566 - 2570 | L5: หน่วย : บาท
A6: ลำดับ (1) | B6: ส่วนราชการหรือเทียบเท่า (2) | C6: จำแนกตามแหล่งงบประมาณ (3) | D6: ประเด็นการพัฒนากระทรวงเกษตรและสหกรณ์ (4) | E6: จำนวนที่ได้รับอนุมัติ (5) | G6: ผลความก้าวหน้าการดำเนินงาน (6)
E7: งาน/โครงการ | F7: งบประมาณ | G7: งาน/โครงการ (6.1) | K7: งบประมาณ (6.2)
E8: -5.1 | F8: -5.2 | G8: ยังไม่ | H8: กำลัง | I8: ยกเลิก | J8: เสร็จ | K8: เบิกจ่ายแล้ว | L8: ร้อยละ
A9: 1 | B9: =[1]สรุปแผน!B8 -> สำนักงานเกษตรและสหกรณ์จังหวัดเชียงราย | C9: งบจังหวัด | D9: ประเด็นการพัฒนาที่ 1 | E9: =[1]สรุปแผน!D8 -> 0 | F9: =[1]สรุปแผน!E8 -> 0 | G9: ='[1]1.กษ.ชร'!J44 -> 0 | H9: ='[1]1.กษ.ชร'!K44 -> 0 | I9: ='[1]1.กษ.ชร'!L44 -> 0 | J9: ='[1]1.กษ.ชร'!M44 -> 0 | K9: ='[1]1.กษ.ชร'!O43 -> 0
D10: ประเด็นการพัฒนาที่ 2 | E10: =[1]สรุปแผน!F8 -> 0 | F10: =[1]สรุปแผน!G8 -> 0 | G10: ='[1]1.กษ.ชร'!Q44 -> 0 | H10: ='[1]1.กษ.ชร'!R44 -> 0 | I10: ='[1]1.กษ.ชร'!S44 -> 0 | J10: ='[1]1.กษ.ชร'!T44 -> 0 | K10: ='[1]1.กษ.ชร'!V43 -> 0
D11: ประเด็นการพัฒนาที่ 3 | E11: =[1]สรุปแผน!H8 -> 0 | F11: =[1]สรุปแผน!I8 -> 0 | G11: ='[1]1.กษ.ชร'!X44 -> 0 | H11: ='[1]1.กษ.ชร'!Y44 -> 0 | I11: ='[1]1.กษ.ชร'!Z44 -> 0 | J11: ='[1]1.กษ.ชร'!AA44 -> 0 | K11: ='[1]1.กษ.ชร'!AC43 -> 0
D12: ประเด็นการพัฒนาที่ 4 | E12: =[1]สรุปแผน!J8 -> 0 | F12: =[1]สรุปแผน!K8 -> 0 | G12: ='[1]1.กษ.ชร'!AE44 -> 0 | H12: ='[1]1.กษ.ชร'!AF44 -> 0 | I12: ='[1]1.กษ.ชร'!AG44 -> 0 | J12: ='[1]1.กษ.ชร'!AH44 -> 0 | K12: ='[1]1.กษ.ชร'!AJ43 -> 0
D13: รวม 4 ประเด็นการพัฒนา | E13: =SUM(E9:E12) -> 0 | F13: =SUM(F9:F12) -> 0 | G13: =SUM(G9:G12) -> 0 | H13: =SUM(H9:H12) -> 0 | I13: =SUM(I9:I12) -> 0 | J13: =SUM(J9:J12) -> 0 | K13: =SUM(K9:K12) -> 0
C14: งบปกติ | D14: ประเด็นการพัฒนาที่ 1 | E14: =[1]สรุปแผน!D9 -> 0 | F14: =[1]สรุปแผน!E9 -> 0 | G14: ='[1]1.กษ.ชร'!AL44 -> 0 | H14: ='[1]1.กษ.ชร'!AM44 -> 0 | I14: ='[1]1.กษ.ชร'!AN44 -> 0 | J14: ='[1]1.กษ.ชร'!AO44 -> 0 | K14: ='[1]1.กษ.ชร'!AQ43 -> 0
D15: ประเด็นการพัฒนาที่ 2 | E15: =[1]สรุปแผน!F9 -> 5 | F15: =[1]สรุปแผน!G9 -> 451600 | G15: ='[1]1.กษ.ชร'!AS44 -> 0 | H15: ='[1]1.กษ.ชร'!AT44 -> 5 | I15: ='[1]1.กษ.ชร'!AU44 -> 0 | J15: ='[1]1.กษ.ชร'!AV44 -> 0 | K15: ='[1]1.กษ.ชร'!AX43 -> 152054.12 | L15: =K15*100/F15 -> 33.670089
D16: ประเด็นการพัฒนาที่ 3 | E16: =[1]สรุปแผน!H9 -> 0 | F16: =[1]สรุปแผน!I9 -> 0 | G16: ='[1]1.กษ.ชร'!AZ44 -> 0 | H16: ='[1]1.กษ.ชร'!BA44 -> 0 | I16: ='[1]1.กษ.ชร'!BB44 -> 0 | J16: ='[1]1.กษ.ชร'!BC44 -> 0 | K16: ='[1]1.กษ.ชร'!BE43 -> 0
D17: ประเด็นการพัฒนาที่ 4 | E17: =[1]สรุปแผน!J9 -> 0 | F17: =[1]สรุปแผน!K9 -> 0 | G17: ='[1]1.กษ.ชร'!BG44 -> 0 | H17: ='[1]1.กษ.ชร'!BH44 -> 0 | I17: ='[1]1.กษ.ชร'!BI44 -> 0 | J17: ='[1]1.กษ.ชร'!BJ44 -> 0 | K17: ='[1]1.กษ.ชร'!BL43 -> 0
D18: รวม 4 ประเด็นการพัฒนา | E18: =SUM(E14:E17) -> 5 | F18: =SUM(F14:F17) -> 451600 | G18: =SUM(G14:G17) -> 0 | H18: =SUM(H14:H17) -> 5 | I18: =SUM(I14:I17) -> 0 | J18: =SUM(J14:J17) -> 0 | K18: =SUM(K14:K17) -> 152054.12 | L18: =K18*100/F18 -> 33.670089
C19: งบอื่นๆ | D19: ประเด็นการพัฒนาที่ 1 | E19: =[1]สรุปแผน!D10 -> 0 | F19: =[1]สรุปแผน!E10 -> 0 | G19: ='[1]1.กษ.ชร'!BN44 -> 0 | H19: ='[1]1.กษ.ชร'!BO44 -> 0 | I19: ='[1]1.กษ.ชร'!BP44 -> 0 | J19: ='[1]1.กษ.ชร'!BQ44 -> 0 | K19: ='[1]1.กษ.ชร'!BS43 -> 0
D20: ประเด็นการพัฒนาที่ 2 | E20: =[1]สรุปแผน!F10 -> 2 | F20: =[1]สรุปแผน!G10 -> 621400 | G20: ='[1]1.กษ.ชร'!BU44 -> 0 | H20: ='[1]1.กษ.ชร'!BV44 -> 2 | I20: ='[1]1.กษ.ชร'!BW44 -> 0 | J20: ='[1]1.กษ.ชร'!BX44 -> 0 | K20: ='[1]1.กษ.ชร'!BZ43 -> 276630 | L20: =K20*100/F20 -> 44.517219
D21: ประเด็นการพัฒนาที่ 3 | E21: =[1]สรุปแผน!H10 -> 0 | F21: =[1]สรุปแผน!I10 -> 0 | G21: ='[1]1.กษ.ชร'!CB44 -> 0 | H21: ='[1]1.กษ.ชร'!CC44 -> 0 | I21: ='[1]1.กษ.ชร'!CD44 -> 0 | J21: ='[1]1.กษ.ชร'!CE44 -> 0 | K21: ='[1]1.กษ.ชร'!CG43 -> 0
D22: ประเด็นการพัฒนาที่ 4 | E22: =[1]สรุปแผน!J10 -> 0 | F22: =[1]สรุปแผน!K10 -> 0 | G22: ='[1]1.กษ.ชร'!CI44 -> 0 | H22: ='[1]1.กษ.ชร'!CJ44 -> 0 | I22: ='[1]1.กษ.ชร'!CK44 -> 0 | J22: ='[1]1.กษ.ชร'!CL44 -> 0 | K22: ='[1]1.กษ.ชร'!CN43 -> 0
D23: รวม 4 ประเด็นการพัฒนา | E23: =SUM(E19:E22) -> 2 | F23: =SUM(F19:F22) -> 621400 | G23: =SUM(G19:G22) -> 0 | H23: =SUM(H19:H22) -> 2 | I23: =SUM(I19:I22) -> 0 | J23: =SUM(J19:J22) -> 0 | K23: =SUM(K19:K22) -> 276630 | L23: =K23*100/F23 -> 44.517219
A24: 2 | B24: ='[1]2.ชป.ชร'!B2 -> โครงการชลประทานเชียงราย | C24: งบจังหวัด | D24: ประเด็นการพัฒนาที่ 1 | E24: =[1]สรุปแผน!D15 -> 0 | F24: =[1]สรุปแผน!E15 -> 0 | G24: ='[1]2.ชป.ชร'!I184 -> 0 | H24: ='[1]2.ชป.ชร'!J184 -> 0 | I24: ='[1]2.ชป.ชร'!K184 -> 0 | J24: ='[1]2.ชป.ชร'!L184 -> 0 | K24: ='[1]2.ชป.ชร'!N183 -> 0
D25: ประเด็นการพัฒนาที่ 2 | E25: =[1]สรุปแผน!F15 -> 0 | F25: =[1]สรุปแผน!G15 -> 0 | G25: ='[1]2.ชป.ชร'!P184 -> 0 | H25: ='[1]2.ชป.ชร'!Q184 -> 0 | I25: ='[1]2.ชป.ชร'!R184 -> 0 | J25: ='[1]2.ชป.ชร'!S184 -> 0 | K25: ='[1]2.ชป.ชร'!U183 -> 0
D26: ประเด็นการพัฒนาที่ 3 | E26: =[1]สรุปแผน!H15 -> 0 | F26: =[1]สรุปแผน!I15 -> 0 | G26: ='[1]2.ชป.ชร'!W184 -> 0 | H26: ='[1]2.ชป.ชร'!X184 -> 0 | I26: ='[1]2.ชป.ชร'!Y184 -> 0 | J26: ='[1]2.ชป.ชร'!Z184 -> 0 | K26: ='[1]2.ชป.ชร'!AB183 -> 0
D27: ประเด็นการพัฒนาที่ 4 | E27: =[1]สรุปแผน!J12 -> 0 | F27: =[1]สรุปแผน!K12 -> 0 | G27: ='[1]2.ชป.ชร'!AD184 -> 0 | H27: ='[1]2.ชป.ชร'!AE184 -> 0 | I27: ='[1]2.ชป.ชร'!AF184 -> 0 | J27: ='[1]2.ชป.ชร'!AG184 -> 0 | K27: ='[1]2.ชป.ชร'!AI183 -> 0
D28: รวม 4 ประเด็นการพัฒนา | E28: =SUM(E24:E27) -> 0 | F28: =SUM(F24:F27) -> 0 | G28: =SUM(G24:G27) -> 0 | H28: =SUM(H24:H27) -> 0 | I28: =SUM(I24:I27) -> 0 | J28: =SUM(J24:J27) -> 0 | K28: =SUM(K24:K27) -> 0
C29: งบปกติ | D29: ประเด็นการพัฒนาที่ 1 | E29: =[1]สรุปแผน!D13 -> 0 | F29: =[1]สรุปแผน!E13 -> 0 | G29: ='[1]2.ชป.ชร'!AK184 -> 0 | H29: ='[1]2.ชป.ชร'!AL184 -> 0 | I29: ='[1]2.ชป.ชร'!AM184 -> 0 | J29: ='[1]2.ชป.ชร'!AN184 -> 0 | K29: ='[1]2.ชป.ชร'!AP183 -> 0
D30: ประเด็นการพัฒนาที่ 2 | E30: =[1]สรุปแผน!F13 -> 0 | F30: =[1]สรุปแผน!G13 -> 0 | G30: ='[1]2.ชป.ชร'!AR184 -> 0 | H30: ='[1]2.ชป.ชร'!AS184 -> 0 | I30: ='[1]2.ชป.ชร'!AT184 -> 0 | J30: ='[1]2.ชป.ชร'!AU184 -> 0 | K30: ='[1]2.ชป.ชร'!AW183 -> 0
D31: ประเด็นการพัฒนาที่ 3 | E31: =[1]สรุปแผน!H13 -> 0 | F31: =[1]สรุปแผน!I13 -> 0 | G31: ='[1]2.ชป.ชร'!AY184 -> 0 | H31: ='[1]2.ชป.ชร'!AZ184 -> 0 | I31: ='[1]2.ชป.ชร'!BA184 -> 0 | J31: ='[1]2.ชป.ชร'!BB184 -> 0 | K31: ='[1]2.ชป.ชร'!BD183 -> 0
D32: ประเด็นการพัฒนาที่ 4 | E32: =[1]สรุปแผน!J13 -> 162 | F32: =[1]สรุปแผน!K13 -> 642052000 | G32: ='[1]2.ชป.ชร'!BF184 -> 0 | H32: ='[1]2.ชป.ชร'!BG184 -> 159 | I32: ='[1]2.ชป.ชร'!BH184 -> 0 | J32: ='[1]2.ชป.ชร'!BI184 -> 3 | K32: ='[1]2.ชป.ชร'!BK183 -> 2.1274448e+08 | L32: =K32*100/F32 -> 33.135085
D33: รวม 4 ประเด็นการพัฒนา | E33: =SUM(E29:E32) -> 162 | F33: =SUM(F29:F32) -> 642052000 | G33: =SUM(G29:G32) -> 0 | H33: =SUM(H29:H32) -> 159 | I33: =SUM(I29:I32) -> 0 | J33: =SUM(J29:J32) -> 3 | K33: =SUM(K29:K32) -> 2.1274448e+08 | L33: =K33*100/F33 -> 33.135085
C34: งบอื่นๆ | D34: ประเด็นการพัฒนาที่ 1 | E34: =[1]สรุปแผน!D14 -> 0 | F34: =[1]สรุปแผน!E14 -> 0 | G34: ='[1]2.ชป.ชร'!BM184 -> 0 | H34: ='[1]2.ชป.ชร'!BN184 -> 0 | I34: ='[1]2.ชป.ชร'!BO184 -> 0 | J34: ='[1]2.ชป.ชร'!BP184 -> 0 | K34: ='[1]2.ชป.ชร'!BR183 -> 0
D35: ประเด็นการพัฒนาที่ 2 | E35: =[1]สรุปแผน!F14 -> 0 | F35: =[1]สรุปแผน!G14 -> 0 | G35: ='[1]2.ชป.ชร'!BT184 -> 0 | H35: ='[1]2.ชป.ชร'!BU184 -> 0 | I35: ='[1]2.ชป.ชร'!BV184 -> 0 | J35: ='[1]2.ชป.ชร'!BW184 -> 0 | K35: ='[1]2.ชป.ชร'!BY183 -> 0
D36: ประเด็นการพัฒนาที่ 3 | E36: =[1]สรุปแผน!H14 -> 0 | F36: =[1]สรุปแผน!I14 -> 0 | G36: ='[1]2.ชป.ชร'!CA184 -> 0 | H36: ='[1]2.ชป.ชร'!CB184 -> 0 | I36: ='[1]2.ชป.ชร'!CC184 -> 0 | J36: ='[1]2.ชป.ชร'!CD184 -> 0 | K36: ='[1]2.ชป.ชร'!CF183 -> 0
D37: ประเด็นการพัฒนาที่ 4 | E37: =[1]สรุปแผน!J14 -> 0 | F37: =[1]สรุปแผน!K14 -> 0 | G37: ='[1]2.ชป.ชร'!CH184 -> 0 | H37: ='[1]2.ชป.ชร'!CI184 -> 0 | I37: ='[1]2.ชป.ชร'!CJ184 -> 0 | J37: ='[1]2.ชป.ชร'!CK184 -> 0 | K37: ='[1]2.ชป.ชร'!CM183 -> 0
D38: รวม 4 ประเด็นการพัฒนา | E38: =SUM(E34:E37) -> 0 | F38: =SUM(F34:F37) -> 0 | G38: =SUM(G34:G37) -> 0 | H38: =SUM(H34:H37) -> 0 | I38: =SUM(I34:I37) -> 0 | J38: =SUM(J34:J37) -> 0 | K38: =SUM(K34:K37) -> 0
A39: 3 | B39: ='[1]3.บำรุงรักษาน้ำแม่ลาว'!B2 -> โครงการส่งน้ำและบำรุงรักษาแม่ลาว | C39: งบจังหวัด | D39: ประเด็นการพัฒนาที่ 1 | E39: =[1]สรุปแผน!D30 -> 0 | F39: =[1]สรุปแผน!E30 -> 0 | G39: ='[1]3.บำรุงรักษาน้ำแม่ลาว'!J58 -> 0 | H39: ='[1]3.บำรุงรักษาน้ำแม่ลาว'!K58 -> 0 | I39: ='[1]3.บำรุงรักษาน้ำแม่ลาว'!L58 -> 0 | J39: ='[1]3.บำรุงรักษาน้ำแม่ลาว'!M58 -> 0 | K39: ='[1]3.บำรุงรักษาน้ำแม่ลาว'!O57 -> 0
D40: ประเด็นการพัฒนาที่ 2 | E40: =[1]สรุปแผน!F30 -> 0 | F40: =[1]สรุปแผน!G30 -> 0 | G40: ='[1]3.บำรุงรักษาน้ำแม่ลาว'!Q58 -> 0 | H40: ='[1]3.บำรุงรักษาน้ำแม่ลาว'!R58 -> 0 | I40: ='[1]3.บำรุงรักษาน้ำแม่ลาว'!S58 -> 0 | J40: ='[1]3.บำรุงรักษาน้ำแม่ลาว'!T58 -> 0 | K40: ='[1]3.บำรุงรักษาน้ำแม่ลาว'!V57 -> 0
...
