Workbook

Sheet สรุปผล
A1: แบบ ตผจ. 01
A2: แบบสรุปรายงานความก้าวหน้าผลการดำเนินงานโครงการตามแผนปฏิบัติการด้านการเกษตรและสหกรณ์ของจังหวัดเชียงราย ประจำปีงบประมาณ พ.ศ. 2568
A3: ประจำไตรมาสที่ 2 ณ วันที่ 31 เดือน มีนาคม พ.ศ. 2568
A4: กระทรวงเกษตรและสหกรณ์
A5: จำแนกตามประเด็นการพัฒนาภายใต้แผนปฏิบัติการด้านการเกษตรและสหกรณ์ พ.ศ. 2566 - 2570 | L5: หน่วย : บาท
A6: ลำดับ (1) | B6: ส่วนราชการหรือเทียบเท่า (2) | C6: จำแนกตามแหล่งงบประมาณ (3) | D6: ประเด็นการพัฒนากระทรวงเกษตรและสหกรณ์ (4) | E6: จำนวนที่ได้รับอนุมัติ (5) | G6: ผลความก้าวหน้าการดำเนินงาน (6)
E7: งาน/โครงการ | F7: งบประมาณ | G7: งาน/โครงการ (6.1) | K7: งบประมาณ (6.2)
E8: -5.1 | F8: -5.2 | G8: ยังไม่ | H8: กำลัง | I8: ยกเลิก | J8: เสร็จ | K8: เบิกจ่ายแล้ว | L8: ร้อยละ
A9: 1 | B9: =[1]สรุปแผน!B8 -> สำนักงานเกษตรและสหกรณ์จังหวัดเชียงราย | C9: งบจังหวัด | D9: ประเด็นการพัฒนาที่ 1 | E9: =[1]สรุปแผน!D8 -> 0 | F9: =[1]สรุปแผน!E8 -> 0 | G9: ='[1]1.กษ.ชร'!J44 -> 0 | H9: ='[1]1.กษ.ชร'!K44 -> 0 | I9: ='[1]1.กษ.ชร'!L44 -> 0 | J9: ='[1]1.กษ.ชร'!M44 -> 0 | K9: ='[1]1.กษ.ชร'!O43 -> 0
D10: ประเด็นการพัฒนาที่ 2 | E10: =[1]สรุปแผน!F8 -> 0 | F10: =[1]สรุปแผน!G8 -> 0 | G10: ='[1]1.กษ.ชร'!Q44 -> 0 | H10: ='[1]1.กษ.ชร'!R44 -> 0 | I10: ='[1]1.กษ.ชร'!S44 -> 0 | J10: ='[1]1.กษ.ชร'!T44 -> 0 | K10: ='[1]1.กษ.ชร'!V43 -> 0
D11: ประเด็นการพัฒนาที่ 3 | E11: =[1]สรุปแผน!H8 -> 0 | F11: =[1]สรุปแผน!I8 -> 0 | G11: ='[1]1.กษ.ชร'!X44 -> 0 | H11: ='[1]1.กษ.ชร'!Y44 -> 0 | I11: ='[1]1.กษ.ชร'!Z44 -> 0 | J11: ='[1]1.กษ.ชร'!AA44 -> 0 | K11: ='[1]1.กษ.ชร'!AC43 -> 0
D12: ประเด็นการพัฒนาที่ 4 | E12: =[1]สรุปแผน!J8 -> 0 | F12: =[1]สรุปแผน!K8 -> 0 | G12: ='[1]1.กษ.ชร'!AE44 -> 0 | H12: ='[1]1.กษ.ชร'!AF44 -> 0 | I12: ='[1]1.กษ.ชร'!AG44 -> 0 | J12: ='[1]1.กษ.ชร'!AH44 -> 0 | K12: ='[1]1.กษ.ชร'!AJ43 -> 0
D13: รวม 4 ประเด็นการพัฒนา | E13: =SUM(E9:E12) -> 0 | F13: =SUM(F9:F12) -> 0 | G13: =SUM(G9:G12) -> 0 | H13: =SUM(H9:H12) -> 0 | I13: =SUM(I9:I12) -> 0 | J13: =SUM(J9:J12) -> 0 | K13: =SUM(K9:K12) -> 0
C14: งบปกติ | D14: ประเด็นการพัฒนาที่ 1 | E14: =[1]สรุปแผน!D9 -> 0 | F14: =[1]สรุปแผน!E9 -> 0 | G14: ='[1]1.กษ.ชร'!AL44 -> 0 | H14: ='[1]1.กษ.ชร'!AM44 -> 0 | I14: ='[1]1.กษ.ชร'!AN44 -> 0 | J14: ='[1]1.กษ.ชร'!AO44 -> 0 | K14: ='[1]1.กษ.ชร'!AQ43 -> 0
D15: ประเด็นการพัฒนาที่ 2 | E15: =[1]สรุปแผน!F9 -> 5 | F15: =[1]สรุปแผน!G9 -> 451600 | G15: ='[1]1.กษ.ชร'!AS44 -> 0 | H15: ='[1]1.กษ.ชร'!AT44 -> 5 | I15: ='[1]1.กษ.ชร'!AU44 -> 0 | J15: ='[1]1.กษ.ชร'!AV44 -> 0 | K15: ='[1]1.กษ.ชร'!AX43 -> 152054.12 | L15: =K15*100/F15 -> 33.670089
D16: ประเด็นการพัฒนาที่ 3 | E16: =[1]สรุปแผน!H9 -> 0 | F16: =[1]สรุปแผน!I9 -> 0 | G16: ='[1]1.กษ.ชร'!AZ44 -> 0 | H16: ='[1]1.กษ.ชร'!BA44 -> 0 | I16: ='[1]1.กษ.ชร'!BB44 -> 0 | J16: ='[1]1.กษ.ชร'!BC44 -> 0 | K16: ='[1]1.กษ.ชร'!BE43 -> 0
D17: ประเด็นการพัฒนาที่ 4 | E17: =[1]สรุปแผน!J9 -> 0 | F17: =[1]สรุปแผน!K9 -> 0 | G17: ='[1]1.กษ.ชร'!BG44 -> 0 | H17: ='[1]1.กษ.ชร'!BH44 -> 0 | I17: ='[1]1.กษ.ชร'!BI44 -> 0 | J17: ='[1]1.กษ.ชร'!BJ44 -> 0 | K17: ='[1]1.กษ.ชร'!BL43 -> 0
D18: รวม 4 ประเด็นการพัฒนา | E18: =SUM(E14:E17) -> 5 | F18: =SUM(F14:F17) -> 451600 | G18: =SUM(G14:G17) -> 0 | H18: =SUM(H14:H17) -> 5 | I18: =SUM(I14:I17) -> 0 | J18: =SUM(J14:J17) -> 0 | K18: =SUM(K14:K17) -> 152054.12 | L18: =K18*100/F18 -> 33.670089
C19: งบอื่นๆ | D19: ประเด็นการพัฒนาที่ 1 | E19: =[1]สรุปแผน!D10 -> 0 | F19: =[1]สรุปแผน!E10 -> 0 | G19: ='[1]1.กษ.ชร'!BN44 -> 0 | H19: ='[1]1.กษ.ชร'!BO44 -> 0 | I19: ='[1]1.กษ.ชร'!BP44 -> 0 | J19: ='[1]1.กษ.ชร'!BQ44 -> 0 | K19: ='[1]1.กษ.ชร'!BS43 -> 0
D20: ประเด็นการพัฒนาที่ 2 | E20: =[1]สรุปแผน!F10 -> 2 | F20: =[1]สรุปแผน!G10 -> 621400 | G20: ='[1]1.กษ.ชร'!BU44 -> 0 | H20: ='[1]1.กษ.ชร'!BV44 -> 2 | I20: ='[1]1.กษ.ชร'!BW44 -> 0 | J20: ='[1]1.กษ.ชร'!BX44 -> 0 | K20: ='[1]1.กษ.ชร'!BZ43 -> 276630 | L20: =K20*100/F20 -> 44.517219
D21: ประเด็นการพัฒนาที่ 3 | E21: =[1]สรุปแผน!H10 -> 0 | F21: =[1]สรุปแผน!I10 -> 0 | G21: ='[1]1.กษ.ชร'!CB44 -> 0 | H21: ='[1]1.กษ.ชร'!CC44 -> 0 | I21: ='[1]1.กษ.ชร'!CD44 -> 0 | J21: ='[1]1.กษ.ชร'!CE44 -> 0 | K21: ='[1]1.กษ.ชร'!CG43 -> 0
D22: ประเด็นการพัฒนาที่ 4 | E22: =[1]สรุปแผน!J10 -> 0 | F22: =[1]สรุปแผน!K10 -> 0 | G22: ='[1]1.กษ.ชร'!CI44 -> 0 | H22: ='[1]1.กษ.ชร'!CJ44 -> 0 | I22: ='[1]1.กษ.ชร'!CK44 -> 0 | J22: ='[1]1.กษ.ชร'!CL44 -> 0 | K22: ='[1]1.กษ.ชร'!CN43 -> 0
D23: รวม 4 ประเด็นการพัฒนา | E23: =SUM(E19:E22) -> 2 | F23: =SUM(F19:F22) -> 621400 | G23: =SUM(G19:G22) -> 0 | H23: =SUM(H19:H22) -> 2 | I23: =SUM(I19:I22) -> 0 | J23: =SUM(J19:J22) -> 0 | K23: =SUM(K19:K22) -> 276630 | L23: =K23*100/F23 -> 44.517219
A24: 2 | B24: ='[1]2.ชป.ชร'!B2 -> โครงการชลประทานเชียงราย | C24: งบจังหวัด | D24: ประเด็นการพัฒนาที่ 1 | E24: =[1]สรุปแผน!D15 -> 0 | F24: =[1]สรุปแผน!E15 -> 0 | G24: ='[1]2.ชป.ชร'!I184 -> 0 | H24: ='[1]2.ชป.ชร'!J184 -> 0 | I24: ='[1]2.ชป.ชร'!K184 -> 0 | J24: ='[1]2.ชป.ชร'!L184 -> 0 | K24: ='[1]2.ชป.ชร'!N183 -> 0
D25: ประเด็นการพัฒนาที่ 2 | E25: =[1]สรุปแผน!F15 -> 0 | F25: =[1]สรุปแผน!G15 -> 0 | G25: ='[1]2.ชป.ชร'!P184 -> 0 | H25: ='[1]2.ชป.ชร'!Q184 -> 0 | I25: ='[1]2.ชป.ชร'!R184 -> 0 | J25: ='[1]2.ชป.ชร'!S184 -> 0 | K25: ='[1]2.ชป.ชร'!U183 -> 0
D26: ประเด็นการพัฒนาที่ 3 | E26: =[1]สรุปแผน!H15 -> 0 | F26: =[1]สรุปแผน!I15 -> 0 | G26: ='[1]2.ชป.ชร'!W184 -> 0 | H26: ='[1]2.ชป.ชร'!X184 -> 0 | I26: ='[1]2.ชป.ชร'!Y184 -> 0 | J26: ='[1]2.ชป.ชร'!Z184 -> 0 | K26: ='[1]2.ชป.ชร'!AB183 -> 0
D27: ประเด็นการพัฒนาที่ 4 | E27: =[1]สรุปแผน!J12 -> 0 | F27: =[1]สรุปแผน!K12 -> 0 | G27: ='[1]2.ชป.ชร'!AD184 -> 0 | H27: ='[1]2.ชป.ชร'!AE184 -> 0 | I27: ='[1]2.ชป.ชร'!AF184 -> 0 | J27: ='[1]2.ชป.ชร'!AG184 -> 0 | K27: ='[1]2.ชป.ชร'!AI183 -> 0
D28: รวม 4 ประเด็นการพัฒนา | E28: =SUM(E24:E27) -> 0 | F28: =SUM(F24:F27) -> 0 | G28: =SUM(G24:G27) -> 0 | H28: =SUM(H24:H27) -> 0 | I28: =SUM(I24:I27) -> 0 | J28: =SUM(J24:J27) -> 0 | K28: =SUM(K24:K27) -> 0
C29: งบปกติ | D29: ประเด็นการพัฒนาที่ 1 | E29: =[1]สรุปแผน!D13 -> 0 | F29: =[1]สรุปแผน!E13 -> 0 | G29: ='[1]2.ชป.ชร'!AK184 -> 0 | H29: ='[1]2.ชป.ชร'!AL184 -> 0 | I29: ='[1]2.ชป.ชร'!AM184 -> 0 | J29: ='[1]2.ชป.ชร'!AN184 -> 0 | K29: ='[1]2.ชป.ชร'!AP183 -> 0
D30: ประเด็นการพัฒนาที่ 2 | E30: =[1]สรุปแผน!F13 -> 0 | F30: =[1]สรุปแผน!G13 -> 0 | G30: ='[1]2.ชป.ชร'!AR184 -> 0 | H30: ='[1]2.ชป.ชร'!AS184 -> 0 | I30: ='[1]2.ชป.ชร'!AT184 -> 0 | J30: ='[1]2.ชป.ชร'!AU184 -> 0 | K30: ='[1]2.ชป.ชร'!AW183 -> 0
D31: ประเด็นการพัฒนาที่ 3 | E31: =[1]สรุปแผน!H13 -> 0 | F31: =[1]สรุปแผน!I13 -> 0 | G31: ='[1]2.ชป.ชร'!AY184 -> 0 | H31: ='[1]2.ชป.ชร'!AZ184 -> 0 | I31: ='[1]2.ชป.ชร'!BA184 -> 0 | J31: ='[1]2.ชป.ชร'!BB184 -> 0 | K31: ='[1]2.ชป.ชร'!BD183 -> 0
D32: ประเด็นการพัฒนาที่ 4 | E32: =[1]สรุปแผน!J13 -> 162 | F32: =[1]สรุปแผน!K13 -> 642052000 | G32: ='[1]2.ชป.ชร'!BF184 -> 0 | H32: ='[1]2.ชป.ชร'!BG184 -> 159 | I32: ='[1]2.ชป.ชร'!BH184 -> 0 | J32: ='[1]2.ชป.ชร'!BI184 -> 3 | K32: ='[1]2.ชป.ชร'!BK183 -> 2.1274448e+08 | L32: =K32*100/F32 -> 33.135085
D33: รวม 4 ประเด็นการพัฒนา | E33: =SUM(E29:E32) -> 162 | F33: =SUM(F29:F32) -> 642052000 | G33: =SUM(G29:G32) -> 0 | H33: =SUM(H29:H32) -> 159 | I33: =SUM(I29:I32) -> 0 | J33: =SUM(J29:J32) -> 3 | K33: =SUM(K29:K32) -> 2.1274448e+08 | L33: =K33*100/F33 -> 33.135085
C34: งบอื่นๆ | D34: ประเด็นการพัฒนาที่ 1 | E34: =[1]สรุปแผน!D14 -> 0 | F34: =[1]สรุปแผน!E14 -> 0 | G34: ='[1]2.ชป.ชร'!BM184 -> 0 | H34: ='[1]2.ชป.ชร'!BN184 -> 0 | I34: ='[1]2.ชป.ชร'!BO184 -> 0 | J34: ='[1]2.ชป.ชร'!BP184 -> 0 | K34: ='[1]2.ชป.ชร'!BR183 -> 0
D35: ประเด็นการพัฒนาที่ 2 | E35: =[1]สรุปแผน!F14 -> 0 | F35: =[1]สรุปแผน!G14 -> 0 | G35: ='[1]2.ชป.ชร'!BT184 -> 0 | H35: ='[1]2.ชป.ชร'!BU184 -> 0 | I35: ='[1]2.ชป.ชร'!BV184 -> 0 | J35: ='[1]2.ชป.ชร'!BW184 -> 0 | K35: ='[1]2.ชป.ชร'!BY183 -> 0
D36: ประเด็นการพัฒนาที่ 3 | E36: =[1]สรุปแผน!H14 -> 0 | F36: =[1]สรุปแผน!I14 -> 0 | G36: ='[1]2.ชป.ชร'!CA184 -> 0 | H36: ='[1]2.ชป.ชร'!CB184 -> 0 | I36: ='[1]2.ชป.ชร'!CC184 -> 0 | J36: ='[1]2.ชป.ชร'!CD184 -> 0 | K36: ='[1]2.ชป.ชร'!CF183 -> 0
D37: ประเด็นการพัฒนาที่ 4 | E37: =[1]สรุปแผน!J14 -> 0 | F37: =[1]สรุปแผน!K14 -> 0 | G37: ='[1]2.ชป.ชร'!CH184 -> 0 | H37: ='[1]2.ชป.ชร'!CI184 -> 0 | I37: ='[1]2.ชป.ชร'!CJ184 -> 0 | J37: ='[1]2.ชป.ชร'!CK184 -> 0 | K37: ='[1]2.ชป.ชร'!CM183 -> 0
D38: รวม 4 ประเด็นการพัฒนา | E38: =SUM(E34:E37) -> 0 | F38: =SUM(F34:F37) -> 0 | G38: =SUM(G34:G37) -> 0 | H38: =SUM(H34:H37) -> 0 | I38: =SUM(I34:I37) -> 0 | J38: =SUM(J34:J37) -> 0 | K38: =SUM(K34:K37) -> 0
A39: 3 | B39: ='[1]3.บำรุงรักษาน้ำแม่ลาว'!B2 -> โครงการส่งน้ำและบำรุงรักษาแม่ลาว | C39: งบจังหวัด | D39: ประเด็นการพัฒนาที่ 1 | E39: =[1]สรุปแผน!D30 -> 0 | F39: =[1]สรุปแผน!E30 -> 0 | G39: ='[1]3.บำรุงรักษาน้ำแม่ลาว'!J58 -> 0 | H39: ='[1]3.บำรุงรักษาน้ำแม่ลาว'!K58 -> 0 | I39: ='[1]3.บำรุงรักษาน้ำแม่ลาว'!L58 -> 0 | J39: ='[1]3.บำรุงรักษาน้ำแม่ลาว'!M58 -> 0 | K39: ='[1]3.บำรุงรักษาน้ำแม่ลาว'!O57 -> 0
D40: ประเด็นการพัฒนาที่ 2 | E40: =[1]สรุปแผน!F30 -> 0 | F40: =[1]สรุปแผน!G30 -> 0 | G40: ='[1]3.บำรุงรักษาน้ำแม่ลาว'!Q58 -> 0 | H40: ='[1]3.บำรุงรักษาน้ำแม่ลาว'!R58 -> 0 | I40: ='[1]3.บำรุงรักษาน้ำแม่ลาว'!S58 -> 0 | J40: ='[1]3.บำรุงรักษาน้ำแม่ลาว'!T58 -> 0 | K40: ='[1]3.บำรุงรักษาน้ำแม่ลาว'!V57 -> 0
D41: ประเด็นการพัฒนาที่ 3 | E41: =[1]สรุปแผน!H30 -> 0 | F41: =[1]สรุปแผน!I30 -> 0 | G41: ='[1]3.บำรุงรักษาน้ำแม่ลาว'!X58 -> 0 | H41: ='[1]3.บำรุงรักษาน้ำแม่ลาว'!Y58 -> 0 | I41: ='[1]3.บำรุงรักษาน้ำแม่ลาว'!Z58 -> 0 | J41: ='[1]3.บำรุงรักษาน้ำแม่ลาว'!AA58 -> 0 | K41: ='[1]3.บำรุงรักษาน้ำแม่ลาว'!AC57 -> 0
D42: ประเด็นการพัฒนาที่ 4 | E42: =[1]สรุปแผน!J30 -> 0 | F42: =[1]สรุปแผน!K30 -> 0 | G42: ='[1]3.บำรุงรักษาน้ำแม่ลาว'!AE58 -> 0 | H42: ='[1]3.บำรุงรักษาน้ำแม่ลาว'!AF58 -> 0 | I42: ='[1]3.บำรุงรักษาน้ำแม่ลาว'!AG58 -> 0 | J42: ='[1]3.บำรุงรักษาน้ำแม่ลาว'!AH58 -> 0 | K42: ='[1]3.บำรุงรักษาน้ำแม่ลาว'!AJ57 -> 0
D43: รวม 4 ประเด็นการพัฒนา | E43: =SUM(E39:E42) -> 0 | F43: =SUM(F39:F42) -> 0 | G43: =SUM(G39:G42) -> 0 | H43: =SUM(H39:H42) -> 0 | I43: =SUM(I39:I42) -> 0 | J43: =SUM(J39:J42) -> 0 | K43: =SUM(K39:K42) -> 0
C44: งบปกติ | D44: ประเด็นการพัฒนาที่ 1 | E44: =[1]สรุปแผน!D28 -> 0 | F44: =[1]สรุปแผน!E28 -> 0 | G44: ='[1]3.บำรุงรักษาน้ำแม่ลาว'!AL58 -> 0 | H44: ='[1]3.บำรุงรักษาน้ำแม่ลาว'!AM58 -> 0 | I44: ='[1]3.บำรุงรักษาน้ำแม่ลาว'!AN58 -> 0 | J44: ='[1]3.บำรุงรักษาน้ำแม่ลาว'!AO58 -> 0 | K44: ='[1]3.บำรุงรักษาน้ำแม่ลาว'!AQ57 -> 0
D45: ประเด็นการพัฒนาที่ 2 | E45: =[1]สรุปแผน!F28 -> 0 | F45: =[1]สรุปแผน!G28 -> 0 | G45: ='[1]3.บำรุงรักษาน้ำแม่ลาว'!AS58 -> 0 | H45: ='[1]3.บำรุงรักษาน้ำแม่ลาว'!AT58 -> 0 | I45: ='[1]3.บำรุงรักษาน้ำแม่ลาว'!AU58 -> 0 | J45: ='[1]3.บำรุงรักษาน้ำแม่ลาว'!AV58 -> 0 | K45: ='[1]3.บำรุงรักษาน้ำแม่ลาว'!AX57 -> 0
D46: ประเด็นการพัฒนาที่ 3 | E46: =[1]สรุปแผน!H28 -> 0 | F46: =[1]สรุปแผน!I28 -> 0 | G46: ='[1]3.บำรุงรักษาน้ำแม่ลาว'!AZ58 -> 0 | H46: ='[1]3.บำรุงรักษาน้ำแม่ลาว'!BA58 -> 0 | I46: ='[1]3.บำรุงรักษาน้ำแม่ลาว'!BB58 -> 0 | J46: ='[1]3.บำรุงรักษาน้ำแม่ลาว'!BC58 -> 0 | K46: ='[1]3.บำรุงรักษาน้ำแม่ลาว'!BE57 -> 0
D47: ประเด็นการพัฒนาที่ 4 | E47: ='[1]3.บำรุงรักษาน้ำแม่ลาว'!BK59 -> 40 | F47: ='[1]3.บำรุงรักษาน้ำแม่ลาว'!BJ59 -> 112351321 | G47: ='[1]3.บำรุงรักษาน้ำแม่ลาว'!BG58 -> 0 | H47: ='[1]3.บำรุงรักษาน้ำแม่ลาว'!BH58 -> 24 | I47: ='[1]3.บำรุงรักษาน้ำแม่ลาว'!BI58 -> 0 | J47: ='[1]3.บำรุงรักษาน้ำแม่ลาว'!BJ58 -> 16 | K47: ='[1]3.บำรุงรักษาน้ำแม่ลาว'!BL57 -> 55621573 | L47: =K47*100/F47 -> 49.506826
D48: รวม 4 ประเด็นการพัฒนา | E48: =SUM(E44:E47) -> 40 | F48: =SUM(F44:F47) -> 112351321 | G48: =SUM(G44:G47) -> 0 | H48: =SUM(H44:H47) -> 24 | I48: =SUM(I44:I47) -> 0 | J48: =SUM(J44:J47) -> 16 | K48: =SUM(K44:K47) -> 55621573 | L48: =K48*100/F48 -> 49.506826
C49: งบอื่นๆ | D49: ประเด็นการพัฒนาที่ 1 | E49: ='[1]3.บำรุงรักษาน้ำแม่ลาว'!BR59 -> 0 | F49: ='[1]3.บำรุงรักษาน้ำแม่ลาว'!BQ59 -> 0 | G49: ='[1]3.บำรุงรักษาน้ำแม่ลาว'!BN58 -> 0 | H49: ='[1]3.บำรุงรักษาน้ำแม่ลาว'!BO58 -> 0 | I49: ='[1]3.บำรุงรักษาน้ำแม่ลาว'!BP58 -> 0 | J49: ='[1]3.บำรุงรักษาน้ำแม่ลาว'!BQ58 -> 0 | K49: ='[1]3.บำรุงรักษาน้ำแม่ลาว'!BS57 -> 0
D50: ประเด็นการพัฒนาที่ 2 | E50: ='[1]3.บำรุงรักษาน้ำแม่ลาว'!BY59 -> 0 | F50: ='[1]3.บำรุงรักษาน้ำแม่ลาว'!BX59 -> 0 | G50: ='[1]3.บำรุงรักษาน้ำแม่ลาว'!BU58 -> 0 | H50: ='[1]3.บำรุงรักษาน้ำแม่ลาว'!BV58 -> 0 | I50: ='[1]3.บำรุงรักษาน้ำแม่ลาว'!BW58 -> 0 | J50: ='[1]3.บำรุงรักษาน้ำแม่ลาว'!BX58 -> 0 | K50: ='[1]3.บำรุงรักษาน้ำแม่ลาว'!BZ57 -> 0
D51: ประเด็นการพัฒนาที่ 3 | E51: ='[1]3.บำรุงรักษาน้ำแม่ลาว'!CF59 -> 0 | F51: ='[1]3.บำรุงรักษาน้ำแม่ลาว'!CE59 -> 0 | G51: ='[1]3.บำรุงรักษาน้ำแม่ลาว'!CB58 -> 0 | H51: ='[1]3.บำรุงรักษาน้ำแม่ลาว'!CC58 -> 0 | I51: ='[1]3.บำรุงรักษาน้ำแม่ลาว'!CD58 -> 0 | J51: ='[1]3.บำรุงรักษาน้ำแม่ลาว'!CE58 -> 0 | K51: ='[1]3.บำรุงรักษาน้ำแม่ลาว'!CG57 -> 0
D52: ประเด็นการพัฒนาที่ 4 | E52: ='[1]3.บำรุงรักษาน้ำแม่ลาว'!CM59 -> 0 | F52: ='[1]3.บำรุงรักษาน้ำแม่ลาว'!CL59 -> 0 | G52: ='[1]3.บำรุงรักษาน้ำแม่ลาว'!CI58 -> 0 | H52: ='[1]3.บำรุงรักษาน้ำแม่ลาว'!CJ58 -> 0 | I52: ='[1]3.บำรุงรักษาน้ำแม่ลาว'!CK58 -> 0 | J52: ='[1]3.บำรุงรักษาน้ำแม่ลาว'!CL58 -> 0 | K52: ='[1]3.บำรุงรักษาน้ำแม่ลาว'!CN57 -> 0
D53: รวม 4 ประเด็นการพัฒนา | E53: =SUM(E49:E52) -> 0 | F53: =SUM(F49:F52) -> 0 | G53: =SUM(G49:G52) -> 0 | H53: =SUM(H49:H52) -> 0 | I53: =SUM(I49:I52) -> 0 | J53: =SUM(J49:J52) -> 0 | K53: =SUM(K49:K52) -> 0
A54: 4 | B54: ='[1]4.ก่อสร้าง 2'!B2 -> โครงการก่อสร้าง สำนักชลประทานที่ 2 | C54: งบจังหวัด | D54: ประเด็นการพัฒนาที่ 1 | E54: =[1]สรุปแผน!D20 -> 0 | F54: =[1]สรุปแผน!E20 -> 0 | G54: ='[1]4.ก่อสร้าง 2'!J140 -> 0 | H54: ='[1]4.ก่อสร้าง 2'!K140 -> 0 | I54: ='[1]4.ก่อสร้าง 2'!L140 -> 0 | J54: ='[1]4.ก่อสร้าง 2'!M140 -> 0 | K54: ='[1]4.ก่อสร้าง 2'!O139 -> 0
D55: ประเด็นการพัฒนาที่ 2 | E55: =[1]สรุปแผน!F20 -> 0 | F55: =[1]สรุปแผน!G20 -> 0 | G55: ='[1]4.ก่อสร้าง 2'!Q140 -> 0 | H55: ='[1]4.ก่อสร้าง 2'!R140 -> 0 | I55: ='[1]4.ก่อสร้าง 2'!S140 -> 0 | J55: ='[1]4.ก่อสร้าง 2'!T140 -> 0 | K55: ='[1]4.ก่อสร้าง 2'!V139 -> 0
D56: ประเด็นการพัฒนาที่ 3 | E56: =[1]สรุปแผน!H20 -> 0 | F56: =[1]สรุปแผน!I20 -> 0 | G56: ='[1]4.ก่อสร้าง 2'!X140 -> 0 | H56: ='[1]4.ก่อสร้าง 2'!Y140 -> 0 | I56: ='[1]4.ก่อสร้าง 2'!Z140 -> 0 | J56: ='[1]4.ก่อสร้าง 2'!AA140 -> 0 | K56: ='[1]4.ก่อสร้าง 2'!AC139 -> 0
D57: ประเด็นการพัฒนาที่ 4 | E57: =[1]สรุปแผน!J20 -> 0 | F57: =[1]สรุปแผน!K20 -> 0 | G57: ='[1]4.ก่อสร้าง 2'!AE140 -> 0 | H57: ='[1]4.ก่อสร้าง 2'!AF140 -> 0 | I57: ='[1]4.ก่อสร้าง 2'!AG140 -> 0 | J57: ='[1]4.ก่อสร้าง 2'!AH140 -> 0 | K57: ='[1]4.ก่อสร้าง 2'!AJ139 -> 0
D58: รวม 4 ประเด็นการพัฒนา | E58: =SUM(E54:E57) -> 0 | F58: =SUM(F54:F57) -> 0 | G58: =SUM(G54:G57) -> 0 | H58: =SUM(H54:H57) -> 0 | I58: =SUM(I54:I57) -> 0 | J58: =SUM(J54:J57) -> 0 | K58: =SUM(K54:K57) -> 0
C59: งบปกติ | D59: ประเด็นการพัฒนาที่ 1 | E59: =[1]สรุปแผน!D21 -> 0 | F59: =[1]สรุปแผน!E21 -> 0 | G59: ='[1]4.ก่อสร้าง 2'!AL140 -> 0 | H59: ='[1]4.ก่อสร้าง 2'!AM140 -> 0 | I59: ='[1]4.ก่อสร้าง 2'!AN140 -> 0 | J59: ='[1]4.ก่อสร้าง 2'!AO140 -> 0 | K59: ='[1]4.ก่อสร้าง 2'!AQ139 -> 0
D60: ประเด็นการพัฒนาที่ 2 | E60: =[1]สรุปแผน!F21 -> 0 | F60: =[1]สรุปแผน!G21 -> 0 | G60: ='[1]4.ก่อสร้าง 2'!AS140 -> 0 | H60: ='[1]4.ก่อสร้าง 2'!AT140 -> 0 | I60: ='[1]4.ก่อสร้าง 2'!AU140 -> 0 | J60: ='[1]4.ก่อสร้าง 2'!AV140 -> 0 | K60: ='[1]4.ก่อสร้าง 2'!AX139 -> 0
D61: ประเด็นการพัฒนาที่ 3 | E61: =[1]สรุปแผน!H21 -> 0 | F61: =[1]สรุปแผน!I21 -> 0 | G61: ='[1]4.ก่อสร้าง 2'!AZ140 -> 0 | H61: ='[1]4.ก่อสร้าง 2'!BA140 -> 0 | I61: ='[1]4.ก่อสร้าง 2'!BB140 -> 0 | J61: ='[1]4.ก่อสร้าง 2'!BC140 -> 0 | K61: ='[1]4.ก่อสร้าง 2'!BE139 -> 0
D62: ประเด็นการพัฒนาที่ 4 | E62: =[1]สรุปแผน!J21 -> 0 | F62: =[1]สรุปแผน!K21 -> 0 | G62: ='[1]4.ก่อสร้าง 2'!BG140 -> 0 | H62: ='[1]4.ก่อสร้าง 2'!BH140 -> 0 | I62: ='[1]4.ก่อสร้าง 2'!BI140 -> 0 | J62: ='[1]4.ก่อสร้าง 2'!BJ140 -> 0 | K62: ='[1]4.ก่อสร้าง 2'!BL139 -> 0
D63: รวม 4 ประเด็นการพัฒนา | E63: =SUM(E59:E62) -> 0 | F63: =SUM(F59:F62) -> 0 | G63: =SUM(G59:G62) -> 0 | H63: =SUM(H59:H62) -> 0 | I63: =SUM(I59:I62) -> 0 | J63: =SUM(J59:J62) -> 0 | K63: =SUM(K59:K62) -> 0
C64: งบอื่นๆ | D64: ประเด็นการพัฒนาที่ 1 | E64: =[1]สรุปแผน!D22 -> 0 | F64: =[1]สรุปแผน!E22 -> 0 | G64: ='[1]4.ก่อสร้าง 2'!BN140 -> 0 | H64: ='[1]4.ก่อสร้าง 2'!BO140 -> 0 | I64: ='[1]4.ก่อสร้าง 2'!BP140 -> 0 | J64: ='[1]4.ก่อสร้าง 2'!BQ140 -> 0 | K64: ='[1]4.ก่อสร้าง 2'!BS139 -> 0
D65: ประเด็นการพัฒนาที่ 2 | E65: =[1]สรุปแผน!F22 -> 0 | F65: =[1]สรุปแผน!G22 -> 0 | G65: ='[1]4.ก่อสร้าง 2'!BU140 -> 0 | H65: ='[1]4.ก่อสร้าง 2'!BV140 -> 0 | I65: ='[1]4.ก่อสร้าง 2'!BW140 -> 0 | J65: ='[1]4.ก่อสร้าง 2'!BX140 -> 0 | K65: ='[1]4.ก่อสร้าง 2'!BZ139 -> 0
D66: ประเด็นการพัฒนาที่ 3 | E66: =[1]สรุปแผน!H22 -> 0 | F66: =[1]สรุปแผน!I22 -> 0 | G66: ='[1]4.ก่อสร้าง 2'!CB140 -> 0 | H66: ='[1]4.ก่อสร้าง 2'!CC140 -> 0 | I66: ='[1]4.ก่อสร้าง 2'!CD140 -> 0 | J66: ='[1]4.ก่อสร้าง 2'!CE140 -> 0 | K66: ='[1]4.ก่อสร้าง 2'!CG139 -> 0
D67: ประเด็นการพัฒนาที่ 4 | E67: =[1]สรุปแผน!J22 -> 0 | F67: =[1]สรุปแผน!K22 -> 0 | G67: ='[1]4.ก่อสร้าง 2'!CI140 -> 0 | H67: ='[1]4.ก่อสร้าง 2'!CJ140 -> 0 | I67: ='[1]4.ก่อสร้าง 2'!CK140 -> 0 | J67: ='[1]4.ก่อสร้าง 2'!CL140 -> 0 | K67: ='[1]4.ก่อสร้าง 2'!CN139 -> 0
D68: รวม 4 ประเด็นการพัฒนา | E68: =SUM(E64:E67) -> 0 | F68: =SUM(F64:F67) -> 0 | G68: =SUM(G64:G67) -> 0 | H68: =SUM(H64:H67) -> 0 | I68: =SUM(I64:I67) -> 0 | J68: =SUM(J64:J67) -> 0 | K68: =SUM(K64:K67) -> 0
A69: 5 | B69: ='[1]5.ตรวจบัญชี'!B2 -> สำนักงานตรวจบัญชีสหกรณ์เชียงราย | C69: งบจังหวัด | D69: ประเด็นการพัฒนาที่ 1 | E69: =[1]สรุปแผน!D24 -> 0 | F69: =[1]สรุปแผน!E24 -> 0 | G69: ='[1]5.ตรวจบัญชี'!J463 -> 0 | H69: ='[1]5.ตรวจบัญชี'!K463 -> 0 | I69: ='[1]5.ตรวจบัญชี'!L463 -> 0 | J69: ='[1]5.ตรวจบัญชี'!M463 -> 0 | K69: ='[1]5.ตรวจบัญชี'!O462 -> 0
D70: ประเด็นการพัฒนาที่ 2 | E70: =[1]สรุปแผน!F24 -> 0 | F70: =[1]สรุปแผน!G24 -> 0 | G70: ='[1]5.ตรวจบัญชี'!Q463 -> 0 | H70: ='[1]5.ตรวจบัญชี'!R463 -> 0 | I70: ='[1]5.ตรวจบัญชี'!S463 -> 0 | J70: ='[1]5.ตรวจบัญชี'!T463 -> 0 | K70: ='[1]5.ตรวจบัญชี'!V462 -> 0
D71: ประเด็นการพัฒนาที่ 3 | E71: =[1]สรุปแผน!H24 -> 0 | F71: =[1]สรุปแผน!I24 -> 0 | G71: ='[1]5.ตรวจบัญชี'!X463 -> 0 | H71: ='[1]5.ตรวจบัญชี'!Y463 -> 0 | I71: ='[1]5.ตรวจบัญชี'!Z463 -> 0 | J71: ='[1]5.ตรวจบัญชี'!AA463 -> 0 | K71: ='[1]5.ตรวจบัญชี'!AC462 -> 0
D72: ประเด็นการพัฒนาที่ 4 | E72: =[1]สรุปแผน!J24 -> 0 | F72: =[1]สรุปแผน!K24 -> 0 | G72: ='[1]5.ตรวจบัญชี'!AE463 -> 0 | H72: ='[1]5.ตรวจบัญชี'!AF463 -> 0 | I72: ='[1]5.ตรวจบัญชี'!AG463 -> 0 | J72: ='[1]5.ตรวจบัญชี'!AH463 -> 0 | K72: ='[1]5.ตรวจบัญชี'!AJ462 -> 0
D73: รวม 4 ประเด็นการพัฒนา | E73: =SUM(E69:E72) -> 0 | F73: =SUM(F69:F72) -> 0 | G73: =SUM(G69:G72) -> 0 | H73: =SUM(H69:H72) -> 0 | I73: =SUM(I69:I72) -> 0 | J73: =SUM(J69:J72) -> 0 | K73: =SUM(K69:K72) -> 0
C74: งบปกติ | D74: ประเด็นการพัฒนาที่ 1 | E74: =[1]สรุปแผน!D25 -> 20 | F74: =[1]สรุปแผน!E25 -> 3788490 | G74: ='[1]5.ตรวจบัญชี'!AL463 -> 0 | H74: ='[1]5.ตรวจบัญชี'!AM463 -> 18 | I74: ='[1]5.ตรวจบัญชี'!AN463 -> 0 | J74: ='[1]5.ตรวจบัญชี'!AO463 -> 2 | K74: ='[1]5.ตรวจบัญชี'!AQ462 -> 1788826.1 | L74: =K74*100/F74 -> 47.217391
D75: ประเด็นการพัฒนาที่ 2 | E75: =[1]สรุปแผน!F25 -> 0 | F75: =[1]สรุปแผน!G25 -> 0 | G75: ='[1]5.ตรวจบัญชี'!AS463 -> 0 | H75: ='[1]5.ตรวจบัญชี'!AT463 -> 0 | I75: ='[1]5.ตรวจบัญชี'!AU463 -> 0 | J75: ='[1]5.ตรวจบัญชี'!AV463 -> 0 | K75: ='[1]5.ตรวจบัญชี'!AX462 -> 0
D76: ประเด็นการพัฒนาที่ 3 | E76: =[1]สรุปแผน!H25 -> 0 | F76: =[1]สรุปแผน!I25 -> 0 | G76: ='[1]5.ตรวจบัญชี'!AZ463 -> 0 | H76: ='[1]5.ตรวจบัญชี'!BA463 -> 0 | I76: ='[1]5.ตรวจบัญชี'!BB463 -> 0 | J76: ='[1]5.ตรวจบัญชี'!BC463 -> 0 | K76: ='[1]5.ตรวจบัญชี'!BE462 -> 0
D77: ประเด็นการพัฒนาที่ 4 | E77: =[1]สรุปแผน!J25 -> 0 | F77: =[1]สรุปแผน!K25 -> 0 | G77: ='[1]5.ตรวจบัญชี'!BG463 -> 0 | H77: ='[1]5.ตรวจบัญชี'!BH463 -> 0 | I77: ='[1]5.ตรวจบัญชี'!BI463 -> 0 | J77: ='[1]5.ตรวจบัญชี'!BJ463 -> 0 | K77: ='[1]5.ตรวจบัญชี'!BL462 -> 0
D78: รวม 4 ประเด็นการพัฒนา | E78: =SUM(E74:E77) -> 20 | F78: =SUM(F74:F77) -> 3788490 | G78: =SUM(G74:G77) -> 0 | H78: =SUM(H74:H77) -> 18 | I78: =SUM(I74:I77) -> 0 | J78: =SUM(J74:J77) -> 2 | K78: =SUM(K74:K77) -> 1788826.1 | L78: =K78*100/F78 -> 47.217391
C79: งบอื่นๆ | D79: ประเด็นการพัฒนาที่ 1 | E79: =[1]สรุปแผน!D26 -> 0 | F79: =[1]สรุปแผน!E26 -> 0 | G79: ='[1]5.ตรวจบัญชี'!BN463 -> 0 | H79: ='[1]5.ตรวจบัญชี'!BO463 -> 0 | I79: ='[1]5.ตรวจบัญชี'!BP463 -> 0 | J79: ='[1]5.ตรวจบัญชี'!BQ463 -> 0 | K79: ='[1]5.ตรวจบัญชี'!BS462 -> 0
D80: ประเด็นการพัฒนาที่ 2 | E80: =[1]สรุปแผน!F26 -> 0 | F80: =[1]สรุปแผน!G26 -> 0 | G80: ='[1]5.ตรวจบัญชี'!BU463 -> 0 | H80: ='[1]5.ตรวจบัญชี'!BV463 -> 0 | I80: ='[1]5.ตรวจบัญชี'!BW463 -> 0 | J80: ='[1]5.ตรวจบัญชี'!BX463 -> 0 | K80: ='[1]5.ตรวจบัญชี'!BZ462 -> 0
D81: ประเด็นการพัฒนาที่ 3 | E81: =[1]สรุปแผน!H26 -> 0 | F81: =[1]สรุปแผน!I26 -> 0 | G81: ='[1]5.ตรวจบัญชี'!CB463 -> 0 | H81: ='[1]5.ตรวจบัญชี'!CC463 -> 0 | I81: ='[1]5.ตรวจบัญชี'!CD463 -> 0 | J81: ='[1]5.ตรวจบัญชี'!CE463 -> 0 | K81: ='[1]5.ตรวจบัญชี'!CG462 -> 0
D82: ประเด็นการพัฒนาที่ 4 | E82: =[1]สรุปแผน!J26 -> 0 | F82: =[1]สรุปแผน!K26 -> 0 | G82: ='[1]5.ตรวจบัญชี'!CI463 -> 0 | H82: ='[1]5.ตรวจบัญชี'!CJ463 -> 0 | I82: ='[1]5.ตรวจบัญชี'!CK463 -> 0 | J82: ='[1]5.ตรวจบัญชี'!CL463 -> 0 | K82: ='[1]5.ตรวจบัญชี'!CN462 -> 0
D83: รวม 4 ประเด็นการพัฒนา | E83: =SUM(E79:E82) -> 0 | F83: =SUM(F79:F82) -> 0 | G83: =SUM(G79:G82) -> 0 | H83: =SUM(H79:H82) -> 0 | I83: =SUM(I79:I82) -> 0 | J83: =SUM(J79:J82) -> 0 | K83: =SUM(K79:K82) -> 0
A84: 6 | B84: ='[1]6.ปม.ชร'!B2 -> สำนักงานประมงจังหวัดเชียงราย | C84: งบจังหวัด | D84: ประเด็นการพัฒนาที่ 1 | E84: =[1]สรุปแผน!D28 -> 0 | F84: =[1]สรุปแผน!E28 -> 0 | G84: ='[1]6.ปม.ชร'!J193 -> 0 | H84: ='[1]6.ปม.ชร'!K193 -> 0 | I84: ='[1]6.ปม.ชร'!L193 -> 0 | J84: ='[1]6.ปม.ชร'!M193 -> 0 | K84: ='[1]6.ปม.ชร'!O192 -> 0
D85: ประเด็นการพัฒนาที่ 2 | E85: =[1]สรุปแผน!F28 -> 0 | F85: =[1]สรุปแผน!G28 -> 0 | G85: ='[1]6.ปม.ชร'!Q193 -> 0 | H85: ='[1]6.ปม.ชร'!R193 -> 0 | I85: ='[1]6.ปม.ชร'!S193 -> 0 | J85: ='[1]6.ปม.ชร'!T193 -> 0 | K85: ='[1]6.ปม.ชร'!V192 -> 0
D86: ประเด็นการพัฒนาที่ 3 | E86: =[1]สรุปแผน!H28 -> 0 | F86: =[1]สรุปแผน!I28 -> 0 | G86: ='[1]6.ปม.ชร'!X193 -> 0 | H86: ='[1]6.ปม.ชร'!Y193 -> 0 | I86: ='[1]6.ปม.ชร'!Z193 -> 0 | J86: ='[1]6.ปม.ชร'!AA193 -> 0 | K86: ='[1]6.ปม.ชร'!AC192 -> 0
D87: ประเด็นการพัฒนาที่ 4 | E87: =[1]สรุปแผน!J28 -> 0 | F87: =[1]สรุปแผน!K28 -> 0 | G87: ='[1]6.ปม.ชร'!AE193 -> 0 | H87: ='[1]6.ปม.ชร'!AF193 -> 0 | I87: ='[1]6.ปม.ชร'!AG193 -> 0 | J87: ='[1]6.ปม.ชร'!AH193 -> 0 | K87: ='[1]6.ปม.ชร'!AJ192 -> 0
D88: รวม 4 ประเด็นการพัฒนา | E88: =SUM(E84:E87) -> 0 | F88: =SUM(F84:F87) -> 0 | G88: =SUM(G84:G87) -> 0 | H88: =SUM(H84:H87) -> 0 | I88: =SUM(I84:I87) -> 0 | J88: =SUM(J84:J87) -> 0 | K88: =SUM(K84:K87) -> 0
C89: งบปกติ | D89: ประเด็นการพัฒนาที่ 1 | E89: =[1]สรุปแผน!D29 -> 1 | F89: =[1]สรุปแผน!E29 -> 311700 | G89: ='[1]6.ปม.ชร'!AL193 -> 0 | H89: ='[1]6.ปม.ชร'!AM193 -> 1 | I89: ='[1]6.ปม.ชร'!AN193 -> 0 | J89: ='[1]6.ปม.ชร'!AO193 -> 0 | K89: ='[1]6.ปม.ชร'!AQ192 -> 286028 | L89: =K89*100/F89 -> 91.763876
D90: ประเด็นการพัฒนาที่ 2 | E90: =[1]สรุปแผน!F29 -> 5 | F90: =[1]สรุปแผน!G29 -> 984400 | G90: ='[1]6.ปม.ชร'!AS193 -> 0 | H90: ='[1]6.ปม.ชร'!AT193 -> 5 | I90: ='[1]6.ปม.ชร'!AU193 -> 0 | J90: ='[1]6.ปม.ชร'!AV193 -> 0 | K90: ='[1]6.ปม.ชร'!AX192 -> 550070 | L90: =K90*100/F90 -> 55.878708
D91: ประเด็นการพัฒนาที่ 3 | E91: =[1]สรุปแผน!H29 -> 1 | F91: =[1]สรุปแผน!I29 -> 176500 | G91: ='[1]6.ปม.ชร'!AZ193 -> 0 | H91: ='[1]6.ปม.ชร'!BA193 -> 1 | I91: ='[1]6.ปม.ชร'!BB193 -> 0 | J91: ='[1]6.ปม.ชร'!BC193 -> 0 | K91: ='[1]6.ปม.ชร'!BE192 -> 154308 | L91: =K91*100/F91 -> 87.426629
D92: ประเด็นการพัฒนาที่ 4 | E92: =[1]สรุปแผน!J29 -> 0 | F92: =[1]สรุปแผน!K29 -> 0 | G92: ='[1]6.ปม.ชร'!BG193 -> 0 | H92: ='[1]6.ปม.ชร'!BH193 -> 0 | I92: ='[1]6.ปม.ชร'!BI193 -> 0 | J92: ='[1]6.ปม.ชร'!BJ193 -> 0 | K92: ='[1]6.ปม.ชร'!BL192 -> 0
D93: รวม 4 ประเด็นการพัฒนา | E93: =SUM(E89:E92) -> 7 | F93: =SUM(F89:F92) -> 1472600 | G93: =SUM(G89:G92) -> 0 | H93: =SUM(H89:H92) -> 7 | I93: =SUM(I89:I92) -> 0 | J93: =SUM(J89:J92) -> 0 | K93: =SUM(K89:K92) -> 990406 | L93: =K93*100/F93 -> 67.255602
C94: งบอื่นๆ | D94: ประเด็นการพัฒนาที่ 1 | E94: =[1]สรุปแผน!D30 -> 0 | F94: =[1]สรุปแผน!E30 -> 0 | G94: ='[1]6.ปม.ชร'!BN193 -> 0 | H94: ='[1]6.ปม.ชร'!BO193 -> 0 | I94: ='[1]6.ปม.ชร'!BP193 -> 0 | J94: ='[1]6.ปม.ชร'!BQ193 -> 0 | K94: ='[1]6.ปม.ชร'!BS192 -> 0
D95: ประเด็นการพัฒนาที่ 2 | E95: =[1]สรุปแผน!F30 -> 0 | F95: =[1]สรุปแผน!G30 -> 0 | G95: ='[1]6.ปม.ชร'!BU193 -> 0 | H95: ='[1]6.ปม.ชร'!BV193 -> 0 | I95: ='[1]6.ปม.ชร'!BW193 -> 0 | J95: ='[1]6.ปม.ชร'!BX193 -> 0 | K95: ='[1]6.ปม.ชร'!BZ192 -> 0
D96: ประเด็นการพัฒนาที่ 3 | E96: =[1]สรุปแผน!H30 -> 0 | F96: =[1]สรุปแผน!I30 -> 0 | G96: ='[1]6.ปม.ชร'!CB193 -> 0 | H96: ='[1]6.ปม.ชร'!CC193 -> 0 | I96: ='[1]6.ปม.ชร'!CD193 -> 0 | J96: ='[1]6.ปม.ชร'!CE193 -> 0 | K96: ='[1]6.ปม.ชร'!CG192 -> 0
D97: ประเด็นการพัฒนาที่ 4 | E97: =[1]สรุปแผน!J30 -> 0 | F97: =[1]สรุปแผน!K30 -> 0 | G97: ='[1]6.ปม.ชร'!CI193 -> 0 | H97: ='[1]6.ปม.ชร'!CJ193 -> 0 | I97: ='[1]6.ปม.ชร'!CK193 -> 0 | J97: ='[1]6.ปม.ชร'!CL193 -> 0 | K97: ='[1]6.ปม.ชร'!CN192 -> 0
D98: รวม 4 ประเด็นการพัฒนา | E98: =SUM(E94:E97) -> 0 | F98: =SUM(F94:F97) -> 0 | G98: =SUM(G94:G97) -> 0 | H98: =SUM(H94:H97) -> 0 | I98: =SUM(I94:I97) -> 0 | J98: =SUM(J94:J97) -> 0 | K98: =SUM(K94:K97) -> 0
A99: 7 | B99: ='[1]7.สัตว์น้ำจืด.ชร'!B2 -> ศูนย์วิจัยและพัฒนาการเพาะเลี้ยงสัตว์น้ำจืดเชียงราย | C99: งบจังหวัด | D99: ประเด็นการพัฒนาที่ 1 | E99: =[1]สรุปแผน!D32 -> 0 | F99: =[1]สรุปแผน!E32 -> 0 | G99: ='[1]7.สัตว์น้ำจืด.ชร'!J80 -> 0 | H99: ='[1]7.สัตว์น้ำจืด.ชร'!K80 -> 0 | I99: ='[1]7.สัตว์น้ำจืด.ชร'!L80 -> 0 | J99: ='[1]7.สัตว์น้ำจืด.ชร'!M80 -> 0 | K99: ='[1]7.สัตว์น้ำจืด.ชร'!O79 -> 0
D100: ประเด็นการพัฒนาที่ 2 | E100: =[1]สรุปแผน!F32 -> 0 | F100: =[1]สรุปแผน!G32 -> 0 | G100: ='[1]7.สัตว์น้ำจืด.ชร'!Q80 -> 0 | H100: ='[1]7.สัตว์น้ำจืด.ชร'!R80 -> 0 | I100: ='[1]7.สัตว์น้ำจืด.ชร'!S80 -> 0 | J100: ='[1]7.สัตว์น้ำจืด.ชร'!T80 -> 0 | K100: ='[1]7.สัตว์น้ำจืด.ชร'!V79 -> 0
...
