Workbook

Sheet ปริมาณน้ำ
A1: โครงการชลประทานนครนายก
A2: ระดับน้ำประจำวันที่…22...เดือนกุมภาพันธ์.....พ.ศ. 2564
A4: สถานที่ | B4: ระดับน้ำด้านเหนือ | D4: ระดับน้ำด้านท้าย | E4: ปริมาณน้ำฝน | F4: รวมปริมาณน้ำฝน | G4: เปิด | H4: เปิด | I4: ปริมาณน้ำที่ | J4: ปริมาณน้ำที่ | K4: ปริมาณน้ำที่ | L4: ปริมาณน้ำที่ | M4: ปริมาณน้ำ | O4: ความจุ | P4: หมายเหตุ
B5: ม.(รทก.) | D5: (รทก.) | E5: วันที่ 21 ก.พ. 64 | F5: ตั้งแต่ 1 ม.ค. 64 | G5: /ปิด | H5: /ปิด | I5: ไหลลงอ่าง | J5: ส่งระบบ | K5: ระบาย | L5: ล้น spillway | M5: ในอ่าง | N5: เปอร์เซ็นต์
B6: 06.00 น. | D6: 06.00 น. | E6: (มม.) | F6: ถึงวันที่ 21 ก.พ. 64 | G6: (บาน) | H6: (บาน) | I6: (ล้าน ลบ.ม.) | J6: (ล้าน ลบ.ม.) | K6: (ล้าน ลบ.ม.) | L6: (ล้าน ลบ.ม.) | M6: (ล้าน ลบ.ม.) | N6: %
F7: (มม.) | G7: ระบบ | H7: ระบาย | O7: (ล้าน ลบ.ม.)
A8: อ่างฯทรายทอง (+85.000) | B8: + | C8: 82.31 | D8: - | E8: - | F8: 8.3 | G8: ปิด | H8: ปิด | I8: 0 | J8: 0 | K8: - | L8: - | M8: 1.311 | N8: =M8*100/O8 -> 65.55 | O8: 2 | Q8: 100
A9: อ่างฯคลองโบด (+36.27) | B9: + | C9: 28.73 | D9: - | E9: - | F9: 10 | G9: เปิด | H9: ปิด | I9: 0 | J9: 0.005 | K9: - | L9: - | M9: 1.319 | N9: =M9*100/O9 -> 31.035294 | O9: 4.25
A10: อ่างฯห้วยปรือ (+45.40) | B10: + | C10: 37.93 | D10: - | E10: - | F10: 14.1 | G10: ปิด | H10: ปิด | I10: 0 | J10: 0.011 | K10: - | L10: - | M10: 2.348 | N10: =M10*100/O10 -> 26.471251 | O10: 8.87 | Q10: 100
A11: อ่างฯคลองสีเสียด (+54.500) | B11: + | C11: 53.67 | D11: - | E11: - | F11: - | G11: ปิด | H11: ปิด | I11: 0 | J11: 0 | K11: - | L11: - | M11: 0.986 | N11: =M11*100/O11 -> 86.491228 | O11: 1.14 | Q11: 100
A12: อ่างฯคลองวังบอน (+57.20) | B12: + | C12: 48.91 | D12: - | E12: - | F12: 18.5 | G12: ปิด | H12: ปิด | I12: 0 | J12: 0 | K12: - | L12: - | M12: 3.864 | N12: =M12*100/O12 -> 50.842105 | O12: 7.6 | Q12: 100
A13: อ่างฯบ้านวังม่วง (+60.000) | B13: + | C13: 51.24 | D13: - | E13: - | F13: - | G13: ปิด | H13: ปิด | I13: 0 | J13: 0 | K13: - | L13: - | M13: 0.21 | N13: =M13*100/O13 -> 26.25 | O13: 0.8
A14: อ่างฯคลองกลาง (+68.000) | B14: + | C14: 60.08 | D14: - | E14: - | F14: 13.3 | G14: ปิด | H14: ปิด | I14: 0 | J14: 0.001 | K14: - | L14: - | M14: 2.207 | N14: =M14*100/O14 -> 71.193548 | O14: 3.1
A15: ปตร.บ้านนา (+7.500) | B15: + | C15: 2.93 | D15: - | E15: - | F15: - | G15: - | H15: - | I15: - | J15: - | K15: - | M15: - | N15: -
A16: ทรบ.อาษา (+7.500) | B16: + | C16: 2.93 | D16: - | E16: - | F16: - | G16: - | H16: - | I16: - | J16: - | K16: - | M16: - | N16: -
A17: ทรบ.คลองวัว (+7.500) | B17: + | C17: 2.93 | D17: - | E17: - | F17: - | G17: - | H17: - | I17: - | J17: - | K17: - | M17: - | N17: -
A18: ปตร.คลองยาง (+11.300) | B18: + | C18: 9.65 | D18: - | E18: - | F18: - | G18: - | H18: - | I18: - | J18: - | K18: - | M18: - | N18: -
B20: เรียน ผคป.นครนายก.
C21: เพื่อโปรดทราบ | K21: ทราบ
Q22: .
B23: ลงชื่อ | E23: ผู้รายงาน | K23: (นายวสันต์ พรหมดีสาร)
B24: (นายสุรเชษฐ์ น่วมนุ่ม ) | K24: ผคป.นครนายก | Q24: - | R24: .
A25: จน.คป.นครนายก | Q25: -

Sheet กษ.นย,ปภ.นย.  
A1: ตารางสรุปสภาพน้ำในอ่างเก็บกักน้ำ
A2: โครงการชลประทานนครนายก
A3: ประจำวันที่ 22 กุมภาพันธ์ 2564
A5: ที่ | B5: อ่างเก็บน้ำ | C5: ความจุ | D5: ปริมาณน้ำในอ่าง | K5: ปริมาณน้ำฝน
C6: ที่ | D6: ปี 2563 | E6: เปอร์เซ็นต์ | F6: วันนี้ | J6: ค่าเฉลี่ย | K6: ปริมาณน้ำ | L6: สะสมตั้งแต่
C7: ระดับกักเก็บ | E7: เก็บกัก | F7: ระดับน้ำ | H7: ปริมาณน้ำ | I7: เปอร์เซ็นต์ | J7: รวมทั้งปี | K7: ฝน (มม.) | L7: 23377
C8: (ล้าน ม3.) | D8: (ล้าน ม3.) | E8: ปี 2563 | F8: ม.(รทก.) | H8: (ล้าน ม3.) | I8: เก็บกัก | J8: (ล้าน ม3.) | K8: 21 ก.พ. 64 | L8: (ม.ม.)
A9: 1 | B9: เขื่อนขุนด่านปราการชล | C9: 224 | D9: 93.86 | E9: =D9*100/C9 -> 41.901786 | F9: + | G9: 82.06 | H9: 104.08 | I9: =H9*100/C9 -> 46.464286 | J9: 337 | K9: - | L9: 16.16 | M9: 100
A10: 2 | B10: อ่างเก็บน้ำทรายทอง | C10: 2 | D10: 1.309 | E10: =D10*100/C10 -> 65.45 | F10: + | G10: =ปริมาณน้ำ!C8 -> 82.31 | H10: =ปริมาณน้ำ!M8 -> 1.311 | I10: =ปริมาณน้ำ!N8 -> 65.55 | J10: 10.34 | K10: =ปริมาณน้ำ!E8 -> - | L10: =ปริมาณน้ำ!F8 -> 8.3
A11: 3 | B11: อ่างเก็บน้ำคลองโบด | C11: 4.25 | D11: 1.394 | E11: =D11*100/C11 -> 32.8 | F11: + | G11: =ปริมาณน้ำ!C9 -> 28.73 | H11: =ปริมาณน้ำ!M9 -> 1.319 | I11: =ปริมาณน้ำ!N9 -> 31.035294 | J11: 1.3 | K11: =ปริมาณน้ำ!E9 -> - | L11: =ปริมาณน้ำ!F9 -> 10 | M11: 100 | N11: 4.188
A12: 4 | B12: อ่างเก็บน้ำห้วยปรือ | C12: 8.87 | D12: 3.148 | E12: =D12*100/C12 -> 35.490417 | F12: + | G12: =ปริมาณน้ำ!C10 -> 37.93 | H12: =ปริมาณน้ำ!M10 -> 2.348 | I12: =ปริมาณน้ำ!N10 -> 26.471251 | J12: 5.85 | K12: =ปริมาณน้ำ!E10 -> - | L12: =ปริมาณน้ำ!F10 -> 14.1 | M12: 100 | N12: 8.87
A13: 5 | B13: อ่างเก็บน้ำคลองสีเสียด | C13: 1.14 | D13: 0.53 | E13: =D13*100/C13 -> 46.491228 | F13: + | G13: =ปริมาณน้ำ!C11 -> 53.67 | H13: =ปริมาณน้ำ!M11 -> 0.986 | I13: =ปริมาณน้ำ!N11 -> 86.491228 | J13: 3.2 | K13: ไม่มีสถานีวัดน้ำฝน | L13: ไม่มีสถานีวัดน้ำฝน | M13: 100
A14: 6 | B14: อ่างเก็บน้ำคลองวังบอน | C14: 7.6 | D14: 3.952 | E14: =D14*100/C14 -> 52 | F14: + | G14: =ปริมาณน้ำ!C12 -> 48.91 | H14: =ปริมาณน้ำ!M12 -> 3.864 | I14: =ปริมาณน้ำ!N12 -> 50.842105 | J14: 12.7 | K14: =ปริมาณน้ำ!E12 -> - | L14: =ปริมาณน้ำ!F12 -> 18.5 | M14: 100 | N14: 6.9
A15: 7 | B15: อ่างเก็บน้ำบ้านวังม่วง | C15: 0.8 | D15: 0.218 | E15: =D15*100/C15 -> 27.25 | F15: + | G15: =ปริมาณน้ำ!C13 -> 51.24 | H15: =ปริมาณน้ำ!M13 -> 0.21 | I15: =ปริมาณน้ำ!N13 -> 26.25 | J15: 0.94 | K15: ไม่มีสถานีวัดน้ำฝน | L15: ไม่มีสถานีวัดน้ำฝน | M15: 100
A16: 8 | B16: อ่างเก็บน้ำคลองกลาง | C16: 3.1 | D16: 1.951 | E16: =D16*100/C16 -> 62.935484 | F16: + | G16: =ปริมาณน้ำ!C14 -> 60.08 | H16: =ปริมาณน้ำ!M14 -> 2.207 | I16: =ปริมาณน้ำ!N14 -> 71.193548 | J16: 5.8 | K16: =ปริมาณน้ำ!E14 -> - | L16: =ปริมาณน้ำ!F14 -> 13.3 | M16: 100
B30: 250.15 | C30: =SUM(C9:C29) -> 251.76 | D30: =SUM(D9:D29) -> 106.362 | E30: =D30*100/C30 -> 42.247378 | G30: 100 | H30: =SUM(H9:H29) -> 116.325 | I30: =H30*G30/C30 -> 46.204719 | J30: =SUM(J9:J29) -> 377.13 | P30: =SUM(G30:O30) -> 639.65972

Sheet กรม
A1: ตารางสรุปสภาพน้ำในอ่างเก็บกักน้ำ
A2: โครงการชลประทานนครนายก
A3: ='กษ.นย,ปภ.นย. '!A3:L3 -> ประจำวันที่ 22 กุมภาพันธ์ 2564
A5: ที่ | B5: อ่างเก็บน้ำ | C5: ความจุ | D5: ปริมาณน้ำในอ่าง | K5: ปริมาณน้ำฝน
C6: ที่ | D6: ปี 2563 | E6: เปอร์เซ็นต์ | F6: วันนี้ | J6: ค่าเฉลี่ย | K6: ปริมาณน้ำ | L6: สะสมตั้งแต่
C7: ระดับกักเก็บ | E7: เก็บกัก | F7: ระดับน้ำ | H7: ปริมาณน้ำ | I7: เปอร์เซ็นต์ | J7: รวมทั้งปี | K7: ฝน (มม.) | L7: 23377
C8: (ล้าน ม3.) | D8: (ล้าน ม3.) | E8: ปี 2564 | F8: ม.(รทก.) | H8: (ล้าน ม3.) | I8: เก็บกัก | J8: (ล้าน ม3.) | K8: ='กษ.นย,ปภ.นย. '!K8 -> 21 ก.พ. 64 | L8: (ม.ม.)
A9: 1 | B9: ทรายทอง | C9: 2 | D9: ='กษ.นย,ปภ.นย. '!D10 -> 1.309 | E9: ='กษ.นย,ปภ.นย. '!E10 -> 65.45 | F9: + | G9: ='กษ.นย,ปภ.นย. '!G10 -> 82.31 | H9: ='กษ.นย,ปภ.นย. '!H10 -> 1.311 | I9: ='กษ.นย,ปภ.นย. '!I10 -> 65.55 | J9: 10.34 | K9: ='กษ.นย,ปภ.นย. '!K10 -> - | L9: ='กษ.นย,ปภ.นย. '!L10 -> 8.3
A10: 2 | B10: คลองโบด | C10: 4.25 | D10: ='กษ.นย,ปภ.นย. '!D11 -> 1.394 | E10: ='กษ.นย,ปภ.นย. '!E11 -> 32.8 | F10: + | G10: ='กษ.นย,ปภ.นย. '!G11 -> 28.73 | H10: ='กษ.นย,ปภ.นย. '!H11 -> 1.319 | I10: ='กษ.นย,ปภ.นย. '!I11 -> 31.035294 | J10: 1.3 | K10: ='กษ.นย,ปภ.นย. '!K11 -> - | L10: ='กษ.นย,ปภ.นย. '!L11 -> 10
A11: 3 | B11: ห้วยปรือ | C11: 8.87 | D11: ='กษ.นย,ปภ.นย. '!D12 -> 3.148 | E11: ='กษ.นย,ปภ.นย. '!E12 -> 35.490417 | F11: + | G11: ='กษ.นย,ปภ.นย. '!G12 -> 37.93 | H11: ='กษ.นย,ปภ.นย. '!H12 -> 2.348 | I11: ='กษ.นย,ปภ.นย. '!I12 -> 26.471251 | J11: 5.85 | K11: ='กษ.นย,ปภ.นย. '!K12 -> - | L11: ='กษ.นย,ปภ.นย. '!L12 -> 14.1
A12: 4 | B12: คลองสีเสียด | C12: 1.14 | D12: ='กษ.นย,ปภ.นย. '!D13 -> 0.53 | E12: ='กษ.นย,ปภ.นย. '!E13 -> 46.491228 | F12: + | G12: ='กษ.นย,ปภ.นย. '!G13 -> 53.67 | H12: ='กษ.นย,ปภ.นย. '!H13 -> 0.986 | I12: ='กษ.นย,ปภ.นย. '!I13 -> 86.491228 | J12: 3.2 | K12: ='กษ.นย,ปภ.นย. '!K13 -> ไม่มีสถานีวัดน้ำฝน | L12: ='กษ.นย,ปภ.นย. '!L13 -> ไม่มีสถานีวัดน้ำฝน
A13: 5 | B13: คลองวังบอน | C13: 7.6 | D13: ='กษ.นย,ปภ.นย. '!D14 -> 3.952 | E13: ='กษ.นย,ปภ.นย. '!E14 -> 52 | F13: + | G13: ='กษ.นย,ปภ.นย. '!G14 -> 48.91 | H13: ='กษ.นย,ปภ.นย. '!H14 -> 3.864 | I13: ='กษ.นย,ปภ.นย. '!I14 -> 50.842105 | J13: 12.7 | K13: ='กษ.นย,ปภ.นย. '!K14 -> - | L13: ='กษ.นย,ปภ.นย. '!L14 -> 18.5
A14: 6 | B14: บ้านวังม่วง | C14: 0.8 | D14: ='กษ.นย,ปภ.นย. '!D15 -> 0.218 | E14: ='กษ.นย,ปภ.นย. '!E15 -> 27.25 | F14: + | G14: ='กษ.นย,ปภ.นย. '!G15 -> 51.24 | H14: ='กษ.นย,ปภ.นย. '!H15 -> 0.21 | I14: ='กษ.นย,ปภ.นย. '!I15 -> 26.25 | J14: 0.94 | K14: ='กษ.นย,ปภ.นย. '!K15 -> ไม่มีสถานีวัดน้ำฝน | L14: ='กษ.นย,ปภ.นย. '!L15 -> ไม่มีสถานีวัดน้ำฝน
A15: 7 | B15: คลองกลาง | C15: 3.1 | D15: ='กษ.นย,ปภ.นย. '!D16 -> 1.951 | E15: ='กษ.นย,ปภ.นย. '!E16 -> 62.935484 | F15: + | G15: ='กษ.นย,ปภ.นย. '!G16 -> 60.08 | H15: ='กษ.นย,ปภ.นย. '!H16 -> 2.207 | I15: ='กษ.นย,ปภ.นย. '!I16 -> 71.193548 | J15: 5.8 | K15: ='กษ.นย,ปภ.นย. '!K16 -> - | L15: ='กษ.นย,ปภ.นย. '!L16 -> 13.3
B30: 250.15 | C30: =SUM(C9:C29) -> 27.76 | D30: =SUM(D10:D29) -> 11.193 | E30: =D30*100/C30 -> 40.320605 | G30: 100 | H30: =SUM(H9:H29) -> 12.245 | I30: =H30*G30/C30 -> 44.110231 | J30: =SUM(J9:J29) -> 40.13

Sheet Sheet1

Sheet Face
B2: โครงการชลประทานนครนายก
B3: สำนักงานชลประทานที่ 9
B4: รายงานสถานการณ์น้ำประจำวันที่ 22 กุมภาพันธ์ 2564
B32: ที่ | C32: อ่างเก็บน้ำ/เขื่อน | D32: พื้นที่ชลประทาน | E32: ที่ตั้ง | F32: ปริมาณน้ำที่ระดับสูงสุด | G32: ปริมาณน้ำที่ระดับต่ำสุด | H32: ระดับน้ำที่ระดับเก็บกัก | I32: ปริมาณน้ำที่ระดับเก็บกัก | J32: ปริมาณน้ำหลังเสริม spillway | L32: สถานการณ์น้ำวันนี้ | Q32: ปริมาณน้ำเมื่อวาน | R32: ผลต่างปริมาณน้ำ(วันนี้ - เมื่อวาน) | S32: รวมระบายน้ำจากอ่าง | T32: ปริมาณน้ำล้นSpillway | U32: การระเหยรั่วซึม | V32: รวมผันน้ำลงอ่างเก็บน้ำ | W32: ปริมาณน้ำไหลลงอ่างฯ | X32: ปริมาณฝน | Y32: หมายเหตุ
L33: ระดับน้ำ | N33: ปริมาณน้ำ | O33: คิดเป็น % ของความจุเดิม | P33: คิดเป็น % หลังเสริมSpillway
D34: (ไร่) | E34: ตำบล/อำเภอ | F34: (ล้าน ลบ.ม.) | G34: (ล้าน ลบ.ม.) | H34: (ม.รทก.) | I34: (ล้าน ลบ.ม.) | J34: (ล้าน ลบ.ม.) | L34: (ม.รทก.) | N34: (ล้าน ลบ.ม.) | Q34: (ล้าน ลบ.ม.) | R34: (ล้าน ลบ.ม.) | S34: (ล้าน ลบ.ม.) | T34: (ล้าน ลบ.ม.) | U34: (ล้าน ลบ.ม.) | V34: (ล้าน ลบ.ม.) | W34: (ล้าน ลบ.ม.) | X34: (มม.)
B35: 1 | C35: เขื่อนขุนด่านปราการชล | D35: 18280 | E35: อ.เมืองนครนายก | F35: 226 | G35: 5 | H35: +110.00 | I35: 224 | J35: - | L35: + | M35: ='กษ.นย,ปภ.นย. '!G9 -> 82.06 | N35: ='กษ.นย,ปภ.นย. '!H9 -> 104.08 | O35: =(N35/I35)*100 -> 46.464286 | P35: - | Q35: 105.71 | R35: =N35-Q35 -> -1.63 | S35: 1.634 | T35: - | U35: 0.006 | V35: - | W35: 0.004 | X35: ='กษ.นย,ปภ.นย. '!K9 -> - | Y35: คบ.ขุนด่านปราการชล
B36: 2 | C36: อ่างเก็บน้ำทรายทอง | D36: 644 | E36: อ.เมืองนครนายก | F36: 2.425 | G36: 0.139 | H36: +85.00 | I36: 2 | J36: - | L36: + | M36: ='กษ.นย,ปภ.นย. '!G10 -> 82.31 | N36: ='กษ.นย,ปภ.นย. '!H10 -> 1.311 | O36: =(N36/I36)*100 -> 65.55 | P36: - | Q36: 1.311 | R36: =N36-Q36 -> 0 | S36: 0 | T36: =ปริมาณน้ำ!L8 -> - | U36: 0.001 | V36: - | W36: =ปริมาณน้ำ!I8 -> 0 | X36: =ปริมาณน้ำ!E8 -> - | Y36: คป.นครนายก
B37: 3 | C37: อ่างเก็บน้ำคลองโบด | D37: 1000 | E37: อ.เมืองนครนายก | F37: 4.3 | G37: 0.07 | H37: +36.27 | I37: 4.25 | J37: - | L37: + | M37: ='กษ.นย,ปภ.นย. '!G11 -> 28.73 | N37: =ปริมาณน้ำ!M9 -> 1.319 | O37: =(N37/I37)*100 -> 31.035294 | P37: - | Q37: 1.325 | R37: =N37-Q37 -> -0.006 | S37: 0.005 | T37: - | U37: 0.001 | V37: - | W37: =ปริมาณน้ำ!I9 -> 0 | X37: =ปริมาณน้ำ!E9 -> - | Y37: คป.นครนายก
B38: 4 | C38: อ่างเก็บน้ำห้วยปรือ | D38: 1855 | E38: อ.เมืองนครนายก | F38: 9.4 | G38: 0.12 | H38: +45.40 | I38: 8.87 | J38: - | L38: + | M38: ='กษ.นย,ปภ.นย. '!G12 -> 37.93 | N38: =ปริมาณน้ำ!M10 -> 2.348 | O38: =(N38/I38)*100 -> 26.471251 | P38: - | Q38: 2.36 | R38: =N38-Q38 -> -0.012 | S38: 0.011 | T38: - | U38: 0.001 | V38: - | W38: =ปริมาณน้ำ!I10 -> 0 | X38: =ปริมาณน้ำ!E10 -> - | Y38: คป.นครนายก
B39: 5 | C39: อ่างเก็บน้ำคลองสีเสียด | D39: 2143 | E39: อ. ปากพลี | F39: 1.472 | G39: 0.05 | H39: +54.50 | I39: 1.14 | J39: - | L39: + | M39: ='กษ.นย,ปภ.นย. '!G13 -> 53.67 | N39: =ปริมาณน้ำ!M11 -> 0.986 | O39: =(N39/I39)*100 -> 86.491228 | P39: - | Q39: 0.986 | R39: =N39-Q39 -> 0 | S39: 0 | T39: - | U39: 0 | V39: - | W39: =ปริมาณน้ำ!I11 -> 0 | X39: - | Y39: คป.นครนายก
B40: 6 | C40: อ่างเก็บน้ำบ้านวังม่วง | D40: 507 | E40: อ. ปากพลี | F40: 0.893 | G40: 0.034 | H40: +60.00 | I40: 0.8 | J40: - | L40: + | M40: ='กษ.นย,ปภ.นย. '!G15 -> 51.24 | N40: =ปริมาณน้ำ!M13 -> 0.21 | O40: =(N40/I40)*100 -> 26.25 | P40: - | Q40: 0.21 | R40: =N40-Q40 -> 0 | S40: 0 | T40: - | U40: 0 | V40: - | W40: =ปริมาณน้ำ!I13 -> 0 | X40: - | Y40: คป.นครนายก
B41: 7 | C41: อ่างเก็บน้ำคลองวังบอน | D41: 1239 | E41: อ. ปากพลี | F41: 7.75 | G41: 0.2 | H41: +57.20 | I41: 7.6 | J41: - | L41: + | M41: ='กษ.นย,ปภ.นย. '!G14 -> 48.91 | N41: =ปริมาณน้ำ!M12 -> 3.864 | O41: =(N41/I41)*100 -> 50.842105 | P41: - | Q41: 3.864 | R41: =N41-Q41 -> 0 | S41: 0 | T41: =ปริมาณน้ำ!L12 -> - | U41: 0.001 | V41: - | W41: =ปริมาณน้ำ!I12 -> 0 | X41: =ปริมาณน้ำ!E12 -> - | Y41: คป.นครนายก
B42: 8 | C42: อ่างเก็บน้ำคลองกลาง | D42: 2491 | E42: อ. ปากพลี | F42: 3.5 | G42: 0.111 | H42: +68.00 | I42: 3.1 | J42: - | L42: + | M42: ='กษ.นย,ปภ.นย. '!G16 -> 60.08 | N42: =ปริมาณน้ำ!M14 -> 2.207 | O42: =(N42/I42)*100 -> 71.193548 | P42: - | Q42: 2.209 | R42: =N42-Q42 -> -0.002 | S42: 0.001 | T42: - | U42: 0.001 | V42: - | W42: =ปริมาณน้ำ!I14 -> 0 | X42: =ปริมาณน้ำ!E14 -> - | Y42: คป.นครนายก
B43: รวม | I43: 251.76 | N43: =N35+N36+N37+N38+N39+N41+N40+N42 -> 116.325 | O43: =N43*100/I43 -> 46.204719 | AB43: =+I35+J36+I37+I38+J39+I41+J40+J42 -> #VALUE!
B45: ที่ | C45: ปตร. | D45: พื้นที่ชลประทาน | E45: ที่ตั้ง | F45: ระดับตลิ่ง | G45: ระดับธรณี | H45: ระดับสันบานปตร./รนก. | I45: ปริมาณน้ำเก็บกัก | J45: สถานการณ์น้ำวันนี้ | P45: ปตร. | W45: ปริมาณฝน | X45: หมายเหตุ
J46: ระดับน้ำเหนือประตู(ในทุ่ง) | L46: ระดับน้ำท้ายประตู(แม่น้ำ) | N46: ปริมาณน้ำ | O46: คิดเป็น (%) | P46: ขนาดอาคาร | Q46: ระยะเปิดบาน | R46: จำนวน | S46: ปริมาณน้ำผ่าน ปตร. | T46: ปริมาณน้ำผ่าน ปตร. | U46: รับน้ำเข้าพื้นที่ ชป. | V46: ระบายน้ำออกจากพื้นที่ ชป.
D47: (ไร่) | E47: ตำบล/อำเภอ | F47: (ม.รทก.) | G47: (ม.รทก.) | H47: (ม.รทก.) | I47: (ล้าน ลบ.ม.) | J47: (ม.รทก.) | L47: (ม.รทก.) | N47: (ลบ.ม.) | P47: (เมตร) | Q47: (เมตร) | R47: (ช่อง ) | S47: (ลบ.ม./วิ) | T47: (ลบ.ม./วัน) | U47: (ลบ.ม./วัน) | V47: (ลบ.ม./วัน) | W47: (มม.)
B48: 1 | C48: ปตร.คลองยาง | D48: 16482 | E48: อ. ปากพลี,อ.เมืองปราจีน | F48: +11.736 | G48: 6 | H48: 12.8 | I48: +11.303 | J48: + | K48: =ปริมาณน้ำ!C18 -> 9.65 | M48: =ปริมาณน้ำ!D18 -> - | N48: - | O48: - | P48: 6 x 5.5 | Q48: - | R48: - | S48: =ปริมาณน้ำ!K18 -> - | T48: - | U48: - | V48: - | W48: =ปริมาณน้ำ!E18 -> - | X48: คป.นครนายก
B49: 2 | C49: ปตร.คลองบ้านนา | D49: 18631 | E49: อ.บ้านนา | F49: +6.800 | G49: 2.8 | H49: 9 | I49: +6.500 | J49: + | K49: =ปริมาณน้ำ!C15 -> 2.93 | M49: =ปริมาณน้ำ!D15 -> - | N49: - | O49: - | P49: 6 x 6 | Q49: - | R49: - | S49: =ปริมาณน้ำ!K15 -> - | T49: - | U49: - | V49: - | W49: =ปริมาณน้ำ!E15 -> - | X49: คป.นครนายก
