Workbook

Sheet 01.12.64
A1: รายงานสถานการณ์ศัตรูพืชระบาด
A2: ข้อมูล ณ วันที่ 10 พฤศจิกายน 2564
A4: ที่ | B4: จังหวัด | C4: ข้าว | X4: มะพร้าว | AF4: ปาล์มน้ำมัน | AQ4: ยางพารา | AV4: กาแฟ | AZ4: มันสำปะหลัง | BM4: อ้อย | CB4: ข้าวโพด | CK4: สับปะรด | CN4: ทุเรียน | DD4: เงาะ | DM4: มังคุด | DU4: ลำไย | DZ4: ลำไย | EA4: พื้นที่รวม ทั้งประเทศ (ไร่) | EB4: =+DT10+DL10+DC10+CM10+CJ10+CA10+BL10+AU10+AP10+AE10+W10+DZ10 -> 426573.93
C5: พื้นที่การระบาด (ไร่) | X5: พื้นที่การระบาด (ไร่) | AF5: พื้นที่การระบาด (ไร่) | AQ5: พื้นที่การระบาด (ไร่) | AV5: พื้นที่การระบาด (ไร่) | AZ5: พื้นที่การระบาด (ไร่) | BM5: พื้นที่การระบาด (ไร่) | CB5: พื้นที่การระบาด (ไร่) | CK5: พื้นที่การระบาด (ไร่) | CN5: พื้นที่การระบาด (ไร่) | DD5: พื้นที่การระบาด (ไร่) | DM5: พื้นที่การระบาด (ไร่) | DU5: พื้นที่การระบาด (ไร่)
C6: เพลี้ยกระโดดสีน้ำตาล | D6: หนอนห่อใบข้าว | E6: โรคไหม้ข้าว | F6: แมลงสิง | G6: เพลี้ยกระโดดหลังขาว | H6: เพลี้ยไฟ | I6: โรคใบสีส้ม | J6: โรคขอบใบแห้งข้าว | K6: โรคกาบใบแห้ง | L6: โรคใบจุดสีน้ำตาล | M6: หนอนกระทู้ข้าว | N6: โรคใบขีดสีน้ำตาล | O6: หนอนกัดใบข้าว | P6: แมลงหล่า | Q6: แมลงบั่ว | R6: โรคเมล็ดด่าง | S6: ด้วงดำ | T6: ตั๊กแตนหนวดสั้น | U6: หนอนกอข้าว | V6: หนอนกระทู้ข้าวโพดลายจุด | W6: รวม | X6: หนอนหัวดำ | Y6: แมลงดำหนาม | Z6: ด้วงแรด | AA6: ด้วงงวง | AB6: ไรสี่ขามะพร้าว | AC6: หนอนพาราซ่า | AD6: หนอนกินใบมะพร้าว | AE6: รวม | AF6: หนอนหัวดำ | AG6: หนอนปลอกเล็ก | AH6: หนอนหน้าแมว | AI6: ด้วงแรด | AJ6: ด้วงกุหลาบ | AK6: หนู | AL6: โรคลำต้นเน่า | AM6: โรคทะลายเน่า | AN6: โรคใบไหม้ | AO6: โรคยอดเน่า | AP6: รวม | AQ6: โรครากขาว | AR6: โรคใบร่วง (ชนิดใหม่) | AS6: โรคใบร่วง | AT6: โรคเส้นดำ | AU6: รวม | AV6: โรคใบจุดสีน้ำตาล | AW6: หนอนเจาะลำต้น | AX6: มอดเจาะผลกาแฟ | AY6: รวม | AZ6: เพลี้ยแป้งมันสำปะหลัง | BA6: เพลี้ยแป้งสีชมพู | BB6: ไรแดงมันสำปะหลัง | BC6: แมลงนูนหลวง | BD6: แมลงหวี่ขาว | BE6: เพลี้ยหอย | BF6: โรคใบจุดน้ำตาล | BG6: โรคแอนแทคโนส | BH6: โรคโคนเน่าหัวเน่า | BI6: โรคใบไหม้ | BJ6: โรคใบด่างมันสำปะหลัง | BK6: โรคพุ่มแจ้ | BL6: รวม | BM6: หนอนกออ้อย | BN6: ด้วงหนวดยาว | BO6: แมลงนูนหลวง | BP6: จักจั่น | BQ6: ตั๊กแตน | BR6: จักจั่น | BS6: หนอนกระทู้ข้าวโพดลายจุด | BT6: เพลี้ยอ่อน | BU6: เพลี้ยแป้ง | BV6: โรคกอตะไคร้ | BW6: โรคใบขาว | BX6: ปลวก | BY6: โรคแส้ดำ | BZ6: เพลี้ยหอยเกร็ด | CA6: รวม | CB6: หนอนเจาะฝัก | CC6: หนอนกระทู้ลายจุดข้าวโพด | CD6: หนอนกระทู้ผัก | CE6: หนอนเจาะลำต้น | CF6: เพลี้ยอ่อน | CG6: ตั๊กแตน | CH6: โรคใบไหม้แผลเล็ก | CI6: โรคใบไหม้แผลใหญ่ | CJ6: รวม | CK6: โรคเหี่ยว | CL6: เพลี้ยแป้ง | CM6: รวม | CN6: หนอนเจาะลำต้น | CO6: หนอนเจาะผล | CP6: หนอนกินใบ | CQ6: เพลี้ยไฟ | CR6: เพลี้ยแป้ง | CS6: เพลี้ยไก่แจ้ | CT6: ไรแดง | CU6: โรคใบติด | CV6: โรครากเน่าโคนเน่า | CW6: ราดำ | CX6: โรคราใบไหม้ | CY6: โรคผลเน่า | CZ6: โรคราสีชมพู | DA6: โรคจุดสาหร่าย | DB6: หนอนเจาะผล | DC6: รวม | DD6: หนอนกินช่อดอก | DE6: เพลี้ยแป้ง | DF6: เพลี้ยไฟ | DG6: หนอนทราย | DH6: โรคใบจุดสาหร่าย | DI6: โรคราดำ | DJ6: โรคขอบใบแห้ง | DK6: หนอนกินช่อดอกไม้ | DL6: รวม | DM6: หนอนชอนใบ | DN6: หนอนกินใบ | DO6: เพลี้ยไฟ | DP6: เพลี้ยแป้ง | DQ6: ไรแดง | DR6: โรคแอนแทรคโนส | DS6: โรคใบจุด | DT6: รวม | DU6: โรคพุ่มไม้กวาด | DV6: เพลี้ยแป้ง | DW6: โรคราดำ | DX6: เพลี้ยหอย | DY6: มวนลำไย | DZ6: รวม | EA6: รวม
C7: =C8-C9 -> 227 | D7: =D8-D9 -> -10 | E7: =E8-E9 -> -225 | F7: =F8-F9 -> 0 | G7: =G8-G9 -> -36 | H7: =H8-H9 -> 0 | I7: =I8-I9 -> 0 | J7: =J8-J9 -> 28 | ... EA7: =EA8-EA9 -> -45461
B8: 1 ธ.ค. 64 | C8: 260 | D8: 0 | E8: 63 | G8: 4 | J8: 66 | Q8: 0 | U8: 0 | W8: =C8+D8+E8+G8+J8+Q8+U8 -> 393 | X8: 6500 | Y8: 12068 | Z8: 5154 | AA8: 1220 | AB8: 1020 | AD8: 155 | AE8: =AD8+AB8+AA8+Z8+Y8+X8 -> 26117 | AI8: 648 | AL8: 169 | AP8: =AL8+AI8 -> 817 | AQ8: 103 | AR8: 375088 | AS8: 1835 | AU8: =AR8+AQ8+AS8 -> 377026 | AZ8: 167 | BH8: 7 | BJ8: 13884 | BL8: =BJ8+BH8+BB8+AZ8 -> 14058 | CC8: 382 | CE8: 65 | CJ8: =CC8+CE8 -> 447 | CL8: 11 | CM8: =CK8+CL8 -> 11 | CQ8: 110 | CR8: 0 | CS8: 12 | CV8: 6645 | DC8: =CV8+CS8+CR8+CQ8+CP8+CO8+CN8 -> 6767 | DL8: =DF8 -> 0 | DO8: 98 | DT8: =DO8 -> 98 | DU8: 280 | DV8: 28 | DW8: 325 | DY8: 207 | DZ8: =DY8+DW8+DV8+DU8 -> 840 | EA8: =DZ8+DT8+DL8+DC8+CJ8+BL8+AU8+AP8+AE8+W8+CM8 -> 426574
B9: 24 พ.ย. 64 | C9: 33 | D9: 10 | E9: 288 | G9: 40 | J9: 38 | Q9: 158 | U9: 290 | W9: =C9+D9+E9+G9+J9+Q9+U9 -> 857 | X9: 6346 | Y9: 11808 | Z9: 4747 | AA9: 479 | AB9: 681 | AD9: 150 | AE9: =AD9+AB9+AA9+Z9+Y9+X9 -> 24211 | AI9: 1456 | AL9: 167 | AP9: =AL9+AI9 -> 1623 | AQ9: 115 | AR9: 419998 | AS9: 2490 | AU9: =AR9+AQ9+AS9 -> 422603 | AZ9: 94 | BH9: 129 | BJ9: 13898 | BL9: =BJ9+BH9+BB9+AZ9 -> 14121 | CC9: 384 | CE9: 65 | CJ9: =CC9+CE9 -> 449 | CL9: 11 | CM9: =CK9+CL9 -> 11 | CQ9: 5 | CR9: 8 | CS9: 237 | CV9: 7183 | DC9: =CV9+CS9+CR9+CQ9+CP9+CO9+CN9 -> 7433 | DF9: 0 | DL9: =DF9 -> 0 | DO9: 94 | DT9: =DO9 -> 94 | DU9: 274 | DV9: 28 | DW9: 319 | DY9: 12 | DZ9: =DY9+DW9+DV9+DU9 -> 633 | EA9: =DZ9+DT9+DL9+DC9+CJ9+BL9+AU9+AP9+AE9+W9+CM9 -> 472035
A10: รวมทั้งประเทศ 63 จังหวัด | C10: =SUM(C11,C29,C50,C59,C69,C78) -> 260 | D10: =SUM(D11,D29,D50,D59,D69,D78) -> 0 | E10: =SUM(E11,E29,E50,E59,E69,E78) -> 63 | F10: =SUM(F11,F29,F50,F59,F69,F78) -> 0 | G10: =SUM(G11,G29,G50,G59,G69,G78) -> 4 | H10: =SUM(H11,H29,H50,H59,H69,H78) -> 0 | I10: =SUM(I11,I29,I50,I59,I69,I78) -> 0 | J10: =SUM(J11,J29,J50,J59,J69,J78) -> 66 | ... DZ10: =SUM(DZ11,DZ29,DZ50,DZ59,DZ69,DZ78) -> 840.25 | EA10: =SUM(DZ10,DT10,DL10,DC10,CM10,CJ10,CA10,BL10,AU10,AP10,AE10,W10) -> 426573.93
A11: ภาคเหนือ 11 จังหวัด | C11: =SUM(C12:C28) -> 250 | D11: =SUM(D12:D28) -> 0 | E11: =SUM(E12:E28) -> 0 | F11: =SUM(F12:F28) -> 0 | G11: =SUM(G12:G28) -> 0 | H11: =SUM(H12:H28) -> 0 | I11: =SUM(I12:I28) -> 0 | J11: =SUM(J12:J28) -> 15 | ... AE11: =SUM(AE12:AE28) -> 2 | AF11: =SUM(AF19:AF28) -> 0 | AG11: =SUM(AG19:AG28) -> 0 | AH11: =SUM(AH19:AH28) -> 0 | AI11: =SUM(AI12:AI28) -> 0 | AJ11: =SUM(AJ12:AJ28) -> 0 | AK11: =SUM(AK12:AK28) -> 0 | AL11: =SUM(AL12:AL28) -> 0 | AM11: =SUM(AM12:AM28) -> 0 | AN11: =SUM(AN12:AN28) -> 0 | AO11: =SUM(AO12:AO28) -> 0 | AP11: =SUM(AP12:AP28) -> 0 | ... CM11: =SUM(CM12:CM28) -> 0 | CN11: =SUM(CN19:CN28) -> 0 | CO11: =SUM(CO19:CO28) -> 0 | CP11: =SUM(CP19:CP28) -> 0 | CQ11: =SUM(CQ12:CQ28) -> 0 | CR11: =SUM(CR12:CR28) -> 0 | CS11: =SUM(CS12:CS28) -> 0 | CT11: =SUM(CT12:CT28) -> 0 | CU11: =SUM(CU12:CU28) -> 0 | CV11: =SUM(CV12:CV28) -> 0 | CW11: =SUM(CW12:CW28) -> 0 | CX11: =SUM(CX12:CX28) -> 0 | ... DZ11: =SUM(DZ12:DZ28) -> 195 | EA11: =SUM(DT11,DL11,DC11,CM11,CJ11,CA11,BL11,AY11,AU11,AP11,AE11,W11,DZ11) -> 811
B12: กำแพงเพชร | C12: 0 | D12: 0 | E12: 0 | F12: 0 | G12: 0 | H12: 0 | I12: 0 | J12: 0 | K12: 0 | L12: 0 | M12: 0 | N12: 0 | O12: 0 | P12: 0 | Q12: 0 | R12: 0 | S12: 0 | T12: 0 | U12: 0 | V12: 0 | W12: =SUBTOTAL(9,C12:V12) -> 0 | X12: 0 | Y12: 0 | Z12: 0 | AA12: 0 | AB12: 0 | AC12: 0 | AD12: 0 | AE12: =SUBTOTAL(9,X12:AD12) -> 0 | AF12: 0 | AG12: 0 | AH12: 0 | AI12: 0 | AJ12: 0 | AK12: 0 | AL12: 0 | AM12: 0 | AN12: 0 | AO12: 0 | AP12: =SUBTOTAL(9,AI12:AO12) -> 0 | AQ12: 0 | AR12: 0 | AS12: 0 | AT12: 0 | AU12: =SUBTOTAL(9,AQ12:AT12) -> 0 | AV12: =SUM(AR12:AR12) -> 0 | AW12: 0 | AX12: =SUM(AU12:AU12) -> 0 | AY12: =SUM(AV12:AX12) -> 0 | AZ12: 0 | BA12: 0 | BB12: 0 | BC12: 0 | BD12: 0 | BE12: 0 | BF12: 0 | BG12: 0 | BH12: 0 | BI12: 0 | BJ12: 0 | BK12: 0 | BL12: =SUBTOTAL(9,AZ12:BK12) -> 0 | BM12: 0 | BN12: 0 | BO12: 0 | BP12: 0 | BQ12: 0 | BR12: 0 | BS12: 0 | BT12: 0 | BU12: 0 | BV12: 0 | BW12: 0 | BX12: 0 | BY12: 0 | BZ12: 0 | CA12: =SUBTOTAL(9,BM12:BZ12) -> 0 | CB12: 0 | CC12: 0 | CD12: 0 | CE12: 0 | CF12: 0 | CG12: 0 | CH12: 0 | CI12: 0 | CJ12: =SUBTOTAL(9,CC12:CI12) -> 0 | CK12: 0 | CL12: 0 | CM12: =SUM(CK12:CL12) -> 0 | CN12: 0 | CO12: 0 | CP12: 0 | CQ12: 0 | CR12: 0 | CS12: 0 | CT12: 0 | CU12: 0 | CV12: 0 | CW12: 0 | CX12: 0 | CY12: 0 | CZ12: 0 | DA12: 0 | DB12: 0 | DC12: =SUBTOTAL(9,CN12:DB12) -> 0 | DD12: 0 | DE12: 0 | DF12: 0 | DG12: 0 | DH12: 0 | DI12: 0 | DJ12: 0 | DK12: 0 | DL12: =SUBTOTAL(9,DD12:DK12) -> 0 | DM12: 0 | DN12: 0 | DO12: 0 | DP12: 0 | DQ12: 0 | DR12: 0 | DS12: 0 | DT12: =SUBTOTAL(9,DM12:DS12) -> 0 | DU12: 0 | DV12: 0 | DW12: 0 | DX12: 0 | DY12: 0 | DZ12: =SUBTOTAL(9,DU12:DY12) -> 0 | EA12: =SUM(DT12,DL12,DC12,CM12,CJ12,CA12,BL12,AY12,AU12,AP12,AE12,W12,DZ12) -> 0
B13: เชียงใหม่ | C13: 0 | D13: 0 | E13: 0 | F13: 0 | G13: 0 | H13: 0 | I13: 0 | J13: 0 | K13: 0 | L13: 0 | M13: 0 | N13: 0 | O13: 0 | P13: 0 | Q13: 0 | R13: 0 | S13: 0 | T13: 0 | U13: 0 | V13: 0 | W13: =SUBTOTAL(9,C13:V13) -> 0 | X13: 0 | Y13: 0 | Z13: 0 | AA13: 0 | AB13: 0 | AC13: 0 | AD13: 0 | AE13: =SUBTOTAL(9,X13:AD13) -> 0 | AF13: 0 | AG13: 0 | AH13: 0 | AI13: 0 | AJ13: 0 | AK13: 0 | AL13: 0 | AM13: 0 | AN13: 0 | AO13: 0 | AP13: =SUBTOTAL(9,AI13:AO13) -> 0 | AQ13: 0 | AR13: 0 | AS13: 0 | AT13: 0 | AU13: =SUBTOTAL(9,AQ13:AT13) -> 0 | AV13: 0 | AW13: 0 | AX13: 0 | AY13: =SUM(AV13:AX13) -> 0 | AZ13: 0 | BA13: 0 | BB13: 0 | BC13: 0 | BD13: 0 | BE13: 0 | BF13: 0 | BG13: 0 | BH13: 0 | BI13: 0 | BJ13: 0 | BK13: 0 | BL13: =SUBTOTAL(9,AZ13:BK13) -> 0 | BM13: 0 | BN13: 0 | BO13: 0 | BP13: 0 | BQ13: 0 | BR13: 0 | BS13: 0 | BT13: 0 | BU13: 0 | BV13: 0 | BW13: 0 | BX13: 0 | BY13: 0 | BZ13: 0 | CA13: =SUBTOTAL(9,BM13:BZ13) -> 0 | CB13: 0 | CC13: 0 | CD13: 0 | CE13: 0 | CF13: 0 | CG13: 0 | CH13: 0 | CI13: 0 | CJ13: =SUBTOTAL(9,CC13:CI13) -> 0 | CK13: 0 | CL13: 0 | CM13: =SUM(CK13:CL13) -> 0 | CN13: 0 | CO13: 0 | CP13: 0 | CQ13: 0 | CR13: 0 | CS13: 0 | CT13: 0 | CU13: 0 | CV13: 0 | CW13: 0 | CX13: 0 | CY13: 0 | CZ13: 0 | DA13: 0 | DB13: 0 | DC13: =SUBTOTAL(9,CN13:DB13) -> 0 | DD13: 0 | DE13: 0 | DF13: 0 | DG13: 0 | DH13: 0 | DI13: 0 | DJ13: 0 | DK13: 0 | DL13: =SUBTOTAL(9,DD13:DK13) -> 0 | DM13: 0 | DN13: 0 | DO13: 0 | DP13: 0 | DQ13: 0 | DR13: 0 | DS13: 0 | DT13: =SUBTOTAL(9,DM13:DS13) -> 0 | DU13: 0 | DV13: 0 | DW13: 0 | DX13: 0 | DY13: 0 | DZ13: =SUBTOTAL(9,DU13:DY13) -> 0 | EA13: =SUM(DT13,DL13,DC13,CM13,CJ13,CA13,BL13,AY13,AU13,AP13,AE13,W13,DZ13) -> 0
B14: เชียงราย | C14: 0 | D14: 0 | E14: 0 | F14: 0 | G14: 0 | H14: 0 | I14: 0 | J14: 0 | K14: 0 | L14: 0 | M14: 0 | N14: 0 | O14: 0 | P14: 0 | Q14: 0 | R14: 0 | S14: 0 | T14: 0 | U14: 0 | V14: 0 | W14: =SUBTOTAL(9,C14:V14) -> 0 | X14: 0 | Y14: 0 | Z14: 0 | AA14: 0 | AB14: 0 | AC14: 0 | AD14: 0 | AE14: =SUBTOTAL(9,X14:AD14) -> 0 | AF14: 0 | AG14: 0 | AH14: 0 | AI14: 0 | AJ14: 0 | AK14: 0 | AL14: 0 | AM14: 0 | AN14: 0 | AO14: 0 | AP14: =SUBTOTAL(9,AI14:AO14) -> 0 | AQ14: 0 | AR14: 0 | AS14: 0 | AT14: 0 | AU14: =SUBTOTAL(9,AQ14:AT14) -> 0 | AV14: 0 | AW14: 0 | AX14: 0 | AY14: =SUM(AV14:AX14) -> 0 | AZ14: 0 | BA14: 0 | BB14: 0 | BC14: 0 | BD14: 0 | BE14: 0 | BF14: 0 | BG14: 0 | BH14: 0 | BI14: 0 | BJ14: 0 | BK14: 0 | BL14: =SUBTOTAL(9,AZ14:BK14) -> 0 | BM14: 0 | BN14: 0 | BO14: 0 | BP14: 0 | BQ14: 0 | BR14: 0 | BS14: 0 | BT14: 0 | BU14: 0 | BV14: 0 | BW14: 0 | BX14: 0 | BY14: 0 | BZ14: 0 | CA14: =SUBTOTAL(9,BM14:BZ14) -> 0 | CB14: 0 | CC14: 0 | CD14: 0 | CE14: 0 | CF14: 0 | CG14: 0 | CH14: 0 | CI14: 0 | CJ14: =SUBTOTAL(9,CC14:CI14) -> 0 | CK14: 0 | CL14: 0 | CM14: =SUM(CK14:CL14) -> 0 | CN14: 0 | CO14: 0 | CP14: 0 | CQ14: 0 | CR14: 0 | CS14: 0 | CT14: 0 | CU14: 0 | CV14: 0 | CW14: 0 | CX14: 0 | CY14: 0 | CZ14: 0 | DA14: 0 | DB14: 0 | DC14: =SUBTOTAL(9,CN14:DB14) -> 0 | DD14: 0 | DE14: 0 | DF14: 0 | DG14: 0 | DH14: 0 | DI14: 0 | DJ14: 0 | DK14: 0 | DL14: =SUBTOTAL(9,DD14:DK14) -> 0 | DM14: 0 | DN14: 0 | DO14: 0 | DP14: 0 | DQ14: 0 | DR14: 0 | DS14: 0 | DT14: =SUBTOTAL(9,DM14:DS14) -> 0 | DU14: 0 | DV14: 0 | DW14: 0 | DX14: 0 | DY14: 0 | DZ14: =SUBTOTAL(9,DU14:DY14) -> 0 | EA14: =SUM(DT14,DL14,DC14,CM14,CJ14,CA14,BL14,AY14,AU14,AP14,AE14,W14,DZ14) -> 0
B15: ตาก | C15: 250 | D15: 0 | E15: 0 | F15: 0 | G15: 0 | H15: 0 | I15: 0 | J15: 0 | K15: 0 | L15: 0 | M15: 0 | N15: 0 | O15: 0 | P15: 0 | Q15: 0 | R15: 0 | S15: 0 | T15: 0 | U15: 0 | V15: 0 | W15: =SUBTOTAL(9,C15:V15) -> 250 | X15: 0 | Y15: 0 | Z15: 0 | AA15: 0 | AB15: 0 | AC15: 0 | AD15: 0 | AE15: =SUBTOTAL(9,X15:AD15) -> 0 | AF15: 0 | AG15: 0 | AH15: 0 | AI15: 0 | AJ15: 0 | AK15: 0 | AL15: 0 | AM15: 0 | AN15: 0 | AO15: 0 | AP15: =SUBTOTAL(9,AI15:AO15) -> 0 | AQ15: 0 | AR15: 0 | AS15: 0 | AT15: 0 | AU15: =SUBTOTAL(9,AQ15:AT15) -> 0 | AV15: 0 | AW15: 0 | AX15: 0 | AY15: =SUM(AV15:AX15) -> 0 | AZ15: 15 | BA15: 0 | BB15: 0 | BC15: 0 | BD15: 0 | BE15: 0 | BF15: 0 | BG15: 0 | BH15: 0 | BI15: 0 | BJ15: 0 | BK15: 0 | BL15: =SUBTOTAL(9,AZ15:BK15) -> 15 | BM15: 0 | BN15: 0 | BO15: 0 | BP15: 0 | BQ15: 0 | BR15: 0 | BS15: 0 | BT15: 0 | BU15: 0 | BV15: 0 | BW15: 0 | BX15: 0 | BY15: 0 | BZ15: 0 | CA15: =SUBTOTAL(9,BM15:BZ15) -> 0 | CB15: 0 | CC15: 205 | CD15: 0 | CE15: 0 | CF15: 0 | CG15: 0 | CH15: 0 | CI15: 0 | CJ15: =SUBTOTAL(9,CC15:CI15) -> 205 | CK15: 0 | CL15: 0 | CM15: =SUM(CK15:CL15) -> 0 | CN15: 0 | CO15: 0 | CP15: 0 | CQ15: 0 | CR15: 0 | CS15: 0 | CT15: 0 | CU15: 0 | CV15: 0 | CW15: 0 | CX15: 0 | CY15: 0 | CZ15: 0 | DA15: 0 | DB15: 0 | DC15: =SUBTOTAL(9,CN15:DB15) -> 0 | DD15: 0 | DE15: 0 | DF15: 0 | DG15: 0 | DH15: 0 | DI15: 0 | DJ15: 0 | DK15: 0 | DL15: =SUBTOTAL(9,DD15:DK15) -> 0 | DM15: 0 | DN15: 0 | DO15: 0 | DP15: 0 | DQ15: 0 | DR15: 0 | DS15: 0 | DT15: =SUBTOTAL(9,DM15:DS15) -> 0 | DU15: 0 | DV15: 0 | DW15: 0 | DX15: 0 | DY15: 195 | DZ15: =SUBTOTAL(9,DU15:DY15) -> 195 | EA15: =SUM(DT15,DL15,DC15,CM15,CJ15,CA15,BL15,AY15,AU15,AP15,AE15,W15,DZ15) -> 665
B16: นครสวรรค์ | C16: 0 | D16: 0 | E16: 0 | F16: 0 | G16: 0 | H16: 0 | I16: 0 | J16: 0 | K16: 0 | L16: 0 | M16: 0 | N16: 0 | O16: 0 | P16: 0 | Q16: 0 | R16: 0 | S16: 0 | T16: 0 | U16: 0 | V16: 0 | W16: =SUBTOTAL(9,C16:V16) -> 0 | X16: 0 | Y16: 0 | Z16: 0 | AA16: 2 | AB16: 0 | AC16: 0 | AD16: 0 | AE16: =SUBTOTAL(9,X16:AD16) -> 2 | AF16: 0 | AG16: 0 | AH16: 0 | AI16: 0 | AJ16: 0 | AK16: 0 | AL16: 0 | AM16: 0 | AN16: 0 | AO16: 0 | AP16: =SUBTOTAL(9,AI16:AO16) -> 0 | AQ16: 0 | AR16: 0 | AS16: 0 | AT16: 0 | AU16: =SUBTOTAL(9,AQ16:AT16) -> 0 | AV16: 0 | AW16: 0 | AX16: 0 | AY16: =SUM(AV16:AX16) -> 0 | AZ16: 30 | BA16: 0 | BB16: 0 | BC16: 0 | BD16: 0 | BE16: 0 | BF16: 0 | BG16: 0 | BH16: 0 | BI16: 0 | BJ16: 0 | BK16: 0 | BL16: =SUBTOTAL(9,AZ16:BK16) -> 30 | BM16: 0 | BN16: 0 | BO16: 0 | BP16: 0 | BQ16: 0 | BR16: 0 | BS16: 0 | BT16: 0 | BU16: 0 | BV16: 0 | BW16: 0 | BX16: 0 | BY16: 0 | BZ16: 0 | CA16: =SUBTOTAL(9,BM16:BZ16) -> 0 | CB16: 0 | CC16: 9 | CD16: 0 | CE16: 0 | CF16: 0 | CG16: 0 | CH16: 0 | CI16: 0 | CJ16: =SUBTOTAL(9,CC16:CI16) -> 9 | CK16: 0 | CL16: 0 | CM16: =SUM(CK16:CL16) -> 0 | CN16: 0 | CO16: 0 | CP16: 0 | CQ16: 0 | CR16: 0 | CS16: 0 | CT16: 0 | CU16: 0 | CV16: 0 | CW16: 0 | CX16: 0 | CY16: 0 | CZ16: 0 | DA16: 0 | DB16: 0 | DC16: =SUBTOTAL(9,CN16:DB16) -> 0 | DD16: 0 | DE16: 0 | DF16: 0 | DG16: 0 | DH16: 0 | DI16: 0 | DJ16: 0 | DK16: 0 | DL16: =SUBTOTAL(9,DD16:DK16) -> 0 | DM16: 0 | DN16: 0 | DO16: 0 | DP16: 0 | DQ16: 0 | DR16: 0 | DS16: 0 | DT16: =SUBTOTAL(9,DM16:DS16) -> 0 | DU16: 0 | DV16: 0 | DW16: 0 | DX16: 0 | DY16: 0 | DZ16: =SUBTOTAL(9,DU16:DY16) -> 0 | EA16: =SUM(DT16,DL16,DC16,CM16,CJ16,CA16,BL16,AY16,AU16,AP16,AE16,W16,DZ16) -> 41
B17: น่าน | C17: 0 | D17: 0 | E17: 0 | F17: 0 | G17: 0 | H17: 0 | I17: 0 | J17: 0 | K17: 0 | L17: 0 | M17: 0 | N17: 0 | O17: 0 | P17: 0 | Q17: 0 | R17: 0 | S17: 0 | T17: 0 | U17: 0 | V17: 0 | W17: =SUBTOTAL(9,C17:V17) -> 0 | X17: 0 | Y17: 0 | Z17: 0 | AA17: 0 | AB17: 0 | AC17: 0 | AD17: 0 | AE17: =SUBTOTAL(9,X17:AD17) -> 0 | AF17: 0 | AG17: 0 | AH17: 0 | AI17: 0 | AJ17: 0 | AK17: 0 | AL17: 0 | AM17: 0 | AN17: 0 | AO17: 0 | AP17: =SUBTOTAL(9,AI17:AO17) -> 0 | AQ17: 0 | AR17: 0 | AS17: 15 | AT17: 0 | AU17: =SUBTOTAL(9,AQ17:AT17) -> 15 | AV17: 0 | AW17: 0 | AX17: 0 | AY17: =SUM(AV17:AX17) -> 0 | AZ17: 3 | BA17: 0 | BB17: 0 | BC17: 0 | BD17: 0 | BE17: 0 | BF17: 0 | BG17: 0 | BH17: 7 | BI17: 0 | BJ17: 0 | BK17: 0 | BL17: =SUBTOTAL(9,AZ17:BK17) -> 10 | BM17: 0 | BN17: 0 | BO17: 0 | BP17: 0 | BQ17: 0 | BR17: 0 | BS17: 0 | BT17: 0 | BU17: 0 | BV17: 0 | BW17: 0 | BX17: 0 | BY17: 0 | BZ17: 0 | CA17: =SUBTOTAL(9,BM17:BZ17) -> 0 | CB17: 0 | CC17: 0 | CD17: 0 | CE17: 0 | CF17: 0 | CG17: 0 | CH17: 0 | CI17: 0 | CJ17: =SUBTOTAL(9,CC17:CI17) -> 0 | CK17: 0 | CL17: 0 | CM17: =SUM(CK17:CL17) -> 0 | CN17: 0 | CO17: 0 | CP17: 0 | CQ17: 0 | CR17: 0 | CS17: 0 | CT17: 0 | CU17: 0 | CV17: 0 | CW17: 0 | CX17: 0 | CY17: 0 | CZ17: 0 | DA17: 0 | DB17: 0 | DC17: =SUBTOTAL(9,CN17:DB17) -> 0 | DD17: 0 | DE17: 0 | DF17: 0 | DG17: 0 | DH17: 0 | DI17: 0 | DJ17: 0 | DK17: 0 | DL17: =SUBTOTAL(9,DD17:DK17) -> 0 | DM17: 0 | DN17: 0 | DO17: 0 | DP17: 0 | DQ17: 0 | DR17: 0 | DS17: 0 | DT17: =SUBTOTAL(9,DM17:DS17) -> 0 | DU17: 0 | DV17: 0 | DW17: 0 | DX17: 0 | DY17: 0 | DZ17: =SUBTOTAL(9,DU17:DY17) -> 0 | EA17: =SUM(DT17,DL17,DC17,CM17,CJ17,CA17,BL17,AY17,AU17,AP17,AE17,W17,DZ17) -> 25
B18: พะเยา | C18: 0 | D18: 0 | E18: 0 | F18: 0 | G18: 0 | H18: 0 | I18: 0 | J18: 0 | K18: 0 | L18: 0 | M18: 0 | N18: 0 | O18: 0 | P18: 0 | Q18: 0 | R18: 0 | S18: 0 | T18: 0 | U18: 0 | V18: 0 | W18: =SUBTOTAL(9,C18:V18) -> 0 | X18: 0 | Y18: 0 | Z18: 0 | AA18: 0 | AB18: 0 | AC18: 0 | AD18: 0 | AE18: =SUBTOTAL(9,X18:AD18) -> 0 | AF18: 0 | AG18: 0 | AH18: 0 | AI18: 0 | AJ18: 0 | AK18: 0 | AL18: 0 | AM18: 0 | AN18: 0 | AO18: 0 | AP18: =SUBTOTAL(9,AI18:AO18) -> 0 | AQ18: 0 | AR18: 0 | AS18: 0 | AT18: 0 | AU18: =SUBTOTAL(9,AQ18:AT18) -> 0 | AV18: 0 | AW18: 0 | AX18: 0 | AY18: =SUM(AV18:AX18) -> 0 | AZ18: 0 | BA18: 0 | BB18: 0 | BC18: 0 | BD18: 0 | BE18: 0 | BF18: 0 | BG18: 0 | BH18: 0 | BI18: 0 | BJ18: 0 | BK18: 0 | BL18: =SUBTOTAL(9,AZ18:BK18) -> 0 | BM18: 0 | BN18: 0 | BO18: 0 | BP18: 0 | BQ18: 0 | BR18: 0 | BS18: 0 | BT18: 0 | BU18: 0 | BV18: 0 | BW18: 0 | BX18: 0 | BY18: 0 | BZ18: 0 | CA18: =SUBTOTAL(9,BM18:BZ18) -> 0 | CB18: 0 | CC18: 0 | CD18: 0 | CE18: 0 | CF18: 0 | CG18: 0 | CH18: 0 | CI18: 0 | CJ18: =SUBTOTAL(9,CC18:CI18) -> 0 | CK18: 0 | CL18: 0 | CM18: =SUM(CK18:CL18) -> 0 | CN18: 0 | CO18: 0 | CP18: 0 | CQ18: 0 | CR18: 0 | CS18: 0 | CT18: 0 | CU18: 0 | CV18: 0 | CW18: 0 | CX18: 0 | CY18: 0 | CZ18: 0 | DA18: 0 | DB18: 0 | DC18: =SUBTOTAL(9,CN18:DB18) -> 0 | DD18: 0 | DE18: 0 | DF18: 0 | DG18: 0 | DH18: 0 | DI18: 0 | DJ18: 0 | DK18: 0 | DL18: =SUBTOTAL(9,DD18:DK18) -> 0 | DM18: 0 | DN18: 0 | DO18: 0 | DP18: 0 | DQ18: 0 | DR18: 0 | DS18: 0 | DT18: =SUBTOTAL(9,DM18:DS18) -> 0 | DU18: 0 | DV18: 0 | DW18: 0 | DX18: 0 | DY18: 0 | DZ18: =SUBTOTAL(9,DU18:DY18) -> 0 | EA18: =SUM(DT18,DL18,DC18,CM18,CJ18,CA18,BL18,AY18,AU18,AP18,AE18,W18,DZ18) -> 0
B19: พิจิตร | C19: 0 | D19: 0 | E19: 0 | F19: 0 | G19: 0 | H19: 0 | I19: 0 | J19: 0 | K19: 0 | L19: 0 | M19: 0 | N19: 0 | O19: 0 | P19: 0 | Q19: 0 | R19: 0 | S19: 0 | T19: 0 | U19: 0 | V19: 0 | W19: =SUBTOTAL(9,C19:V19) -> 0 | X19: 0 | Y19: 0 | Z19: 0 | AA19: 0 | AB19: 0 | AC19: 0 | AD19: 0 | AE19: =SUBTOTAL(9,X19:AD19) -> 0 | AF19: 0 | AG19: 0 | AH19: 0 | AI19: 0 | AJ19: 0 | AK19: 0 | AL19: 0 | AM19: 0 | AN19: 0 | AO19: 0 | AP19: =SUBTOTAL(9,AI19:AO19) -> 0 | AQ19: 0 | AR19: 0 | AS19: 0 | AT19: 0 | AU19: =SUBTOTAL(9,AQ19:AT19) -> 0 | AV19: 0 | AW19: 0 | AX19: 0 | AY19: =SUM(AV19:AX19) -> 0 | AZ19: 0 | BA19: 0 | BB19: 0 | BC19: 0 | BD19: 0 | BE19: 0 | BF19: 0 | BG19: 0 | BH19: 0 | BI19: 0 | BJ19: 0 | BK19: 0 | BL19: =SUBTOTAL(9,AZ19:BK19) -> 0 | BM19: 0 | BN19: 0 | BO19: 0 | BP19: 0 | BQ19: 0 | BR19: 0 | BS19: 0 | BT19: 0 | BU19: 0 | BV19: 0 | BW19: 0 | BX19: 0 | BY19: 0 | BZ19: 0 | CA19: =SUBTOTAL(9,BM19:BZ19) -> 0 | CB19: 0 | CC19: 0 | CD19: 0 | CE19: 65 | CF19: 0 | CG19: 0 | CH19: 0 | CI19: 0 | CJ19: =SUBTOTAL(9,CC19:CI19) -> 65 | CK19: 0 | CL19: 0 | CM19: =SUM(CK19:CL19) -> 0 | CN19: 0 | CO19: 0 | CP19: 0 | CQ19: 0 | CR19: 0 | CS19: 0 | CT19: 0 | CU19: 0 | CV19: 0 | CW19: 0 | CX19: 0 | CY19: 0 | CZ19: 0 | DA19: 0 | DB19: 0 | DC19: =SUBTOTAL(9,CN19:DB19) -> 0 | DD19: 0 | DE19: 0 | DF19: 0 | DG19: 0 | DH19: 0 | DI19: 0 | DJ19: 0 | DK19: 0 | DL19: =SUBTOTAL(9,DD19:DK19) -> 0 | DM19: 0 | DN19: 0 | DO19: 0 | DP19: 0 | DQ19: 0 | DR19: 0 | DS19: 0 | DT19: =SUBTOTAL(9,DM19:DS19) -> 0 | DU19: 0 | DV19: 0 | DW19: 0 | DX19: 0 | DY19: 0 | DZ19: =SUBTOTAL(9,DU19:DY19) -> 0 | EA19: =SUM(DT19,DL19,DC19,CM19,CJ19,CA19,BL19,AY19,AU19,AP19,AE19,W19,DZ19) -> 65
B20: พิษณุโลก | C20: 0 | D20: 0 | E20: 0 | F20: 0 | G20: 0 | H20: 0 | I20: 0 | J20: 0 | K20: 0 | L20: 0 | M20: 0 | N20: 0 | O20: 0 | P20: 0 | Q20: 0 | R20: 0 | S20: 0 | T20: 0 | U20: 0 | V20: 0 | W20: =SUBTOTAL(9,C20:V20) -> 0 | X20: 0 | Y20: 0 | Z20: 0 | AA20: 0 | AB20: 0 | AC20: 0 | AD20: 0 | AE20: =SUBTOTAL(9,X20:AD20) -> 0 | AF20: 0 | AG20: 0 | AH20: 0 | AI20: 0 | AJ20: 0 | AK20: 0 | AL20: 0 | AM20: 0 | AN20: 0 | AO20: 0 | AP20: =SUBTOTAL(9,AI20:AO20) -> 0 | AQ20: 0 | AR20: 0 | AS20: 0 | AT20: 0 | AU20: =SUBTOTAL(9,AQ20:AT20) -> 0 | AV20: 0 | AW20: 0 | AX20: 0 | AY20: =SUM(AV20:AX20) -> 0 | AZ20: 0 | BA20: 0 | BB20: 0 | BC20: 0 | BD20: 0 | BE20: 0 | BF20: 0 | BG20: 0 | BH20: 0 | BI20: 0 | BJ20: 0 | BK20: 0 | BL20: =SUBTOTAL(9,AZ20:BK20) -> 0 | BM20: 0 | BN20: 0 | BO20: 0 | BP20: 0 | BQ20: 0 | BR20: 0 | BS20: 0 | BT20: 0 | BU20: 0 | BV20: 0 | BW20: 0 | BX20: 0 | BY20: 0 | BZ20: 0 | CA20: =SUBTOTAL(9,BM20:BZ20) -> 0 | CB20: 0 | CC20: 0 | CD20: 0 | CE20: 0 | CF20: 0 | CG20: 0 | CH20: 0 | CI20: 0 | CJ20: =SUBTOTAL(9,CC20:CI20) -> 0 | CK20: 0 | CL20: 0 | CM20: =SUM(CK20:CL20) -> 0 | CN20: 0 | CO20: 0 | CP20: 0 | CQ20: 0 | CR20: 0 | CS20: 0 | CT20: 0 | CU20: 0 | CV20: 0 | CW20: 0 | CX20: 0 | CY20: 0 | CZ20: 0 | DA20: 0 | DB20: 0 | DC20: =SUBTOTAL(9,CN20:DB20) -> 0 | DD20: 0 | DE20: 0 | DF20: 0 | DG20: 0 | DH20: 0 | DI20: 0 | DJ20: 0 | DK20: 0 | DL20: =SUBTOTAL(9,DD20:DK20) -> 0 | DM20: 0 | DN20: 0 | DO20: 0 | DP20: 0 | DQ20: 0 | DR20: 0 | DS20: 0 | DT20: =SUBTOTAL(9,DM20:DS20) -> 0 | DU20: 0 | DV20: 0 | DW20: 0 | DX20: 0 | DY20: 0 | DZ20: =SUBTOTAL(9,DU20:DY20) -> 0 | EA20: =SUM(DT20,DL20,DC20,CM20,CJ20,CA20,BL20,AY20,AU20,AP20,AE20,W20,DZ20) -> 0
B21: เพชรบูรณ์ | C21: 0 | D21: 0 | E21: 0 | F21: 0 | G21: 0 | H21: 0 | I21: 0 | J21: 0 | K21: 0 | L21: 0 | M21: 0 | N21: 0 | O21: 0 | P21: 0 | Q21: 0 | R21: 0 | S21: 0 | T21: 0 | U21: 0 | V21: 0 | W21: =SUBTOTAL(9,C21:V21) -> 0 | X21: 0 | Y21: 0 | Z21: 0 | AA21: 0 | AB21: 0 | AC21: 0 | AD21: 0 | AE21: =SUBTOTAL(9,X21:AD21) -> 0 | AF21: 0 | AG21: 0 | AH21: 0 | AI21: 0 | AJ21: 0 | AK21: 0 | AL21: 0 | AM21: 0 | AN21: 0 | AO21: 0 | AP21: =SUBTOTAL(9,AI21:AO21) -> 0 | AQ21: 0 | AR21: 0 | AS21: 0 | AT21: 0 | AU21: =SUBTOTAL(9,AQ21:AT21) -> 0 | AV21: 0 | AW21: 0 | AX21: 0 | AY21: =SUM(AV21:AX21) -> 0 | AZ21: 0 | BA21: 0 | BB21: 0 | BC21: 0 | BD21: 0 | BE21: 0 | BF21: 0 | BG21: 0 | BH21: 0 | BI21: 0 | BJ21: 0 | BK21: 0 | BL21: =SUBTOTAL(9,AZ21:BK21) -> 0 | BM21: 0 | BN21: 0 | BO21: 0 | BP21: 0 | BQ21: 0 | BR21: 0 | BS21: 0 | BT21: 0 | BU21: 0 | BV21: 0 | BW21: 0 | BX21: 0 | BY21: 0 | BZ21: 0 | CA21: =SUBTOTAL(9,BM21:BZ21) -> 0 | CB21: 0 | CC21: 0 | CD21: 0 | CE21: 0 | CF21: 0 | CG21: 0 | CH21: 0 | CI21: 0 | CJ21: =SUBTOTAL(9,CC21:CI21) -> 0 | CK21: 0 | CL21: 0 | CM21: =SUM(CK21:CL21) -> 0 | CN21: 0 | CO21: 0 | CP21: 0 | CQ21: 0 | CR21: 0 | CS21: 0 | CT21: 0 | CU21: 0 | CV21: 0 | CW21: 0 | CX21: 0 | CY21: 0 | CZ21: 0 | DA21: 0 | DB21: 0 | DC21: =SUBTOTAL(9,CN21:DB21) -> 0 | DD21: 0 | DE21: 0 | DF21: 0 | DG21: 0 | DH21: 0 | DI21: 0 | DJ21: 0 | DK21: 0 | DL21: =SUBTOTAL(9,DD21:DK21) -> 0 | DM21: 0 | DN21: 0 | DO21: 0 | DP21: 0 | DQ21: 0 | DR21: 0 | DS21: 0 | DT21: =SUBTOTAL(9,DM21:DS21) -> 0 | DU21: 0 | DV21: 0 | DW21: 0 | DX21: 0 | DY21: 0 | DZ21: =SUBTOTAL(9,DU21:DY21) -> 0 | EA21: =SUM(DT21,DL21,DC21,CM21,CJ21,CA21,BL21,AY21,AU21,AP21,AE21,W21,DZ21) -> 0
B22: แพร่ | C22: 0 | D22: 0 | E22: 0 | F22: 0 | G22: 0 | H22: 0 | I22: 0 | J22: 0 | K22: 0 | L22: 0 | M22: 0 | N22: 0 | O22: 0 | P22: 0 | Q22: 0 | R22: 0 | S22: 0 | T22: 0 | U22: 0 | V22: 0 | W22: =SUBTOTAL(9,C22:V22) -> 0 | X22: 0 | Y22: 0 | Z22: 0 | AA22: 0 | AB22: 0 | AC22: 0 | AD22: 0 | AE22: =SUBTOTAL(9,X22:AD22) -> 0 | AF22: 0 | AG22: 0 | AH22: 0 | AI22: 0 | AJ22: 0 | AK22: 0 | AL22: 0 | AM22: 0 | AN22: 0 | AO22: 0 | AP22: =SUBTOTAL(9,AI22:AO22) -> 0 | AQ22: 0 | AR22: 0 | AS22: 0 | AT22: 0 | AU22: =SUBTOTAL(9,AQ22:AT22) -> 0 | AV22: 0 | AW22: 0 | AX22: 0 | AY22: =SUM(AV22:AX22) -> 0 | AZ22: 0 | BA22: 0 | BB22: 0 | BC22: 0 | BD22: 0 | BE22: 0 | BF22: 0 | BG22: 0 | BH22: 0 | BI22: 0 | BJ22: 0 | BK22: 0 | BL22: =SUBTOTAL(9,AZ22:BK22) -> 0 | BM22: 0 | BN22: 0 | BO22: 0 | BP22: 0 | BQ22: 0 | BR22: 0 | BS22: 0 | BT22: 0 | BU22: 0 | BV22: 0 | BW22: 0 | BX22: 0 | BY22: 0 | BZ22: 0 | CA22: =SUBTOTAL(9,BM22:BZ22) -> 0 | CB22: 0 | CC22: 0 | CD22: 0 | CE22: 0 | CF22: 0 | CG22: 0 | CH22: 0 | CI22: 0 | CJ22: =SUBTOTAL(9,CC22:CI22) -> 0 | CK22: 0 | CL22: 0 | CM22: =SUM(CK22:CL22) -> 0 | CN22: 0 | CO22: 0 | CP22: 0 | CQ22: 0 | CR22: 0 | CS22: 0 | CT22: 0 | CU22: 0 | CV22: 0 | CW22: 0 | CX22: 0 | CY22: 0 | CZ22: 0 | DA22: 0 | DB22: 0 | DC22: =SUBTOTAL(9,CN22:DB22) -> 0 | DD22: 0 | DE22: 0 | DF22: 0 | DG22: 0 | DH22: 0 | DI22: 0 | DJ22: 0 | DK22: 0 | DL22: =SUBTOTAL(9,DD22:DK22) -> 0 | DM22: 0 | DN22: 0 | DO22: 0 | DP22: 0 | DQ22: 0 | DR22: 0 | DS22: 0 | DT22: =SUBTOTAL(9,DM22:DS22) -> 0 | DU22: 0 | DV22: 0 | DW22: 0 | DX22: 0 | DY22: 0 | DZ22: =SUBTOTAL(9,DU22:DY22) -> 0 | EA22: =SUM(DT22,DL22,DC22,CM22,CJ22,CA22,BL22,AY22,AU22,AP22,AE22,W22,DZ22) -> 0
B23: แม่ฮ่องสอน | C23: 0 | D23: 0 | E23: 0 | F23: 0 | G23: 0 | H23: 0 | I23: 0 | J23: 0 | K23: 0 | L23: 0 | M23: 0 | N23: 0 | O23: 0 | P23: 0 | Q23: 0 | R23: 0 | S23: 0 | T23: 0 | U23: 0 | V23: 0 | W23: =SUBTOTAL(9,C23:V23) -> 0 | X23: 0 | Y23: 0 | Z23: 0 | AA23: 0 | AB23: 0 | AC23: 0 | AD23: 0 | AE23: =SUBTOTAL(9,X23:AD23) -> 0 | AF23: 0 | AG23: 0 | AH23: 0 | AI23: 0 | AJ23: 0 | AK23: 0 | AL23: 0 | AM23: 0 | AN23: 0 | AO23: 0 | AP23: =SUBTOTAL(9,AI23:AO23) -> 0 | AQ23: 0 | AR23: 0 | AS23: 0 | AT23: 0 | AU23: =SUBTOTAL(9,AQ23:AT23) -> 0 | AV23: 0 | AW23: 0 | AX23: 0 | AY23: =SUM(AV23:AX23) -> 0 | AZ23: 0 | BA23: 0 | BB23: 0 | BC23: 0 | BD23: 0 | BE23: 0 | BF23: 0 | BG23: 0 | BH23: 0 | BI23: 0 | BJ23: 0 | BK23: 0 | BL23: =SUBTOTAL(9,AZ23:BK23) -> 0 | BM23: 0 | BN23: 0 | BO23: 0 | BP23: 0 | BQ23: 0 | BR23: 0 | BS23: 0 | BT23: 0 | BU23: 0 | BV23: 0 | BW23: 0 | BX23: 0 | BY23: 0 | BZ23: 0 | CA23: =SUBTOTAL(9,BM23:BZ23) -> 0 | CB23: 0 | CC23: 0 | CD23: 0 | CE23: 0 | CF23: 0 | CG23: 0 | CH23: 0 | CI23: 0 | CJ23: =SUBTOTAL(9,CC23:CI23) -> 0 | CK23: 0 | CL23: 0 | CM23: =SUM(CK23:CL23) -> 0 | CN23: 0 | CO23: 0 | CP23: 0 | CQ23: 0 | CR23: 0 | CS23: 0 | CT23: 0 | CU23: 0 | CV23: 0 | CW23: 0 | CX23: 0 | CY23: 0 | CZ23: 0 | DA23: 0 | DB23: 0 | DC23: =SUBTOTAL(9,CN23:DB23) -> 0 | DD23: 0 | DE23: 0 | DF23: 0 | DG23: 0 | DH23: 0 | DI23: 0 | DJ23: 0 | DK23: 0 | DL23: =SUBTOTAL(9,DD23:DK23) -> 0 | DM23: 0 | DN23: 0 | DO23: 0 | DP23: 0 | DQ23: 0 | DR23: 0 | DS23: 0 | DT23: =SUBTOTAL(9,DM23:DS23) -> 0 | DU23: 0 | DV23: 0 | DW23: 0 | DX23: 0 | DY23: 0 | DZ23: =SUBTOTAL(9,DU23:DY23) -> 0 | EA23: =SUM(DT23,DL23,DC23,CM23,CJ23,CA23,BL23,AY23,AU23,AP23,AE23,W23,DZ23) -> 0
B24: ลำปาง | C24: 0 | D24: 0 | E24: 0 | F24: 0 | G24: 0 | H24: 0 | I24: 0 | J24: 0 | K24: 0 | L24: 0 | M24: 0 | N24: 0 | O24: 0 | P24: 0 | Q24: 0 | R24: 0 | S24: 0 | T24: 0 | U24: 0 | V24: 0 | W24: =SUBTOTAL(9,C24:V24) -> 0 | X24: 0 | Y24: 0 | Z24: 0 | AA24: 0 | AB24: 0 | AC24: 0 | AD24: 0 | AE24: =SUBTOTAL(9,X24:AD24) -> 0 | AF24: 0 | AG24: 0 | AH24: 0 | AI24: 0 | AJ24: 0 | AK24: 0 | AL24: 0 | AM24: 0 | AN24: 0 | AO24: 0 | AP24: =SUBTOTAL(9,AI24:AO24) -> 0 | AQ24: 0 | AR24: 0 | AS24: 0 | AT24: 0 | AU24: =SUBTOTAL(9,AQ24:AT24) -> 0 | AV24: 0 | AW24: 0 | AX24: 0 | AY24: =SUM(AV24:AX24) -> 0 | AZ24: 0 | BA24: 0 | BB24: 0 | BC24: 0 | BD24: 0 | BE24: 0 | BF24: 0 | BG24: 0 | BH24: 0 | BI24: 0 | BJ24: 0 | BK24: 0 | BL24: =SUBTOTAL(9,AZ24:BK24) -> 0 | BM24: 0 | BN24: 0 | BO24: 0 | BP24: 0 | BQ24: 0 | BR24: 0 | BS24: 0 | BT24: 0 | BU24: 0 | BV24: 0 | BW24: 0 | BX24: 0 | BY24: 0 | BZ24: 0 | CA24: =SUBTOTAL(9,BM24:BZ24) -> 0 | CB24: 0 | CC24: 0 | CD24: 0 | CE24: 0 | CF24: 0 | CG24: 0 | CH24: 0 | CI24: 0 | CJ24: =SUBTOTAL(9,CC24:CI24) -> 0 | CK24: 0 | CL24: 0 | CM24: =SUM(CK24:CL24) -> 0 | CN24: 0 | CO24: 0 | CP24: 0 | CQ24: 0 | CR24: 0 | CS24: 0 | CT24: 0 | CU24: 0 | CV24: 0 | CW24: 0 | CX24: 0 | CY24: 0 | CZ24: 0 | DA24: 0 | DB24: 0 | DC24: =SUBTOTAL(9,CN24:DB24) -> 0 | DD24: 0 | DE24: 0 | DF24: 0 | DG24: 0 | DH24: 0 | DI24: 0 | DJ24: 0 | DK24: 0 | DL24: =SUBTOTAL(9,DD24:DK24) -> 0 | DM24: 0 | DN24: 0 | DO24: 0 | DP24: 0 | DQ24: 0 | DR24: 0 | DS24: 0 | DT24: =SUBTOTAL(9,DM24:DS24) -> 0 | DU24: 0 | DV24: 0 | DW24: 0 | DX24: 0 | DY24: 0 | DZ24: =SUBTOTAL(9,DU24:DY24) -> 0 | EA24: =SUM(DT24,DL24,DC24,CM24,CJ24,CA24,BL24,AY24,AU24,AP24,AE24,W24,DZ24) -> 0
... B27: อุทัยธานี | C27: 0 | D27: 0 | E27: 0 | F27: 0 | G27: 0 | H27: 0 | I27: 0 | J27: 0 | K27: 0 | L27: 0 | M27: 0 | N27: 0 | O27: 0 | P27: 0 | Q27: 0 | R27: 0 | S27: 0 | T27: 0 | U27: 0 | V27: 0 | W27: =SUBTOTAL(9,C27:V27) -> 0 | X27: 0 | Y27: 0 | Z27: 0 | AA27: 0 | AB27: 0 | AC27: 0 | AD27: 0 | AE27: =SUBTOTAL(9,X27:AD27) -> 0 | AF27: 0 | AG27: 0 | AH27: 0 | AI27: 0 | AJ27: 0 | AK27: 0 | AL27: 0 | AM27: 0 | AN27: 0 | AO27: 0 | AP27: =SUBTOTAL(9,AI27:AO27) -> 0 | AQ27: 0 | AR27: 0 | AS27: 0 | AT27: 0 | AU27: =SUBTOTAL(9,AQ27:AT27) -> 0 | AV27: 0 | AW27: 0 | AX27: 0 | AY27: =SUM(AV27:AX27) -> 0 | AZ27: 0 | BA27: 0 | BB27: 0 | BC27: 0 | BD27: 0 | BE27: 0 | BF27: 0 | BG27: 0 | BH27: 0 | BI27: 0 | BJ27: 0 | BK27: 0 | BL27: =SUBTOTAL(9,AZ27:BK27) -> 0 | BM27: 0 | BN27: 0 | BO27: 0 | BP27: 0 | BQ27: 0 | BR27: 0 | BS27: 0 | BT27: 0 | BU27: 0 | BV27: 0 | BW27: 0 | BX27: 0 | BY27: 0 | BZ27: 0 | CA27: =SUBTOTAL(9,BM27:BZ27) -> 0 | CB27: 0 | CC27: 0 | CD27: 0 | CE27: 0 | CF27: 0 | CG27: 0 | CH27: 0 | CI27: 0 | CJ27: =SUBTOTAL(9,CC27:CI27) -> 0 | CK27: 0 | CL27: 0 | CM27: =SUM(CK27:CL27) -> 0 | CN27: 0 | CO27: 0 | CP27: 0 | CQ27: 0 | CR27: 0 | CS27: 0 | CT27: 0 | CU27: 0 | CV27: 0 | CW27: 0 | CX27: 0 | CY27: 0 | CZ27: 0 | DA27: 0 | DB27: 0 | DC27: =SUBTOTAL(9,CN27:DB27) -> 0 | DD27: 0 | DE27: 0 | DF27: 0 | DG27: 0 | DH27: 0 | DI27: 0 | DJ27: 0 | DK27: 0 | DL27: =SUBTOTAL(9,DD27:DK27) -> 0 | DM27: 0 | DN27: 0 | DO27: 0 | DP27: 0 | DQ27: 0 | DR27: 0 | DS27: 0 | DT27: =SUBTOTAL(9,DM27:DS27) -> 0 | DU27: 0 | DV27: 0 | DW27: 0 | DX27: 0 | DY27: 0 | DZ27: =SUBTOTAL(9,DU27:DY27) -> 0 | EA27: =SUM(DT27,DL27,DC27,CM27,CJ27,CA27,BL27,AY27,AU27,AP27,AE27,W27,DZ27) -> 0
B28: อุตรดิตถ์ | C28: 0 | D28: 0 | E28: 0 | F28: 0 | G28: 0 | H28: 0 | I28: 0 | J28: 0 | K28: 0 | L28: 0 | M28: 0 | N28: 0 | O28: 0 | P28: 0 | Q28: 0 | R28: 0 | S28: 0 | T28: 0 | U28: 0 | V28: 0 | W28: =SUBTOTAL(9,C28:V28) -> 0 | X28: 0 | Y28: 0 | Z28: 0 | AA28: 0 | AB28: 0 | AC28: 0 | AD28: 0 | AE28: =SUBTOTAL(9,X28:AD28) -> 0 | AF28: 0 | AG28: 0 | AH28: 0 | AI28: 0 | AJ28: 0 | AK28: 0 | AL28: 0 | AM28: 0 | AN28: 0 | AO28: 0 | AP28: =SUBTOTAL(9,AI28:AO28) -> 0 | AQ28: 0 | AR28: 0 | AS28: 0 | AT28: 0 | AU28: =SUBTOTAL(9,AQ28:AT28) -> 0 | AV28: =SUM(AR28:AR28) -> 0 | AW28: 0 | AX28: =SUM(AU28:AU28) -> 0 | AY28: =SUM(AV28:AX28) -> 0 | AZ28: 0 | BA28: 0 | BB28: 0 | BC28: 0 | BD28: 0 | BE28: 0 | BF28: 0 | BG28: 0 | BH28: 0 | BI28: 0 | BJ28: 0 | BK28: 0 | BL28: =SUBTOTAL(9,AZ28:BK28) -> 0 | BM28: 0 | BN28: 0 | BO28: 0 | BP28: 0 | BQ28: 0 | BR28: 0 | BS28: 0 | BT28: 0 | BU28: 0 | BV28: 0 | BW28: 0 | BX28: 0 | BY28: 0 | BZ28: 0 | CA28: =SUBTOTAL(9,BM28:BZ28) -> 0 | CB28: 0 | CC28: 0 | CD28: 0 | CE28: 0 | CF28: 0 | CG28: 0 | CH28: 0 | CI28: 0 | CJ28: =SUBTOTAL(9,CC28:CI28) -> 0 | CK28: 0 | CL28: 0 | CM28: =SUM(CK28:CL28) -> 0 | CN28: 0 | CO28: 0 | CP28: 0 | CQ28: 0 | CR28: 0 | CS28: 0 | CT28: 0 | CU28: 0 | CV28: 0 | CW28: 0 | CX28: 0 | CY28: 0 | CZ28: 0 | DA28: 0 | DB28: 0 | DC28: =SUBTOTAL(9,CN28:DB28) -> 0 | DD28: 0 | DE28: 0 | DF28: 0 | DG28: 0 | DH28: 0 | DI28: 0 | DJ28: 0 | DK28: 0 | DL28: =SUBTOTAL(9,DD28:DK28) -> 0 | DM28: 0 | DN28: 0 | DO28: 0 | DP28: 0 | DQ28: 0 | DR28: 0 | DS28: 0 | DT28: =SUBTOTAL(9,DM28:DS28) -> 0 | DU28: 0 | DV28: 0 | DW28: 0 | DX28: 0 | DY28: 0 | DZ28: =SUBTOTAL(9,DU28:DY28) -> 0 | EA28: =SUM(DT28,DL28,DC28,CM28,CJ28,CA28,BL28,AY28,AU28,AP28,AE28,W28,DZ28) -> 0
A29: ภาคตะวันออกเฉียงเหนือ 15 จังหวัด | C29: =SUM(C30:C49) -> 0 | D29: =SUM(D30:D49) -> 0 | E29: =SUM(E30:E49) -> 15 | F29: =SUM(F30:F49) -> 0 | G29: =SUM(G30:G49) -> 0 | H29: =SUM(H30:H49) -> 0 | I29: =SUM(I30:I49) -> 0 | J29: =SUM(J30:J49) -> 0 | ... CM29: =SUM(CM30:CM49) -> 0 | CN29: =SUM(CN31:CN49) -> 0 | CO29: =SUM(CO31:CO49) -> 0 | CP29: =SUM(CP31:CP49) -> 0 | CQ29: =SUM(CQ30:CQ49) -> 0 | CR29: =SUM(CR30:CR49) -> 0 | CS29: =SUM(CS30:CS49) -> 0 | CT29: =SUM(CT30:CT49) -> 0 | CU29: =SUM(CU30:CU49) -> 0 | CV29: =SUM(CV30:CV49) -> 0 | CW29: =SUM(CW30:CW49) -> 0 | CX29: =SUM(CX30:CX49) -> 0 | ... DZ29: =SUM(DZ30:DZ49) -> 0 | EA29: =SUM(DT29,DL29,DC29,CM29,CJ29,CA29,BL29,AY29,AU29,AP29,AE29,W29,DZ29) -> 13915.72
B30: กาฬสินธุ์ | C30: 0 | D30: 0 | E30: 0 | F30: 0 | G30: 0 | H30: 0 | I30: 0 | J30: 0 | K30: 0 | L30: 0 | M30: 0 | N30: 0 | O30: 0 | P30: 0 | Q30: 0 | R30: 0 | S30: 0 | T30: 0 | U30: 0 | V30: 0 | W30: =SUBTOTAL(9,C30:V30) -> 0 | X30: 0 | Y30: 0 | Z30: 0 | AA30: 0 | AB30: 0 | AC30: 0 | AD30: 0 | AE30: =SUBTOTAL(9,X30:AD30) -> 0 | AF30: 0 | AG30: 0 | AH30: 0 | AI30: 0 | AJ30: 0 | AK30: 0 | AL30: 0 | AM30: 0 | AN30: 0 | AO30: 0 | AP30: =SUBTOTAL(9,AI30:AO30) -> 0 | AQ30: 0 | AR30: 0 | AT30: 0 | AU30: =SUBTOTAL(9,AQ30:AT30) -> 0 | AV30: 0 | AW30: 0 | AX30: 0 | AY30: =SUM(AV30:AX30) -> 0 | AZ30: 0 | BA30: 0 | BB30: 0 | BC30: 0 | BD30: 0 | BE30: 0 | BF30: 0 | BG30: 0 | BH30: 0 | BI30: 0 | BJ30: 0 | BK30: 0 | BL30: =SUBTOTAL(9,AZ30:BK30) -> 0 | BM30: 0 | BN30: 0 | BO30: 0 | BP30: 0 | BQ30: 0 | BR30: 0 | BS30: 0 | BT30: 0 | BU30: 0 | BV30: 0 | BW30: 0 | BX30: 0 | BY30: 0 | BZ30: 0 | CA30: =SUBTOTAL(9,BM30:BZ30) -> 0 | CB30: 0 | CC30: 0 | CD30: 0 | CE30: 0 | CF30: 0 | CG30: 0 | CH30: 0 | CI30: 0 | CJ30: =SUBTOTAL(9,CC30:CI30) -> 0 | CK30: 0 | CL30: 0 | CM30: =SUM(CK30:CL30) -> 0 | CN30: 0 | CO30: 0 | CP30: 0 | CQ30: 0 | CR30: 0 | CS30: 0 | CT30: 0 | CV30: 0 | CW30: 0 | CX30: 0 | CY30: 0 | CZ30: 0 | DA30: 0 | DB30: 0 | DC30: =SUBTOTAL(9,CN30:DB30) -> 0 | DD30: 0 | DE30: 0 | DF30: 0 | DG30: 0 | DH30: 0 | DI30: 0 | DJ30: 0 | DK30: 0 | DL30: =SUBTOTAL(9,DD30:DK30) -> 0 | DM30: 0 | DN30: 0 | DO30: 0 | DP30: 0 | DQ30: 0 | DR30: 0 | DS30: 0 | DT30: =SUBTOTAL(9,DM30:DS30) -> 0 | DU30: 0 | DV30: 0 | DW30: 0 | DX30: 0 | DY30: 0 | DZ30: =SUBTOTAL(9,DU30:DY30) -> 0 | EA30: =SUM(DT30,DL30,DC30,CM30,CJ30,CA30,BL30,AY30,AU30,AP30,AE30,W30,DZ30) -> 0
B31: ขอนแก่น | C31: 0 | D31: 0 | E31: 0 | F31: 0 | G31: 0 | H31: 0 | I31: 0 | J31: 0 | K31: 0 | L31: 0 | M31: 0 | N31: 0 | O31: 0 | P31: 0 | Q31: 0 | R31: 0 | S31: 0 | T31: 0 | U31: 0 | V31: 0 | W31: =SUBTOTAL(9,C31:V31) -> 0 | X31: 0 | Y31: 0 | Z31: 0 | AA31: 0 | AB31: 0 | AC31: 0 | AD31: 0 | AE31: =SUBTOTAL(9,X31:AD31) -> 0 | AF31: 0 | AG31: 0 | AH31: 0 | AI31: 0 | AJ31: 0 | AK31: 0 | AL31: 0 | AM31: 0 | AN31: 0 | AO31: 0 | AP31: =SUBTOTAL(9,AI31:AO31) -> 0 | AQ31: 0 | AR31: 0 | AS31: 0 | AT31: 0 | AU31: =SUBTOTAL(9,AQ31:AT31) -> 0 | AV31: 0 | AW31: 0 | AX31: 0 | AY31: =SUM(AV31:AX31) -> 0 | AZ31: 0 | BA31: 0 | BB31: 0 | BC31: 0 | BD31: 0 | BE31: 0 | BF31: 0 | BG31: 0 | BH31: 0 | BI31: 0 | BJ31: 0 | BK31: 0 | BL31: =SUBTOTAL(9,AZ31:BK31) -> 0 | BM31: 0 | BN31: 0 | BO31: 0 | BP31: 0 | BQ31: 0 | BR31: 0 | BS31: 0 | BT31: 0 | BU31: 0 | BV31: 0 | BW31: 0 | BX31: 0 | BY31: 0 | BZ31: 0 | CA31: =SUBTOTAL(9,BM31:BZ31) -> 0 | CB31: 0 | CC31: 0 | CD31: 0 | CE31: 0 | CF31: 0 | CG31: 0 | CH31: 0 | CI31: 0 | CJ31: =SUBTOTAL(9,CC31:CI31) -> 0 | CK31: 0 | CL31: 0 | CM31: =SUM(CK31:CL31) -> 0 | CN31: 0 | CO31: 0 | CP31: 0 | CQ31: 0 | CR31: 0 | CS31: 0 | CT31: 0 | CV31: 0 | CW31: 0 | CX31: 0 | CY31: 0 | CZ31: 0 | DA31: 0 | DB31: 0 | DC31: =SUBTOTAL(9,CN31:DB31) -> 0 | DD31: 0 | DE31: 0 | DF31: 0 | DG31: 0 | DH31: 0 | DI31: 0 | DJ31: 0 | DK31: 0 | DL31: =SUBTOTAL(9,DD31:DK31) -> 0 | DM31: 0 | DN31: 0 | DO31: 0 | DP31: 0 | DQ31: 0 | DR31: 0 | DS31: 0 | DT31: =SUBTOTAL(9,DM31:DS31) -> 0 | DU31: 0 | DV31: 0 | DW31: 0 | DX31: 0 | DY31: 0 | DZ31: =SUBTOTAL(9,DU31:DY31) -> 0 | EA31: =SUM(DT31,DL31,DC31,CM31,CJ31,CA31,BL31,AY31,AU31,AP31,AE31,W31,DZ31) -> 0
B32: ชัยภูมิ | C32: 0 | D32: 0 | E32: 0 | F32: 0 | G32: 0 | H32: 0 | I32: 0 | J32: 0 | K32: 0 | L32: 0 | M32: 0 | N32: 0 | O32: 0 | P32: 0 | Q32: 0 | R32: 0 | S32: 0 | T32: 0 | U32: 0 | V32: 0 | W32: =SUBTOTAL(9,C32:V32) -> 0 | X32: 0 | Y32: 0 | Z32: 0 | AA32: 0 | AB32: 0 | AC32: 0 | AD32: 0 | AE32: =SUBTOTAL(9,X32:AD32) -> 0 | AF32: 0 | AG32: 0 | AH32: 0 | AI32: 0 | AJ32: 0 | AK32: 0 | AL32: 0 | AM32: 0 | AN32: 0 | AO32: 0 | AP32: =SUBTOTAL(9,AI32:AO32) -> 0 | AQ32: 0 | AR32: 0 | AS32: 0 | AT32: 0 | AU32: =SUBTOTAL(9,AQ32:AT32) -> 0 | AV32: 0 | AW32: 0 | AX32: 0 | AY32: =SUM(AV32:AX32) -> 0 | AZ32: 0 | BA32: 0 | BB32: 0 | BC32: 0 | BD32: 0 | BE32: 0 | BF32: 0 | BG32: 0 | BH32: 0 | BI32: 0 | BJ32: 0 | BK32: 0 | BL32: =SUBTOTAL(9,AZ32:BK32) -> 0 | BM32: 0 | BN32: 0 | BO32: 0 | BP32: 0 | BQ32: 0 | BR32: 0 | BS32: 0 | BT32: 0 | BU32: 0 | BV32: 0 | BW32: 0 | BX32: 0 | BY32: 0 | BZ32: 0 | CA32: =SUBTOTAL(9,BM32:BZ32) -> 0 | CB32: 0 | CC32: 0 | CD32: 0 | CE32: 0 | CF32: 0 | CG32: 0 | CH32: 0 | CI32: 0 | CJ32: =SUBTOTAL(9,CC32:CI32) -> 0 | CK32: 0 | CL32: 0 | CM32: =SUM(CK32:CL32) -> 0 | CN32: 0 | CO32: 0 | CP32: 0 | CQ32: 0 | CR32: 0 | CS32: 0 | CT32: 0 | CV32: 0 | CW32: 0 | CX32: 0 | CY32: 0 | CZ32: 0 | DA32: 0 | DB32: 0 | DC32: =SUBTOTAL(9,CN32:DB32) -> 0 | DD32: 0 | DE32: 0 | DF32: 0 | DG32: 0 | DH32: 0 | DI32: 0 | DJ32: 0 | DK32: 0 | DL32: =SUBTOTAL(9,DD32:DK32) -> 0 | DM32: 0 | DN32: 0 | DO32: 0 | DP32: 0 | DQ32: 0 | DR32: 0 | DS32: 0 | DT32: =SUBTOTAL(9,DM32:DS32) -> 0 | DU32: 0 | DV32: 0 | DW32: 0 | DX32: 0 | DY32: 0 | DZ32: =SUBTOTAL(9,DU32:DY32) -> 0 | EA32: =SUM(DT32,DL32,DC32,CM32,CJ32,CA32,BL32,AY32,AU32,AP32,AE32,W32,DZ32) -> 0
B33: นครพนม | C33: 0 | D33: 0 | E33: 0 | F33: 0 | G33: 0 | H33: 0 | I33: 0 | J33: 0 | K33: 0 | L33: 0 | M33: 0 | N33: 0 | O33: 0 | P33: 0 | Q33: 0 | R33: 0 | S33: 0 | T33: 0 | U33: 0 | V33: 0 | W33: =SUBTOTAL(9,C33:V33) -> 0 | X33: 0 | Y33: 0 | Z33: 0 | AA33: 0 | AB33: 0 | AC33: 0 | AD33: 0 | AE33: =SUBTOTAL(9,X33:AD33) -> 0 | AF33: 0 | AG33: 0 | AH33: 0 | AI33: 0 | AJ33: 0 | AK33: 0 | AL33: 0 | AM33: 0 | AN33: 0 | AO33: 0 | AP33: =SUBTOTAL(9,AI33:AO33) -> 0 | AQ33: 0 | AR33: 0 | AS33: 0 | AT33: 0 | AU33: =SUBTOTAL(9,AQ33:AT33) -> 0 | AV33: 0 | AW33: 0 | AX33: 0 | AY33: =SUM(AV33:AX33) -> 0 | AZ33: 0 | BA33: 0 | BB33: 0 | BC33: 0 | BD33: 0 | BE33: 0 | BF33: 0 | BG33: 0 | BH33: 0 | BI33: 0 | BJ33: 0 | BK33: 0 | BL33: =SUBTOTAL(9,AZ33:BK33) -> 0 | BM33: 0 | BN33: 0 | BO33: 0 | BP33: 0 | BQ33: 0 | BR33: 0 | BS33: 0 | BT33: 0 | BU33: 0 | BV33: 0 | BW33: 0 | BX33: 0 | BY33: 0 | BZ33: 0 | CA33: =SUBTOTAL(9,BM33:BZ33) -> 0 | CB33: 0 | CC33: 0 | CD33: 0 | CE33: 0 | CF33: 0 | CG33: 0 | CH33: 0 | CI33: 0 | CJ33: =SUBTOTAL(9,CC33:CI33) -> 0 | CK33: 0 | CL33: 0 | CM33: =SUM(CK33:CL33) -> 0 | CN33: 0 | CO33: 0 | CP33: 0 | CQ33: 0 | CR33: 0 | CS33: 0 | CT33: 0 | CV33: 0 | CW33: 0 | CX33: 0 | CY33: 0 | CZ33: 0 | DA33: 0 | DB33: 0 | DC33: =SUBTOTAL(9,CN33:DB33) -> 0 | DD33: 0 | DE33: 0 | DF33: 0 | DG33: 0 | DH33: 0 | DI33: 0 | DJ33: 0 | DK33: 0 | DL33: =SUBTOTAL(9,DD33:DK33) -> 0 | DM33: 0 | DN33: 0 | DO33: 0 | DP33: 0 | DQ33: 0 | DR33: 0 | DS33: 0 | DT33: =SUBTOTAL(9,DM33:DS33) -> 0 | DU33: 0 | DV33: 0 | DW33: 0 | DX33: 0 | DY33: 0 | DZ33: =SUBTOTAL(9,DU33:DY33) -> 0 | EA33: =SUM(DT33,DL33,DC33,CM33,CJ33,CA33,BL33,AY33,AU33,AP33,AE33,W33,DZ33) -> 0
B34: นครราชสีมา | C34: 0 | D34: 0 | E34: 15 | F34: 0 | G34: 0 | H34: 0 | I34: 0 | J34: 0 | K34: 0 | L34: 0 | M34: 0 | N34: 0 | O34: 0 | P34: 0 | Q34: 0 | R34: 0 | S34: 0 | T34: 0 | U34: 0 | V34: 0 | W34: =SUBTOTAL(9,C34:V34) -> 15 | X34: 0 | Y34: 0 | Z34: 0 | AA34: 0 | AB34: 0 | AC34: 0 | AD34: 0 | AE34: =SUBTOTAL(9,X34:AD34) -> 0 | AF34: 0 | AG34: 0 | AH34: 0 | AI34: 0 | AJ34: 0 | AK34: 0 | AL34: 0 | AM34: 0 | AN34: 0 | AO34: 0 | AP34: =SUBTOTAL(9,AI34:AO34) -> 0 | AQ34: 0 | AR34: 0 | AS34: 0 | AT34: 0 | AU34: =SUBTOTAL(9,AQ34:AT34) -> 0 | AV34: 0 | AW34: 0 | AX34: 0 | AY34: =SUM(AV34:AX34) -> 0 | AZ34: 0 | BA34: 0 | BB34: 0 | BC34: 0 | BD34: 0 | BE34: 0 | BF34: 0 | BG34: 0 | BH34: 0 | BI34: 0 | BJ34: 13805.72 | BK34: 0 | BL34: =SUBTOTAL(9,AZ34:BK34) -> 13805.72 | BM34: 0 | BN34: 0 | BO34: 0 | BP34: 0 | BQ34: 0 | BR34: 0 | BS34: 0 | BT34: 0 | BU34: 0 | BV34: 0 | BW34: 0 | BX34: 0 | BY34: 0 | BZ34: 0 | CA34: =SUBTOTAL(9,BM34:BZ34) -> 0 | CB34: 0 | CC34: 0 | CD34: 0 | CE34: 0 | CF34: 0 | CG34: 0 | CH34: 0 | CI34: 0 | CJ34: =SUBTOTAL(9,CC34:CI34) -> 0 | CK34: 0 | CL34: 0 | CM34: =SUM(CK34:CL34) -> 0 | CN34: 0 | CO34: 0 | CP34: 0 | CQ34: 0 | CR34: 0 | CS34: 0 | CT34: 0 | CV34: 0 | CW34: 0 | CX34: 0 | CY34: 0 | CZ34: 0 | DA34: 0 | DB34: 0 | DC34: =SUBTOTAL(9,CN34:DB34) -> 0 | DD34: 0 | DE34: 0 | DF34: 0 | DG34: 0 | DH34: 0 | DI34: 0 | DJ34: 0 | DK34: 0 | DL34: =SUBTOTAL(9,DD34:DK34) -> 0 | DM34: 0 | DN34: 0 | DO34: 0 | DP34: 0 | DQ34: 0 | DR34: 0 | DS34: 0 | DT34: =SUBTOTAL(9,DM34:DS34) -> 0 | DU34: 0 | DV34: 0 | DW34: 0 | DX34: 0 | DY34: 0 | DZ34: =SUBTOTAL(9,DU34:DY34) -> 0 | EA34: =SUM(DT34,DL34,DC34,CM34,CJ34,CA34,BL34,AY34,AU34,AP34,AE34,W34,DZ34) -> 13820.72
B35: บึงกาฬ | C35: 0 | D35: 0 | E35: 0 | F35: 0 | G35: 0 | H35: 0 | I35: 0 | J35: 0 | K35: 0 | L35: 0 | M35: 0 | N35: 0 | O35: 0 | P35: 0 | Q35: 0 | R35: 0 | S35: 0 | T35: 0 | U35: 0 | V35: 0 | W35: =SUBTOTAL(9,C35:V35) -> 0 | X35: 0 | Y35: 0 | Z35: 0 | AA35: 0 | AB35: 0 | AC35: 0 | AD35: 0 | AE35: =SUBTOTAL(9,X35:AD35) -> 0 | AF35: 0 | AG35: 0 | AH35: 0 | AI35: 0 | AJ35: 0 | AK35: 0 | AL35: 0 | AM35: 0 | AN35: 0 | AO35: 0 | AP35: =SUBTOTAL(9,AI35:AO35) -> 0 | AQ35: 0 | AR35: 0 | AS35: 0 | AT35: 0 | AU35: =SUBTOTAL(9,AQ35:AT35) -> 0 | AV35: 0 | AW35: 0 | AX35: 0 | AY35: =SUM(AV35:AX35) -> 0 | AZ35: 0 | BA35: 0 | BB35: 0 | BC35: 0 | BD35: 0 | BE35: 0 | BF35: 0 | BG35: 0 | BH35: 0 | BI35: 0 | BJ35: 0 | BK35: 0 | BL35: =SUBTOTAL(9,AZ35:BK35) -> 0 | BM35: 0 | BN35: 0 | BO35: 0 | BP35: 0 | BQ35: 0 | BR35: 0 | BS35: 0 | BT35: 0 | BU35: 0 | BV35: 0 | BW35: 0 | BX35: 0 | BY35: 0 | BZ35: 0 | CA35: =SUBTOTAL(9,BM35:BZ35) -> 0 | CB35: 0 | CC35: 0 | CD35: 0 | CE35: 0 | CF35: 0 | CG35: 0 | CH35: 0 | CI35: 0 | CJ35: =SUBTOTAL(9,CC35:CI35) -> 0 | CK35: 0 | CL35: 0 | CM35: =SUM(CK35:CL35) -> 0 | CN35: 0 | CO35: 0 | CP35: 0 | CQ35: 0 | CR35: 0 | CS35: 0 | CT35: 0 | CV35: 0 | CW35: 0 | CX35: 0 | CY35: 0 | CZ35: 0 | DA35: 0 | DB35: 0 | DC35: =SUBTOTAL(9,CN35:DB35) -> 0 | DD35: 0 | DE35: 0 | DF35: 0 | DG35: 0 | DH35: 0 | DI35: 0 | DJ35: 0 | DK35: 0 | DL35: =SUBTOTAL(9,DD35:DK35) -> 0 | DM35: 0 | DN35: 0 | DO35: 0 | DP35: 0 | DQ35: 0 | DR35: 0 | DS35: 0 | DT35: =SUBTOTAL(9,DM35:DS35) -> 0 | DU35: 0 | DV35: 0 | DW35: 0 | DX35: 0 | DY35: 0 | DZ35: =SUBTOTAL(9,DU35:DY35) -> 0 | EA35: =SUM(DT35,DL35,DC35,CM35,CJ35,CA35,BL35,AY35,AU35,AP35,AE35,W35,DZ35) -> 0
B36: บุรีรัมย์ | C36: 0 | D36: 0 | E36: 0 | F36: 0 | G36: 0 | H36: 0 | I36: 0 | J36: 0 | K36: 0 | L36: 0 | M36: 0 | N36: 0 | O36: 0 | P36: 0 | Q36: 0 | R36: 0 | S36: 0 | T36: 0 | U36: 0 | V36: 0 | W36: =SUBTOTAL(9,C36:V36) -> 0 | X36: 0 | Y36: 0 | Z36: 0 | AA36: 0 | AB36: 0 | AC36: 0 | AD36: 0 | AE36: =SUBTOTAL(9,X36:AD36) -> 0 | AF36: 0 | AG36: 0 | AH36: 0 | AI36: 0 | AJ36: 0 | AK36: 0 | AL36: 0 | AM36: 0 | AN36: 0 | AO36: 0 | AP36: =SUBTOTAL(9,AI36:AO36) -> 0 | AQ36: 0 | AR36: 0 | AS36: 0 | AT36: 0 | AU36: =SUBTOTAL(9,AQ36:AT36) -> 0 | AV36: 0 | AW36: 0 | AX36: 0 | AY36: =SUM(AV36:AX36) -> 0 | AZ36: 0 | BA36: 0 | BB36: 0 | BC36: 0 | BD36: 0 | BE36: 0 | BF36: 0 | BG36: 0 | BH36: 0 | BI36: 0 | BJ36: 0 | BK36: 0 | BL36: =SUBTOTAL(9,AZ36:BK36) -> 0 | BM36: 0 | BN36: 0 | BO36: 0 | BP36: 0 | BQ36: 0 | BR36: 0 | BS36: 0 | BT36: 0 | BU36: 0 | BV36: 0 | BW36: 0 | BX36: 0 | BY36: 0 | BZ36: 0 | CA36: =SUBTOTAL(9,BM36:BZ36) -> 0 | CB36: 0 | CC36: 0 | CD36: 0 | CE36: 0 | CF36: 0 | CG36: 0 | CH36: 0 | CI36: 0 | CJ36: =SUBTOTAL(9,CC36:CI36) -> 0 | CK36: 0 | CL36: 0 | CM36: =SUM(CK36:CL36) -> 0 | CN36: 0 | CO36: 0 | CP36: 0 | CQ36: 0 | CR36: 0 | CS36: 0 | CT36: 0 | CV36: 0 | CW36: 0 | CX36: 0 | CY36: 0 | CZ36: 0 | DA36: 0 | DB36: 0 | DC36: =SUBTOTAL(9,CN36:DB36) -> 0 | DD36: 0 | DE36: 0 | DF36: 0 | DG36: 0 | DH36: 0 | DI36: 0 | DJ36: 0 | DK36: 0 | DL36: =SUBTOTAL(9,DD36:DK36) -> 0 | DM36: 0 | DN36: 0 | DO36: 0 | DP36: 0 | DQ36: 0 | DR36: 0 | DS36: 0 | DT36: =SUBTOTAL(9,DM36:DS36) -> 0 | DU36: 0 | DV36: 0 | DW36: 0 | DX36: 0 | DY36: 0 | DZ36: =SUBTOTAL(9,DU36:DY36) -> 0 | EA36: =SUM(DT36,DL36,DC36,CM36,CJ36,CA36,BL36,AY36,AU36,AP36,AE36,W36,DZ36) -> 0
B37: มหาสารคาม | C37: 0 | D37: 0 | E37: 0 | F37: 0 | G37: 0 | H37: 0 | I37: 0 | J37: 0 | K37: 0 | L37: 0 | M37: 0 | N37: 0 | O37: 0 | P37: 0 | Q37: 0 | R37: 0 | S37: 0 | T37: 0 | U37: 0 | V37: 0 | W37: =SUBTOTAL(9,C37:V37) -> 0 | X37: 0 | Y37: 0 | Z37: 0 | AA37: 0 | AB37: 0 | AC37: 0 | AD37: 0 | AE37: =SUBTOTAL(9,X37:AD37) -> 0 | AF37: 0 | AG37: 0 | AH37: 0 | AI37: 0 | AJ37: 0 | AK37: 0 | AL37: 0 | AM37: 0 | AN37: 0 | AO37: 0 | AP37: =SUBTOTAL(9,AI37:AO37) -> 0 | AQ37: 0 | AR37: 0 | AS37: 0 | AT37: 0 | AU37: =SUBTOTAL(9,AQ37:AT37) -> 0 | AV37: 0 | AW37: 0 | AX37: 0 | AY37: =SUM(AV37:AX37) -> 0 | AZ37: 0 | BA37: 0 | BB37: 0 | BC37: 0 | BD37: 0 | BE37: 0 | BF37: 0 | BG37: 0 | BH37: 0 | BI37: 0 | BJ37: 0 | BK37: 0 | BL37: =SUBTOTAL(9,AZ37:BK37) -> 0 | BM37: 0 | BN37: 0 | BO37: 0 | BP37: 0 | BQ37: 0 | BR37: 0 | BS37: 0 | BT37: 0 | BU37: 0 | BV37: 0 | BW37: 0 | BX37: 0 | BY37: 0 | BZ37: 0 | CA37: =SUBTOTAL(9,BM37:BZ37) -> 0 | CB37: 0 | CC37: 0 | CD37: 0 | CE37: 0 | CF37: 0 | CG37: 0 | CH37: 0 | CI37: 0 | CJ37: =SUBTOTAL(9,CC37:CI37) -> 0 | CK37: 0 | CL37: 0 | CM37: =SUM(CK37:CL37) -> 0 | CN37: 0 | CO37: 0 | CP37: 0 | CQ37: 0 | CR37: 0 | CS37: 0 | CT37: 0 | CV37: 0 | CW37: 0 | CX37: 0 | CY37: 0 | CZ37: 0 | DA37: 0 | DB37: 0 | DC37: =SUBTOTAL(9,CN37:DB37) -> 0 | DD37: 0 | DE37: 0 | DF37: 0 | DG37: 0 | DH37: 0 | DI37: 0 | DJ37: 0 | DK37: 0 | DL37: =SUBTOTAL(9,DD37:DK37) -> 0 | DM37: 0 | DN37: 0 | DO37: 0 | DP37: 0 | DQ37: 0 | DR37: 0 | DS37: 0 | DT37: =SUBTOTAL(9,DM37:DS37) -> 0 | DU37: 0 | DV37: 0 | DW37: 0 | DX37: 0 | DY37: 0 | DZ37: =SUBTOTAL(9,DU37:DY37) -> 0 | EA37: =SUM(DT37,DL37,DC37,CM37,CJ37,CA37,BL37,AY37,AU37,AP37,AE37,W37,DZ37) -> 0
B38: มุกดาหาร | C38: 0 | D38: 0 | E38: 0 | F38: 0 | G38: 0 | H38: 0 | I38: 0 | J38: 0 | K38: 0 | L38: 0 | M38: 0 | N38: 0 | O38: 0 | P38: 0 | Q38: 0 | R38: 0 | S38: 0 | T38: 0 | U38: 0 | V38: 0 | W38: =SUBTOTAL(9,C38:V38) -> 0 | X38: 0 | Y38: 0 | Z38: 0 | AA38: 0 | AB38: 0 | AC38: 0 | AD38: 0 | AE38: =SUBTOTAL(9,X38:AD38) -> 0 | AF38: 0 | AG38: 0 | AH38: 0 | AI38: 0 | AJ38: 0 | AK38: 0 | AL38: 0 | AM38: 0 | AN38: 0 | AO38: 0 | AP38: =SUBTOTAL(9,AI38:AO38) -> 0 | AQ38: 0 | AR38: 0 | AS38: 0 | AT38: 0 | AU38: =SUBTOTAL(9,AQ38:AT38) -> 0 | AV38: 0 | AW38: 0 | AX38: 0 | AY38: =SUM(AV38:AX38) -> 0 | AZ38: 0 | BA38: 0 | BB38: 0 | BC38: 0 | BD38: 0 | BE38: 0 | BF38: 0 | BG38: 0 | BH38: 0 | BI38: 0 | BJ38: 0 | BK38: 0 | BL38: =SUBTOTAL(9,AZ38:BK38) -> 0 | BM38: 0 | BN38: 0 | BO38: 0 | BP38: 0 | BQ38: 0 | BR38: 0 | BS38: 0 | BT38: 0 | BU38: 0 | BV38: 0 | BW38: 0 | BX38: 0 | BY38: 0 | BZ38: 0 | CA38: =SUBTOTAL(9,BM38:BZ38) -> 0 | CB38: 0 | CC38: 0 | CD38: 0 | CE38: 0 | CF38: 0 | CG38: 0 | CH38: 0 | CI38: 0 | CJ38: =SUBTOTAL(9,CC38:CI38) -> 0 | CK38: 0 | CL38: 0 | CM38: =SUM(CK38:CL38) -> 0 | CN38: 0 | CO38: 0 | CP38: 0 | CQ38: 0 | CR38: 0 | CS38: 0 | CT38: 0 | CV38: 0 | CW38: 0 | CX38: 0 | CY38: 0 | CZ38: 0 | DA38: 0 | DB38: 0 | DC38: =SUBTOTAL(9,CN38:DB38) -> 0 | DD38: 0 | DE38: 0 | DF38: 0 | DG38: 0 | DH38: 0 | DI38: 0 | DJ38: 0 | DK38: 0 | DL38: =SUBTOTAL(9,DD38:DK38) -> 0 | DM38: 0 | DN38: 0 | DO38: 0 | DP38: 0 | DQ38: 0 | DR38: 0 | DS38: 0 | DT38: =SUBTOTAL(9,DM38:DS38) -> 0 | DU38: 0 | DV38: 0 | DW38: 0 | DX38: 0 | DY38: 0 | DZ38: =SUBTOTAL(9,DU38:DY38) -> 0 | EA38: =SUM(DT38,DL38,DC38,CM38,CJ38,CA38,BL38,AY38,AU38,AP38,AE38,W38,DZ38) -> 0
B39: ยโสธร | C39: 0 | D39: 0 | E39: 0 | F39: 0 | G39: 0 | H39: 0 | I39: 0 | J39: 0 | K39: 0 | L39: 0 | M39: 0 | N39: 0 | O39: 0 | P39: 0 | Q39: 0 | R39: 0 | S39: 0 | T39: 0 | U39: 0 | V39: 0 | W39: =SUBTOTAL(9,C39:V39) -> 0 | X39: 0 | Y39: 0 | Z39: 0 | AA39: 0 | AB39: 0 | AC39: 0 | AD39: 0 | AE39: =SUBTOTAL(9,X39:AD39) -> 0 | AF39: 0 | AG39: 0 | AH39: 0 | AI39: 0 | AJ39: 0 | AK39: 0 | AL39: 0 | AM39: 0 | AN39: 0 | AO39: 0 | AP39: =SUBTOTAL(9,AI39:AO39) -> 0 | AQ39: 0 | AR39: 0 | AS39: 0 | AT39: 0 | AU39: =SUBTOTAL(9,AQ39:AT39) -> 0 | AV39: 0 | AW39: 0 | AX39: 0 | AY39: =SUM(AV39:AX39) -> 0 | AZ39: 0 | BA39: 0 | BB39: 0 | BC39: 0 | BD39: 0 | BE39: 0 | BF39: 0 | BG39: 0 | BH39: 0 | BI39: 0 | BJ39: 0 | BK39: 0 | BL39: =SUBTOTAL(9,AZ39:BK39) -> 0 | BM39: 0 | BN39: 0 | BO39: 0 | BP39: 0 | BQ39: 0 | BR39: 0 | BS39: 0 | BT39: 0 | BU39: 0 | BV39: 0 | BW39: 0 | BX39: 0 | BY39: 0 | BZ39: 0 | CA39: =SUBTOTAL(9,BM39:BZ39) -> 0 | CB39: 0 | CC39: 2 | CD39: 0 | CE39: 0 | CF39: 0 | CG39: 0 | CH39: 0 | CI39: 0 | CJ39: =SUBTOTAL(9,CC39:CI39) -> 2 | CK39: 0 | CL39: 0 | CM39: =SUM(CK39:CL39) -> 0 | CN39: 0 | CO39: 0 | CP39: 0 | CQ39: 0 | CR39: 0 | CS39: 0 | CT39: 0 | CV39: 0 | CW39: 0 | CX39: 0 | CY39: 0 | CZ39: 0 | DA39: 0 | DB39: 0 | DC39: =SUBTOTAL(9,CN39:DB39) -> 0 | DD39: 0 | DE39: 0 | DF39: 0 | DG39: 0 | DH39: 0 | DI39: 0 | DJ39: 0 | DK39: 0 | DL39: =SUBTOTAL(9,DD39:DK39) -> 0 | DM39: 0 | DN39: 0 | DO39: 0 | DP39: 0 | DQ39: 0 | DR39: 0 | DS39: 0 | DT39: =SUBTOTAL(9,DM39:DS39) -> 0 | DU39: 0 | DV39: 0 | DW39: 0 | DX39: 0 | DY39: 0 | DZ39: =SUBTOTAL(9,DU39:DY39) -> 0 | EA39: =SUM(DT39,DL39,DC39,CM39,CJ39,CA39,BL39,AY39,AU39,AP39,AE39,W39,DZ39) -> 2
B40: ร้อยเอ็ด | C40: 0 | D40: 0 | E40: 0 | F40: 0 | G40: 0 | H40: 0 | I40: 0 | J40: 0 | K40: 0 | L40: 0 | M40: 0 | N40: 0 | O40: 0 | P40: 0 | Q40: 0 | R40: 0 | S40: 0 | T40: 0 | U40: 0 | V40: 0 | W40: =SUBTOTAL(9,C40:V40) -> 0 | X40: 0 | Y40: 0 | Z40: 0 | AA40: 0 | AB40: 0 | AC40: 0 | AD40: 0 | AE40: =SUBTOTAL(9,X40:AD40) -> 0 | AF40: 0 | AG40: 0 | AH40: 0 | AI40: 0 | AJ40: 0 | AK40: 0 | AL40: 0 | AM40: 0 | AN40: 0 | AO40: 0 | AP40: =SUBTOTAL(9,AI40:AO40) -> 0 | AQ40: 0 | AR40: 0 | AS40: 0 | AT40: 0 | AU40: =SUBTOTAL(9,AQ40:AT40) -> 0 | AV40: 0 | AW40: 0 | AX40: 0 | AY40: =SUM(AV40:AX40) -> 0 | AZ40: 0 | BA40: 0 | BB40: 0 | BC40: 0 | BD40: 0 | BE40: 0 | BF40: 0 | BG40: 0 | BH40: 0 | BI40: 0 | BJ40: 0 | BK40: 0 | BL40: =SUBTOTAL(9,AZ40:BK40) -> 0 | BM40: 0 | BN40: 0 | BO40: 0 | BP40: 0 | BQ40: 0 | BR40: 0 | BS40: 0 | BT40: 0 | BU40: 0 | BV40: 0 | BW40: 0 | BX40: 0 | BY40: 0 | BZ40: 0 | CA40: =SUBTOTAL(9,BM40:BZ40) -> 0 | CB40: 0 | CC40: 0 | CD40: 0 | CE40: 0 | CF40: 0 | CG40: 0 | CH40: 0 | CI40: 0 | CJ40: =SUBTOTAL(9,CC40:CI40) -> 0 | CK40: 0 | CL40: 0 | CM40: =SUM(CK40:CL40) -> 0 | CN40: 0 | CO40: 0 | CP40: 0 | CQ40: 0 | CR40: 0 | CS40: 0 | CT40: 0 | CV40: 0 | CW40: 0 | CX40: 0 | CY40: 0 | CZ40: 0 | DA40: 0 | DB40: 0 | DC40: =SUBTOTAL(9,CN40:DB40) -> 0 | DD40: 0 | DE40: 0 | DF40: 0 | DG40: 0 | DH40: 0 | DI40: 0 | DJ40: 0 | DK40: 0 | DL40: =SUBTOTAL(9,DD40:DK40) -> 0 | DM40: 0 | DN40: 0 | DO40: 0 | DP40: 0 | DQ40: 0 | DR40: 0 | DS40: 0 | DT40: =SUBTOTAL(9,DM40:DS40) -> 0 | DU40: 0 | DV40: 0 | DW40: 0 | DX40: 0 | DY40: 0 | DZ40: =SUBTOTAL(9,DU40:DY40) -> 0 | EA40: =SUM(DT40,DL40,DC40,CM40,CJ40,CA40,BL40,AY40,AU40,AP40,AE40,W40,DZ40) -> 0
B41: เลย | C41: 0 | D41: 0 | E41: 0 | F41: 0 | G41: 0 | H41: 0 | I41: 0 | J41: 0 | K41: 0 | L41: 0 | M41: 0 | N41: 0 | O41: 0 | P41: 0 | Q41: 0 | R41: 0 | S41: 0 | T41: 0 | U41: 0 | V41: 0 | W41: =SUBTOTAL(9,C41:V41) -> 0 | X41: 0 | Y41: 0 | Z41: 0 | AA41: 0 | AB41: 0 | AC41: 0 | AD41: 0 | AE41: =SUBTOTAL(9,X41:AD41) -> 0 | AF41: 0 | AG41: 0 | AH41: 0 | AI41: 0 | AJ41: 0 | AK41: 0 | AL41: 0 | AM41: 0 | AN41: 0 | AO41: 0 | AP41: =SUBTOTAL(9,AI41:AO41) -> 0 | AQ41: 0 | AR41: 0 | AS41: 0 | AT41: 0 | AU41: =SUBTOTAL(9,AQ41:AT41) -> 0 | AV41: 0 | AW41: 0 | AX41: 0 | AY41: =SUM(AV41:AX41) -> 0 | AZ41: 0 | BA41: 0 | BB41: 0 | BC41: 0 | BD41: 0 | BE41: 0 | BF41: 0 | BG41: 0 | BH41: 0 | BI41: 0 | BJ41: 0 | BK41: 0 | BL41: =SUBTOTAL(9,AZ41:BK41) -> 0 | BM41: 0 | BN41: 0 | BO41: 0 | BP41: 0 | BQ41: 0 | BR41: 0 | BS41: 0 | BT41: 0 | BU41: 0 | BV41: 0 | BW41: 0 | BX41: 0 | BY41: 0 | BZ41: 0 | CA41: =SUBTOTAL(9,BM41:BZ41) -> 0 | CB41: 0 | CC41: 0 | CD41: 0 | CE41: 0 | CF41: 0 | CG41: 0 | CH41: 0 | CI41: 0 | CJ41: =SUBTOTAL(9,CC41:CI41) -> 0 | CK41: 0 | CL41: 0 | CM41: =SUM(CK41:CL41) -> 0 | CN41: 0 | CO41: 0 | CP41: 0 | CQ41: 0 | CR41: 0 | CS41: 0 | CT41: 0 | CV41: 0 | CW41: 0 | CX41: 0 | CY41: 0 | CZ41: 0 | DA41: 0 | DB41: 0 | DC41: =SUBTOTAL(9,CN41:DB41) -> 0 | DD41: 0 | DE41: 0 | DF41: 0 | DG41: 0 | DH41: 0 | DI41: 0 | DJ41: 0 | DK41: 0 | DL41: =SUBTOTAL(9,DD41:DK41) -> 0 | DM41: 0 | DN41: 0 | DO41: 0 | DP41: 0 | DQ41: 0 | DR41: 0 | DS41: 0 | DT41: =SUBTOTAL(9,DM41:DS41) -> 0 | DU41: 0 | DV41: 0 | DW41: 0 | DX41: 0 | DY41: 0 | DZ41: =SUBTOTAL(9,DU41:DY41) -> 0 | EA41: =SUM(DT41,DL41,DC41,CM41,CJ41,CA41,BL41,AY41,AU41,AP41,AE41,W41,DZ41) -> 0
B42: ศรีสะเกษ | C42: 0 | D42: 0 | E42: 0 | F42: 0 | G42: 0 | H42: 0 | I42: 0 | J42: 0 | K42: 0 | L42: 0 | M42: 0 | N42: 0 | O42: 0 | P42: 0 | Q42: 0 | R42: 0 | S42: 0 | T42: 0 | U42: 0 | V42: 0 | W42: =SUBTOTAL(9,C42:V42) -> 0 | X42: 6 | Y42: 0 | Z42: 0 | AA42: 0 | AB42: 0 | AC42: 0 | AD42: 0 | AE42: =SUBTOTAL(9,X42:AD42) -> 6 | AF42: 0 | AG42: 0 | AH42: 0 | AI42: 0 | AJ42: 0 | AK42: 0 | AL42: 0 | AM42: 0 | AN42: 0 | AO42: 0 | AP42: =SUBTOTAL(9,AI42:AO42) -> 0 | AQ42: 0 | AR42: 0 | AS42: 0 | AT42: 0 | AU42: =SUBTOTAL(9,AQ42:AT42) -> 0 | AV42: 0 | AW42: 0 | AX42: 0 | AY42: =SUM(AV42:AX42) -> 0 | AZ42: 0 | BA42: 0 | BB42: 0 | BC42: 0 | BD42: 0 | BE42: 0 | BF42: 0 | BG42: 0 | BH42: 0 | BI42: 0 | BJ42: 0 | BK42: 0 | BL42: =SUBTOTAL(9,AZ42:BK42) -> 0 | BM42: 0 | BN42: 0 | BO42: 0 | BP42: 0 | BQ42: 0 | BR42: 0 | BS42: 0 | BT42: 0 | BU42: 0 | BV42: 0 | BW42: 0 | BX42: 0 | BY42: 0 | BZ42: 0 | CA42: =SUBTOTAL(9,BM42:BZ42) -> 0 | CB42: 0 | CC42: 0 | CD42: 0 | CE42: 0 | CF42: 0 | CG42: 0 | CH42: 0 | CI42: 0 | CJ42: =SUBTOTAL(9,CC42:CI42) -> 0 | CK42: 0 | CL42: 0 | CM42: =SUM(CK42:CL42) -> 0 | CN42: 0 | CO42: 0 | CP42: 0 | CQ42: 0 | CR42: 0 | CS42: 0 | CT42: 0 | CV42: 0 | CW42: 0 | CX42: 0 | CY42: 0 | CZ42: 0 | DA42: 0 | DB42: 0 | DC42: =SUBTOTAL(9,CN42:DB42) -> 0 | DD42: 0 | DE42: 0 | DF42: 0 | DG42: 0 | DH42: 0 | DI42: 0 | DJ42: 0 | DK42: 0 | DL42: =SUBTOTAL(9,DD42:DK42) -> 0 | DM42: 0 | DN42: 0 | DO42: 0 | DP42: 0 | DQ42: 0 | DR42: 0 | DS42: 0 | DT42: =SUBTOTAL(9,DM42:DS42) -> 0 | DU42: 0 | DV42: 0 | DW42: 0 | DX42: 0 | DY42: 0 | DZ42: =SUBTOTAL(9,DU42:DY42) -> 0 | EA42: =SUM(DT42,DL42,DC42,CM42,CJ42,CA42,BL42,AY42,AU42,AP42,AE42,W42,DZ42) -> 6
... B46: หนองบัวลำภู | C46: 0 | D46: 0 | E46: 0 | F46: 0 | G46: 0 | H46: 0 | I46: 0 | J46: 0 | K46: 0 | L46: 0 | M46: 0 | N46: 0 | O46: 0 | P46: 0 | Q46: 0 | R46: 0 | S46: 0 | T46: 0 | U46: 0 | V46: 0 | W46: =SUBTOTAL(9,C46:V46) -> 0 | X46: 0 | Y46: 0 | Z46: 0 | AA46: 0 | AB46: 0 | AC46: 0 | AD46: 0 | AE46: =SUBTOTAL(9,X46:AD46) -> 0 | AF46: 0 | AG46: 0 | AH46: 0 | AI46: 0 | AJ46: 0 | AK46: 0 | AL46: 0 | AM46: 0 | AN46: 0 | AO46: 0 | AP46: =SUBTOTAL(9,AI46:AO46) -> 0 | AQ46: 0 | AR46: 0 | AS46: 0 | AT46: 0 | AU46: =SUBTOTAL(9,AQ46:AT46) -> 0 | AV46: 0 | AW46: 0 | AX46: 0 | AY46: =SUM(AV46:AX46) -> 0 | AZ46: 0 | BA46: 0 | BB46: 0 | BC46: 0 | BD46: 0 | BE46: 0 | BF46: 0 | BG46: 0 | BH46: 0 | BI46: 0 | BJ46: 0 | BK46: 0 | BL46: =SUBTOTAL(9,AZ46:BK46) -> 0 | BM46: 0 | BN46: 0 | BO46: 0 | BP46: 0 | BQ46: 0 | BR46: 0 | BS46: 0 | BT46: 0 | BU46: 0 | BV46: 0 | BW46: 0 | BX46: 0 | BY46: 0 | BZ46: 0 | CA46: =SUBTOTAL(9,BM46:BZ46) -> 0 | CB46: 0 | CC46: 0 | CD46: 0 | CE46: 0 | CF46: 0 | CG46: 0 | CH46: 0 | CI46: 0 | CJ46: =SUBTOTAL(9,CC46:CI46) -> 0 | CK46: 0 | CL46: 0 | CM46: =SUM(CK46:CL46) -> 0 | CN46: 0 | CO46: 0 | CP46: 0 | CQ46: 0 | CR46: 0 | CS46: 0 | CT46: 0 | CV46: 0 | CW46: 0 | CX46: 0 | CY46: 0 | CZ46: 0 | DA46: 0 | DB46: 0 | DC46: =SUBTOTAL(9,CN46:DB46) -> 0 | DD46: 0 | DE46: 0 | DF46: 0 | DG46: 0 | DH46: 0 | DI46: 0 | DJ46: 0 | DK46: 0 | DL46: =SUBTOTAL(9,DD46:DK46) -> 0 | DM46: 0 | DN46: 0 | DO46: 0 | DP46: 0 | DQ46: 0 | DR46: 0 | DS46: 0 | DT46: =SUBTOTAL(9,DM46:DS46) -> 0 | DU46: 0 | DV46: 0 | DW46: 0 | DX46: 0 | DY46: 0 | DZ46: =SUBTOTAL(9,DU46:DY46) -> 0 | EA46: =SUM(DT46,DL46,DC46,CM46,CJ46,CA46,BL46,AY46,AU46,AP46,AE46,W46,DZ46) -> 0
B47: อำนาจเจริญ | C47: 0 | D47: 0 | E47: 0 | F47: 0 | G47: 0 | H47: 0 | I47: 0 | J47: 0 | K47: 0 | L47: 0 | M47: 0 | N47: 0 | O47: 0 | P47: 0 | Q47: 0 | R47: 0 | S47: 0 | T47: 0 | U47: 0 | V47: 0 | W47: =SUBTOTAL(9,C47:V47) -> 0 | X47: 1 | Y47: 1 | Z47: 0 | AA47: 0 | AB47: 0 | AC47: 0 | AD47: 0 | AE47: =SUBTOTAL(9,X47:AD47) -> 2 | AF47: 0 | AG47: 0 | AH47: 0 | AI47: 0 | AJ47: 0 | AK47: 0 | AL47: 0 | AM47: 0 | AN47: 0 | AO47: 0 | AP47: =SUBTOTAL(9,AI47:AO47) -> 0 | AQ47: 0 | AR47: 0 | AS47: 0 | AT47: 0 | AU47: =SUBTOTAL(9,AQ47:AT47) -> 0 | AV47: 0 | AW47: 0 | AX47: 0 | AY47: =SUM(AV47:AX47) -> 0 | AZ47: 0 | BA47: 0 | BB47: 0 | BC47: 0 | BD47: 0 | BE47: 0 | BF47: 0 | BG47: 0 | BH47: 0 | BI47: 0 | BJ47: 0 | BK47: 0 | BL47: =SUBTOTAL(9,AZ47:BK47) -> 0 | BM47: 0 | BN47: 0 | BO47: 0 | BQ47: 0 | BR47: 0 | BS47: 0 | BT47: 0 | BU47: 0 | BV47: 0 | BW47: 0 | BX47: 0 | BY47: 0 | BZ47: 0 | CA47: =SUBTOTAL(9,BM47:BZ47) -> 0 | CB47: 0 | CC47: 0 | CD47: 0 | CE47: 0 | CF47: 0 | CG47: 0 | CH47: 0 | CI47: 0 | CJ47: =SUBTOTAL(9,CC47:CI47) -> 0 | CK47: 0 | CL47: 0 | CM47: =SUM(CK47:CL47) -> 0 | CN47: 0 | CO47: 0 | CP47: 0 | CQ47: 0 | CR47: 0 | CS47: 0 | CT47: 0 | CV47: 0 | CW47: 0 | CX47: 0 | CY47: 0 | CZ47: 0 | DA47: 0 | DB47: 0 | DC47: =SUBTOTAL(9,CN47:DB47) -> 0 | DD47: 0 | DE47: 0 | DF47: 0 | DG47: 0 | DH47: 0 | DI47: 0 | DJ47: 0 | DK47: 0 | DL47: =SUBTOTAL(9,DD47:DK47) -> 0 | DM47: 0 | DN47: 0 | DO47: 0 | DP47: 0 | DQ47: 0 | DR47: 0 | DS47: 0 | DT47: =SUBTOTAL(9,DM47:DS47) -> 0 | DU47: 0 | DV47: 0 | DW47: 0 | DX47: 0 | DY47: 0 | DZ47: =SUBTOTAL(9,DU47:DY47) -> 0 | EA47: =SUM(DT47,DL47,DC47,CM47,CJ47,CA47,BL47,AY47,AU47,AP47,AE47,W47,DZ47) -> 2
B48: อุดรธานี | C48: 0 | D48: 0 | E48: 0 | F48: 0 | G48: 0 | H48: 0 | I48: 0 | J48: 0 | K48: 0 | L48: 0 | M48: 0 | N48: 0 | O48: 0 | P48: 0 | Q48: 0 | R48: 0 | S48: 0 | T48: 0 | U48: 0 | V48: 0 | W48: =SUBTOTAL(9,C48:V48) -> 0 | X48: 0 | Y48: 0 | Z48: 0 | AA48: 0 | AB48: 0 | AC48: 0 | AD48: 0 | AE48: =SUBTOTAL(9,X48:AD48) -> 0 | AF48: 0 | AG48: 0 | AH48: 0 | AI48: 0 | AJ48: 0 | AK48: 0 | AL48: 0 | AM48: 0 | AN48: 0 | AO48: 0 | AP48: =SUBTOTAL(9,AI48:AO48) -> 0 | AQ48: 0 | AR48: 0 | AS48: 0 | AT48: 0 | AU48: =SUBTOTAL(9,AQ48:AT48) -> 0 | AV48: 0 | AW48: 0 | AX48: 0 | AY48: =SUM(AV48:AX48) -> 0 | AZ48: 0 | BA48: 0 | BB48: 0 | BC48: 0 | BD48: 0 | BE48: 0 | BF48: 0 | BG48: 0 | BH48: 0 | BI48: 0 | BJ48: 0 | BK48: 0 | BL48: =SUBTOTAL(9,AZ48:BK48) -> 0 | BM48: 0 | BN48: 0 | BO48: 0 | BP48: 0 | BQ48: 0 | BR48: 0 | BS48: 0 | BT48: 0 | BU48: 0 | BV48: 0 | BW48: 0 | BX48: 0 | BY48: 0 | BZ48: 0 | CA48: =SUBTOTAL(9,BM48:BZ48) -> 0 | CB48: 0 | CC48: 0 | CD48: 0 | CE48: 0 | CF48: 0 | CG48: 0 | CH48: 0 | CI48: 0 | CJ48: =SUBTOTAL(9,CC48:CI48) -> 0 | CK48: 0 | CL48: 0 | CM48: =SUM(CK48:CL48) -> 0 | CN48: 0 | CO48: 0 | CP48: 0 | CQ48: 0 | CR48: 0 | CS48: 0 | CT48: 0 | CV48: 0 | CW48: 0 | CX48: 0 | CY48: 0 | CZ48: 0 | DA48: 0 | DB48: 0 | DC48: =SUBTOTAL(9,CN48:DB48) -> 0 | DD48: 0 | DE48: 0 | DF48: 0 | DG48: 0 | DH48: 0 | DI48: 0 | DJ48: 0 | DK48: 0 | DL48: =SUBTOTAL(9,DD48:DK48) -> 0 | DM48: 0 | DN48: 0 | DO48: 0 | DP48: 0 | DQ48: 0 | DR48: 0 | DS48: 0 | DT48: =SUBTOTAL(9,DM48:DS48) -> 0 | DU48: 0 | DV48: 0 | DW48: 0 | DX48: 0 | DY48: 0 | DZ48: =SUBTOTAL(9,DU48:DY48) -> 0 | EA48: =SUM(DT48,DL48,DC48,CM48,CJ48,CA48,BL48,AY48,AU48,AP48,AE48,W48,DZ48) -> 0
B49: อุบลราชธานี | C49: 0 | D49: 0 | E49: 0 | F49: 0 | G49: 0 | H49: 0 | I49: 0 | J49: 0 | K49: 0 | L49: 0 | M49: 0 | N49: 0 | O49: 0 | P49: 0 | Q49: 0 | R49: 0 | S49: 0 | T49: 0 | U49: 0 | V49: 0 | W49: =SUBTOTAL(9,C49:V49) -> 0 | X49: 0 | Y49: 0 | Z49: 0 | AA49: 0 | AB49: 0 | AC49: 0 | AD49: 0 | AE49: =SUBTOTAL(9,X49:AD49) -> 0 | AF49: 0 | AG49: 0 | AH49: 0 | AI49: 0 | AJ49: 0 | AK49: 0 | AL49: 0 | AM49: 0 | AN49: 0 | AO49: 0 | AP49: =SUBTOTAL(9,AI49:AO49) -> 0 | AQ49: 0 | AR49: 0 | AS49: 0 | AT49: 0 | AU49: =SUBTOTAL(9,AQ49:AT49) -> 0 | AV49: 0 | AW49: 0 | AX49: 0 | AY49: =SUM(AV49:AX49) -> 0 | AZ49: 0 | BA49: 0 | BB49: 0 | BC49: 0 | BD49: 0 | BE49: 0 | BF49: 0 | BG49: 0 | BH49: 0 | BI49: 0 | BJ49: 0 | BK49: 0 | BL49: =SUBTOTAL(9,AZ49:BK49) -> 0 | BM49: 0 | BN49: 0 | BO49: 0 | BP49: 0 | BQ49: 0 | BR49: 0 | BS49: 0 | BT49: 0 | BU49: 0 | BV49: 0 | BW49: 0 | BX49: 0 | BY49: 0 | BZ49: 0 | CA49: =SUBTOTAL(9,BM49:BZ49) -> 0 | CB49: 0 | CC49: 0 | CD49: 0 | CE49: 0 | CF49: 0 | CG49: 0 | CH49: 0 | CI49: 0 | CJ49: =SUBTOTAL(9,CC49:CI49) -> 0 | CK49: 0 | CL49: 0 | CM49: =SUM(CK49:CL49) -> 0 | CN49: 0 | CO49: 0 | CP49: 0 | CQ49: 0 | CR49: 0 | CS49: 0 | CT49: 0 | CV49: 0 | CW49: 0 | CX49: 0 | CY49: 0 | CZ49: 0 | DA49: 0 | DB49: 0 | DC49: =SUBTOTAL(9,CN49:DB49) -> 0 | DD49: 0 | DE49: 0 | DF49: 0 | DG49: 0 | DH49: 0 | DI49: 0 | DJ49: 0 | DK49: 0 | DL49: =SUBTOTAL(9,DD49:DK49) -> 0 | DM49: 0 | DN49: 0 | DO49: 0 | DP49: 0 | DQ49: 0 | DR49: 0 | DS49: 0 | DT49: =SUBTOTAL(9,DM49:DS49) -> 0 | DU49: 0 | DV49: 0 | DW49: 0 | DX49: 0 | DY49: 0 | DZ49: =SUBTOTAL(9,DU49:DY49) -> 0 | EA49: =SUM(DT49,DL49,DC49,CM49,CJ49,CA49,BL49,AY49,AU49,AP49,AE49,W49,DZ49) -> 0
A50: ภาคกลาง 12 จังหวัด | C50: =SUM(C51:C58) -> 10 | D50: =SUM(D51:D58) -> 0 | E50: =SUM(E51:E58) -> 0 | F50: =SUM(F51:F58) -> 0 | G50: =SUM(G51:G58) -> 0 | H50: =SUM(H51:H58) -> 0 | I50: =SUM(I51:I58) -> 0 | J50: =SUM(J51:J58) -> 30 | ... CM50: =SUM(CM51:CM58) -> 0 | CN50: =SUM(CN51:CN57) -> 0 | CO50: =SUM(CO51:CO57) -> 0 | CP50: =SUM(CP51:CP57) -> 0 | CQ50: =SUM(CQ51:CQ58) -> 0 | CR50: =SUM(CR51:CR58) -> 0 | CS50: =SUM(CS51:CS58) -> 0 | CT50: =SUM(CT51:CT58) -> 0 | CU50: =SUM(CU51:CU58) -> 0 | CV50: =SUM(CV51:CV58) -> 0 | CW50: =SUM(CW51:CW58) -> 0 | CX50: =SUM(CX51:CX58) -> 0 | ... DZ50: =SUM(DZ51:DZ58) -> 0 | EA50: =SUM(DT50,DL50,DC50,CM50,CJ50,CA50,BL50,AY50,AU50,AP50,AE50,W50,DZ50) -> 730
B51: กรุงเทพมหานคร | C51: 0 | D51: 0 | E51: 0 | F51: 0 | G51: 0 | H51: 0 | I51: 0 | J51: 0 | K51: 0 | L51: 0 | M51: 0 | N51: 0 | O51: 0 | P51: 0 | Q51: 0 | R51: 0 | S51: 0 | T51: 0 | U51: 0 | V51: 0 | W51: =SUBTOTAL(9,C51:V51) -> 0 | X51: 500 | Y51: 22 | Z51: 23 | AA51: 55 | AB51: 0 | AC51: 0 | AD51: 0 | AE51: =SUM(X51:AD51) -> 600 | AF51: 0 | AG51: 0 | AH51: 0 | AI51: 0 | AJ51: 0 | AK51: 0 | AL51: 0 | AM51: 0 | AN51: 0 | AO51: 0 | AP51: =SUBTOTAL(9,AI51:AO51) -> 0 | AQ51: 0 | AR51: 0 | AS51: 0 | AT51: 0 | AU51: =SUBTOTAL(9,AQ51:AT51) -> 0 | AV51: 0 | AW51: 0 | AX51: 0 | AY51: =SUM(AV51:AX51) -> 0 | AZ51: 0 | BA51: 0 | BB51: 0 | BC51: 0 | BD51: 0 | BE51: 0 | BF51: 0 | BG51: 0 | BH51: 0 | BI51: 0 | BJ51: 0 | BK51: 0 | BL51: =SUBTOTAL(9,AZ51:BK51) -> 0 | BM51: 0 | BN51: 0 | BO51: 0 | BP51: 0 | BQ51: 0 | BR51: 0 | BS51: 0 | BT51: 0 | BU51: 0 | BV51: 0 | BW51: 0 | BX51: 0 | BY51: 0 | BZ51: 0 | CA51: =SUBTOTAL(9,BM51:BZ51) -> 0 | CB51: 0 | CC51: 0 | CD51: 0 | CE51: 0 | CF51: 0 | CG51: 0 | CH51: 0 | CI51: 0 | CJ51: =SUBTOTAL(9,CC51:CI51) -> 0 | CK51: 0 | CL51: 0 | CM51: =SUM(CK51:CL51) -> 0 | CN51: 0 | CO51: 0 | CP51: 0 | CQ51: 0 | CR51: 0 | CS51: 0 | CT51: 0 | CU51: 0 | CV51: 0 | CW51: 0 | CX51: 0 | CY51: 0 | CZ51: 0 | DA51: 0 | DB51: 0 | DC51: =SUBTOTAL(9,CN51:DB51) -> 0 | DD51: 0 | DE51: 0 | DF51: 0 | DG51: 0 | DH51: 0 | DI51: 0 | DJ51: 0 | DK51: 0 | DL51: =SUBTOTAL(9,DD51:DK51) -> 0 | DM51: 0 | DN51: 0 | DO51: 0 | DP51: 0 | DQ51: 0 | DR51: 0 | DS51: 0 | DT51: =SUBTOTAL(9,DM51:DS51) -> 0 | DU51: 0 | DV51: 0 | DW51: 0 | DX51: 0 | DY51: 0 | DZ51: =SUBTOTAL(9,DU51:DY51) -> 0 | EA51: =SUM(DT51,DL51,DC51,CM51,CJ51,CA51,BL51,AY51,AU51,AP51,AE51,W51,DZ51) -> 600
B52: ชัยนาท | D52: 0 | E52: 0 | F52: 0 | G52: 0 | H52: 0 | I52: 0 | J52: 0 | K52: 0 | L52: 0 | M52: 0 | N52: 0 | O52: 0 | P52: 0 | Q52: 0 | R52: 0 | S52: 0 | T52: 0 | U52: 0 | V52: 0 | W52: =SUBTOTAL(9,C52:V52) -> 0 | X52: 0 | Y52: 0 | Z52: 0 | AA52: 0 | AB52: 0 | AC52: 0 | AD52: 0 | AE52: =SUM(X52:AD52) -> 0 | AF52: 0 | AG52: 0 | AH52: 0 | AI52: 0 | AJ52: 0 | AK52: 0 | AL52: 0 | AM52: 0 | AN52: 0 | AO52: 0 | AP52: =SUBTOTAL(9,AI52:AO52) -> 0 | AQ52: 0 | AR52: 0 | AS52: 0 | AT52: 0 | AU52: =SUBTOTAL(9,AQ52:AT52) -> 0 | AV52: 0 | AW52: 0 | AX52: 0 | AY52: =SUM(AV52:AX52) -> 0 | AZ52: 12 | BA52: 0 | BB52: 0 | BC52: 0 | BD52: 0 | BE52: 0 | BF52: 0 | BG52: 0 | BH52: 0 | BI52: 0 | BJ52: 0 | BK52: 0 | BL52: =SUBTOTAL(9,AZ52:BK52) -> 12 | BM52: 0 | BN52: 0 | BO52: 0 | BP52: 0 | BQ52: 0 | BR52: 0 | BS52: 0 | BT52: 0 | BU52: 0 | BV52: 0 | BW52: 0 | BX52: 0 | BY52: 0 | BZ52: 0 | CA52: =SUBTOTAL(9,BM52:BZ52) -> 0 | CB52: 0 | CC52: 0 | CD52: 0 | CE52: 0 | CF52: 0 | CG52: 0 | CH52: 0 | CI52: 0 | CJ52: =SUBTOTAL(9,CC52:CI52) -> 0 | CK52: 0 | CL52: 0 | CM52: =SUM(CK52:CL52) -> 0 | CN52: 0 | CO52: 0 | CP52: 0 | CQ52: 0 | CR52: 0 | CS52: 0 | CT52: 0 | CU52: 0 | CV52: 0 | CW52: 0 | CX52: 0 | CY52: 0 | CZ52: 0 | DA52: 0 | DB52: 0 | DC52: =SUBTOTAL(9,CN52:DB52) -> 0 | DD52: 0 | DE52: 0 | DF52: 0 | DG52: 0 | DH52: 0 | DI52: 0 | DJ52: 0 | DK52: 0 | DL52: =SUBTOTAL(9,DD52:DK52) -> 0 | DM52: 0 | DN52: 0 | DO52: 0 | DP52: 0 | DQ52: 0 | DR52: 0 | DS52: 0 | DT52: =SUBTOTAL(9,DM52:DS52) -> 0 | DU52: 0 | DV52: 0 | DW52: 0 | DX52: 0 | DY52: 0 | DZ52: =SUBTOTAL(9,DU52:DY52) -> 0 | EA52: =SUM(DT52,DL52,DC52,CM52,CJ52,CA52,BL52,AY52,AU52,AP52,AE52,W52,DZ52) -> 12
B53: นนทบุรี | C53: 0 | D53: 0 | E53: 0 | F53: 0 | G53: 0 | H53: 0 | I53: 0 | J53: 0 | K53: 0 | L53: 0 | M53: 0 | N53: 0 | O53: 0 | P53: 0 | Q53: 0 | R53: 0 | S53: 0 | T53: 0 | U53: 0 | V53: 0 | W53: =SUBTOTAL(9,C53:V53) -> 0 | X53: 0 | Y53: 0 | Z53: 0 | AA53: 0 | AB53: 0 | AC53: 0 | AD53: 0 | AE53: =SUM(X53:AD53) -> 0 | AF53: 0 | AG53: 0 | AH53: 0 | AI53: 0 | AJ53: 0 | AK53: 0 | AL53: 0 | AM53: 0 | AN53: 0 | AO53: 0 | AP53: =SUBTOTAL(9,AI53:AO53) -> 0 | AQ53: 0 | AR53: 0 | AT53: 0 | AU53: =SUBTOTAL(9,AQ53:AT53) -> 0 | AV53: 0 | AW53: 0 | AX53: 0 | AY53: =SUM(AV53:AX53) -> 0 | AZ53: 0 | BA53: 0 | BB53: 0 | BC53: 0 | BD53: 0 | BE53: 0 | BF53: 0 | BG53: 0 | BH53: 0 | BI53: 0 | BJ53: 0 | BK53: 0 | BL53: =SUBTOTAL(9,AZ53:BK53) -> 0 | BM53: 0 | BN53: 0 | BO53: 0 | BP53: 0 | BQ53: 0 | BR53: 0 | BS53: 0 | BT53: 0 | BU53: 0 | BV53: 0 | BW53: 0 | BX53: 0 | BY53: 0 | BZ53: 0 | CA53: =SUBTOTAL(9,BM53:BZ53) -> 0 | CB53: 0 | CC53: 0 | CD53: 0 | CE53: 0 | CF53: 0 | CG53: 0 | CH53: 0 | CI53: 0 | CJ53: =SUBTOTAL(9,CC53:CI53) -> 0 | CK53: 0 | CL53: 0 | CM53: =SUM(CK53:CL53) -> 0 | CN53: 0 | CO53: 0 | CP53: 0 | CQ53: 0 | CR53: 0 | CS53: 0 | CT53: 0 | CU53: 0 | CV53: 0 | CW53: 0 | CX53: 0 | CY53: 0 | CZ53: 0 | DA53: 0 | DB53: 0 | DC53: =SUBTOTAL(9,CN53:DB53) -> 0 | DD53: 0 | DE53: 0 | DF53: 0 | DG53: 0 | DH53: 0 | DI53: 0 | DJ53: 0 | DK53: 0 | DL53: =SUBTOTAL(9,DD53:DK53) -> 0 | DM53: 0 | DN53: 0 | DO53: 0 | DP53: 0 | DQ53: 0 | DR53: 0 | DS53: 0 | DT53: =SUBTOTAL(9,DM53:DS53) -> 0 | DU53: 0 | DV53: 0 | DW53: 0 | DX53: 0 | DY53: 0 | DZ53: =SUBTOTAL(9,DU53:DY53) -> 0 | EA53: =SUM(DT53,DL53,DC53,CM53,CJ53,CA53,BL53,AY53,AU53,AP53,AE53,W53,DZ53) -> 0
B54: พระนครศรีอยุธยา | C54: 0 | D54: 0 | E54: 0 | F54: 0 | G54: 0 | H54: 0 | I54: 0 | J54: 30 | K54: 0 | L54: 0 | M54: 0 | N54: 0 | O54: 0 | P54: 0 | Q54: 0 | R54: 0 | S54: 0 | T54: 0 | U54: 0 | V54: 0 | W54: =SUBTOTAL(9,C54:V54) -> 30 | X54: 0 | Y54: 0 | Z54: 0 | AA54: 0 | AB54: 0 | AC54: 0 | AD54: 0 | AE54: =SUM(X54:AD54) -> 0 | AF54: 0 | AG54: 0 | AH54: 0 | AI54: 0 | AJ54: 0 | AK54: 0 | AL54: 0 | AM54: 0 | AN54: 0 | AO54: 0 | AP54: =SUBTOTAL(9,AI54:AO54) -> 0 | AQ54: 0 | AR54: 0 | AS54: 0 | AT54: 0 | AU54: =SUBTOTAL(9,AQ54:AT54) -> 0 | AV54: 0 | AW54: 0 | AX54: 0 | AY54: =SUM(AV54:AX54) -> 0 | AZ54: 0 | BA54: 0 | BB54: 0 | BC54: 0 | BD54: 0 | BE54: 0 | BF54: 0 | BG54: 0 | BH54: 0 | BI54: 0 | BJ54: 0 | BK54: 0 | BL54: =SUBTOTAL(9,AZ54:BK54) -> 0 | BM54: 0 | BN54: 0 | BO54: 0 | BP54: 0 | BQ54: 0 | BR54: 0 | BS54: 0 | BT54: 0 | BU54: 0 | BV54: 0 | BW54: 0 | BX54: 0 | BY54: 0 | BZ54: 0 | CA54: =SUBTOTAL(9,BM54:BZ54) -> 0 | CB54: 0 | CC54: 0 | CD54: 0 | CE54: 0 | CF54: 0 | CG54: 0 | CH54: 0 | CI54: 0 | CJ54: =SUBTOTAL(9,CC54:CI54) -> 0 | CK54: 0 | CL54: 0 | CM54: =SUM(CK54:CL54) -> 0 | CN54: 0 | CO54: 0 | CP54: 0 | CQ54: 0 | CR54: 0 | CS54: 0 | CT54: 0 | CU54: 0 | CV54: 0 | CW54: 0 | CX54: 0 | CY54: 0 | CZ54: 0 | DA54: 0 | DB54: 0 | DC54: =SUBTOTAL(9,CN54:DB54) -> 0 | DD54: 0 | DE54: 0 | DF54: 0 | DG54: 0 | DH54: 0 | DI54: 0 | DJ54: 0 | DK54: 0 | DL54: =SUBTOTAL(9,DD54:DK54) -> 0 | DM54: 0 | DN54: 0 | DO54: 0 | DP54: 0 | DQ54: 0 | DR54: 0 | DS54: 0 | DT54: =SUBTOTAL(9,DM54:DS54) -> 0 | DU54: 0 | DV54: 0 | DW54: 0 | DX54: 0 | DY54: 0 | DZ54: =SUBTOTAL(9,DU54:DY54) -> 0 | EA54: =SUM(DT54,DL54,DC54,CM54,CJ54,CA54,BL54,AY54,AU54,AP54,AE54,W54,DZ54) -> 30
B55: ลพบุรี | D55: 0 | E55: 0 | F55: 0 | G55: 0 | H55: 0 | I55: 0 | J55: 0 | K55: 0 | L55: 0 | M55: 0 | N55: 0 | O55: 0 | P55: 0 | Q55: 0 | R55: 0 | S55: 0 | T55: 0 | U55: 0 | V55: 0 | W55: =SUBTOTAL(9,C55:V55) -> 0 | X55: 0 | Y55: 0 | Z55: 0 | AA55: 0 | AB55: 0 | AC55: 0 | AD55: 0 | AE55: =SUM(X55:AD55) -> 0 | AF55: 0 | AG55: 0 | AH55: 0 | AI55: 0 | AJ55: 0 | AK55: 0 | AL55: 0 | AM55: 0 | AN55: 0 | AO55: 0 | AP55: =SUBTOTAL(9,AI55:AO55) -> 0 | AQ55: 0 | AR55: 0 | AS55: 0 | AT55: 0 | AU55: =SUBTOTAL(9,AQ55:AT55) -> 0 | AV55: 0 | AW55: 0 | AX55: 0 | AY55: =SUM(AV55:AX55) -> 0 | AZ55: 0 | BA55: 0 | BB55: 0 | BC55: 0 | BD55: 0 | BE55: 0 | BF55: 0 | BG55: 0 | BH55: 0 | BI55: 0 | BJ55: 78 | BK55: 0 | BL55: =SUBTOTAL(9,AZ55:BK55) -> 78 | BM55: 0 | BN55: 0 | BO55: 0 | BP55: 0 | BQ55: 0 | BR55: 0 | BS55: 0 | BT55: 0 | BU55: 0 | BV55: 0 | BW55: 0 | BX55: 0 | BY55: 0 | BZ55: 0 | CA55: =SUBTOTAL(9,BM55:BZ55) -> 0 | CB55: 0 | CC55: 0 | CD55: 0 | CE55: 0 | CF55: 0 | CG55: 0 | CH55: 0 | CI55: 0 | CJ55: =SUBTOTAL(9,CC55:CI55) -> 0 | CK55: 0 | CL55: 0 | CM55: =SUM(CK55:CL55) -> 0 | CN55: 0 | CO55: 0 | CP55: 0 | CQ55: 0 | CR55: 0 | CS55: 0 | CT55: 0 | CU55: 0 | CV55: 0 | CW55: 0 | CX55: 0 | CY55: 0 | CZ55: 0 | DA55: 0 | DB55: 0 | DC55: =SUBTOTAL(9,CN55:DB55) -> 0 | DD55: 0 | DE55: 0 | DF55: 0 | DG55: 0 | DH55: 0 | DI55: 0 | DJ55: 0 | DK55: 0 | DL55: =SUBTOTAL(9,DD55:DK55) -> 0 | DM55: 0 | DN55: 0 | DO55: 0 | DP55: 0 | DQ55: 0 | DR55: 0 | DS55: 0 | DT55: =SUBTOTAL(9,DM55:DS55) -> 0 | DU55: 0 | DV55: 0 | DW55: 0 | DX55: 0 | DY55: 0 | DZ55: =SUBTOTAL(9,DU55:DY55) -> 0 | EA55: =SUM(DT55,DL55,DC55,CM55,CJ55,CA55,BL55,AY55,AU55,AP55,AE55,W55,DZ55) -> 78
B56: สระบุรี | C56: 0 | D56: 0 | E56: 0 | F56: 0 | G56: 0 | H56: 0 | I56: 0 | J56: 0 | K56: 0 | L56: 0 | M56: 0 | N56: 0 | O56: 0 | P56: 0 | Q56: 0 | R56: 0 | S56: 0 | T56: 0 | U56: 0 | V56: 0 | W56: =SUBTOTAL(9,C56:V56) -> 0 | X56: 0 | Y56: 0 | Z56: 0 | AA56: 0 | AB56: 0 | AC56: 0 | AD56: 0 | AE56: =SUM(X56:AD56) -> 0 | AF56: 0 | AG56: 0 | AH56: 0 | AI56: 0 | AJ56: 0 | AK56: 0 | AL56: 0 | AM56: 0 | AN56: 0 | AO56: 0 | AP56: =SUBTOTAL(9,AI56:AO56) -> 0 | AQ56: 0 | AR56: 0 | AS56: 0 | AT56: 0 | AU56: =SUBTOTAL(9,AQ56:AT56) -> 0 | AV56: 0 | AW56: 0 | AX56: 0 | AY56: =SUM(AV56:AX56) -> 0 | AZ56: 0 | BA56: 0 | BB56: 0 | BC56: 0 | BD56: 0 | BE56: 0 | BF56: 0 | BG56: 0 | BH56: 0 | BI56: 0 | BJ56: 0 | BK56: 0 | BL56: =SUBTOTAL(9,AZ56:BK56) -> 0 | BM56: 0 | BN56: 0 | BO56: 0 | BP56: 0 | BQ56: 0 | BR56: 0 | BS56: 0 | BT56: 0 | BU56: 0 | BV56: 0 | BW56: 0 | BX56: 0 | BY56: 0 | BZ56: 0 | CA56: =SUBTOTAL(9,BM56:BZ56) -> 0 | CB56: 0 | CC56: 0 | CD56: 0 | CE56: 0 | CF56: 0 | CG56: 0 | CH56: 0 | CI56: 0 | CJ56: =SUBTOTAL(9,CC56:CI56) -> 0 | CK56: 0 | CL56: 0 | CM56: =SUM(CK56:CL56) -> 0 | CN56: 0 | CO56: 0 | CP56: 0 | CQ56: 0 | CR56: 0 | CS56: 0 | CT56: 0 | CU56: 0 | CV56: 0 | CW56: 0 | CX56: 0 | CY56: 0 | CZ56: 0 | DA56: 0 | DB56: 0 | DC56: =SUBTOTAL(9,CN56:DB56) -> 0 | DD56: 0 | DE56: 0 | DF56: 0 | DG56: 0 | DH56: 0 | DI56: 0 | DJ56: 0 | DK56: 0 | DL56: =SUBTOTAL(9,DD56:DK56) -> 0 | DM56: 0 | DN56: 0 | DO56: 0 | DP56: 0 | DQ56: 0 | DR56: 0 | DS56: 0 | DT56: =SUBTOTAL(9,DM56:DS56) -> 0 | DU56: 0 | DV56: 0 | DW56: 0 | DX56: 0 | DY56: 0 | DZ56: =SUBTOTAL(9,DU56:DY56) -> 0 | EA56: =SUM(DT56,DL56,DC56,CM56,CJ56,CA56,BL56,AY56,AU56,AP56,AE56,W56,DZ56) -> 0
B57: สิงห์บุรี | C57: 0 | D57: 0 | E57: 0 | F57: 0 | G57: 0 | H57: 0 | I57: 0 | J57: 0 | K57: 0 | L57: 0 | M57: 0 | N57: 0 | O57: 0 | P57: 0 | Q57: 0 | R57: 0 | S57: 0 | T57: 0 | U57: 0 | V57: 0 | W57: =SUBTOTAL(9,C57:V57) -> 0 | X57: 0 | Y57: 0 | Z57: 0 | AA57: 0 | AB57: 0 | AC57: 0 | AD57: 0 | AE57: =SUM(X57:AD57) -> 0 | AF57: 0 | AG57: 0 | AH57: 0 | AI57: 0 | AJ57: 0 | AK57: 0 | AL57: 0 | AM57: 0 | AN57: 0 | AO57: 0 | AP57: =SUBTOTAL(9,AI57:AO57) -> 0 | AQ57: 0 | AR57: 0 | AS57: 0 | AT57: 0 | AU57: =SUBTOTAL(9,AQ57:AT57) -> 0 | AV57: 0 | AW57: 0 | AX57: 0 | AY57: =SUM(AV57:AX57) -> 0 | AZ57: 0 | BA57: 0 | BB57: 0 | BC57: 0 | BD57: 0 | BE57: 0 | BF57: 0 | BG57: 0 | BH57: 0 | BI57: 0 | BJ57: 0 | BK57: 0 | BL57: =SUBTOTAL(9,AZ57:BK57) -> 0 | BM57: 0 | BN57: 0 | BO57: 0 | BP57: 0 | BQ57: 0 | BR57: 0 | BS57: 0 | BT57: 0 | BU57: 0 | BV57: 0 | BW57: 0 | BX57: 0 | BY57: 0 | BZ57: 0 | CA57: =SUBTOTAL(9,BM57:BZ57) -> 0 | CB57: 0 | CC57: 0 | CD57: 0 | CE57: 0 | CF57: 0 | CG57: 0 | CH57: 0 | CI57: 0 | CJ57: =SUBTOTAL(9,CC57:CI57) -> 0 | CK57: 0 | CL57: 0 | CM57: =SUM(CK57:CL57) -> 0 | CN57: 0 | CO57: 0 | CP57: 0 | CQ57: 0 | CR57: 0 | CS57: 0 | CT57: 0 | CU57: 0 | CV57: 0 | CW57: 0 | CX57: 0 | CY57: 0 | CZ57: 0 | DA57: 0 | DB57: 0 | DC57: =SUBTOTAL(9,CN57:DB57) -> 0 | DD57: 0 | DE57: 0 | DF57: 0 | DG57: 0 | DH57: 0 | DI57: 0 | DJ57: 0 | DK57: 0 | DL57: =SUBTOTAL(9,DD57:DK57) -> 0 | DM57: 0 | DN57: 0 | DO57: 0 | DP57: 0 | DQ57: 0 | DR57: 0 | DS57: 0 | DT57: =SUBTOTAL(9,DM57:DS57) -> 0 | DU57: 0 | DV57: 0 | DW57: 0 | DX57: 0 | DY57: 0 | DZ57: =SUBTOTAL(9,DU57:DY57) -> 0 | EA57: =SUM(DT57,DL57,DC57,CM57,CJ57,CA57,BL57,AY57,AU57,AP57,AE57,W57,DZ57) -> 0
B58: อ่างทอง | C58: 10 | D58: 0 | E58: 0 | F58: 0 | G58: 0 | H58: 0 | I58: 0 | J58: 0 | K58: 0 | L58: 0 | M58: 0 | N58: 0 | O58: 0 | P58: 0 | Q58: 0 | R58: 0 | S58: 0 | T58: 0 | U58: 0 | V58: 0 | W58: =SUBTOTAL(9,C58:V58) -> 10 | X58: 0 | Y58: 0 | Z58: 0 | AA58: 0 | AB58: 0 | AC58: 0 | AD58: 0 | AE58: =SUM(X58:AD58) -> 0 | AF58: 0 | AG58: 0 | AH58: 0 | AI58: 0 | AJ58: 0 | AK58: 0 | AL58: 0 | AM58: 0 | AN58: 0 | AO58: 0 | AP58: =SUBTOTAL(9,AI58:AO58) -> 0 | AQ58: 0 | AR58: 0 | AS58: 0 | AT58: 0 | AU58: =SUBTOTAL(9,AQ58:AT58) -> 0 | AV58: 0 | AW58: 0 | AX58: 0 | AY58: =SUM(AV58:AX58) -> 0 | AZ58: 0 | BA58: 0 | BB58: 0 | BC58: 0 | BD58: 0 | BE58: 0 | BF58: 0 | BG58: 0 | BH58: 0 | BI58: 0 | BJ58: 0 | BK58: 0 | BL58: =SUBTOTAL(9,AZ58:BK58) -> 0 | BM58: 0 | BN58: 0 | BO58: 0 | BP58: 0 | BQ58: 0 | BR58: 0 | BS58: 0 | BT58: 0 | BU58: 0 | BV58: 0 | BW58: 0 | BX58: 0 | BY58: 0 | BZ58: 0 | CA58: =SUBTOTAL(9,BM58:BZ58) -> 0 | CB58: 0 | CC58: 0 | CD58: 0 | CE58: 0 | CF58: 0 | CG58: 0 | CH58: 0 | CI58: 0 | CJ58: =SUBTOTAL(9,CC58:CI58) -> 0 | CK58: 0 | CL58: 0 | CM58: =SUM(CK58:CL58) -> 0 | CN58: 0 | CO58: 0 | CP58: 0 | CQ58: 0 | CR58: 0 | CS58: 0 | CT58: 0 | CU58: 0 | CV58: 0 | CW58: 0 | CX58: 0 | CY58: 0 | CZ58: 0 | DA58: 0 | DB58: 0 | DC58: =SUBTOTAL(9,CN58:DB58) -> 0 | DD58: 0 | DE58: 0 | DF58: 0 | DG58: 0 | DH58: 0 | DI58: 0 | DJ58: 0 | DK58: 0 | DL58: =SUBTOTAL(9,DD58:DK58) -> 0 | DM58: 0 | DN58: 0 | DO58: 0 | DP58: 0 | DQ58: 0 | DR58: 0 | DS58: 0 | DT58: =SUBTOTAL(9,DM58:DS58) -> 0 | DU58: 0 | DV58: 0 | DW58: 0 | DX58: 0 | DY58: 0 | DZ58: =SUBTOTAL(9,DU58:DY58) -> 0 | EA58: =SUM(DT58,DL58,DC58,CM58,CJ58,CA58,BL58,AY58,AU58,AP58,AE58,W58,DZ58) -> 10
A59: ภาคตะวันออก 7 จังหวัด | C59: =SUM(C60:C68) -> 0 | D59: =SUM(D60:D68) -> 0 | E59: =SUM(E60:E68) -> 5 | F59: =SUM(F60:F68) -> 0 | G59: =SUM(G60:G68) -> 0 | H59: =SUM(H60:H68) -> 0 | I59: =SUM(I60:I68) -> 0 | J59: =SUM(J60:J68) -> 0 | ... CM59: =SUM(CM60:CM68) -> 11 | CN59: =SUM(CN64:CN68) -> 0 | CO59: =SUM(CO64:CO68) -> 0 | CP59: =SUM(CP64:CP68) -> 0 | CQ59: =SUM(CQ60:CQ68) -> 108 | CR59: =SUM(CR60:CR68) -> 0 | CS59: =SUM(CS60:CS68) -> 5 | CT59: =SUM(CT60:CT68) -> 0 | CU59: =SUM(CU60:CU68) -> 0 | CV59: =SUM(CV60:CV68) -> 6511 | CW59: =SUM(CW60:CW68) -> 0 | CX59: =SUM(CX60:CX68) -> 0 | ... DZ59: =SUM(DZ60:DZ68) -> 627.25 | EA59: =SUM(DT59,DL59,DC59,CM59,CJ59,CA59,BL59,AY59,AU59,AP59,AE59,W59,DZ59) -> 11726.33
B60: จันทบุรี | C60: 0 | D60: 0 | E60: 0 | F60: 0 | G60: 0 | H60: 0 | I60: 0 | J60: 0 | K60: 0 | L60: 0 | M60: 0 | N60: 0 | O60: 0 | P60: 0 | Q60: 0 | R60: 0 | S60: 0 | T60: 0 | U60: 0 | V60: 0 | W60: =SUBTOTAL(9,C60:V60) -> 0 | X60: 16.7 | Y60: 3.5 | Z60: 41.5 | AA60: 2.6 | AB60: 66.6 | AC60: 0 | AD60: 0 | AE60: =SUM(X60:AD60) -> 130.9 | AF60: 0 | AG60: 0 | AH60: 0 | AI60: 0 | AJ60: 0 | AK60: 0 | AL60: 0 | AM60: 0 | AN60: 0 | AO60: 0 | AP60: =SUBTOTAL(9,AI60:AO60) -> 0 | AQ60: 72 | AR60: 0 | AS60: 0 | AT60: 0 | AU60: =SUBTOTAL(9,AQ60:AT60) -> 72 | AV60: 0 | AW60: 0 | AX60: 0 | AY60: =SUM(AV60:AX60) -> 0 | AZ60: 6.4 | BA60: 0 | BB60: 0 | BC60: 0 | BD60: 0 | BE60: 0 | BF60: 0 | BG60: 0 | BH60: 0 | BI60: 0 | BJ60: 0 | BK60: 0 | BL60: =SUBTOTAL(9,AZ60:BK60) -> 6.4 | BM60: 0 | BN60: 0 | BO60: 0 | BP60: 0 | BQ60: 0 | BR60: 0 | BS60: 0 | BT60: 0 | BU60: 0 | BV60: 0 | BW60: 0 | BX60: 0 | BY60: 0 | BZ60: 0 | CA60: =SUBTOTAL(9,BM60:BZ60) -> 0 | CB60: 0 | CC60: 138.9 | CD60: 0 | CE60: 0 | CF60: 0 | CG60: 0 | CH60: 0 | CI60: 0 | CJ60: =SUBTOTAL(9,CC60:CI60) -> 138.9 | CK60: 0 | CL60: 0 | CM60: =SUM(CK60:CL60) -> 0 | CN60: 0 | CO60: 0 | CP60: 0 | CQ60: 108 | CR60: 0 | CS60: 5 | CT60: 0 | CU60: 0 | CV60: 5882 | CW60: 0 | CX60: 0 | CY60: 0 | CZ60: 0 | DA60: 0 | DB60: 0 | DC60: =SUBTOTAL(9,CN60:DB60) -> 5995 | DD60: 0 | DE60: 0 | DF60: 0 | DG60: 0 | DH60: 0 | DI60: 0 | DJ60: 0 | DK60: 0 | DL60: =SUBTOTAL(9,DD60:DK60) -> 0 | DM60: 0 | DN60: 0 | DO60: 97 | DP60: 0 | DQ60: 0 | DR60: 0 | DS60: 0 | DT60: =SUBTOTAL(9,DM60:DS60) -> 97 | DU60: 280 | DV60: 10 | DW60: 325 | DX60: 0 | DY60: 12.25 | DZ60: =SUBTOTAL(9,DU60:DY60) -> 627.25 | EA60: =SUM(DT60,DL60,DC60,CM60,CJ60,CA60,BL60,AY60,AU60,AP60,AE60,W60,DZ60) -> 7067.45
B61: ฉะเชิงเทรา | C61: 0 | D61: 0 | E61: 5 | F61: 0 | G61: 0 | H61: 0 | I61: 0 | J61: 0 | K61: 0 | L61: 0 | M61: 0 | N61: 0 | O61: 0 | P61: 0 | Q61: 0 | R61: 0 | S61: 0 | T61: 0 | U61: 0 | V61: 0 | W61: =SUBTOTAL(9,C61:V61) -> 5 | X61: 281 | Y61: 107 | Z61: 265 | AA61: 199 | AB61: 911 | AC61: 0 | AD61: 0 | AE61: =SUM(X61:AD61) -> 1763 | AF61: 0 | AG61: 0 | AH61: 0 | AI61: 0 | AJ61: 0 | AK61: 0 | AL61: 0 | AM61: 0 | AN61: 0 | AO61: 0 | AP61: =SUBTOTAL(9,AI61:AO61) -> 0 | AQ61: 0 | AR61: 0 | AS61: 0 | AT61: 0 | AU61: =SUBTOTAL(9,AQ61:AT61) -> 0 | AV61: 0 | AW61: 0 | AX61: 0 | AY61: =SUM(AV61:AX61) -> 0 | AZ61: 0 | BA61: 0 | BB61: 0 | BC61: 0 | BD61: 0 | BE61: 0 | BF61: 0 | BG61: 0 | BH61: 0 | BI61: 0 | BJ61: 0 | BK61: 0 | BL61: =SUBTOTAL(9,AZ61:BK61) -> 0 | BM61: 0 | BN61: 0 | BO61: 0 | BP61: 0 | BQ61: 0 | BR61: 0 | BS61: 0 | BT61: 0 | BU61: 0 | BV61: 0 | BW61: 0 | BX61: 0 | BY61: 0 | BZ61: 0 | CA61: =SUBTOTAL(9,BM61:BZ61) -> 0 | CB61: 0 | CC61: 0 | CD61: 0 | CE61: 0 | CF61: 0 | CG61: 0 | CH61: 0 | CI61: 0 | CJ61: =SUBTOTAL(9,CC61:CI61) -> 0 | CK61: 0 | CL61: 0 | CM61: =SUM(CK61:CL61) -> 0 | CN61: 0 | CO61: 0 | CP61: 0 | CQ61: 0 | CR61: 0 | CS61: 0 | CT61: 0 | CU61: 0 | CV61: 0 | CW61: 0 | CX61: 0 | CY61: 0 | CZ61: 0 | DA61: 0 | DB61: 0 | DC61: =SUBTOTAL(9,CN61:DB61) -> 0 | DD61: 0 | DE61: 0 | DF61: 0 | DG61: 0 | DH61: 0 | DI61: 0 | DJ61: 0 | DK61: 0 | DL61: =SUBTOTAL(9,DD61:DK61) -> 0 | DM61: 0 | DN61: 0 | DO61: 0 | DP61: 0 | DQ61: 0 | DR61: 0 | DS61: 0 | DT61: =SUBTOTAL(9,DM61:DS61) -> 0 | DU61: 0 | DV61: 0 | DW61: 0 | DX61: 0 | DY61: 0 | DZ61: =SUBTOTAL(9,DU61:DY61) -> 0 | EA61: =SUM(DT61,DL61,DC61,CM61,CJ61,CA61,BL61,AY61,AU61,AP61,AE61,W61,DZ61) -> 1768
B62: ชลบุรี | C62: 0 | D62: 0 | E62: 0 | F62: 0 | G62: 0 | H62: 0 | I62: 0 | J62: 0 | K62: 0 | L62: 0 | M62: 0 | N62: 0 | O62: 0 | P62: 0 | Q62: 0 | R62: 0 | S62: 0 | T62: 0 | U62: 0 | V62: 0 | W62: =SUBTOTAL(9,C62:V62) -> 0 | X62: 458 | Y62: 499 | Z62: 108.05 | AA62: 75.05 | AB62: 6 | AC62: 0 | AD62: 0 | AE62: =SUM(X62:AD62) -> 1146.1 | AF62: 0 | AG62: 0 | AH62: 0 | AI62: 0 | AJ62: 0 | AK62: 0 | AL62: 0 | AM62: 0 | AN62: 0 | AO62: 0 | AP62: =SUBTOTAL(9,AI62:AO62) -> 0 | AQ62: 0 | AR62: 0 | AS62: 0 | AT62: 0 | AU62: =SUBTOTAL(9,AQ62:AT62) -> 0 | AV62: 0 | AW62: 0 | AX62: 0 | AY62: =SUM(AV62:AX62) -> 0 | AZ62: 29 | BA62: 0 | BB62: 0 | BC62: 0 | BD62: 0 | BE62: 0 | BF62: 0 | BG62: 0 | BH62: 0 | BI62: 0 | BJ62: 0 | BK62: 0 | BL62: =SUBTOTAL(9,AZ62:BK62) -> 29 | BM62: 0 | BN62: 0 | BO62: 0 | BP62: 0 | BQ62: 0 | BR62: 0 | BS62: 0 | BT62: 0 | BU62: 0 | BV62: 0 | BW62: 0 | BX62: 0 | BY62: 0 | BZ62: 0 | CA62: =SUBTOTAL(9,BM62:BZ62) -> 0 | CB62: 0 | CC62: 0 | CD62: 0 | CE62: 0 | CF62: 0 | CG62: 0 | CH62: 0 | CI62: 0 | CJ62: =SUBTOTAL(9,CC62:CI62) -> 0 | CK62: 0 | CL62: 11 | CM62: =SUM(CK62:CL62) -> 11 | CN62: 0 | CO62: 0 | CP62: 0 | CQ62: 0 | CR62: 0 | CS62: 0 | CT62: 0 | CU62: 0 | CV62: 0 | CW62: 0 | CX62: 0 | CY62: 0 | CZ62: 0 | DA62: 0 | DB62: 0 | DC62: =SUBTOTAL(9,CN62:DB62) -> 0 | DD62: 0 | DE62: 0 | DF62: 0 | DG62: 0 | DH62: 0 | DI62: 0 | DJ62: 0 | DK62: 0 | DL62: =SUBTOTAL(9,DD62:DK62) -> 0 | DM62: 0 | DN62: 0 | DO62: 0 | DP62: 0 | DQ62: 0 | DR62: 0 | DS62: 0 | DT62: =SUBTOTAL(9,DM62:DS62) -> 0 | DU62: 0 | DV62: 0 | DW62: 0 | DX62: 0 | DY62: 0 | DZ62: =SUBTOTAL(9,DU62:DY62) -> 0 | EA62: =SUM(DT62,DL62,DC62,CM62,CJ62,CA62,BL62,AY62,AU62,AP62,AE62,W62,DZ62) -> 1186.1
B63: ตราด | C63: 0 | D63: 0 | E63: 0 | F63: 0 | G63: 0 | H63: 0 | I63: 0 | J63: 0 | K63: 0 | L63: 0 | M63: 0 | N63: 0 | O63: 0 | P63: 0 | Q63: 0 | R63: 0 | S63: 0 | T63: 0 | U63: 0 | V63: 0 | W63: =SUBTOTAL(9,C63:V63) -> 0 | X63: 50 | Y63: 249 | Z63: 223.53 | AA63: 486.5 | AB63: 2 | AC63: 0 | AD63: 0 | AE63: =SUM(X63:AD63) -> 1011.03 | AF63: 0 | AG63: 0 | AH63: 0 | AI63: 0 | AJ63: 0 | AK63: 0 | AL63: 0 | AM63: 0 | AN63: 0 | AO63: 0 | AP63: =SUBTOTAL(9,AI63:AO63) -> 0 | AQ63: 0 | AR63: 0 | AS63: 0 | AT63: 0 | AU63: =SUBTOTAL(9,AQ63:AT63) -> 0 | AV63: 0 | AW63: 0 | AX63: 0 | AY63: =SUM(AV63:AX63) -> 0 | AZ63: 0 | BA63: 0 | BB63: 0 | BC63: 0 | BD63: 0 | BE63: 0 | BF63: 0 | BG63: 0 | BH63: 0 | BI63: 0 | BJ63: 0 | BK63: 0 | BL63: =SUBTOTAL(9,AZ63:BK63) -> 0 | BM63: 0 | BN63: 0 | BO63: 0 | BP63: 0 | BQ63: 0 | BR63: 0 | BS63: 0 | BT63: 0 | BU63: 0 | BV63: 0 | BW63: 0 | BX63: 0 | BY63: 0 | BZ63: 0 | CA63: =SUBTOTAL(9,BM63:BZ63) -> 0 | CB63: 0 | CC63: 0 | CD63: 0 | CE63: 0 | CF63: 0 | CG63: 0 | CH63: 0 | CI63: 0 | CJ63: =SUBTOTAL(9,CC63:CI63) -> 0 | CL63: 0 | CM63: =SUM(CK63:CL63) -> 0 | CN63: 0 | CO63: 0 | CP63: 0 | CQ63: 0 | CR63: 0 | CS63: 0 | CT63: 0 | CU63: 0 | CV63: 629 | CW63: 0 | CX63: 0 | CY63: 0 | CZ63: 0 | DA63: 0 | DB63: 0 | DC63: =SUBTOTAL(9,CN63:DB63) -> 629 | DD63: 0 | DE63: 0 | DF63: 0 | DG63: 0 | DH63: 0 | DI63: 0 | DJ63: 0 | DK63: 0 | DL63: =SUBTOTAL(9,DD63:DK63) -> 0 | DM63: 0 | DN63: 0 | DO63: 0 | DP63: 0 | DQ63: 0 | DR63: 0 | DS63: 0 | DT63: =SUBTOTAL(9,DM63:DS63) -> 0 | DU63: 0 | DV63: 0 | DW63: 0 | DX63: 0 | DY63: 0 | DZ63: =SUBTOTAL(9,DU63:DY63) -> 0 | EA63: =SUM(DT63,DL63,DC63,CM63,CJ63,CA63,BL63,AY63,AU63,AP63,AE63,W63,DZ63) -> 1640.03
B64: นครนายก | C64: 0 | D64: 0 | E64: 0 | F64: 0 | G64: 0 | H64: 0 | I64: 0 | J64: 0 | K64: 0 | L64: 0 | M64: 0 | N64: 0 | O64: 0 | P64: 0 | Q64: 0 | R64: 0 | S64: 0 | T64: 0 | U64: 0 | V64: 0 | W64: =SUBTOTAL(9,C64:V64) -> 0 | X64: 0 | Y64: 0 | Z64: 0 | AA64: 0 | AB64: 0 | AC64: 0 | AD64: 0 | AE64: =SUM(X64:AD64) -> 0 | AF64: 0 | AG64: 0 | AH64: 0 | AI64: 0 | AJ64: 0 | AK64: 0 | AL64: 0 | AM64: 0 | AN64: 0 | AO64: 0 | AP64: =SUBTOTAL(9,AI64:AO64) -> 0 | AQ64: 0 | AR64: 0 | AS64: 0 | AT64: 0 | AU64: =SUBTOTAL(9,AQ64:AT64) -> 0 | AV64: 0 | AW64: 0 | AX64: 0 | AY64: =SUM(AV64:AX64) -> 0 | AZ64: 0 | BA64: 0 | BB64: 0 | BC64: 0 | BD64: 0 | BE64: 0 | BF64: 0 | BG64: 0 | BH64: 0 | BI64: 0 | BJ64: 0 | BK64: 0 | BL64: =SUBTOTAL(9,AZ64:BK64) -> 0 | BM64: 0 | BN64: 0 | BO64: 0 | BP64: 0 | BQ64: 0 | BR64: 0 | BS64: 0 | BT64: 0 | BU64: 0 | BV64: 0 | BW64: 0 | BX64: 0 | BY64: 0 | BZ64: 0 | CA64: =SUBTOTAL(9,BM64:BZ64) -> 0 | CB64: 0 | CC64: 0 | CD64: 0 | CE64: 0 | CF64: 0 | CG64: 0 | CH64: 0 | CI64: 0 | CJ64: =SUBTOTAL(9,CC64:CI64) -> 0 | CK64: 0 | CL64: 0 | CM64: =SUM(CK64:CL64) -> 0 | CN64: 0 | CO64: 0 | CP64: 0 | CQ64: 0 | CR64: 0 | CS64: 0 | CT64: 0 | CU64: 0 | CV64: 0 | CW64: 0 | CX64: 0 | CY64: 0 | CZ64: 0 | DA64: 0 | DB64: 0 | DC64: =SUBTOTAL(9,CN64:DB64) -> 0 | DD64: 0 | DE64: 0 | DF64: 0 | DG64: 0 | DH64: 0 | DI64: 0 | DJ64: 0 | DK64: 0 | DL64: =SUBTOTAL(9,DD64:DK64) -> 0 | DM64: 0 | DN64: 0 | DO64: 0 | DP64: 0 | DQ64: 0 | DR64: 0 | DS64: 0 | DT64: =SUBTOTAL(9,DM64:DS64) -> 0 | DU64: 0 | DV64: 0 | DW64: 0 | DX64: 0 | DY64: 0 | DZ64: =SUBTOTAL(9,DU64:DY64) -> 0 | EA64: =SUM(DT64,DL64,DC64,CM64,CJ64,CA64,BL64,AY64,AU64,AP64,AE64,W64,DZ64) -> 0
B65: ปราจีนบุรี | C65: 0 | D65: 0 | E65: 0 | F65: 0 | G65: 0 | H65: 0 | I65: 0 | J65: 0 | K65: 0 | L65: 0 | M65: 0 | N65: 0 | O65: 0 | P65: 0 | Q65: 0 | R65: 0 | S65: 0 | T65: 0 | U65: 0 | V65: 0 | W65: =SUBTOTAL(9,C65:V65) -> 0 | X65: 0 | Y65: 0 | Z65: 0 | AA65: 0 | AB65: 0 | AC65: 0 | AD65: 0 | AE65: =SUM(X65:AD65) -> 0 | AF65: 0 | AG65: 0 | AH65: 0 | AI65: 0 | AJ65: 0 | AK65: 0 | AL65: 0 | AM65: 0 | AN65: 0 | AO65: 0 | AP65: =SUBTOTAL(9,AI65:AO65) -> 0 | AQ65: 0 | AR65: 0 | AS65: 0 | AT65: 0 | AU65: =SUBTOTAL(9,AQ65:AT65) -> 0 | AV65: 0 | AW65: 0 | AX65: 0 | AY65: =SUM(AV65:AX65) -> 0 | AZ65: 0 | BA65: 0 | BB65: 0 | BC65: 0 | BD65: 0 | BE65: 0 | BF65: 0 | BG65: 0 | BH65: 0 | BI65: 0 | BJ65: 0 | BK65: 0 | BL65: =SUBTOTAL(9,AZ65:BK65) -> 0 | BM65: 0 | BN65: 0 | BO65: 0 | BP65: 0 | BQ65: 0 | BR65: 0 | BS65: 0 | BT65: 0 | BU65: 0 | BV65: 0 | BW65: 0 | BX65: 0 | BY65: 0 | BZ65: 0 | CA65: =SUBTOTAL(9,BM65:BZ65) -> 0 | CB65: 0 | CC65: 0 | CD65: 0 | CE65: 0 | CF65: 0 | CG65: 0 | CH65: 0 | CI65: 0 | CJ65: =SUBTOTAL(9,CC65:CI65) -> 0 | CK65: 0 | CL65: 0 | CM65: =SUM(CK65:CL65) -> 0 | CN65: 0 | CO65: 0 | CP65: 0 | CQ65: 0 | CR65: 0 | CS65: 0 | CT65: 0 | CU65: 0 | CV65: 0 | CW65: 0 | CX65: 0 | CY65: 0 | CZ65: 0 | DA65: 0 | DB65: 0 | DC65: =SUBTOTAL(9,CN65:DB65) -> 0 | DD65: 0 | DE65: 0 | DF65: 0 | DG65: 0 | DH65: 0 | DI65: 0 | DJ65: 0 | DK65: 0 | DL65: =SUBTOTAL(9,DD65:DK65) -> 0 | DM65: 0 | DN65: 0 | DO65: 1 | DP65: 0 | DQ65: 0 | DR65: 0 | DS65: 0 | DT65: =SUBTOTAL(9,DM65:DS65) -> 1 | DU65: 0 | DV65: 0 | DW65: 0 | DX65: 0 | DY65: 0 | DZ65: =SUBTOTAL(9,DU65:DY65) -> 0 | EA65: =SUM(DT65,DL65,DC65,CM65,CJ65,CA65,BL65,AY65,AU65,AP65,AE65,W65,DZ65) -> 1
B66: ระยอง | C66: 0 | D66: 0 | E66: 0 | F66: 0 | G66: 0 | H66: 0 | I66: 0 | J66: 0 | K66: 0 | L66: 0 | M66: 0 | N66: 0 | O66: 0 | P66: 0 | Q66: 0 | R66: 0 | S66: 0 | T66: 0 | U66: 0 | V66: 0 | W66: =SUBTOTAL(9,C66:V66) -> 0 | X66: 10 | Y66: 0 | Z66: 0 | AA66: 0 | AB66: 0 | AC66: 0 | AD66: 0 | AE66: =SUM(X66:AD66) -> 10 | AF66: 0 | AG66: 0 | AH66: 0 | AI66: 0 | AJ66: 0 | AK66: 0 | AL66: 0 | AM66: 0 | AN66: 0 | AO66: 0 | AP66: =SUBTOTAL(9,AI66:AO66) -> 0 | AQ66: 0 | AR66: 0 | AS66: 0 | AT66: 0 | AU66: =SUBTOTAL(9,AQ66:AT66) -> 0 | AV66: 0 | AW66: 0 | AX66: 0 | AY66: =SUM(AV66:AX66) -> 0 | AZ66: 0 | BA66: 0 | BB66: 0 | BC66: 0 | BD66: 0 | BE66: 0 | BG66: 0 | BH66: 0 | BI66: 0 | BJ66: 0 | BK66: 0 | BL66: =SUBTOTAL(9,AZ66:BK66) -> 0 | BM66: 0 | BN66: 0 | BO66: 0 | BP66: 0 | BQ66: 0 | BR66: 0 | BS66: 0 | BT66: 0 | BU66: 0 | BV66: 0 | BW66: 0 | BX66: 0 | BY66: 0 | BZ66: 0 | CA66: =SUBTOTAL(9,BM66:BZ66) -> 0 | CB66: 0 | CC66: 0 | CD66: 0 | CE66: 0 | CF66: 0 | CG66: 0 | CH66: 0 | CI66: 0 | CJ66: =SUBTOTAL(9,CC66:CI66) -> 0 | CL66: 0 | CM66: =SUM(CK66:CL66) -> 0 | CN66: 0 | CO66: 0 | CP66: 0 | CQ66: 0 | CR66: 0 | CS66: 0 | CT66: 0 | CU66: 0 | CV66: 0 | CW66: 0 | CX66: 0 | CY66: 0 | CZ66: 0 | DA66: 0 | DB66: 0 | DC66: =SUBTOTAL(9,CN66:DB66) -> 0 | DD66: 0 | DE66: 0 | DF66: 0 | DG66: 0 | DH66: 0 | DI66: 0 | DJ66: 0 | DK66: 0 | DL66: =SUBTOTAL(9,DD66:DK66) -> 0 | DM66: 0 | DN66: 0 | DO66: 0 | DP66: 0 | DQ66: 0 | DR66: 0 | DS66: 0 | DT66: =SUBTOTAL(9,DM66:DS66) -> 0 | DU66: 0 | DV66: 0 | DW66: 0 | DX66: 0 | DY66: 0 | DZ66: =SUBTOTAL(9,DU66:DY66) -> 0 | EA66: =SUM(DT66,DL66,DC66,CM66,CJ66,CA66,BL66,AY66,AU66,AP66,AE66,W66,DZ66) -> 10
B67: สมุทรปราการ | C67: 0 | D67: 0 | E67: 0 | F67: 0 | G67: 0 | H67: 0 | I67: 0 | J67: 0 | K67: 0 | L67: 0 | M67: 0 | N67: 0 | O67: 0 | P67: 0 | Q67: 0 | R67: 0 | S67: 0 | T67: 0 | U67: 0 | V67: 0 | W67: =SUBTOTAL(9,C67:V67) -> 0 | X67: 13 | Y67: 11.5 | Z67: 22.25 | AA67: 7 | AB67: 0 | AC67: 0 | AD67: 0 | AE67: =SUM(X67:AD67) -> 53.75 | AF67: 0 | AG67: 0 | AH67: 0 | AI67: 0 | AJ67: 0 | AK67: 0 | AL67: 0 | AM67: 0 | AN67: 0 | AO67: 0 | AP67: =SUBTOTAL(9,AI67:AO67) -> 0 | AQ67: 0 | AR67: 0 | AS67: 0 | AT67: 0 | AU67: =SUBTOTAL(9,AQ67:AT67) -> 0 | AV67: 0 | AW67: 0 | AX67: 0 | AY67: =SUM(AV67:AX67) -> 0 | AZ67: 0 | BA67: 0 | BB67: 0 | BC67: 0 | BD67: 0 | BE67: 0 | BF67: 0 | BG67: 0 | BH67: 0 | BI67: 0 | BJ67: 0 | BK67: 0 | BL67: =SUBTOTAL(9,AZ67:BK67) -> 0 | BM67: 0 | BN67: 0 | BO67: 0 | BP67: 0 | BQ67: 0 | BR67: 0 | BS67: 0 | BT67: 0 | BU67: 0 | BV67: 0 | BW67: 0 | BX67: 0 | BY67: 0 | BZ67: 0 | CA67: =SUBTOTAL(9,BM67:BZ67) -> 0 | CB67: 0 | CC67: 0 | CD67: 0 | CE67: 0 | CF67: 0 | CG67: 0 | CH67: 0 | CI67: 0 | CJ67: =SUBTOTAL(9,CC67:CI67) -> 0 | CK67: 0 | CL67: 0 | CM67: =SUM(CK67:CL67) -> 0 | CN67: 0 | CO67: 0 | CP67: 0 | CQ67: 0 | CR67: 0 | CS67: 0 | CT67: 0 | CU67: 0 | CV67: 0 | CW67: 0 | CX67: 0 | CY67: 0 | CZ67: 0 | DA67: 0 | DB67: 0 | DC67: =SUBTOTAL(9,CN67:DB67) -> 0 | DD67: 0 | DE67: 0 | DF67: 0 | DG67: 0 | DH67: 0 | DI67: 0 | DJ67: 0 | DK67: 0 | DL67: =SUBTOTAL(9,DD67:DK67) -> 0 | DM67: 0 | DN67: 0 | DO67: 0 | DP67: 0 | DQ67: 0 | DR67: 0 | DS67: 0 | DT67: =SUBTOTAL(9,DM67:DS67) -> 0 | DU67: 0 | DV67: 0 | DW67: 0 | DX67: 0 | DY67: 0 | DZ67: =SUBTOTAL(9,DU67:DY67) -> 0 | EA67: =SUM(DT67,DL67,DC67,CM67,CJ67,CA67,BL67,AY67,AU67,AP67,AE67,W67,DZ67) -> 53.75
B68: สระแก้ว | C68: 0 | D68: 0 | E68: 0 | F68: 0 | G68: 0 | H68: 0 | I68: 0 | J68: 0 | K68: 0 | L68: 0 | M68: 0 | N68: 0 | O68: 0 | P68: 0 | Q68: 0 | R68: 0 | S68: 0 | T68: 0 | U68: 0 | V68: 0 | W68: =SUBTOTAL(9,C68:V68) -> 0 | X68: 0 | Y68: 0 | Z68: 0 | AA68: 0 | AB68: 0 | AC68: 0 | AD68: 0 | AE68: =SUM(X68:AD68) -> 0 | AF68: 0 | AG68: 0 | AH68: 0 | AI68: 0 | AJ68: 0 | AK68: 0 | AL68: 0 | AM68: 0 | AN68: 0 | AO68: 0 | AP68: =SUBTOTAL(9,AI68:AO68) -> 0 | AQ68: 0 | AR68: 0 | AS68: 0 | AT68: 0 | AU68: =SUBTOTAL(9,AQ68:AT68) -> 0 | AV68: 0 | AW68: 0 | AX68: 0 | AY68: =SUM(AV68:AX68) -> 0 | AZ68: 0 | BA68: 0 | BB68: 0 | BC68: 0 | BD68: 0 | BE68: 0 | BF68: 0 | BG68: 0 | BH68: 0 | BI68: 0 | BJ68: 0 | BK68: 0 | BL68: =SUBTOTAL(9,AZ68:BK68) -> 0 | BM68: 0 | BN68: 0 | BO68: 0 | BP68: 0 | BQ68: 0 | BR68: 0 | BS68: 0 | BT68: 0 | BU68: 0 | BV68: 0 | BW68: 0 | BX68: 0 | BY68: 0 | BZ68: 0 | CA68: =SUBTOTAL(9,BM68:BZ68) -> 0 | CB68: 0 | CC68: 0 | CD68: 0 | CE68: 0 | CF68: 0 | CG68: 0 | CH68: 0 | CI68: 0 | CJ68: =SUBTOTAL(9,CC68:CI68) -> 0 | CK68: 0 | CL68: 0 | CM68: =SUM(CK68:CL68) -> 0 | CN68: 0 | CO68: 0 | CP68: 0 | CQ68: 0 | CR68: 0 | CS68: 0 | CT68: 0 | CU68: 0 | CV68: 0 | CW68: 0 | CX68: 0 | CY68: 0 | CZ68: 0 | DA68: 0 | DB68: 0 | DC68: =SUBTOTAL(9,CN68:DB68) -> 0 | DD68: 0 | DE68: 0 | DF68: 0 | DG68: 0 | DH68: 0 | DI68: 0 | DJ68: 0 | DK68: 0 | DL68: =SUBTOTAL(9,DD68:DK68) -> 0 | DM68: 0 | DN68: 0 | DO68: 0 | DP68: 0 | DQ68: 0 | DR68: 0 | DS68: 0 | DT68: =SUBTOTAL(9,DM68:DS68) -> 0 | DU68: 0 | DV68: 0 | DW68: 0 | DX68: 0 | DY68: 0 | DZ68: =SUBTOTAL(9,DU68:DY68) -> 0 | EA68: =SUM(DT68,DL68,DC68,CM68,CJ68,CA68,BL68,AY68,AU68,AP68,AE68,W68,DZ68) -> 0
A69: ภาคตะวันตก 4 จังหวัด | C69: =SUM(C70:C77) -> 0 | D69: =SUM(D70:D77) -> 0 | E69: =SUM(E70:E77) -> 33 | F69: =SUM(F70:F77) -> 0 | G69: =SUM(G70:G77) -> 4 | H69: =SUM(H70:H77) -> 0 | I69: =SUM(I70:I77) -> 0 | J69: =SUM(J70:J77) -> 21 | ... CJ69: =SUM(CJ70:CJ77) -> 0 | CK69: =SUM(CK70:CK76) -> 0 | CL69: =SUM(CL70:CL76) -> 0 | CM69: =SUM(CM70:CM76) -> 0 | CN69: =SUM(CN72:CN76) -> 0 | CO69: =SUM(CO72:CO76) -> 0 | CP69: =SUM(CP72:CP76) -> 0 | CQ69: =SUM(CQ70:CQ77) -> 0 | CR69: =SUM(CR70:CR77) -> 0 | CS69: =SUM(CS70:CS77) -> 0 | CT69: =SUM(CT70:CT77) -> 0 | CU69: =SUM(CU70:CU77) -> 0 | CV69: =SUM(CV70:CV77) -> 111 | CW69: =SUM(CW70:CW77) -> 0 | CX69: =SUM(CX70:CX77) -> 0 | ... DZ69: =SUM(DZ70:DZ77) -> 18 | EA69: =SUM(DT69,DL69,DC69,CM69,CJ69,CA69,BL69,AY69,AU69,AP69,AE69,W69,DZ69) -> 15580.03
B70: กาญจนบุรี | C70: 0 | D70: 0 | E70: 0 | F70: 0 | G70: 0 | H70: 0 | I70: 0 | J70: 0 | K70: 0 | L70: 0 | M70: 0 | N70: 0 | O70: 0 | P70: 0 | Q70: 0 | R70: 0 | S70: 0 | T70: 0 | U70: 0 | V70: 0 | W70: =SUBTOTAL(9,C70:V70) -> 0 | X70: 5 | Y70: 5 | Z70: 0 | AA70: 0 | AB70: 0 | AC70: 0 | AD70: 0 | AE70: =SUM(X70:AD70) -> 10 | AF70: 0 | AG70: 0 | AH70: 0 | AI70: 0 | AJ70: 0 | AK70: 0 | AL70: 0 | AM70: 0 | AN70: 0 | AO70: 0 | AP70: =SUBTOTAL(9,AI70:AO70) -> 0 | AQ70: 0 | AR70: 0 | AS70: 0 | AT70: 0 | AU70: =SUBTOTAL(9,AQ70:AT70) -> 0 | AV70: 0 | AW70: 0 | AX70: 0 | AY70: =SUM(AV70:AX70) -> 0 | AZ70: 0 | BA70: 0 | BB70: 0 | BC70: 0 | BD70: 0 | BE70: 0 | BF70: 0 | BG70: 0 | BH70: 0 | BI70: 0 | BJ70: 0 | BK70: 0 | BL70: =SUBTOTAL(9,AZ70:BK70) -> 0 | BM70: 0 | BN70: 0 | BO70: 0 | BP70: 0 | BQ70: 0 | BR70: 0 | BS70: 0 | BT70: 0 | BU70: 0 | BV70: 0 | BW70: 0 | BX70: 0 | BY70: 0 | BZ70: 0 | CA70: =SUBTOTAL(9,BM70:BZ70) -> 0 | CB70: 0 | CC70: 0 | CD70: 0 | CE70: 0 | CF70: 0 | CG70: 0 | CH70: 0 | CI70: 0 | CJ70: =SUBTOTAL(9,CC70:CI70) -> 0 | CK70: 0 | CL70: 0 | CM70: =SUM(CK70:CL70) -> 0 | CN70: 0 | CO70: 0 | CP70: 0 | CQ70: 0 | CR70: 0 | CS70: 0 | CT70: 0 | CU70: 0 | CV70: 0 | CW70: 0 | CX70: 0 | CY70: 0 | CZ70: 0 | DA70: 0 | DB70: 0 | DC70: =SUBTOTAL(9,CN70:DB70) -> 0 | DD70: 0 | DE70: 0 | DF70: 0 | DG70: 0 | DH70: 0 | DI70: 0 | DJ70: 0 | DK70: 0 | DL70: =SUBTOTAL(9,DD70:DK70) -> 0 | DM70: 0 | DN70: 0 | DO70: 0 | DP70: 0 | DQ70: 0 | DR70: 0 | DS70: 0 | DT70: =SUBTOTAL(9,DM70:DS70) -> 0 | DU70: 0 | DV70: 0 | DW70: 0 | DX70: 0 | DY70: 0 | DZ70: =SUBTOTAL(9,DU70:DY70) -> 0 | EA70: =SUM(DT70,DL70,DC70,CM70,CJ70,CA70,BL70,AY70,AU70,AP70,AE70,W70,DZ70) -> 10
B71: นครปฐม | C71: 0 | D71: 0 | E71: 0 | F71: 0 | G71: 0 | H71: 0 | I71: 0 | J71: 0 | K71: 0 | L71: 0 | M71: 0 | N71: 0 | O71: 0 | P71: 0 | Q71: 0 | R71: 0 | S71: 0 | T71: 0 | U71: 0 | V71: 0 | W71: =SUBTOTAL(9,C71:V71) -> 0 | X71: 0 | Y71: 0 | Z71: 15 | AA71: 0 | AB71: 17 | AC71: 0 | AD71: 0 | AE71: =SUM(X71:AD71) -> 32 | AF71: 0 | AG71: 0 | AH71: 0 | AI71: 0 | AJ71: 0 | AK71: 0 | AL71: 0 | AM71: 0 | AN71: 0 | AO71: 0 | AP71: =SUBTOTAL(9,AI71:AO71) -> 0 | AQ71: 0 | AR71: 0 | AS71: 0 | AT71: 0 | AU71: =SUBTOTAL(9,AQ71:AT71) -> 0 | AV71: 0 | AW71: 0 | AX71: 0 | AY71: =SUM(AV71:AX71) -> 0 | AZ71: 0 | BA71: 0 | BB71: 0 | BC71: 0 | BD71: 0 | BE71: 0 | BF71: 0 | BG71: 0 | BH71: 0 | BI71: 0 | BJ71: 0 | BK71: 0 | BL71: =SUBTOTAL(9,AZ71:BK71) -> 0 | BM71: 0 | BN71: 0 | BO71: 0 | BP71: 0 | BQ71: 0 | BR71: 0 | BS71: 0 | BT71: 0 | BU71: 0 | BV71: 0 | BW71: 0 | BX71: 0 | BY71: 0 | BZ71: 0 | CA71: =SUBTOTAL(9,BM71:BZ71) -> 0 | CB71: 0 | CC71: 0 | CD71: 0 | CE71: 0 | CF71: 0 | CG71: 0 | CH71: 0 | CI71: 0 | CJ71: =SUBTOTAL(9,CC71:CI71) -> 0 | CK71: 0 | CL71: 0 | CM71: =SUM(CK71:CL71) -> 0 | CN71: 0 | CO71: 0 | CP71: 0 | CQ71: 0 | CR71: 0 | CS71: 0 | CT71: 0 | CU71: 0 | CV71: 0 | CW71: 0 | CX71: 0 | CY71: 0 | CZ71: 0 | DA71: 0 | DB71: 0 | DC71: =SUBTOTAL(9,CN71:DB71) -> 0 | DD71: 0 | DE71: 0 | DF71: 0 | DG71: 0 | DH71: 0 | DI71: 0 | DJ71: 0 | DK71: 0 | DL71: =SUBTOTAL(9,DD71:DK71) -> 0 | DM71: 0 | DN71: 0 | DO71: 0 | DP71: 0 | DQ71: 0 | DR71: 0 | DS71: 0 | DT71: =SUBTOTAL(9,DM71:DS71) -> 0 | DU71: 0 | DV71: 0 | DW71: 0 | DX71: 0 | DY71: 0 | DZ71: =SUBTOTAL(9,DU71:DY71) -> 0 | EA71: =SUM(DT71,DL71,DC71,CM71,CJ71,CA71,BL71,AY71,AU71,AP71,AE71,W71,DZ71) -> 32
B72: ประจวบคีรีขันธ์ | C72: 0 | D72: 0 | E72: 0 | F72: 0 | G72: 0 | H72: 0 | I72: 0 | J72: 0 | K72: 0 | L72: 0 | M72: 0 | N72: 0 | O72: 0 | P72: 0 | Q72: 0 | R72: 0 | S72: 0 | T72: 0 | U72: 0 | V72: 0 | W72: =SUBTOTAL(9,C72:V72) -> 0 | X72: 3363 | Y72: 8635 | Z72: 2247 | AA72: 3 | AB72: 7 | AC72: 0 | AD72: 0 | AE72: =SUM(X72:AD72) -> 14255 | AF72: 0 | AG72: 0 | AH72: 0 | AI72: 0 | AJ72: 0 | AK72: 0 | AL72: 0 | AM72: 0 | AN72: 0 | AO72: 0 | AP72: =SUBTOTAL(9,AI72:AO72) -> 0 | AQ72: 0 | AR72: 0 | AS72: 0 | AT72: 0 | AU72: =SUBTOTAL(9,AQ72:AT72) -> 0 | AV72: 0 | AW72: 0 | AX72: 0 | AY72: =SUM(AV72:AX72) -> 0 | AZ72: 0 | BA72: 0 | BB72: 0 | BC72: 0 | BD72: 0 | BE72: 0 | BF72: 0 | BG72: 0 | BH72: 0 | BI72: 0 | BJ72: 0 | BK72: 0 | BL72: =SUBTOTAL(9,AZ72:BK72) -> 0 | BM72: 0 | BN72: 0 | BO72: 0 | BP72: 0 | BQ72: 0 | BR72: 0 | BS72: 0 | BT72: 0 | BU72: 0 | BV72: 0 | BW72: 0 | BX72: 0 | BY72: 0 | BZ72: 0 | CA72: =SUBTOTAL(9,BM72:BZ72) -> 0 | CB72: 0 | CC72: 0 | CD72: 0 | CE72: 0 | CF72: 0 | CG72: 0 | CH72: 0 | CI72: 0 | CJ72: =SUBTOTAL(9,CC72:CI72) -> 0 | CK72: 0 | CL72: 0 | CM72: =SUM(CK72:CL72) -> 0 | CN72: 0 | CO72: 0 | CP72: 0 | CQ72: 0 | CR72: 0 | CS72: 0 | CT72: 0 | CU72: 0 | CV72: 111 | CW72: 0 | CX72: 0 | CY72: 0 | CZ72: 0 | DA72: 0 | DB72: 0 | DC72: =SUBTOTAL(9,CN72:DB72) -> 111 | DD72: 0 | DE72: 0 | DF72: 0 | DG72: 0 | DH72: 0 | DI72: 0 | DJ72: 0 | DK72: 0 | DL72: =SUBTOTAL(9,DD72:DK72) -> 0 | DM72: 0 | DN72: 0 | DO72: 0 | DP72: 0 | DQ72: 0 | DR72: 0 | DS72: 0 | DT72: =SUBTOTAL(9,DM72:DS72) -> 0 | DU72: 0 | DV72: 0 | DW72: 0 | DX72: 0 | DY72: 0 | DZ72: =SUBTOTAL(9,DU72:DY72) -> 0 | EA72: =SUM(DT72,DL72,DC72,CM72,CJ72,CA72,BL72,AY72,AU72,AP72,AE72,W72,DZ72) -> 14366
B73: เพชรบุรี | C73: 0 | D73: 0 | E73: 33 | F73: 0 | G73: 4 | H73: 0 | I73: 0 | J73: 21 | K73: 0 | L73: 0 | M73: 0 | N73: 0 | O73: 0 | P73: 0 | Q73: 0 | R73: 0 | S73: 0 | T73: 0 | U73: 0 | V73: 0 | W73: =SUBTOTAL(9,C73:V73) -> 58 | X73: 189 | Y73: 135 | Z73: 4 | AA73: 0 | AB73: 1 | AC73: 0 | AD73: 0 | AE73: =SUM(X73:AD73) -> 329 | AF73: 0 | AG73: 0 | AH73: 0 | AI73: 0 | AJ73: 0 | AK73: 0 | AL73: 0 | AM73: 0 | AN73: 0 | AO73: 0 | AP73: =SUBTOTAL(9,AI73:AO73) -> 0 | AQ73: 0 | AR73: 0 | AS73: 0 | AT73: 0 | AU73: =SUBTOTAL(9,AQ73:AT73) -> 0 | AV73: 0 | AW73: 0 | AX73: 0 | AY73: =SUM(AV73:AX73) -> 0 | AZ73: 0 | BA73: 0 | BB73: 0 | BC73: 0 | BD73: 0 | BE73: 0 | BF73: 0 | BG73: 0 | BH73: 0 | BI73: 0 | BJ73: 0 | BK73: 0 | BL73: =SUBTOTAL(9,AZ73:BK73) -> 0 | BM73: 0 | BN73: 0 | BO73: 0 | BP73: 0 | BQ73: 0 | BR73: 0 | BS73: 0 | BT73: 0 | BU73: 0 | BV73: 0 | BW73: 0 | BX73: 0 | BY73: 0 | BZ73: 0 | CA73: =SUBTOTAL(9,BM73:BZ73) -> 0 | CB73: 0 | CC73: 0 | CD73: 0 | CE73: 0 | CF73: 0 | CG73: 0 | CH73: 0 | CI73: 0 | CJ73: =SUBTOTAL(9,CC73:CI73) -> 0 | CL73: 0 | CM73: =SUM(CK73:CL73) -> 0 | CN73: 0 | CO73: 0 | CP73: 0 | CQ73: 0 | CR73: 0 | CS73: 0 | CT73: 0 | CU73: 0 | CV73: 0 | CW73: 0 | CX73: 0 | CY73: 0 | CZ73: 0 | DA73: 0 | DB73: 0 | DC73: =SUBTOTAL(9,CN73:DB73) -> 0 | DD73: 0 | DE73: 0 | DF73: 0 | DG73: 0 | DH73: 0 | DI73: 0 | DJ73: 0 | DK73: 0 | DL73: =SUBTOTAL(9,DD73:DK73) -> 0 | DM73: 0 | DN73: 0 | DO73: 0 | DP73: 0 | DQ73: 0 | DR73: 0 | DS73: 0 | DT73: =SUBTOTAL(9,DM73:DS73) -> 0 | DU73: 0 | DV73: 0 | DW73: 0 | DX73: 0 | DY73: 0 | DZ73: =SUBTOTAL(9,DU73:DY73) -> 0 | EA73: =SUM(DT73,DL73,DC73,CM73,CJ73,CA73,BL73,AY73,AU73,AP73,AE73,W73,DZ73) -> 387
B74: ราชบุรี | C74: 0 | D74: 0 | E74: 0 | F74: 0 | G74: 0 | H74: 0 | I74: 0 | J74: 0 | K74: 0 | L74: 0 | M74: 0 | N74: 0 | O74: 0 | P74: 0 | Q74: 0 | R74: 0 | S74: 0 | T74: 0 | U74: 0 | V74: 0 | W74: =SUBTOTAL(9,C74:V74) -> 0 | X74: 0 | Y74: 2 | Z74: 0 | AA74: 0 | AB74: 0 | AC74: 0 | AD74: 0 | AE74: =SUM(X74:AD74) -> 2 | AF74: 0 | AG74: 0 | AH74: 0 | AI74: 0 | AJ74: 0 | AK74: 0 | AL74: 0 | AM74: 0 | AN74: 0 | AO74: 0 | AP74: =SUBTOTAL(9,AI74:AO74) -> 0 | AQ74: 0 | AR74: 0 | AS74: 0 | AT74: 0 | AU74: =SUBTOTAL(9,AQ74:AT74) -> 0 | AV74: 0 | AW74: 0 | AX74: 0 | AY74: =SUM(AV74:AX74) -> 0 | AZ74: 0 | BA74: 0 | BB74: 0 | BC74: 0 | BD74: 0 | BE74: 0 | BF74: 0 | BG74: 0 | BH74: 0 | BI74: 0 | BJ74: 0 | BK74: 0 | BL74: =SUBTOTAL(9,AZ74:BK74) -> 0 | BM74: 0 | BN74: 0 | BO74: 0 | BP74: 0 | BQ74: 0 | BR74: 0 | BS74: 0 | BT74: 0 | BU74: 0 | BV74: 0 | BW74: 0 | BX74: 0 | BY74: 0 | BZ74: 0 | CA74: =SUBTOTAL(9,BM74:BZ74) -> 0 | CB74: 0 | CC74: 0 | CD74: 0 | CE74: 0 | CF74: 0 | CG74: 0 | CH74: 0 | CI74: 0 | CJ74: =SUBTOTAL(9,CC74:CI74) -> 0 | CK74: 0 | CL74: 0 | CM74: =SUM(CK74:CL74) -> 0 | CN74: 0 | CO74: 0 | CP74: 0 | CQ74: 0 | CR74: 0 | CS74: 0 | CT74: 0 | CU74: 0 | CV74: 0 | CW74: 0 | CX74: 0 | CY74: 0 | CZ74: 0 | DA74: 0 | DB74: 0 | DC74: =SUBTOTAL(9,CN74:DB74) -> 0 | DD74: 0 | DE74: 0 | DF74: 0 | DG74: 0 | DH74: 0 | DI74: 0 | DJ74: 0 | DK74: 0 | DL74: =SUBTOTAL(9,DD74:DK74) -> 0 | DM74: 0 | DN74: 0 | DO74: 0 | DP74: 0 | DQ74: 0 | DR74: 0 | DS74: 0 | DT74: =SUBTOTAL(9,DM74:DS74) -> 0 | DU74: 0 | DV74: 0 | DW74: 0 | DX74: 0 | DY74: 0 | DZ74: =SUBTOTAL(9,DU74:DY74) -> 0 | EA74: =SUM(DT74,DL74,DC74,CM74,CJ74,CA74,BL74,AY74,AU74,AP74,AE74,W74,DZ74) -> 2
B75: สมุทรสงคราม | C75: 0 | D75: 0 | E75: 0 | F75: 0 | G75: 0 | H75: 0 | I75: 0 | J75: 0 | K75: 0 | L75: 0 | M75: 0 | N75: 0 | O75: 0 | P75: 0 | Q75: 0 | R75: 0 | S75: 0 | T75: 0 | U75: 0 | V75: 0 | W75: =SUBTOTAL(9,C75:V75) -> 0 | X75: 47.5 | Y75: 61.5 | Z75: 117.53 | AA75: 24.5 | AB75: 0 | AC75: 0 | AD75: 0 | AE75: =SUM(X75:AD75) -> 251.03 | AF75: 0 | AG75: 0 | AH75: 0 | AI75: 0 | AJ75: 0 | AK75: 0 | AL75: 0 | AM75: 0 | AN75: 0 | AO75: 0 | AP75: =SUBTOTAL(9,AI75:AO75) -> 0 | AQ75: 0 | AR75: 0 | AS75: 0 | AT75: 0 | AU75: =SUBTOTAL(9,AQ75:AT75) -> 0 | AV75: 0 | AW75: 0 | AX75: 0 | AY75: =SUM(AV75:AX75) -> 0 | AZ75: 0 | BA75: 0 | BB75: 0 | BC75: 0 | BD75: 0 | BE75: 0 | BF75: 0 | BG75: 0 | BH75: 0 | BI75: 0 | BJ75: 0 | BK75: 0 | BL75: =SUBTOTAL(9,AZ75:BK75) -> 0 | BM75: 0 | BN75: 0 | BO75: 0 | BP75: 0 | BQ75: 0 | BR75: 0 | BS75: 0 | BT75: 0 | BU75: 0 | BV75: 0 | BW75: 0 | BX75: 0 | BY75: 0 | BZ75: 0 | CA75: =SUBTOTAL(9,BM75:BZ75) -> 0 | CB75: 0 | CC75: 0 | CD75: 0 | CE75: 0 | CF75: 0 | CG75: 0 | CH75: 0 | CI75: 0 | CJ75: =SUBTOTAL(9,CC75:CI75) -> 0 | CK75: 0 | CL75: 0 | CM75: =SUM(CK75:CL75) -> 0 | CN75: 0 | CO75: 0 | CP75: 0 | CQ75: 0 | CR75: 0 | CS75: 0 | CT75: 0 | CU75: 0 | CV75: 0 | CW75: 0 | CX75: 0 | CY75: 0 | CZ75: 0 | DA75: 0 | DB75: 0 | DC75: =SUBTOTAL(9,CN75:DB75) -> 0 | DD75: 0 | DE75: 0 | DF75: 0 | DG75: 0 | DH75: 0 | DI75: 0 | DJ75: 0 | DK75: 0 | DL75: =SUBTOTAL(9,DD75:DK75) -> 0 | DM75: 0 | DN75: 0 | DO75: 0 | DP75: 0 | DQ75: 0 | DR75: 0 | DS75: 0 | DT75: =SUBTOTAL(9,DM75:DS75) -> 0 | DU75: 0 | DV75: 0 | DW75: 0 | DX75: 0 | DY75: 0 | DZ75: =SUBTOTAL(9,DU75:DY75) -> 0 | EA75: =SUM(DT75,DL75,DC75,CM75,CJ75,CA75,BL75,AY75,AU75,AP75,AE75,W75,DZ75) -> 251.03
B76: สมุทรสาคร | C76: 0 | D76: 0 | E76: 0 | F76: 0 | G76: 0 | H76: 0 | I76: 0 | J76: 0 | K76: 0 | L76: 0 | M76: 0 | N76: 0 | O76: 0 | P76: 0 | Q76: 0 | R76: 0 | S76: 0 | T76: 0 | U76: 0 | V76: 0 | W76: =SUBTOTAL(9,C76:V76) -> 0 | X76: 365 | Y76: 0 | Z76: 143 | AA76: 0 | AB76: 6 | AC76: 0 | AD76: 0 | AE76: =SUM(X76:AD76) -> 514 | AF76: 0 | AG76: 0 | AH76: 0 | AI76: 0 | AJ76: 0 | AK76: 0 | AL76: 0 | AM76: 0 | AN76: 0 | AO76: 0 | AP76: =SUBTOTAL(9,AI76:AO76) -> 0 | AQ76: 0 | AR76: 0 | AS76: 0 | AT76: 0 | AU76: =SUBTOTAL(9,AQ76:AT76) -> 0 | AV76: 0 | AW76: 0 | AX76: 0 | AY76: =SUM(AV76:AX76) -> 0 | AZ76: 0 | BA76: 0 | BB76: 0 | BC76: 0 | BD76: 0 | BE76: 0 | BF76: 0 | BG76: 0 | BH76: 0 | BI76: 0 | BJ76: 0 | BK76: 0 | BL76: =SUBTOTAL(9,AZ76:BK76) -> 0 | BM76: 0 | BN76: 0 | BO76: 0 | BP76: 0 | BQ76: 0 | BR76: 0 | BS76: 0 | BT76: 0 | BU76: 0 | BV76: 0 | BW76: 0 | BX76: 0 | BY76: 0 | BZ76: 0 | CA76: =SUBTOTAL(9,BM76:BZ76) -> 0 | CB76: 0 | CC76: 0 | CD76: 0 | CE76: 0 | CF76: 0 | CG76: 0 | CH76: 0 | CI76: 0 | CJ76: =SUBTOTAL(9,CC76:CI76) -> 0 | CK76: 0 | CL76: 0 | CM76: =SUM(CK76:CL76) -> 0 | CN76: 0 | CO76: 0 | CP76: 0 | CQ76: 0 | CR76: 0 | CS76: 0 | CT76: 0 | CU76: 0 | CV76: 0 | CW76: 0 | CX76: 0 | CY76: 0 | CZ76: 0 | DA76: 0 | DB76: 0 | DC76: =SUBTOTAL(9,CN76:DB76) -> 0 | DD76: 0 | DE76: 0 | DF76: 0 | DG76: 0 | DH76: 0 | DI76: 0 | DJ76: 0 | DK76: 0 | DL76: =SUBTOTAL(9,DD76:DK76) -> 0 | DM76: 0 | DN76: 0 | DO76: 0 | DP76: 0 | DQ76: 0 | DR76: 0 | DS76: 0 | DT76: =SUBTOTAL(9,DM76:DS76) -> 0 | DU76: 0 | DV76: 18 | DW76: 0 | DX76: 0 | DY76: 0 | DZ76: =SUBTOTAL(9,DU76:DY76) -> 18 | EA76: =SUM(DT76,DL76,DC76,CM76,CJ76,CA76,BL76,AY76,AU76,AP76,AE76,W76,DZ76) -> 532
B77: สุพรรณบุรี | C77: 0 | D77: 0 | E77: 0 | F77: 0 | G77: 0 | H77: 0 | I77: 0 | J77: 0 | K77: 0 | L77: 0 | M77: 0 | N77: 0 | O77: 0 | P77: 0 | Q77: 0 | R77: 0 | S77: 0 | T77: 0 | U77: 0 | V77: 0 | W77: =SUBTOTAL(9,C77:V77) -> 0 | X77: 0 | Y77: 0 | Z77: 0 | AA77: 0 | AB77: 0 | AC77: 0 | AD77: 0 | AE77: =SUM(X77:AD77) -> 0 | AF77: 0 | AG77: 0 | AH77: 0 | AI77: 0 | AJ77: 0 | AK77: 0 | AL77: 0 | AM77: 0 | AN77: 0 | AO77: 0 | AP77: =SUBTOTAL(9,AI77:AO77) -> 0 | AQ77: 0 | AR77: 0 | AT77: 0 | AU77: =SUBTOTAL(9,AQ77:AT77) -> 0 | AV77: 0 | AW77: 0 | AX77: 0 | AY77: =SUM(AV77:AX77) -> 0 | AZ77: 0 | BA77: 0 | BB77: 0 | BC77: 0 | BD77: 0 | BE77: 0 | BF77: 0 | BG77: 0 | BH77: 0 | BI77: 0 | BJ77: 0 | BK77: 0 | BL77: =SUBTOTAL(9,AZ77:BK77) -> 0 | BM77: 0 | BN77: 0 | BO77: 0 | BP77: 0 | BQ77: 0 | BR77: 0 | BS77: 0 | BT77: 0 | BU77: 0 | BV77: 0 | BW77: 0 | BX77: 0 | BY77: 0 | BZ77: 0 | CA77: =SUBTOTAL(9,BM77:BZ77) -> 0 | CB77: 0 | CC77: 0 | CD77: 0 | CE77: 0 | CF77: 0 | CG77: 0 | CH77: 0 | CI77: 0 | CJ77: =SUBTOTAL(9,CC77:CI77) -> 0 | CK77: 0 | CL77: 0 | CM77: =SUM(CK77:CL77) -> 0 | CN77: 0 | CO77: 0 | CP77: 0 | CQ77: 0 | CR77: 0 | CS77: 0 | CT77: 0 | CU77: 0 | CV77: 0 | CW77: 0 | CX77: 0 | CY77: 0 | CZ77: 0 | DA77: 0 | DB77: 0 | DC77: =SUBTOTAL(9,CN77:DB77) -> 0 | DD77: 0 | DE77: 0 | DF77: 0 | DG77: 0 | DH77: 0 | DI77: 0 | DJ77: 0 | DK77: 0 | DL77: =SUBTOTAL(9,DD77:DK77) -> 0 | DM77: 0 | DN77: 0 | DO77: 0 | DP77: 0 | DQ77: 0 | DR77: 0 | DS77: 0 | DT77: =SUBTOTAL(9,DM77:DS77) -> 0 | DU77: 0 | DV77: 0 | DW77: 0 | DX77: 0 | DY77: 0 | DZ77: =SUBTOTAL(9,DU77:DY77) -> 0 | EA77: =SUM(DT77,DL77,DC77,CM77,CJ77,CA77,BL77,AY77,AU77,AP77,AE77,W77,DZ77) -> 0
A78: ภาคใต้ 14 จังหวัด | C78: =SUM(C79:C92) -> 0 | D78: =SUM(D79:D92) -> 0 | E78: =SUM(E79:E92) -> 10 | F78: =SUM(F79:F92) -> 0 | G78: =SUM(G79:G92) -> 0 | H78: =SUM(H79:H92) -> 0 | I78: =SUM(I79:I92) -> 0 | J78: =SUM(J79:J92) -> 0 | ... CM78: =SUM(CM79:CM92) -> 0 | CN78: =SUM(CN90:CN92) -> 0 | CO78: =SUM(CO90:CO92) -> 0 | CP78: =SUM(CP90:CP92) -> 0 | CQ78: =SUM(CQ79:CQ92) -> 2 | CR78: =SUM(CR79:CR92) -> 0 | CS78: =SUM(CS79:CS92) -> 7 | CT78: =SUM(CT79:CT92) -> 0 | CU78: =SUM(CU79:CU92) -> 0 | CV78: =SUM(CV79:CV92) -> 22.5 | CW78: =SUM(CW79:CW92) -> 0 | CX78: =SUM(CX79:CX92) -> 0 | ... DZ78: =SUM(DZ79:DZ92) -> 0 | EA78: =SUM(DT78,DL78,DC78,CM78,CJ78,CA78,BL78,AY78,AU78,AP78,AE78,W78,DZ78) -> 383810.85
B79: กระบี่ | C79: 0 | D79: 0 | E79: 0 | F79: 0 | G79: 0 | H79: 0 | I79: 0 | J79: 0 | K79: 0 | L79: 0 | M79: 0 | N79: 0 | O79: 0 | P79: 0 | Q79: 0 | R79: 0 | S79: 0 | T79: 0 | U79: 0 | V79: 0 | W79: =SUBTOTAL(9,C79:V79) -> 0 | X79: 0 | Y79: 1 | Z79: 6 | AA79: 0 | AB79: 0 | AC79: 0 | AD79: 0 | AE79: =SUM(X79:AD79) -> 7 | AF79: 0 | AG79: 0 | AH79: 0 | AI79: 12.25 | AJ79: 0 | AK79: 0 | AL79: 19 | AM79: 0 | AN79: 0 | AO79: 0 | AP79: =SUBTOTAL(9,AI79:AO79) -> 31.25 | AQ79: 6 | AR79: 50 | AS79: 50 | AT79: 0 | AU79: =SUBTOTAL(9,AQ79:AT79) -> 106 | AV79: 0 | AW79: 0 | AX79: 0 | AY79: =SUM(AV79:AX79) -> 0 | AZ79: 0 | BA79: 0 | BB79: 0 | BC79: 0 | BD79: 0 | BE79: 0 | BF79: 0 | BG79: 0 | BH79: 0 | BI79: 0 | BJ79: 0 | BK79: 0 | BL79: =SUBTOTAL(9,AZ79:BK79) -> 0 | BM79: 0 | BN79: 0 | BO79: 0 | BP79: 0 | BQ79: 0 | BR79: 0 | BS79: 0 | BT79: 0 | BU79: 0 | BV79: 0 | BW79: 0 | BX79: 0 | BY79: 0 | BZ79: 0 | CA79: =SUBTOTAL(9,BM79:BZ79) -> 0 | CB79: 0 | CC79: 0 | CD79: 0 | CE79: 0 | CF79: 0 | CG79: 0 | CH79: 0 | CI79: 0 | CJ79: =SUBTOTAL(9,CC79:CI79) -> 0 | CK79: 0 | CL79: 0 | CM79: =SUM(CK79:CL79) -> 0 | CN79: 0 | CO79: 0 | CP79: 0 | CQ79: 2 | CR79: 0 | CS79: 3 | CT79: 0 | CU79: 0 | CV79: 2 | CW79: 0 | CX79: 0 | CY79: 0 | CZ79: 0 | DA79: 0 | DB79: 0 | DC79: =SUBTOTAL(9,CN79:DB79) -> 7 | DD79: 0 | DE79: 0 | DF79: 0 | DG79: 0 | DH79: 0 | DI79: 0 | DJ79: 0 | DK79: 0 | DL79: =SUBTOTAL(9,DD79:DK79) -> 0 | DM79: 0 | DN79: 0 | DO79: 0 | DP79: 0 | DQ79: 0 | DR79: 0 | DS79: 0 | DT79: =SUBTOTAL(9,DM79:DS79) -> 0 | DU79: 0 | DV79: 0 | DW79: 0 | DX79: 0 | DY79: 0 | DZ79: =SUBTOTAL(9,DU79:DY79) -> 0 | EA79: =SUM(DT79,DL79,DC79,CM79,CJ79,CA79,BL79,AY79,AU79,AP79,AE79,W79,DZ79) -> 151.25
B80: ชุมพร | C80: 0 | D80: 0 | E80: 0 | F80: 0 | G80: 0 | H80: 0 | I80: 0 | J80: 0 | K80: 0 | L80: 0 | M80: 0 | N80: 0 | O80: 0 | P80: 0 | Q80: 0 | R80: 0 | S80: 0 | T80: 0 | U80: 0 | V80: 0 | W80: =SUBTOTAL(9,C80:V80) -> 0 | X80: 0 | Y80: 0 | Z80: 0 | AA80: 0 | AB80: 0 | AC80: 0 | AD80: 0 | AE80: =SUM(X80:AD80) -> 0 | AF80: 0 | AG80: 0 | AH80: 0 | AI80: 46 | AJ80: 0 | AK80: 0 | AL80: 0 | AM80: 0 | AN80: 0 | AO80: 0 | AP80: =SUBTOTAL(9,AI80:AO80) -> 46 | AQ80: 0 | AR80: 0 | AS80: 0 | AT80: 0 | AU80: =SUBTOTAL(9,AQ80:AT80) -> 0 | AV80: 0 | AW80: 0 | AX80: 0 | AY80: =SUM(AV80:AX80) -> 0 | AZ80: 0 | BA80: 0 | BB80: 0 | BC80: 0 | BD80: 0 | BE80: 0 | BF80: 0 | BG80: 0 | BH80: 0 | BI80: 0 | BJ80: 0 | BK80: 0 | BL80: =SUBTOTAL(9,AZ80:BK80) -> 0 | BM80: 0 | BN80: 0 | BO80: 0 | BP80: 0 | BQ80: 0 | BR80: 0 | BS80: 0 | BT80: 0 | BU80: 0 | BV80: 0 | BW80: 0 | BX80: 0 | BY80: 0 | BZ80: 0 | CA80: =SUBTOTAL(9,BM80:BZ80) -> 0 | CB80: 0 | CC80: 0 | CD80: 0 | CE80: 0 | CF80: 0 | CG80: 0 | CH80: 0 | CI80: 0 | CJ80: =SUBTOTAL(9,CC80:CI80) -> 0 | CK80: 0 | CL80: 0 | CM80: =SUM(CK80:CL80) -> 0 | CN80: 0 | CO80: 0 | CP80: 0 | CQ80: 0 | CR80: 0 | CS80: 0 | CT80: 0 | CU80: 0 | CV80: 0 | CW80: 0 | CX80: 0 | CY80: 0 | CZ80: 0 | DA80: 0 | DB80: 0 | DC80: =SUBTOTAL(9,CN80:DB80) -> 0 | DD80: 0 | DE80: 0 | DF80: 0 | DG80: 0 | DH80: 0 | DI80: 0 | DJ80: 0 | DK80: 0 | DL80: =SUBTOTAL(9,DD80:DK80) -> 0 | DM80: 0 | DN80: 0 | DO80: 0 | DP80: 0 | DQ80: 0 | DR80: 0 | DS80: 0 | DT80: =SUBTOTAL(9,DM80:DS80) -> 0 | DU80: 0 | DV80: 0 | DW80: 0 | DX80: 0 | DY80: 0 | DZ80: =SUBTOTAL(9,DU80:DY80) -> 0 | EA80: =SUM(DT80,DL80,DC80,CM80,CJ80,CA80,BL80,AY80,AU80,AP80,AE80,W80,DZ80) -> 46
B81: ตรัง | C81: 0 | D81: 0 | E81: 0 | F81: 0 | G81: 0 | H81: 0 | I81: 0 | J81: 0 | K81: 0 | L81: 0 | M81: 0 | N81: 0 | O81: 0 | P81: 0 | Q81: 0 | R81: 0 | S81: 0 | T81: 0 | U81: 0 | V81: 0 | W81: =SUBTOTAL(9,C81:V81) -> 0 | X81: 0 | Y81: 0 | Z81: 0 | AA81: 0 | AB81: 0 | AC81: 0 | AD81: 0 | AE81: =SUM(X81:AD81) -> 0 | AF81: 0 | AG81: 0 | AH81: 0 | AI81: 0 | AJ81: 0 | AK81: 0 | AL81: 0 | AM81: 0 | AN81: 0 | AO81: 0 | AP81: =SUBTOTAL(9,AI81:AO81) -> 0 | AQ81: 0 | AR81: 882 | AS81: 0 | AT81: 0 | AU81: =SUBTOTAL(9,AQ81:AT81) -> 882 | AV81: 0 | AW81: 0 | AX81: 0 | AY81: =SUM(AV81:AX81) -> 0 | AZ81: 0 | BA81: 0 | BB81: 0 | BC81: 0 | BD81: 0 | BE81: 0 | BF81: 0 | BG81: 0 | BH81: 0 | BI81: 0 | BJ81: 0 | BK81: 0 | BL81: =SUBTOTAL(9,AZ81:BK81) -> 0 | BM81: 0 | BN81: 0 | BO81: 0 | BP81: 0 | BQ81: 0 | BR81: 0 | BS81: 0 | BT81: 0 | BU81: 0 | BV81: 0 | BW81: 0 | BX81: 0 | BY81: 0 | BZ81: 0 | CA81: =SUBTOTAL(9,BM81:BZ81) -> 0 | CB81: 0 | CC81: 0 | CD81: 0 | CE81: 0 | CF81: 0 | CG81: 0 | CH81: 0 | CI81: 0 | CJ81: =SUBTOTAL(9,CC81:CI81) -> 0 | CK81: 0 | CL81: 0 | CM81: =SUM(CK81:CL81) -> 0 | CN81: 0 | CO81: 0 | CP81: 0 | CQ81: 0 | CR81: 0 | CS81: 0 | CT81: 0 | CU81: 0 | CV81: 0 | CW81: 0 | CX81: 0 | CY81: 0 | CZ81: 0 | DA81: 0 | DB81: 0 | DC81: =SUBTOTAL(9,CN81:DB81) -> 0 | DD81: 0 | DE81: 0 | DF81: 0 | DG81: 0 | DH81: 0 | DI81: 0 | DJ81: 0 | DK81: 0 | DL81: =SUBTOTAL(9,DD81:DK81) -> 0 | DM81: 0 | DN81: 0 | DO81: 0 | DP81: 0 | DQ81: 0 | DR81: 0 | DS81: 0 | DT81: =SUBTOTAL(9,DM81:DS81) -> 0 | DU81: 0 | DV81: 0 | DW81: 0 | DX81: 0 | DY81: 0 | DZ81: =SUBTOTAL(9,DU81:DY81) -> 0 | EA81: =SUM(DT81,DL81,DC81,CM81,CJ81,CA81,BL81,AY81,AU81,AP81,AE81,W81,DZ81) -> 882
B82: นครศรีธรรมราช | C82: 0 | D82: 0 | E82: 0 | F82: 0 | G82: 0 | H82: 0 | I82: 0 | J82: 0 | K82: 0 | L82: 0 | M82: 0 | N82: 0 | O82: 0 | P82: 0 | Q82: 0 | R82: 0 | S82: 0 | T82: 0 | U82: 0 | V82: 0 | W82: =SUBTOTAL(9,C82:V82) -> 0 | X82: 48 | Y82: 30 | Z82: 65 | AA82: 0 | AB82: 0 | AC82: 0 | AD82: 5 | AE82: =SUM(X82:AD82) -> 148 | AF82: 0 | AG82: 0 | AH82: 0 | AI82: 105 | AJ82: 0 | AK82: 0 | AL82: 0 | AM82: 0 | AN82: 0 | AO82: 0 | AP82: =SUBTOTAL(9,AI82:AO82) -> 105 | AQ82: 0 | AR82: 0 | AS82: 0 | AT82: 0 | AU82: =SUBTOTAL(9,AQ82:AT82) -> 0 | AV82: 0 | AW82: 0 | AX82: 0 | AY82: =SUM(AV82:AX82) -> 0 | AZ82: 0 | BA82: 0 | BB82: 0 | BC82: 0 | BD82: 0 | BE82: 0 | BF82: 0 | BG82: 0 | BH82: 0 | BI82: 0 | BJ82: 0 | BK82: 0 | BL82: =SUBTOTAL(9,AZ82:BK82) -> 0 | BM82: 0 | BN82: 0 | BO82: 0 | BP82: 0 | BQ82: 0 | BR82: 0 | BS82: 0 | BT82: 0 | BU82: 0 | BV82: 0 | BW82: 0 | BX82: 0 | BY82: 0 | BZ82: 0 | CA82: =SUBTOTAL(9,BM82:BZ82) -> 0 | CB82: 0 | CC82: 0 | CD82: 0 | CE82: 0 | CF82: 0 | CG82: 0 | CH82: 0 | CI82: 0 | CJ82: =SUBTOTAL(9,CC82:CI82) -> 0 | CK82: 0 | CL82: 0 | CM82: =SUM(CK82:CL82) -> 0 | CN82: 0 | CO82: 0 | CP82: 0 | CQ82: 0 | CR82: 0 | CS82: 0 | CT82: 0 | CU82: 0 | CV82: 4 | CW82: 0 | CX82: 0 | CY82: 0 | CZ82: 0 | DA82: 0 | DB82: 0 | DC82: =SUBTOTAL(9,CN82:DB82) -> 4 | DD82: 0 | DE82: 0 | DF82: 0 | DG82: 0 | DH82: 0 | DI82: 0 | DJ82: 0 | DK82: 0 | DL82: =SUBTOTAL(9,DD82:DK82) -> 0 | DM82: 0 | DN82: 0 | DO82: 0 | DP82: 0 | DQ82: 0 | DR82: 0 | DS82: 0 | DT82: =SUBTOTAL(9,DM82:DS82) -> 0 | DU82: 0 | DV82: 0 | DW82: 0 | DX82: 0 | DY82: 0 | DZ82: =SUBTOTAL(9,DU82:DY82) -> 0 | EA82: =SUM(DT82,DL82,DC82,CM82,CJ82,CA82,BL82,AY82,AU82,AP82,AE82,W82,DZ82) -> 257
B83: นราธิวาส | C83: 0 | D83: 0 | E83: 0 | F83: 0 | G83: 0 | H83: 0 | I83: 0 | J83: 0 | K83: 0 | L83: 0 | M83: 0 | N83: 0 | O83: 0 | P83: 0 | Q83: 0 | R83: 0 | S83: 0 | T83: 0 | U83: 0 | V83: 0 | W83: =SUBTOTAL(9,C83:V83) -> 0 | X83: 162 | Y83: 0 | Z83: 0 | AA83: 0 | AB83: 0 | AC83: 0 | AD83: 0 | AE83: =SUM(X83:AD83) -> 162 | AF83: 0 | AG83: 0 | AH83: 0 | AI83: 0 | AJ83: 0 | AK83: 0 | AL83: 0 | AM83: 0 | AN83: 0 | AO83: 0 | AP83: =SUBTOTAL(9,AI83:AO83) -> 0 | AQ83: 0 | AR83: 315238 | AS83: 0 | AT83: 0 | AU83: =SUBTOTAL(9,AQ83:AT83) -> 315238 | AV83: 0 | AW83: 0 | AX83: 0 | AY83: =SUM(AV83:AX83) -> 0 | AZ83: 0 | BA83: 0 | BB83: 0 | BC83: 0 | BD83: 0 | BE83: 0 | BF83: 0 | BG83: 0 | BH83: 0 | BI83: 0 | BJ83: 0 | BK83: 0 | BL83: =SUBTOTAL(9,AZ83:BK83) -> 0 | BM83: 0 | BN83: 0 | BO83: 0 | BP83: 0 | BQ83: 0 | BR83: 0 | BS83: 0 | BT83: 0 | BU83: 0 | BV83: 0 | BW83: 0 | BX83: 0 | BY83: 0 | BZ83: 0 | CA83: =SUBTOTAL(9,BM83:BZ83) -> 0 | CB83: 0 | CC83: 7 | CD83: 0 | CE83: 0 | CF83: 0 | CG83: 0 | CH83: 0 | CI83: 0 | CJ83: =SUBTOTAL(9,CC83:CI83) -> 7 | CK83: 0 | CL83: 0 | CM83: =SUM(CK83:CL83) -> 0 | CN83: 0 | CO83: 0 | CP83: 0 | CQ83: 0 | CR83: 0 | CS83: 0 | CT83: 0 | CU83: 0 | CV83: 0 | CW83: 0 | CX83: 0 | CY83: 0 | CZ83: 0 | DA83: 0 | DB83: 0 | DC83: =SUBTOTAL(9,CN83:DB83) -> 0 | DD83: 0 | DE83: 0 | DF83: 0 | DG83: 0 | DH83: 0 | DI83: 0 | DJ83: 0 | DK83: 0 | DL83: =SUBTOTAL(9,DD83:DK83) -> 0 | DM83: 0 | DN83: 0 | DO83: 0 | DP83: 0 | DQ83: 0 | DR83: 0 | DS83: 0 | DT83: =SUBTOTAL(9,DM83:DS83) -> 0 | DU83: 0 | DV83: 0 | DW83: 0 | DX83: 0 | DY83: 0 | DZ83: =SUBTOTAL(9,DU83:DY83) -> 0 | EA83: =SUM(DT83,DL83,DC83,CM83,CJ83,CA83,BL83,AY83,AU83,AP83,AE83,W83,DZ83) -> 315407
B84: ปัตตานี | C84: 0 | D84: 0 | E84: 0 | F84: 0 | G84: 0 | H84: 0 | I84: 0 | J84: 0 | K84: 0 | L84: 0 | M84: 0 | N84: 0 | O84: 0 | P84: 0 | Q84: 0 | R84: 0 | S84: 0 | T84: 0 | U84: 0 | V84: 0 | W84: =SUBTOTAL(9,C84:V84) -> 0 | X84: 0 | Y84: 0 | Z84: 0 | AA84: 0 | AB84: 0 | AC84: 0 | AD84: 0 | AE84: =SUM(X84:AD84) -> 0 | AF84: 0 | AG84: 0 | AH84: 0 | AI84: 0 | AJ84: 0 | AK84: 0 | AL84: 0 | AM84: 0 | AN84: 0 | AO84: 0 | AP84: =SUBTOTAL(9,AI84:AO84) -> 0 | AQ84: 0 | AR84: 0 | AS84: 0 | AT84: 0 | AU84: =SUBTOTAL(9,AQ84:AT84) -> 0 | AV84: 0 | AW84: 0 | AX84: 0 | AY84: =SUM(AV84:AX84) -> 0 | AZ84: 0 | BA84: 0 | BB84: 0 | BC84: 0 | BD84: 0 | BE84: 0 | BF84: 0 | BG84: 0 | BH84: 0 | BI84: 0 | BJ84: 0 | BK84: 0 | BL84: =SUBTOTAL(9,AZ84:BK84) -> 0 | BM84: 0 | BN84: 0 | BO84: 0 | BP84: 0 | BQ84: 0 | BR84: 0 | BS84: 0 | BT84: 0 | BU84: 0 | BV84: 0 | BW84: 0 | BX84: 0 | BY84: 0 | BZ84: 0 | CA84: =SUBTOTAL(9,BM84:BZ84) -> 0 | CB84: 0 | CC84: 0 | CD84: 0 | CE84: 0 | CF84: 0 | CG84: 0 | CH84: 0 | CI84: 0 | CJ84: =SUBTOTAL(9,CC84:CI84) -> 0 | CK84: 0 | CL84: 0 | CM84: =SUM(CK84:CL84) -> 0 | CN84: 0 | CO84: 0 | CP84: 0 | CQ84: 0 | CR84: 0 | CS84: 0 | CT84: 0 | CU84: 0 | CV84: 0 | CW84: 0 | CX84: 0 | CY84: 0 | CZ84: 0 | DA84: 0 | DB84: 0 | DC84: =SUBTOTAL(9,CN84:DB84) -> 0 | DD84: 0 | DE84: 0 | DF84: 0 | DG84: 0 | DH84: 0 | DI84: 0 | DJ84: 0 | DK84: 0 | DL84: =SUBTOTAL(9,DD84:DK84) -> 0 | DM84: 0 | DN84: 0 | DO84: 0 | DP84: 0 | DQ84: 0 | DR84: 0 | DS84: 0 | DT84: =SUBTOTAL(9,DM84:DS84) -> 0 | DU84: 0 | DV84: 0 | DW84: 0 | DX84: 0 | DY84: 0 | DZ84: =SUBTOTAL(9,DU84:DY84) -> 0 | EA84: =SUM(DT84,DL84,DC84,CM84,CJ84,CA84,BL84,AY84,AU84,AP84,AE84,W84,DZ84) -> 0
B85: พังงา | C85: 0 | D85: 0 | E85: 0 | F85: 0 | G85: 0 | H85: 0 | I85: 0 | J85: 0 | K85: 0 | L85: 0 | M85: 0 | N85: 0 | O85: 0 | P85: 0 | Q85: 0 | R85: 0 | S85: 0 | T85: 0 | U85: 0 | V85: 0 | W85: =SUBTOTAL(9,C85:V85) -> 0 | X85: 0 | Y85: 13 | Z85: 4 | AA85: 1 | AB85: 0 | AC85: 0 | AD85: 0 | AE85: =SUM(X85:AD85) -> 18 | AF85: 0 | AG85: 0 | AH85: 0 | AI85: 0 | AJ85: 0 | AK85: 0 | AL85: 0 | AM85: 0 | AN85: 0 | AO85: 0 | AP85: =SUBTOTAL(9,AI85:AO85) -> 0 | AQ85: 0 | AR85: 0 | AS85: 0 | AT85: 0 | AU85: =SUBTOTAL(9,AQ85:AT85) -> 0 | AV85: 0 | AW85: 0 | AX85: 0 | AY85: =SUM(AV85:AX85) -> 0 | AZ85: 0 | BA85: 0 | BB85: 0 | BC85: 0 | BD85: 0 | BE85: 0 | BF85: 0 | BG85: 0 | BH85: 0 | BI85: 0 | BJ85: 0 | BK85: 0 | BL85: =SUBTOTAL(9,AZ85:BK85) -> 0 | BM85: 0 | BN85: 0 | BO85: 0 | BP85: 0 | BQ85: 0 | BR85: 0 | BS85: 0 | BT85: 0 | BU85: 0 | BV85: 0 | BW85: 0 | BX85: 0 | BY85: 0 | BZ85: 0 | CA85: =SUBTOTAL(9,BM85:BZ85) -> 0 | CB85: 0 | CC85: 0 | CD85: 0 | CE85: 0 | CF85: 0 | CG85: 0 | CH85: 0 | CI85: 0 | CJ85: =SUBTOTAL(9,CC85:CI85) -> 0 | CK85: 0 | CL85: 0 | CM85: =SUM(CK85:CL85) -> 0 | CN85: 0 | CO85: 0 | CP85: 0 | CQ85: 0 | CR85: 0 | CS85: 0 | CT85: 0 | CU85: 0 | CV85: 0 | CW85: 0 | CX85: 0 | CY85: 0 | CZ85: 0 | DA85: 0 | DB85: 0 | DC85: =SUBTOTAL(9,CN85:DB85) -> 0 | DD85: 0 | DE85: 0 | DF85: 0 | DG85: 0 | DH85: 0 | DI85: 0 | DJ85: 0 | DK85: 0 | DL85: =SUBTOTAL(9,DD85:DK85) -> 0 | DM85: 0 | DN85: 0 | DO85: 0 | DP85: 0 | DQ85: 0 | DR85: 0 | DS85: 0 | DT85: =SUBTOTAL(9,DM85:DS85) -> 0 | DU85: 0 | DV85: 0 | DW85: 0 | DX85: 0 | DY85: 0 | DZ85: =SUBTOTAL(9,DU85:DY85) -> 0 | EA85: =SUM(DT85,DL85,DC85,CM85,CJ85,CA85,BL85,AY85,AU85,AP85,AE85,W85,DZ85) -> 18
B86: พัทลุง | C86: 0 | D86: 0 | E86: 0 | F86: 0 | G86: 0 | H86: 0 | I86: 0 | J86: 0 | K86: 0 | L86: 0 | M86: 0 | N86: 0 | O86: 0 | P86: 0 | Q86: 0 | R86: 0 | S86: 0 | T86: 0 | U86: 0 | V86: 0 | W86: =SUBTOTAL(9,C86:V86) -> 0 | X86: 0 | Y86: 15 | Z86: 15 | AA86: 0 | AB86: 0 | AC86: 0 | AD86: 0 | AE86: =SUM(X86:AD86) -> 30 | AF86: 0 | AG86: 0 | AH86: 0 | AI86: 0 | AJ86: 0 | AK86: 0 | AL86: 0 | AM86: 0 | AN86: 0 | AO86: 0 | AP86: =SUBTOTAL(9,AI86:AO86) -> 0 | AQ86: 0 | AR86: 1218.5 | AS86: 0 | AT86: 0 | AU86: =SUBTOTAL(9,AQ86:AT86) -> 1218.5 | AV86: 0 | AW86: 0 | AX86: 0 | AY86: =SUM(AV86:AX86) -> 0 | AZ86: 0 | BA86: 0 | BB86: 0 | BC86: 0 | BD86: 0 | BE86: 0 | BF86: 0 | BG86: 0 | BH86: 0 | BI86: 0 | BJ86: 0 | BK86: 0 | BL86: =SUBTOTAL(9,AZ86:BK86) -> 0 | BM86: 0 | BN86: 0 | BO86: 0 | BP86: 0 | BQ86: 0 | BR86: 0 | BS86: 0 | BT86: 0 | BU86: 0 | BV86: 0 | BW86: 0 | BX86: 0 | BY86: 0 | BZ86: 0 | CA86: =SUBTOTAL(9,BM86:BZ86) -> 0 | CB86: 0 | CC86: 0 | CD86: 0 | CE86: 0 | CF86: 0 | CG86: 0 | CH86: 0 | CI86: 0 | CJ86: =SUBTOTAL(9,CC86:CI86) -> 0 | CK86: 0 | CL86: 0 | CM86: =SUM(CK86:CL86) -> 0 | CN86: 0 | CO86: 0 | CP86: 0 | CQ86: 0 | CR86: 0 | CS86: 0 | CT86: 0 | CU86: 0 | CV86: 0 | CW86: 0 | CX86: 0 | CY86: 0 | CZ86: 0 | DA86: 0 | DB86: 0 | DC86: =SUBTOTAL(9,CN86:DB86) -> 0 | DD86: 0 | DE86: 0 | DF86: 0 | DG86: 0 | DH86: 0 | DI86: 0 | DJ86: 0 | DK86: 0 | DL86: =SUBTOTAL(9,DD86:DK86) -> 0 | DM86: 0 | DN86: 0 | DO86: 0 | DP86: 0 | DQ86: 0 | DR86: 0 | DS86: 0 | DT86: =SUBTOTAL(9,DM86:DS86) -> 0 | DU86: 0 | DV86: 0 | DW86: 0 | DX86: 0 | DY86: 0 | DZ86: =SUBTOTAL(9,DU86:DY86) -> 0 | EA86: =SUM(DT86,DL86,DC86,CM86,CJ86,CA86,BL86,AY86,AU86,AP86,AE86,W86,DZ86) -> 1248.5
B87: ภูเก็ต | C87: 0 | D87: 0 | E87: 0 | F87: 0 | G87: 0 | H87: 0 | I87: 0 | J87: 0 | K87: 0 | L87: 0 | M87: 0 | N87: 0 | O87: 0 | P87: 0 | Q87: 0 | R87: 0 | S87: 0 | T87: 0 | U87: 0 | V87: 0 | W87: =SUBTOTAL(9,C87:V87) -> 0 | X87: 42.3 | Y87: 202.5 | Z87: 13.3 | AA87: 0 | AB87: 0 | AC87: 0 | AD87: 0 | AE87: =SUM(X87:AD87) -> 258.1 | AF87: 0 | AG87: 0 | AH87: 0 | AI87: 0 | AJ87: 0 | AK87: 0 | AL87: 0 | AM87: 0 | AN87: 0 | AO87: 0 | AP87: =SUBTOTAL(9,AI87:AO87) -> 0 | AQ87: 5 | AR87: 0 | AS87: 0 | AT87: 0 | AU87: =SUBTOTAL(9,AQ87:AT87) -> 5 | AV87: 0 | AW87: 0 | AX87: 0 | AY87: =SUM(AV87:AX87) -> 0 | AZ87: 0 | BA87: 0 | BB87: 0 | BC87: 0 | BD87: 0 | BE87: 0 | BF87: 0 | BG87: 0 | BH87: 0 | BI87: 0 | BJ87: 0 | BK87: 0 | BL87: =SUBTOTAL(9,AZ87:BK87) -> 0 | BM87: 0 | BN87: 0 | BO87: 0 | BP87: 0 | BQ87: 0 | BR87: 0 | BS87: 0 | BT87: 0 | BU87: 0 | BV87: 0 | BW87: 0 | BX87: 0 | BY87: 0 | BZ87: 0 | CA87: =SUBTOTAL(9,BM87:BZ87) -> 0 | CB87: 0 | CC87: 0 | CD87: 0 | CE87: 0 | CF87: 0 | CG87: 0 | CH87: 0 | CI87: 0 | CJ87: =SUBTOTAL(9,CC87:CI87) -> 0 | CK87: 0 | CL87: 0 | CM87: =SUM(CK87:CL87) -> 0 | CN87: 0 | CO87: 0 | CP87: 0 | CQ87: 0 | CR87: 0 | CS87: 0 | CT87: 0 | CU87: 0 | CV87: 0 | CW87: 0 | CX87: 0 | CY87: 0 | CZ87: 0 | DA87: 0 | DB87: 0 | DC87: =SUBTOTAL(9,CN87:DB87) -> 0 | DD87: 0 | DE87: 0 | DF87: 0 | DG87: 0 | DH87: 0 | DI87: 0 | DJ87: 0 | DK87: 0 | DL87: =SUBTOTAL(9,DD87:DK87) -> 0 | DM87: 0 | DN87: 0 | DO87: 0 | DP87: 0 | DQ87: 0 | DR87: 0 | DS87: 0 | DT87: =SUBTOTAL(9,DM87:DS87) -> 0 | DU87: 0 | DV87: 0 | DW87: 0 | DX87: 0 | DY87: 0 | DZ87: =SUBTOTAL(9,DU87:DY87) -> 0 | EA87: =SUM(DT87,DL87,DC87,CM87,CJ87,CA87,BL87,AY87,AU87,AP87,AE87,W87,DZ87) -> 263.1
B88: ยะลา | C88: 0 | D88: 0 | E88: 0 | F88: 0 | G88: 0 | H88: 0 | I88: 0 | J88: 0 | K88: 0 | L88: 0 | M88: 0 | N88: 0 | O88: 0 | P88: 0 | Q88: 0 | R88: 0 | S88: 0 | T88: 0 | U88: 0 | V88: 0 | W88: =SUBTOTAL(9,C88:V88) -> 0 | X88: 0 | Y88: 2 | Z88: 0 | AA88: 0 | AB88: 0 | AC88: 0 | AD88: 0 | AE88: =SUM(X88:AD88) -> 2 | AF88: 0 | AG88: 0 | AH88: 0 | AI88: 0 | AJ88: 0 | AK88: 0 | AL88: 0 | AM88: 0 | AN88: 0 | AO88: 0 | AP88: =SUBTOTAL(9,AI88:AO88) -> 0 | AQ88: 0 | AR88: 27229.5 | AS88: 1430 | AT88: 0 | AU88: =SUBTOTAL(9,AQ88:AT88) -> 28659.5 | AV88: 0 | AW88: 0 | AX88: 0 | AY88: =SUM(AV88:AX88) -> 0 | AZ88: 0 | BA88: 0 | BB88: 0 | BC88: 0 | BD88: 0 | BE88: 0 | BF88: 0 | BG88: 0 | BH88: 0 | BI88: 0 | BJ88: 0 | BK88: 0 | BL88: =SUBTOTAL(9,AZ88:BK88) -> 0 | BM88: 0 | BN88: 0 | BO88: 0 | BP88: 0 | BQ88: 0 | BR88: 0 | BS88: 0 | BT88: 0 | BU88: 0 | BV88: 0 | BW88: 0 | BX88: 0 | BY88: 0 | BZ88: 0 | CA88: =SUBTOTAL(9,BM88:BZ88) -> 0 | CB88: 0 | CC88: 1 | CD88: 0 | CE88: 0 | CF88: 0 | CG88: 0 | CH88: 0 | CI88: 0 | CJ88: =SUBTOTAL(9,CC88:CI88) -> 1 | CK88: 0 | CL88: 0 | CM88: =SUM(CK88:CL88) -> 0 | CN88: 0 | CO88: 0 | CP88: 0 | CQ88: 0 | CR88: 0 | CS88: 0 | CT88: 0 | CU88: 0 | CV88: 0 | CW88: 0 | CX88: 0 | CY88: 0 | CZ88: 0 | DA88: 0 | DB88: 0 | DC88: =SUBTOTAL(9,CN88:DB88) -> 0 | DD88: 0 | DE88: 0 | DF88: 0 | DG88: 0 | DH88: 0 | DI88: 0 | DJ88: 0 | DK88: 0 | DL88: =SUBTOTAL(9,DD88:DK88) -> 0 | DM88: 0 | DN88: 0 | DO88: 0 | DP88: 0 | DQ88: 0 | DR88: 0 | DS88: 0 | DT88: =SUBTOTAL(9,DM88:DS88) -> 0 | DU88: 0 | DV88: 0 | DW88: 0 | DX88: 0 | DY88: 0 | DZ88: =SUBTOTAL(9,DU88:DY88) -> 0 | EA88: =SUM(DT88,DL88,DC88,CM88,CJ88,CA88,BL88,AY88,AU88,AP88,AE88,W88,DZ88) -> 28662.5
B89: ระนอง | C89: 0 | D89: 0 | E89: 0 | F89: 0 | G89: 0 | H89: 0 | I89: 0 | J89: 0 | K89: 0 | L89: 0 | M89: 0 | N89: 0 | O89: 0 | P89: 0 | Q89: 0 | R89: 0 | T89: 0 | U89: 0 | V89: 0 | W89: =SUBTOTAL(9,C89:V89) -> 0 | X89: 0 | Y89: 0 | Z89: 0 | AA89: 0 | AB89: 0 | AC89: 0 | AD89: 0 | AE89: =SUM(X89:AD89) -> 0 | AF89: 0 | AG89: 0 | AH89: 0 | AI89: 0 | AJ89: 0 | AK89: 0 | AL89: 0 | AM89: 0 | AN89: 0 | AO89: 0 | AP89: =SUBTOTAL(9,AI89:AO89) -> 0 | AQ89: 0 | AR89: 12 | AS89: 0 | AT89: 0 | AU89: =SUBTOTAL(9,AQ89:AT89) -> 12 | AV89: 0 | AW89: 0 | AX89: 0 | AY89: =SUM(AV89:AX89) -> 0 | AZ89: 0 | BA89: 0 | BB89: 0 | BC89: 0 | BD89: 0 | BE89: 0 | BF89: 0 | BG89: 0 | BH89: 0 | BI89: 0 | BJ89: 0 | BK89: 0 | BL89: =SUBTOTAL(9,AZ89:BK89) -> 0 | BM89: 0 | BN89: 0 | BO89: 0 | BP89: 0 | BQ89: 0 | BR89: 0 | BS89: 0 | BT89: 0 | BU89: 0 | BV89: 0 | BW89: 0 | BX89: 0 | BY89: 0 | BZ89: 0 | CA89: =SUBTOTAL(9,BM89:BZ89) -> 0 | CB89: 0 | CC89: 0 | CD89: 0 | CE89: 0 | CF89: 0 | CG89: 0 | CH89: 0 | CI89: 0 | CJ89: =SUBTOTAL(9,CC89:CI89) -> 0 | CK89: 0 | CL89: 0 | CM89: =SUM(CK89:CL89) -> 0 | CN89: 0 | CO89: 0 | CP89: 0 | CQ89: 0 | CR89: 0 | CS89: 0 | CT89: 0 | CU89: 0 | CV89: 0 | CW89: 0 | CX89: 0 | CY89: 0 | CZ89: 0 | DA89: 0 | DB89: 0 | DC89: =SUBTOTAL(9,CN89:DB89) -> 0 | DD89: 0 | DE89: 0 | DF89: 0 | DG89: 0 | DH89: 0 | DI89: 0 | DJ89: 0 | DK89: 0 | DL89: =SUBTOTAL(9,DD89:DK89) -> 0 | DM89: 0 | DN89: 0 | DO89: 0 | DP89: 0 | DQ89: 0 | DR89: 0 | DS89: 0 | DT89: =SUBTOTAL(9,DM89:DS89) -> 0 | DU89: 0 | DV89: 0 | DW89: 0 | DX89: 0 | DY89: 0 | DZ89: =SUBTOTAL(9,DU89:DY89) -> 0 | EA89: =SUM(DT89,DL89,DC89,CM89,CJ89,CA89,BL89,AY89,AU89,AP89,AE89,W89,DZ89) -> 12
B90: สงขลา | C90: 0 | D90: 0 | E90: 10 | F90: 0 | G90: 0 | H90: 0 | I90: 0 | J90: 0 | K90: 0 | L90: 0 | M90: 0 | N90: 0 | O90: 0 | P90: 0 | Q90: 0 | R90: 0 | S90: 0 | T90: 0 | U90: 0 | V90: 0 | W90: =SUBTOTAL(9,C90:V90) -> 10 | X90: 32 | Y90: 26.5 | Z90: 14.25 | AA90: 2 | AB90: 3.5 | AC90: 0 | AD90: 0 | AE90: =SUM(X90:AD90) -> 78.25 | AF90: 0 | AG90: 0 | AH90: 0 | AI90: 0 | AJ90: 0 | AK90: 0 | AL90: 0 | AM90: 0 | AN90: 0 | AO90: 0 | AP90: =SUBTOTAL(9,AI90:AO90) -> 0 | AQ90: 20.25 | AR90: 3040 | AS90: 0 | AT90: 0 | AU90: =SUBTOTAL(9,AQ90:AT90) -> 3060.25 | AV90: 0 | AW90: 0 | AX90: 0 | AY90: =SUM(AV90:AX90) -> 0 | AZ90: 0 | BA90: 0 | BB90: 0 | BC90: 0 | BD90: 0 | BE90: 0 | BF90: 0 | BG90: 0 | BH90: 0 | BI90: 0 | BJ90: 0 | BK90: 0 | BL90: =SUBTOTAL(9,AZ90:BK90) -> 0 | BM90: 0 | BN90: 0 | BO90: 0 | BP90: 0 | BQ90: 0 | BR90: 0 | BS90: 0 | BT90: 0 | BU90: 0 | BV90: 0 | BW90: 0 | BX90: 0 | BY90: 0 | BZ90: 0 | CA90: =SUBTOTAL(9,BM90:BZ90) -> 0 | CB90: 0 | CC90: 6 | CD90: 0 | CE90: 0 | CF90: 0 | CG90: 0 | CH90: 0 | CI90: 0 | CJ90: =SUBTOTAL(9,CC90:CI90) -> 6 | CK90: 0 | CL90: 0 | CM90: =SUM(CK90:CL90) -> 0 | CN90: 0 | CO90: 0 | CP90: 0 | CQ90: 0 | CR90: 0 | CS90: 3 | CT90: 0 | CU90: 0 | CV90: 3.5 | CW90: 0 | CX90: 0 | CY90: 0 | CZ90: 0 | DA90: 0 | DB90: 0 | DC90: =SUBTOTAL(9,CN90:DB90) -> 6.5 | DD90: 0 | DE90: 0 | DF90: 0 | DG90: 0 | DH90: 0 | DI90: 0 | DJ90: 0 | DK90: 0 | DL90: =SUBTOTAL(9,DD90:DK90) -> 0 | DM90: 0 | DN90: 0 | DO90: 0 | DP90: 0 | DQ90: 0 | DR90: 0 | DS90: 0 | DT90: =SUBTOTAL(9,DM90:DS90) -> 0 | DU90: 0 | DV90: 0 | DW90: 0 | DX90: 0 | DY90: 0 | DZ90: =SUBTOTAL(9,DU90:DY90) -> 0 | EA90: =SUM(DT90,DL90,DC90,CM90,CJ90,CA90,BL90,AY90,AU90,AP90,AE90,W90,DZ90) -> 3161
B91: สตูล | C91: 0 | D91: 0 | E91: 0 | F91: 0 | G91: 0 | H91: 0 | I91: 0 | J91: 0 | K91: 0 | L91: 0 | M91: 0 | N91: 0 | O91: 0 | P91: 0 | Q91: 0 | R91: 0 | S91: 0 | T91: 0 | U91: 0 | V91: 0 | W91: =SUBTOTAL(9,C91:V91) -> 0 | X91: 40 | Y91: 170 | Z91: 236 | AA91: 0 | AB91: 0 | AC91: 0 | AD91: 0 | AE91: =SUM(X91:AD91) -> 446 | AF91: 0 | AG91: 0 | AH91: 0 | AI91: 485 | AJ91: 0 | AK91: 0 | AL91: 150 | AM91: 0 | AN91: 0 | AO91: 0 | AP91: =SUBTOTAL(9,AI91:AO91) -> 635 | AQ91: 0 | AR91: 26888 | AS91: 340 | AT91: 0 | AU91: =SUBTOTAL(9,AQ91:AT91) -> 27228 | AV91: 0 | AW91: 0 | AX91: 0 | AY91: =SUM(AV91:AX91) -> 0 | AZ91: 0 | BA91: 0 | BB91: 0 | BC91: 0 | BD91: 0 | BE91: 0 | BF91: 0 | BG91: 0 | BH91: 0 | BI91: 0 | BJ91: 0 | BK91: 0 | BL91: =SUBTOTAL(9,AZ91:BK91) -> 0 | BM91: 0 | BN91: 0 | BO91: 0 | BP91: 0 | BQ91: 0 | BR91: 0 | BS91: 0 | BT91: 0 | BU91: 0 | BV91: 0 | BW91: 0 | BX91: 0 | BY91: 0 | BZ91: 0 | CA91: =SUBTOTAL(9,BM91:BZ91) -> 0 | CB91: 0 | CC91: 13.5 | CD91: 0 | CE91: 0 | CF91: 0 | CG91: 0 | CH91: 0 | CI91: 0 | CJ91: =SUBTOTAL(9,CC91:CI91) -> 13.5 | CK91: 0 | CL91: 0 | CM91: =SUM(CK91:CL91) -> 0 | CN91: 0 | CO91: 0 | CP91: 0 | CQ91: 0 | CR91: 0 | CS91: 0 | CT91: 0 | CU91: 0 | CV91: 0 | CW91: 0 | CX91: 0 | CY91: 0 | CZ91: 0 | DA91: 0 | DB91: 0 | DC91: =SUBTOTAL(9,CN91:DB91) -> 0 | DD91: 0 | DE91: 0 | DF91: 0 | DG91: 0 | DH91: 0 | DI91: 0 | DJ91: 0 | DK91: 0 | DL91: =SUBTOTAL(9,DD91:DK91) -> 0 | DM91: 0 | DN91: 0 | DO91: 0 | DP91: 0 | DQ91: 0 | DR91: 0 | DS91: 0 | DT91: =SUBTOTAL(9,DM91:DS91) -> 0 | DU91: 0 | DV91: 0 | DW91: 0 | DX91: 0 | DY91: 0 | DZ91: =SUBTOTAL(9,DU91:DY91) -> 0 | EA91: =SUM(DT91,DL91,DC91,CM91,CJ91,CA91,BL91,AY91,AU91,AP91,AE91,W91,DZ91) -> 28322.5
B92: สุราษฎร์ธานี | C92: 0 | D92: 0 | E92: 0 | F92: 0 | G92: 0 | H92: 0 | I92: 0 | J92: 0 | K92: 0 | L92: 0 | M92: 0 | N92: 0 | O92: 0 | P92: 0 | Q92: 0 | R92: 0 | S92: 0 | T92: 0 | U92: 0 | V92: 0 | W92: =SUBTOTAL(9,C92:V92) -> 0 | X92: 857 | Y92: 1876 | Z92: 1591 | AA92: 362 | AB92: 0 | AC92: 0 | AD92: 150 | AE92: =SUM(X92:AD92) -> 4836 | AF92: 0 | AG92: 0 | AH92: 0 | AI92: 0 | AJ92: 0 | AK92: 0 | AL92: 0 | AM92: 0 | AN92: 0 | AO92: 0 | AP92: =SUBTOTAL(9,AI92:AO92) -> 0 | AQ92: 0 | AR92: 530 | AS92: 0 | AT92: 0 | AU92: =SUBTOTAL(9,AQ92:AT92) -> 530 | AV92: 0 | AW92: 0 | AX92: 0 | AY92: =SUM(AV92:AX92) -> 0 | AZ92: 0 | BA92: 0 | BB92: 0 | BC92: 0 | BD92: 0 | BE92: 0 | BF92: 0 | BG92: 0 | BH92: 0 | BI92: 0 | BJ92: 0 | BK92: 0 | BL92: =SUBTOTAL(9,AZ92:BK92) -> 0 | BM92: 0 | BN92: 0 | BO92: 0 | BP92: 0 | BQ92: 0 | BR92: 0 | BS92: 0 | BT92: 0 | BU92: 0 | BV92: 0 | BW92: 0 | BX92: 0 | BY92: 0 | BZ92: 0 | CA92: =SUBTOTAL(9,BM92:BZ92) -> 0 | CB92: 0 | CC92: 0 | CD92: 0 | CE92: 0 | CF92: 0 | CG92: 0 | CH92: 0 | CI92: 0 | CJ92: =SUBTOTAL(9,CC92:CI92) -> 0 | CK92: 0 | CL92: 0 | CM92: =SUM(CK92:CL92) -> 0 | CN92: 0 | CO92: 0 | CP92: 0 | CQ92: 0 | CR92: 0 | CS92: 1 | CT92: 0 | CU92: 0 | CV92: 13 | CW92: 0 | CX92: 0 | CY92: 0 | CZ92: 0 | DA92: 0 | DC92: =SUBTOTAL(9,CN92:DB92) -> 14 | DD92: 0 | DE92: 0 | DF92: 0 | DG92: 0 | DH92: 0 | DI92: 0 | DJ92: 0 | DK92: 0 | DL92: =SUBTOTAL(9,DD92:DK92) -> 0 | DM92: 0 | DN92: 0 | DO92: 0 | DP92: 0 | DQ92: 0 | DR92: 0 | DS92: 0 | DT92: =SUBTOTAL(9,DM92:DS92) -> 0 | DU92: 0 | DV92: 0 | DW92: 0 | DX92: 0 | DY92: 0 | DZ92: =SUBTOTAL(9,DU92:DY92) -> 0 | EA92: =SUM(DT92,DL92,DC92,CM92,CJ92,CA92,BL92,AY92,AU92,AP92,AE92,W92,DZ92) -> 5380

Sheet 08.12.64
A1: รายงานสถานการณ์ศัตรูพืชระบาด
A2: ข้อมูล ณ วันที่ 10 พฤศจิกายน 2564
A4: ที่ | B4: จังหวัด | C4: ข้าว | X4: มะพร้าว | AF4: ปาล์มน้ำมัน | AQ4: ยางพารา | AV4: กาแฟ | AZ4: มันสำปะหลัง | BM4: อ้อย | CB4: ข้าวโพด | CK4: สับปะรด | CN4: ทุเรียน | DD4: เงาะ | DM4: มังคุด | DU4: ลำไย | DZ4: ลำไย | EA4: พื้นที่รวม ทั้งประเทศ (ไร่) | EB4: =+DT10+DL10+DC10+CM10+CJ10+CA10+BL10+AU10+AP10+AE10+W10+DZ10 -> 455459.88
C5: พื้นที่การระบาด (ไร่) | X5: พื้นที่การระบาด (ไร่) | AF5: พื้นที่การระบาด (ไร่) | AQ5: พื้นที่การระบาด (ไร่) | AV5: พื้นที่การระบาด (ไร่) | AZ5: พื้นที่การระบาด (ไร่) | BM5: พื้นที่การระบาด (ไร่) | CB5: พื้นที่การระบาด (ไร่) | CK5: พื้นที่การระบาด (ไร่) | CN5: พื้นที่การระบาด (ไร่) | DD5: พื้นที่การระบาด (ไร่) | DM5: พื้นที่การระบาด (ไร่) | DU5: พื้นที่การระบาด (ไร่)
C6: เพลี้ยกระโดดสีน้ำตาล | D6: หนอนห่อใบข้าว | E6: โรคไหม้ข้าว | F6: แมลงสิง | G6: เพลี้ยกระโดดหลังขาว | H6: เพลี้ยไฟ | I6: โรคใบสีส้ม | J6: โรคขอบใบแห้งข้าว | K6: โรคกาบใบแห้ง | L6: โรคใบจุดสีน้ำตาล | M6: หนอนกระทู้ข้าว | N6: โรคใบขีดสีน้ำตาล | O6: หนอนกัดใบข้าว | P6: แมลงหล่า | Q6: แมลงบั่ว | R6: โรคเมล็ดด่าง | S6: ด้วงดำ | T6: ตั๊กแตนหนวดสั้น | U6: หนอนกอข้าว | V6: หนอนกระทู้ข้าวโพดลายจุด | W6: รวม | X6: หนอนหัวดำ | Y6: แมลงดำหนาม | Z6: ด้วงแรด | AA6: ด้วงงวง | AB6: ไรสี่ขามะพร้าว | AC6: หนอนพาราซ่า | AD6: หนอนกินใบมะพร้าว | AE6: รวม | AF6: หนอนหัวดำ | AG6: หนอนปลอกเล็ก | AH6: หนอนหน้าแมว | AI6: ด้วงแรด | AJ6: ด้วงกุหลาบ | AK6: หนู | AL6: โรคลำต้นเน่า | AM6: โรคทะลายเน่า | AN6: โรคใบไหม้ | AO6: โรคยอดเน่า | AP6: รวม | AQ6: โรครากขาว | AR6: โรคใบร่วง (ชนิดใหม่) | AS6: โรคใบร่วง | AT6: โรคเส้นดำ | AU6: รวม | AV6: โรคใบจุดสีน้ำตาล | AW6: หนอนเจาะลำต้น | AX6: มอดเจาะผลกาแฟ | AY6: รวม | AZ6: เพลี้ยแป้งมันสำปะหลัง | BA6: เพลี้ยแป้งสีชมพู | BB6: ไรแดงมันสำปะหลัง | BC6: แมลงนูนหลวง | BD6: แมลงหวี่ขาว | BE6: เพลี้ยหอย | BF6: โรคใบจุดน้ำตาล | BG6: โรคแอนแทคโนส | BH6: โรคโคนเน่าหัวเน่า | BI6: โรคใบไหม้ | BJ6: โรคใบด่างมันสำปะหลัง | BK6: โรคพุ่มแจ้ | BL6: รวม | BM6: หนอนกออ้อย | BN6: ด้วงหนวดยาว | BO6: แมลงนูนหลวง | BP6: จักจั่น | BQ6: ตั๊กแตน | BR6: จักจั่น | BS6: หนอนกระทู้ข้าวโพดลายจุด | BT6: เพลี้ยอ่อน | BU6: เพลี้ยแป้ง | BV6: โรคกอตะไคร้ | BW6: โรคใบขาว | BX6: ปลวก | BY6: โรคแส้ดำ | BZ6: เพลี้ยหอยเกร็ด | CA6: รวม | CB6: หนอนเจาะฝัก | CC6: หนอนกระทู้ลายจุดข้าวโพด | CD6: หนอนกระทู้ผัก | CE6: หนอนเจาะลำต้น | CF6: เพลี้ยอ่อน | CG6: ตั๊กแตน | CH6: โรคใบไหม้แผลเล็ก | CI6: โรคใบไหม้แผลใหญ่ | CJ6: รวม | CK6: โรคเหี่ยว | CL6: เพลี้ยแป้ง | CM6: รวม | CN6: หนอนเจาะลำต้น | CO6: หนอนเจาะผล | CP6: หนอนกินใบ | CQ6: เพลี้ยไฟ | CR6: เพลี้ยแป้ง | CS6: เพลี้ยไก่แจ้ | CT6: ไรแดง | CU6: โรคใบติด | CV6: โรครากเน่าโคนเน่า | CW6: ราดำ | CX6: โรคราใบไหม้ | CY6: โรคผลเน่า | CZ6: โรคราสีชมพู | DA6: โรคจุดสาหร่าย | DB6: หนอนเจาะผล | DC6: รวม | DD6: หนอนกินช่อดอก | DE6: เพลี้ยแป้ง | DF6: เพลี้ยไฟ | DG6: หนอนทราย | DH6: โรคใบจุดสาหร่าย | DI6: โรคราดำ | DJ6: โรคขอบใบแห้ง | DK6: หนอนกินช่อดอกไม้ | DL6: รวม | DM6: หนอนชอนใบ | DN6: หนอนกินใบ | DO6: เพลี้ยไฟ | DP6: เพลี้ยแป้ง | DQ6: ไรแดง | DR6: โรคแอนแทรคโนส | DS6: โรคใบจุด | DT6: รวม | DU6: โรคพุ่มไม้กวาด | DV6: เพลี้ยแป้ง | DW6: โรคราดำ | DX6: เพลี้ยหอย | DY6: มวนลำไย | DZ6: รวม | EA6: รวม
C7: =C8-C9 -> -80 | D7: =D8-D9 -> 94 | E7: =E8-E9 -> -31 | F7: =F8-F9 -> -4 | G7: =G8-G9 -> -4 | H7: =H8-H9 -> 0 | I7: =I8-I9 -> 0 | J7: =J8-J9 -> -28 | ... EA7: =EA8-EA9 -> 28888
B8: 8 ธ.ค. 64 | C8: 180 | D8: 94 | E8: 32 | G8: 0 | J8: 38 | Q8: 5 | U8: 0 | W8: =C8+D8+E8+G8+J8+Q8+U8 -> 349 | X8: 6720 | Y8: 11913 | Z8: 5428 | AA8: 1226 | AB8: 1021 | AD8: 100 | AE8: =AD8+AB8+AA8+Z8+Y8+X8 -> 26408 | AI8: 936 | AL8: 276 | AP8: =AL8+AI8 -> 1212 | AQ8: 84 | AR8: 400607 | AS8: 7472 | AU8: =AR8+AQ8+AS8 -> 408163 | AZ8: 171 | BH8: 0 | BJ8: 13884 | BL8: =BJ8+BH8+BB8+AZ8 -> 14055 | CC8: 374 | CE8: 90 | CJ8: =CC8+CE8 -> 464 | CK8: 55 | CL8: 11 | CM8: =CK8+CL8 -> 66 | CQ8: 108 | CR8: 8 | CS8: 374 | CV8: 3492 | DC8: =CV8+CS8+CR8+CQ8+CP8+CO8+CN8 -> 3982 | DL8: =DF8 -> 0 | DO8: 97 | DT8: =DO8 -> 97 | DU8: 277 | DV8: 42 | DW8: 328 | DY8: 19 | DZ8: =DY8+DW8+DV8+DU8 -> 666 | EA8: =DZ8+DT8+DL8+DC8+CJ8+BL8+AU8+AP8+AE8+W8+CM8 -> 455462
B9: 1 ธ.ค. 64 | C9: 260 | D9: 0 | E9: 63 | F9: 4 | G9: 4 | H9: 0 | I9: 0 | J9: 66 | K9: 6500 | L9: 12068 | M9: 5154 | N9: 1220 | O9: 1020 | P9: 155 | Q9: 0 | R9: 648 | S9: 169 | T9: 817 | U9: 0 | V9: 375088 | W9: =C9+D9+E9+G9+J9+Q9+U9 -> 393 | X9: 6500 | Y9: 12068 | Z9: 5154 | AA9: 1220 | AB9: 1020 | AC9: 14058 | AD9: 155 | AE9: =AD9+AB9+AA9+Z9+Y9+X9 -> 26117 | AF9: 447 | AH9: 11 | AI9: 648 | AL9: 169 | AM9: 110 | AN9: 0 | AO9: 12 | AP9: =AL9+AI9 -> 817 | AQ9: 103 | AR9: 375088 | AS9: 1835 | AT9: 98 | AU9: =AR9+AQ9+AS9 -> 377026 | AV9: 280 | AW9: 28 | AX9: 325 | AY9: 207 | AZ9: 167 | BA9: 426574 | BH9: 7 | BJ9: 13884 | BL9: =BJ9+BH9+BB9+AZ9 -> 14058 | CC9: 382 | CE9: 65 | CJ9: =CC9+CE9 -> 447 | CL9: 11 | CM9: =CK9+CL9 -> 11 | CQ9: 110 | CR9: 0 | CS9: 12 | CV9: 6645 | DC9: =CV9+CS9+CR9+CQ9+CP9+CO9+CN9 -> 6767 | DL9: =DF9 -> 0 | DO9: 98 | DT9: =DO9 -> 98 | DU9: 280 | DV9: 28 | DW9: 325 | DY9: 207 | DZ9: =DY9+DW9+DV9+DU9 -> 840 | EA9: =DZ9+DT9+DL9+DC9+CJ9+BL9+AU9+AP9+AE9+W9+CM9 -> 426574
A10: รวมทั้งประเทศ 63 จังหวัด | C10: =SUM(C11,C29,C50,C59,C69,C78) -> 180 | D10: =SUM(D11,D29,D50,D59,D69,D78) -> 94 | E10: =SUM(E11,E29,E50,E59,E69,E78) -> 32 | F10: =SUM(F11,F29,F50,F59,F69,F78) -> 0 | G10: =SUM(G11,G29,G50,G59,G69,G78) -> 0 | H10: =SUM(H11,H29,H50,H59,H69,H78) -> 0 | I10: =SUM(I11,I29,I50,I59,I69,I78) -> 0 | J10: =SUM(J11,J29,J50,J59,J69,J78) -> 38 | ... DZ10: =SUM(DZ11,DZ29,DZ50,DZ59,DZ69,DZ78) -> 665.6 | EA10: =SUM(DZ10,DT10,DL10,DC10,CM10,CJ10,CA10,BL10,AU10,AP10,AE10,W10) -> 455459.88
A11: ภาคเหนือ 11 จังหวัด | C11: =SUM(C12:C28) -> 180 | D11: =SUM(D12:D28) -> 94 | E11: =SUM(E12:E28) -> 0 | F11: =SUM(F12:F28) -> 0 | G11: =SUM(G12:G28) -> 0 | H11: =SUM(H12:H28) -> 0 | I11: =SUM(I12:I28) -> 0 | J11: =SUM(J12:J28) -> 0 | ... AE11: =SUM(AE12:AE28) -> 2 | AF11: =SUM(AF19:AF28) -> 0 | AG11: =SUM(AG19:AG28) -> 0 | AH11: =SUM(AH19:AH28) -> 0 | AI11: =SUM(AI12:AI28) -> 0 | AJ11: =SUM(AJ12:AJ28) -> 0 | AK11: =SUM(AK12:AK28) -> 0 | AL11: =SUM(AL12:AL28) -> 0 | AM11: =SUM(AM12:AM28) -> 0 | AN11: =SUM(AN12:AN28) -> 0 | AO11: =SUM(AO12:AO28) -> 0 | AP11: =SUM(AP12:AP28) -> 0 | ... CM11: =SUM(CM12:CM28) -> 0 | CN11: =SUM(CN19:CN28) -> 0 | CO11: =SUM(CO19:CO28) -> 0 | CP11: =SUM(CP19:CP28) -> 0 | CQ11: =SUM(CQ12:CQ28) -> 0 | CR11: =SUM(CR12:CR28) -> 0 | CS11: =SUM(CS12:CS28) -> 0 | CT11: =SUM(CT12:CT28) -> 0 | CU11: =SUM(CU12:CU28) -> 0 | CV11: =SUM(CV12:CV28) -> 0 | CW11: =SUM(CW12:CW28) -> 0 | CX11: =SUM(CX12:CX28) -> 0 | ... DZ11: =SUM(DZ12:DZ28) -> 0 | EA11: =SUM(DT11,DL11,DC11,CM11,CJ11,CA11,BL11,AY11,AU11,AP11,AE11,W11,DZ11) -> 651
B12: กำแพงเพชร | C12: 0 | D12: 0 | E12: 0 | F12: 0 | G12: 0 | H12: 0 | I12: 0 | J12: 0 | K12: 0 | L12: 0 | M12: 0 | N12: 0 | O12: 0 | P12: 0 | Q12: 0 | R12: 0 | S12: 0 | T12: 0 | U12: 0 | V12: 0 | W12: =SUBTOTAL(9,C12:V12) -> 0 | X12: 0 | Y12: 0 | Z12: 0 | AA12: 0 | AB12: 0 | AC12: 0 | AD12: 0 | AE12: =SUBTOTAL(9,X12:AD12) -> 0 | AF12: 0 | AG12: 0 | AH12: 0 | AI12: 0 | AJ12: 0 | AK12: 0 | AL12: 0 | AM12: 0 | AN12: 0 | AO12: 0 | AP12: =SUBTOTAL(9,AI12:AO12) -> 0 | AQ12: 0 | AR12: 0 | AS12: 0 | AT12: 0 | AU12: =SUBTOTAL(9,AQ12:AT12) -> 0 | AV12: =SUM(AR12:AR12) -> 0 | AW12: 0 | AX12: =SUM(AU12:AU12) -> 0 | AY12: =SUM(AV12:AX12) -> 0 | AZ12: 0 | BA12: 0 | BB12: 0 | BC12: 0 | BD12: 0 | BE12: 0 | BF12: 0 | BG12: 0 | BH12: 0 | BI12: 0 | BJ12: 0 | BK12: 0 | BL12: =SUBTOTAL(9,AZ12:BK12) -> 0 | BM12: 0 | BN12: 0 | BO12: 0 | BP12: 0 | BQ12: 0 | BR12: 0 | BS12: 0 | BT12: 0 | BU12: 0 | BV12: 0 | BW12: 0 | BX12: 0 | BY12: 0 | BZ12: 0 | CA12: =SUBTOTAL(9,BM12:BZ12) -> 0 | CB12: 0 | CC12: 0 | CD12: 0 | CE12: 0 | CF12: 0 | CG12: 0 | CH12: 0 | CI12: 0 | CJ12: =SUBTOTAL(9,CC12:CI12) -> 0 | CK12: 0 | CL12: 0 | CM12: =SUM(CK12:CL12) -> 0 | CN12: 0 | CO12: 0 | CP12: 0 | CQ12: 0 | CR12: 0 | CS12: 0 | CT12: 0 | CU12: 0 | CV12: 0 | CW12: 0 | CX12: 0 | CY12: 0 | CZ12: 0 | DA12: 0 | DB12: 0 | DC12: =SUBTOTAL(9,CN12:DB12) -> 0 | DD12: 0 | DE12: 0 | DF12: 0 | DG12: 0 | DH12: 0 | DI12: 0 | DJ12: 0 | DK12: 0 | DL12: =SUBTOTAL(9,DD12:DK12) -> 0 | DM12: 0 | DN12: 0 | DO12: 0 | DP12: 0 | DQ12: 0 | DR12: 0 | DS12: 0 | DT12: =SUBTOTAL(9,DM12:DS12) -> 0 | DU12: 0 | DV12: 0 | DW12: 0 | DX12: 0 | DY12: 0 | DZ12: =SUBTOTAL(9,DU12:DY12) -> 0 | EA12: =SUM(DT12,DL12,DC12,CM12,CJ12,CA12,BL12,AY12,AU12,AP12,AE12,W12,DZ12) -> 0
B13: เชียงใหม่ | C13: 0 | D13: 0 | E13: 0 | F13: 0 | G13: 0 | H13: 0 | I13: 0 | J13: 0 | K13: 0 | L13: 0 | M13: 0 | N13: 0 | O13: 0 | P13: 0 | Q13: 0 | R13: 0 | S13: 0 | T13: 0 | U13: 0 | V13: 0 | W13: =SUBTOTAL(9,C13:V13) -> 0 | X13: 0 | Y13: 0 | Z13: 0 | AA13: 0 | AB13: 0 | AC13: 0 | AD13: 0 | AE13: =SUBTOTAL(9,X13:AD13) -> 0 | AF13: 0 | AG13: 0 | AH13: 0 | AI13: 0 | AJ13: 0 | AK13: 0 | AL13: 0 | AM13: 0 | AN13: 0 | AO13: 0 | AP13: =SUBTOTAL(9,AI13:AO13) -> 0 | AQ13: 0 | AR13: 0 | AS13: 0 | AT13: 0 | AU13: =SUBTOTAL(9,AQ13:AT13) -> 0 | AV13: 0 | AW13: 0 | AX13: 0 | AY13: =SUM(AV13:AX13) -> 0 | AZ13: 0 | BA13: 0 | BB13: 0 | BC13: 0 | BD13: 0 | BE13: 0 | BF13: 0 | BG13: 0 | BH13: 0 | BI13: 0 | BJ13: 0 | BK13: 0 | BL13: =SUBTOTAL(9,AZ13:BK13) -> 0 | BM13: 0 | BN13: 0 | BO13: 0 | BP13: 0 | BQ13: 0 | BR13: 0 | BS13: 0 | BT13: 0 | BU13: 0 | BV13: 0 | BW13: 0 | BX13: 0 | BY13: 0 | BZ13: 0 | CA13: =SUBTOTAL(9,BM13:BZ13) -> 0 | CB13: 0 | CC13: 0 | CD13: 0 | CE13: 0 | CF13: 0 | CG13: 0 | CH13: 0 | CI13: 0 | CJ13: =SUBTOTAL(9,CC13:CI13) -> 0 | CK13: 0 | CL13: 0 | CM13: =SUM(CK13:CL13) -> 0 | CN13: 0 | CO13: 0 | CP13: 0 | CQ13: 0 | CR13: 0 | CS13: 0 | CT13: 0 | CU13: 0 | CV13: 0 | CW13: 0 | CX13: 0 | CY13: 0 | CZ13: 0 | DA13: 0 | DB13: 0 | DC13: =SUBTOTAL(9,CN13:DB13) -> 0 | DD13: 0 | DE13: 0 | DF13: 0 | DG13: 0 | DH13: 0 | DI13: 0 | DJ13: 0 | DK13: 0 | DL13: =SUBTOTAL(9,DD13:DK13) -> 0 | DM13: 0 | DN13: 0 | DO13: 0 | DP13: 0 | DQ13: 0 | DR13: 0 | DS13: 0 | DT13: =SUBTOTAL(9,DM13:DS13) -> 0 | DU13: 0 | DV13: 0 | DW13: 0 | DX13: 0 | DY13: 0 | DZ13: =SUBTOTAL(9,DU13:DY13) -> 0 | EA13: =SUM(DT13,DL13,DC13,CM13,CJ13,CA13,BL13,AY13,AU13,AP13,AE13,W13,DZ13) -> 0
B14: เชียงราย | C14: 0 | D14: 0 | E14: 0 | F14: 0 | G14: 0 | H14: 0 | I14: 0 | J14: 0 | K14: 0 | L14: 0 | M14: 0 | N14: 0 | O14: 0 | P14: 0 | Q14: 0 | R14: 0 | S14: 0 | T14: 0 | U14: 0 | V14: 0 | W14: =SUBTOTAL(9,C14:V14) -> 0 | X14: 0 | Y14: 0 | Z14: 0 | AA14: 0 | AB14: 0 | AC14: 0 | AD14: 0 | AE14: =SUBTOTAL(9,X14:AD14) -> 0 | AF14: 0 | AG14: 0 | AH14: 0 | AI14: 0 | AJ14: 0 | AK14: 0 | AL14: 0 | AM14: 0 | AN14: 0 | AO14: 0 | AP14: =SUBTOTAL(9,AI14:AO14) -> 0 | AQ14: 0 | AR14: 0 | AS14: 0 | AT14: 0 | AU14: =SUBTOTAL(9,AQ14:AT14) -> 0 | AV14: 0 | AW14: 0 | AX14: 0 | AY14: =SUM(AV14:AX14) -> 0 | AZ14: 0 | BA14: 0 | BB14: 0 | BC14: 0 | BD14: 0 | BE14: 0 | BF14: 0 | BG14: 0 | BH14: 0 | BI14: 0 | BJ14: 0 | BK14: 0 | BL14: =SUBTOTAL(9,AZ14:BK14) -> 0 | BM14: 0 | BN14: 0 | BO14: 0 | BP14: 0 | BQ14: 0 | BR14: 0 | BS14: 0 | BT14: 0 | BU14: 0 | BV14: 0 | BW14: 0 | BX14: 0 | BY14: 0 | BZ14: 0 | CA14: =SUBTOTAL(9,BM14:BZ14) -> 0 | CB14: 0 | CC14: 0 | CD14: 0 | CE14: 0 | CF14: 0 | CG14: 0 | CH14: 0 | CI14: 0 | CJ14: =SUBTOTAL(9,CC14:CI14) -> 0 | CK14: 0 | CL14: 0 | CM14: =SUM(CK14:CL14) -> 0 | CN14: 0 | CO14: 0 | CP14: 0 | CQ14: 0 | CR14: 0 | CS14: 0 | CT14: 0 | CU14: 0 | CV14: 0 | CW14: 0 | CX14: 0 | CY14: 0 | CZ14: 0 | DA14: 0 | DB14: 0 | DC14: =SUBTOTAL(9,CN14:DB14) -> 0 | DD14: 0 | DE14: 0 | DF14: 0 | DG14: 0 | DH14: 0 | DI14: 0 | DJ14: 0 | DK14: 0 | DL14: =SUBTOTAL(9,DD14:DK14) -> 0 | DM14: 0 | DN14: 0 | DO14: 0 | DP14: 0 | DQ14: 0 | DR14: 0 | DS14: 0 | DT14: =SUBTOTAL(9,DM14:DS14) -> 0 | DU14: 0 | DV14: 0 | DW14: 0 | DX14: 0 | DY14: 0 | DZ14: =SUBTOTAL(9,DU14:DY14) -> 0 | EA14: =SUM(DT14,DL14,DC14,CM14,CJ14,CA14,BL14,AY14,AU14,AP14,AE14,W14,DZ14) -> 0
B15: ตาก | C15: 180 | D15: 0 | E15: 0 | F15: 0 | G15: 0 | H15: 0 | I15: 0 | J15: 0 | K15: 0 | L15: 0 | M15: 0 | N15: 0 | O15: 0 | P15: 0 | Q15: 0 | R15: 0 | S15: 0 | T15: 0 | U15: 0 | V15: 0 | W15: =SUBTOTAL(9,C15:V15) -> 180 | X15: 0 | Y15: 0 | Z15: 0 | AA15: 0 | AB15: 0 | AC15: 0 | AD15: 0 | AE15: =SUBTOTAL(9,X15:AD15) -> 0 | AF15: 0 | AG15: 0 | AH15: 0 | AI15: 0 | AJ15: 0 | AK15: 0 | AL15: 0 | AM15: 0 | AN15: 0 | AO15: 0 | AP15: =SUBTOTAL(9,AI15:AO15) -> 0 | AQ15: 0 | AR15: 0 | AS15: 0 | AT15: 0 | AU15: =SUBTOTAL(9,AQ15:AT15) -> 0 | AV15: 0 | AW15: 0 | AX15: 0 | AY15: =SUM(AV15:AX15) -> 0 | AZ15: 15 | BA15: 0 | BB15: 0 | BC15: 0 | BD15: 0 | BE15: 0 | BF15: 0 | BG15: 0 | BH15: 0 | BI15: 0 | BJ15: 0 | BK15: 0 | BL15: =SUBTOTAL(9,AZ15:BK15) -> 15 | BM15: 0 | BN15: 0 | BO15: 0 | BP15: 0 | BQ15: 0 | BR15: 0 | BS15: 0 | BT15: 0 | BU15: 0 | BV15: 0 | BW15: 0 | BX15: 0 | BY15: 0 | BZ15: 0 | CA15: =SUBTOTAL(9,BM15:BZ15) -> 0 | CB15: 0 | CC15: 205 | CD15: 0 | CE15: 0 | CF15: 0 | CG15: 0 | CH15: 0 | CI15: 0 | CJ15: =SUBTOTAL(9,CC15:CI15) -> 205 | CK15: 0 | CL15: 0 | CM15: =SUM(CK15:CL15) -> 0 | CN15: 0 | CO15: 0 | CP15: 0 | CQ15: 0 | CR15: 0 | CS15: 0 | CT15: 0 | CU15: 0 | CV15: 0 | CW15: 0 | CX15: 0 | CY15: 0 | CZ15: 0 | DA15: 0 | DB15: 0 | DC15: =SUBTOTAL(9,CN15:DB15) -> 0 | DD15: 0 | DE15: 0 | DF15: 0 | DG15: 0 | DH15: 0 | DI15: 0 | DJ15: 0 | DK15: 0 | DL15: =SUBTOTAL(9,DD15:DK15) -> 0 | DM15: 0 | DN15: 0 | DO15: 0 | DP15: 0 | DQ15: 0 | DR15: 0 | DS15: 0 | DT15: =SUBTOTAL(9,DM15:DS15) -> 0 | DU15: 0 | DV15: 0 | DW15: 0 | DX15: 0 | DY15: 0 | DZ15: =SUBTOTAL(9,DU15:DY15) -> 0 | EA15: =SUM(DT15,DL15,DC15,CM15,CJ15,CA15,BL15,AY15,AU15,AP15,AE15,W15,DZ15) -> 400
B16: นครสวรรค์ | C16: 0 | D16: 0 | E16: 0 | F16: 0 | G16: 0 | H16: 0 | I16: 0 | J16: 0 | K16: 0 | L16: 0 | M16: 0 | N16: 0 | O16: 0 | P16: 0 | Q16: 5 | R16: 0 | S16: 0 | T16: 0 | U16: 0 | V16: 0 | W16: =SUBTOTAL(9,C16:V16) -> 5 | X16: 0 | Y16: 0 | Z16: 0 | AA16: 2 | AB16: 0 | AC16: 0 | AD16: 0 | AE16: =SUBTOTAL(9,X16:AD16) -> 2 | AF16: 0 | AG16: 0 | AH16: 0 | AI16: 0 | AJ16: 0 | AK16: 0 | AL16: 0 | AM16: 0 | AN16: 0 | AO16: 0 | AP16: =SUBTOTAL(9,AI16:AO16) -> 0 | AQ16: 0 | AR16: 0 | AS16: 0 | AT16: 0 | AU16: =SUBTOTAL(9,AQ16:AT16) -> 0 | AV16: 0 | AW16: 0 | AX16: 0 | AY16: =SUM(AV16:AX16) -> 0 | AZ16: 30 | BA16: 0 | BB16: 0 | BC16: 0 | BD16: 0 | BE16: 0 | BF16: 0 | BG16: 0 | BH16: 0 | BI16: 0 | BJ16: 0 | BK16: 0 | BL16: =SUBTOTAL(9,AZ16:BK16) -> 30 | BM16: 0 | BN16: 0 | BO16: 0 | BP16: 0 | BQ16: 0 | BR16: 0 | BS16: 0 | BT16: 0 | BU16: 0 | BV16: 0 | BW16: 0 | BX16: 0 | BY16: 0 | BZ16: 0 | CA16: =SUBTOTAL(9,BM16:BZ16) -> 0 | CB16: 0 | CC16: 9 | CD16: 0 | CE16: 0 | CF16: 0 | CG16: 0 | CH16: 0 | CI16: 0 | CJ16: =SUBTOTAL(9,CC16:CI16) -> 9 | CK16: 0 | CL16: 0 | CM16: =SUM(CK16:CL16) -> 0 | CN16: 0 | CO16: 0 | CP16: 0 | CQ16: 0 | CR16: 0 | CS16: 0 | CT16: 0 | CU16: 0 | CV16: 0 | CW16: 0 | CX16: 0 | CY16: 0 | CZ16: 0 | DA16: 0 | DB16: 0 | DC16: =SUBTOTAL(9,CN16:DB16) -> 0 | DD16: 0 | DE16: 0 | DF16: 0 | DG16: 0 | DH16: 0 | DI16: 0 | DJ16: 0 | DK16: 0 | DL16: =SUBTOTAL(9,DD16:DK16) -> 0 | DM16: 0 | DN16: 0 | DO16: 0 | DP16: 0 | DQ16: 0 | DR16: 0 | DS16: 0 | DT16: =SUBTOTAL(9,DM16:DS16) -> 0 | DU16: 0 | DV16: 0 | DW16: 0 | DX16: 0 | DY16: 0 | DZ16: =SUBTOTAL(9,DU16:DY16) -> 0 | EA16: =SUM(DT16,DL16,DC16,CM16,CJ16,CA16,BL16,AY16,AU16,AP16,AE16,W16,DZ16) -> 46
B17: น่าน | C17: 0 | D17: 0 | E17: 0 | F17: 0 | G17: 0 | H17: 0 | I17: 0 | J17: 0 | K17: 0 | L17: 0 | M17: 0 | N17: 0 | O17: 0 | P17: 0 | Q17: 0 | R17: 0 | S17: 0 | T17: 0 | U17: 0 | V17: 0 | W17: =SUBTOTAL(9,C17:V17) -> 0 | X17: 0 | Y17: 0 | Z17: 0 | AA17: 0 | AB17: 0 | AC17: 0 | AD17: 0 | AE17: =SUBTOTAL(9,X17:AD17) -> 0 | AF17: 0 | AG17: 0 | AH17: 0 | AI17: 0 | AJ17: 0 | AK17: 0 | AL17: 0 | AM17: 0 | AN17: 0 | AO17: 0 | AP17: =SUBTOTAL(9,AI17:AO17) -> 0 | AQ17: 0 | AR17: 0 | AS17: 16 | AT17: 0 | AU17: =SUBTOTAL(9,AQ17:AT17) -> 16 | AV17: 0 | AW17: 0 | AX17: 0 | AY17: =SUM(AV17:AX17) -> 0 | AZ17: 5 | BA17: 0 | BB17: 0 | BC17: 0 | BD17: 0 | BE17: 0 | BF17: 0 | BG17: 0 | BH17: 0 | BI17: 0 | BJ17: 0 | BK17: 0 | BL17: =SUBTOTAL(9,AZ17:BK17) -> 5 | BM17: 0 | BN17: 0 | BO17: 0 | BP17: 0 | BQ17: 0 | BR17: 0 | BS17: 0 | BT17: 0 | BU17: 0 | BV17: 0 | BW17: 0 | BX17: 0 | BY17: 0 | BZ17: 0 | CA17: =SUBTOTAL(9,BM17:BZ17) -> 0 | CB17: 0 | CC17: 0 | CD17: 0 | CE17: 0 | CF17: 0 | CG17: 0 | CH17: 0 | CI17: 0 | CJ17: =SUBTOTAL(9,CC17:CI17) -> 0 | CK17: 0 | CL17: 0 | CM17: =SUM(CK17:CL17) -> 0 | CN17: 0 | CO17: 0 | CP17: 0 | CQ17: 0 | CR17: 0 | CS17: 0 | CT17: 0 | CU17: 0 | CV17: 0 | CW17: 0 | CX17: 0 | CY17: 0 | CZ17: 0 | DA17: 0 | DB17: 0 | DC17: =SUBTOTAL(9,CN17:DB17) -> 0 | DD17: 0 | DE17: 0 | DF17: 0 | DG17: 0 | DH17: 0 | DI17: 0 | DJ17: 0 | DK17: 0 | DL17: =SUBTOTAL(9,DD17:DK17) -> 0 | DM17: 0 | DN17: 0 | DO17: 0 | DP17: 0 | DQ17: 0 | DR17: 0 | DS17: 0 | DT17: =SUBTOTAL(9,DM17:DS17) -> 0 | DU17: 0 | DV17: 0 | DW17: 0 | DX17: 0 | DY17: 0 | DZ17: =SUBTOTAL(9,DU17:DY17) -> 0 | EA17: =SUM(DT17,DL17,DC17,CM17,CJ17,CA17,BL17,AY17,AU17,AP17,AE17,W17,DZ17) -> 21
B18: พะเยา | C18: 0 | D18: 0 | E18: 0 | F18: 0 | G18: 0 | H18: 0 | I18: 0 | J18: 0 | K18: 0 | L18: 0 | M18: 0 | N18: 0 | O18: 0 | P18: 0 | Q18: 0 | R18: 0 | S18: 0 | T18: 0 | U18: 0 | V18: 0 | W18: =SUBTOTAL(9,C18:V18) -> 0 | X18: 0 | Y18: 0 | Z18: 0 | AA18: 0 | AB18: 0 | AC18: 0 | AD18: 0 | AE18: =SUBTOTAL(9,X18:AD18) -> 0 | AF18: 0 | AG18: 0 | AH18: 0 | AI18: 0 | AJ18: 0 | AK18: 0 | AL18: 0 | AM18: 0 | AN18: 0 | AO18: 0 | AP18: =SUBTOTAL(9,AI18:AO18) -> 0 | AQ18: 0 | AR18: 0 | AS18: 0 | AT18: 0 | AU18: =SUBTOTAL(9,AQ18:AT18) -> 0 | AV18: 0 | AW18: 0 | AX18: 0 | AY18: =SUM(AV18:AX18) -> 0 | AZ18: 0 | BA18: 0 | BB18: 0 | BC18: 0 | BD18: 0 | BE18: 0 | BF18: 0 | BG18: 0 | BH18: 0 | BI18: 0 | BJ18: 0 | BK18: 0 | BL18: =SUBTOTAL(9,AZ18:BK18) -> 0 | BM18: 0 | BN18: 0 | BO18: 0 | BP18: 0 | BQ18: 0 | BR18: 0 | BS18: 0 | BT18: 0 | BU18: 0 | BV18: 0 | BW18: 0 | BX18: 0 | BY18: 0 | BZ18: 0 | CA18: =SUBTOTAL(9,BM18:BZ18) -> 0 | CB18: 0 | CC18: 0 | CD18: 0 | CE18: 0 | CF18: 0 | CG18: 0 | CH18: 0 | CI18: 0 | CJ18: =SUBTOTAL(9,CC18:CI18) -> 0 | CK18: 0 | CL18: 0 | CM18: =SUM(CK18:CL18) -> 0 | CN18: 0 | CO18: 0 | CP18: 0 | CQ18: 0 | CR18: 0 | CS18: 0 | CT18: 0 | CU18: 0 | CV18: 0 | CW18: 0 | CX18: 0 | CY18: 0 | CZ18: 0 | DA18: 0 | DB18: 0 | DC18: =SUBTOTAL(9,CN18:DB18) -> 0 | DD18: 0 | DE18: 0 | DF18: 0 | DG18: 0 | DH18: 0 | DI18: 0 | DJ18: 0 | DK18: 0 | DL18: =SUBTOTAL(9,DD18:DK18) -> 0 | DM18: 0 | DN18: 0 | DO18: 0 | DP18: 0 | DQ18: 0 | DR18: 0 | DS18: 0 | DT18: =SUBTOTAL(9,DM18:DS18) -> 0 | DU18: 0 | DV18: 0 | DW18: 0 | DX18: 0 | DY18: 0 | DZ18: =SUBTOTAL(9,DU18:DY18) -> 0 | EA18: =SUM(DT18,DL18,DC18,CM18,CJ18,CA18,BL18,AY18,AU18,AP18,AE18,W18,DZ18) -> 0
B19: พิจิตร | C19: 0 | D19: 94 | E19: 0 | F19: 0 | G19: 0 | H19: 0 | I19: 0 | J19: 0 | K19: 0 | L19: 0 | M19: 0 | N19: 0 | O19: 0 | P19: 0 | Q19: 0 | R19: 0 | S19: 0 | T19: 0 | U19: 0 | V19: 0 | W19: =SUBTOTAL(9,C19:V19) -> 94 | X19: 0 | Y19: 0 | Z19: 0 | AA19: 0 | AB19: 0 | AC19: 0 | AD19: 0 | AE19: =SUBTOTAL(9,X19:AD19) -> 0 | AF19: 0 | AG19: 0 | AH19: 0 | AI19: 0 | AJ19: 0 | AK19: 0 | AL19: 0 | AM19: 0 | AN19: 0 | AO19: 0 | AP19: =SUBTOTAL(9,AI19:AO19) -> 0 | AQ19: 0 | AR19: 0 | AS19: 0 | AT19: 0 | AU19: =SUBTOTAL(9,AQ19:AT19) -> 0 | AV19: 0 | AW19: 0 | AX19: 0 | AY19: =SUM(AV19:AX19) -> 0 | AZ19: 0 | BA19: 0 | BB19: 0 | BC19: 0 | BD19: 0 | BE19: 0 | BF19: 0 | BG19: 0 | BH19: 0 | BI19: 0 | BJ19: 0 | BK19: 0 | BL19: =SUBTOTAL(9,AZ19:BK19) -> 0 | BM19: 0 | BN19: 0 | BO19: 0 | BP19: 0 | BQ19: 0 | BR19: 0 | BS19: 0 | BT19: 0 | BU19: 0 | BV19: 0 | BW19: 0 | BX19: 0 | BY19: 0 | BZ19: 0 | CA19: =SUBTOTAL(9,BM19:BZ19) -> 0 | CB19: 0 | CC19: 0 | CD19: 0 | CE19: 90 | CF19: 0 | CG19: 0 | CH19: 0 | CI19: 0 | CJ19: =SUBTOTAL(9,CC19:CI19) -> 90 | CK19: 0 | CL19: 0 | CM19: =SUM(CK19:CL19) -> 0 | CN19: 0 | CO19: 0 | CP19: 0 | CQ19: 0 | CR19: 0 | CS19: 0 | CT19: 0 | CU19: 0 | CV19: 0 | CW19: 0 | CX19: 0 | CY19: 0 | CZ19: 0 | DA19: 0 | DB19: 0 | DC19: =SUBTOTAL(9,CN19:DB19) -> 0 | DD19: 0 | DE19: 0 | DF19: 0 | DG19: 0 | DH19: 0 | DI19: 0 | DJ19: 0 | DK19: 0 | DL19: =SUBTOTAL(9,DD19:DK19) -> 0 | DM19: 0 | DN19: 0 | DO19: 0 | DP19: 0 | DQ19: 0 | DR19: 0 | DS19: 0 | DT19: =SUBTOTAL(9,DM19:DS19) -> 0 | DU19: 0 | DV19: 0 | DW19: 0 | DX19: 0 | DY19: 0 | DZ19: =SUBTOTAL(9,DU19:DY19) -> 0 | EA19: =SUM(DT19,DL19,DC19,CM19,CJ19,CA19,BL19,AY19,AU19,AP19,AE19,W19,DZ19) -> 184
B20: พิษณุโลก | C20: 0 | D20: 0 | E20: 0 | F20: 0 | G20: 0 | H20: 0 | I20: 0 | J20: 0 | K20: 0 | L20: 0 | M20: 0 | N20: 0 | O20: 0 | P20: 0 | Q20: 0 | R20: 0 | S20: 0 | T20: 0 | U20: 0 | V20: 0 | W20: =SUBTOTAL(9,C20:V20) -> 0 | X20: 0 | Y20: 0 | Z20: 0 | AA20: 0 | AB20: 0 | AC20: 0 | AD20: 0 | AE20: =SUBTOTAL(9,X20:AD20) -> 0 | AF20: 0 | AG20: 0 | AH20: 0 | AI20: 0 | AJ20: 0 | AK20: 0 | AL20: 0 | AM20: 0 | AN20: 0 | AO20: 0 | AP20: =SUBTOTAL(9,AI20:AO20) -> 0 | AQ20: 0 | AR20: 0 | AS20: 0 | AT20: 0 | AU20: =SUBTOTAL(9,AQ20:AT20) -> 0 | AV20: 0 | AW20: 0 | AX20: 0 | AY20: =SUM(AV20:AX20) -> 0 | AZ20: 0 | BA20: 0 | BB20: 0 | BC20: 0 | BD20: 0 | BE20: 0 | BF20: 0 | BG20: 0 | BH20: 0 | BI20: 0 | BJ20: 0 | BK20: 0 | BL20: =SUBTOTAL(9,AZ20:BK20) -> 0 | BM20: 0 | BN20: 0 | BO20: 0 | BP20: 0 | BQ20: 0 | BR20: 0 | BS20: 0 | BT20: 0 | BU20: 0 | BV20: 0 | BW20: 0 | BX20: 0 | BY20: 0 | BZ20: 0 | CA20: =SUBTOTAL(9,BM20:BZ20) -> 0 | CB20: 0 | CC20: 0 | CD20: 0 | CE20: 0 | CF20: 0 | CG20: 0 | CH20: 0 | CI20: 0 | CJ20: =SUBTOTAL(9,CC20:CI20) -> 0 | CK20: 0 | CL20: 0 | CM20: =SUM(CK20:CL20) -> 0 | CN20: 0 | CO20: 0 | CP20: 0 | CQ20: 0 | CR20: 0 | CS20: 0 | CT20: 0 | CU20: 0 | CV20: 0 | CW20: 0 | CX20: 0 | CY20: 0 | CZ20: 0 | DA20: 0 | DB20: 0 | DC20: =SUBTOTAL(9,CN20:DB20) -> 0 | DD20: 0 | DE20: 0 | DF20: 0 | DG20: 0 | DH20: 0 | DI20: 0 | DJ20: 0 | DK20: 0 | DL20: =SUBTOTAL(9,DD20:DK20) -> 0 | DM20: 0 | DN20: 0 | DO20: 0 | DP20: 0 | DQ20: 0 | DR20: 0 | DS20: 0 | DT20: =SUBTOTAL(9,DM20:DS20) -> 0 | DU20: 0 | DV20: 0 | DW20: 0 | DX20: 0 | DY20: 0 | DZ20: =SUBTOTAL(9,DU20:DY20) -> 0 | EA20: =SUM(DT20,DL20,DC20,CM20,CJ20,CA20,BL20,AY20,AU20,AP20,AE20,W20,DZ20) -> 0
B21: เพชรบูรณ์ | C21: 0 | D21: 0 | E21: 0 | F21: 0 | G21: 0 | H21: 0 | I21: 0 | J21: 0 | K21: 0 | L21: 0 | M21: 0 | N21: 0 | O21: 0 | P21: 0 | Q21: 0 | R21: 0 | S21: 0 | T21: 0 | U21: 0 | V21: 0 | W21: =SUBTOTAL(9,C21:V21) -> 0 | X21: 0 | Y21: 0 | Z21: 0 | AA21: 0 | AB21: 0 | AC21: 0 | AD21: 0 | AE21: =SUBTOTAL(9,X21:AD21) -> 0 | AF21: 0 | AG21: 0 | AH21: 0 | AI21: 0 | AJ21: 0 | AK21: 0 | AL21: 0 | AM21: 0 | AN21: 0 | AO21: 0 | AP21: =SUBTOTAL(9,AI21:AO21) -> 0 | AQ21: 0 | AR21: 0 | AS21: 0 | AT21: 0 | AU21: =SUBTOTAL(9,AQ21:AT21) -> 0 | AV21: 0 | AW21: 0 | AX21: 0 | AY21: =SUM(AV21:AX21) -> 0 | AZ21: 0 | BA21: 0 | BB21: 0 | BC21: 0 | BD21: 0 | BE21: 0 | BF21: 0 | BG21: 0 | BH21: 0 | BI21: 0 | BJ21: 0 | BK21: 0 | BL21: =SUBTOTAL(9,AZ21:BK21) -> 0 | BM21: 0 | BN21: 0 | BO21: 0 | BP21: 0 | BQ21: 0 | BR21: 0 | BS21: 0 | BT21: 0 | BU21: 0 | BV21: 0 | BW21: 0 | BX21: 0 | BY21: 0 | BZ21: 0 | CA21: =SUBTOTAL(9,BM21:BZ21) -> 0 | CB21: 0 | CC21: 0 | CD21: 0 | CE21: 0 | CF21: 0 | CG21: 0 | CH21: 0 | CI21: 0 | CJ21: =SUBTOTAL(9,CC21:CI21) -> 0 | CK21: 0 | CL21: 0 | CM21: =SUM(CK21:CL21) -> 0 | CN21: 0 | CO21: 0 | CP21: 0 | CQ21: 0 | CR21: 0 | CS21: 0 | CT21: 0 | CU21: 0 | CV21: 0 | CW21: 0 | CX21: 0 | CY21: 0 | CZ21: 0 | DA21: 0 | DB21: 0 | DC21: =SUBTOTAL(9,CN21:DB21) -> 0 | DD21: 0 | DE21: 0 | DF21: 0 | DG21: 0 | DH21: 0 | DI21: 0 | DJ21: 0 | DK21: 0 | DL21: =SUBTOTAL(9,DD21:DK21) -> 0 | DM21: 0 | DN21: 0 | DO21: 0 | DP21: 0 | DQ21: 0 | DR21: 0 | DS21: 0 | DT21: =SUBTOTAL(9,DM21:DS21) -> 0 | DU21: 0 | DV21: 0 | DW21: 0 | DX21: 0 | DY21: 0 | DZ21: =SUBTOTAL(9,DU21:DY21) -> 0 | EA21: =SUM(DT21,DL21,DC21,CM21,CJ21,CA21,BL21,AY21,AU21,AP21,AE21,W21,DZ21) -> 0
B22: แพร่ | C22: 0 | D22: 0 | E22: 0 | F22: 0 | G22: 0 | H22: 0 | I22: 0 | J22: 0 | K22: 0 | L22: 0 | M22: 0 | N22: 0 | O22: 0 | P22: 0 | Q22: 0 | R22: 0 | S22: 0 | T22: 0 | U22: 0 | V22: 0 | W22: =SUBTOTAL(9,C22:V22) -> 0 | X22: 0 | Y22: 0 | Z22: 0 | AA22: 0 | AB22: 0 | AC22: 0 | AD22: 0 | AE22: =SUBTOTAL(9,X22:AD22) -> 0 | AF22: 0 | AG22: 0 | AH22: 0 | AI22: 0 | AJ22: 0 | AK22: 0 | AL22: 0 | AM22: 0 | AN22: 0 | AO22: 0 | AP22: =SUBTOTAL(9,AI22:AO22) -> 0 | AQ22: 0 | AR22: 0 | AS22: 0 | AT22: 0 | AU22: =SUBTOTAL(9,AQ22:AT22) -> 0 | AV22: 0 | AW22: 0 | AX22: 0 | AY22: =SUM(AV22:AX22) -> 0 | AZ22: 0 | BA22: 0 | BB22: 0 | BC22: 0 | BD22: 0 | BE22: 0 | BF22: 0 | BG22: 0 | BH22: 0 | BI22: 0 | BJ22: 0 | BK22: 0 | BL22: =SUBTOTAL(9,AZ22:BK22) -> 0 | BM22: 0 | BN22: 0 | BO22: 0 | BP22: 0 | BQ22: 0 | BR22: 0 | BS22: 0 | BT22: 0 | BU22: 0 | BV22: 0 | BW22: 0 | BX22: 0 | BY22: 0 | BZ22: 0 | CA22: =SUBTOTAL(9,BM22:BZ22) -> 0 | CB22: 0 | CC22: 0 | CD22: 0 | CE22: 0 | CF22: 0 | CG22: 0 | CH22: 0 | CI22: 0 | CJ22: =SUBTOTAL(9,CC22:CI22) -> 0 | CK22: 0 | CL22: 0 | CM22: =SUM(CK22:CL22) -> 0 | CN22: 0 | CO22: 0 | CP22: 0 | CQ22: 0 | CR22: 0 | CS22: 0 | CT22: 0 | CU22: 0 | CV22: 0 | CW22: 0 | CX22: 0 | CY22: 0 | CZ22: 0 | DA22: 0 | DB22: 0 | DC22: =SUBTOTAL(9,CN22:DB22) -> 0 | DD22: 0 | DE22: 0 | DF22: 0 | DG22: 0 | DH22: 0 | DI22: 0 | DJ22: 0 | DK22: 0 | DL22: =SUBTOTAL(9,DD22:DK22) -> 0 | DM22: 0 | DN22: 0 | DO22: 0 | DP22: 0 | DQ22: 0 | DR22: 0 | DS22: 0 | DT22: =SUBTOTAL(9,DM22:DS22) -> 0 | DU22: 0 | DV22: 0 | DW22: 0 | DX22: 0 | DY22: 0 | DZ22: =SUBTOTAL(9,DU22:DY22) -> 0 | EA22: =SUM(DT22,DL22,DC22,CM22,CJ22,CA22,BL22,AY22,AU22,AP22,AE22,W22,DZ22) -> 0
B23: แม่ฮ่องสอน | C23: 0 | D23: 0 | E23: 0 | F23: 0 | G23: 0 | H23: 0 | I23: 0 | J23: 0 | K23: 0 | L23: 0 | M23: 0 | N23: 0 | O23: 0 | P23: 0 | Q23: 0 | R23: 0 | S23: 0 | T23: 0 | U23: 0 | V23: 0 | W23: =SUBTOTAL(9,C23:V23) -> 0 | X23: 0 | Y23: 0 | Z23: 0 | AA23: 0 | AB23: 0 | AC23: 0 | AD23: 0 | AE23: =SUBTOTAL(9,X23:AD23) -> 0 | AF23: 0 | AG23: 0 | AH23: 0 | AI23: 0 | AJ23: 0 | AK23: 0 | AL23: 0 | AM23: 0 | AN23: 0 | AO23: 0 | AP23: =SUBTOTAL(9,AI23:AO23) -> 0 | AQ23: 0 | AR23: 0 | AS23: 0 | AT23: 0 | AU23: =SUBTOTAL(9,AQ23:AT23) -> 0 | AV23: 0 | AW23: 0 | AX23: 0 | AY23: =SUM(AV23:AX23) -> 0 | AZ23: 0 | BA23: 0 | BB23: 0 | BC23: 0 | BD23: 0 | BE23: 0 | BF23: 0 | BG23: 0 | BH23: 0 | BI23: 0 | BJ23: 0 | BK23: 0 | BL23: =SUBTOTAL(9,AZ23:BK23) -> 0 | BM23: 0 | BN23: 0 | BO23: 0 | BP23: 0 | BQ23: 0 | BR23: 0 | BS23: 0 | BT23: 0 | BU23: 0 | BV23: 0 | BW23: 0 | BX23: 0 | BY23: 0 | BZ23: 0 | CA23: =SUBTOTAL(9,BM23:BZ23) -> 0 | CB23: 0 | CC23: 0 | CD23: 0 | CE23: 0 | CF23: 0 | CG23: 0 | CH23: 0 | CI23: 0 | CJ23: =SUBTOTAL(9,CC23:CI23) -> 0 | CK23: 0 | CL23: 0 | CM23: =SUM(CK23:CL23) -> 0 | CN23: 0 | CO23: 0 | CP23: 0 | CQ23: 0 | CR23: 0 | CS23: 0 | CT23: 0 | CU23: 0 | CV23: 0 | CW23: 0 | CX23: 0 | CY23: 0 | CZ23: 0 | DA23: 0 | DB23: 0 | DC23: =SUBTOTAL(9,CN23:DB23) -> 0 | DD23: 0 | DE23: 0 | DF23: 0 | DG23: 0 | DH23: 0 | DI23: 0 | DJ23: 0 | DK23: 0 | DL23: =SUBTOTAL(9,DD23:DK23) -> 0 | DM23: 0 | DN23: 0 | DO23: 0 | DP23: 0 | DQ23: 0 | DR23: 0 | DS23: 0 | DT23: =SUBTOTAL(9,DM23:DS23) -> 0 | DU23: 0 | DV23: 0 | DW23: 0 | DX23: 0 | DY23: 0 | DZ23: =SUBTOTAL(9,DU23:DY23) -> 0 | EA23: =SUM(DT23,DL23,DC23,CM23,CJ23,CA23,BL23,AY23,AU23,AP23,AE23,W23,DZ23) -> 0
B24: ลำปาง | C24: 0 | D24: 0 | E24: 0 | F24: 0 | G24: 0 | H24: 0 | I24: 0 | J24: 0 | K24: 0 | L24: 0 | M24: 0 | N24: 0 | O24: 0 | P24: 0 | Q24: 0 | R24: 0 | S24: 0 | T24: 0 | U24: 0 | V24: 0 | W24: =SUBTOTAL(9,C24:V24) -> 0 | X24: 0 | Y24: 0 | Z24: 0 | AA24: 0 | AB24: 0 | AC24: 0 | AD24: 0 | AE24: =SUBTOTAL(9,X24:AD24) -> 0 | AF24: 0 | AG24: 0 | AH24: 0 | AI24: 0 | AJ24: 0 | AK24: 0 | AL24: 0 | AM24: 0 | AN24: 0 | AO24: 0 | AP24: =SUBTOTAL(9,AI24:AO24) -> 0 | AQ24: 0 | AR24: 0 | AS24: 0 | AT24: 0 | AU24: =SUBTOTAL(9,AQ24:AT24) -> 0 | AV24: 0 | AW24: 0 | AX24: 0 | AY24: =SUM(AV24:AX24) -> 0 | AZ24: 0 | BA24: 0 | BB24: 0 | BC24: 0 | BD24: 0 | BE24: 0 | BF24: 0 | BG24: 0 | BH24: 0 | BI24: 0 | BJ24: 0 | BK24: 0 | BL24: =SUBTOTAL(9,AZ24:BK24) -> 0 | BM24: 0 | BN24: 0 | BO24: 0 | BP24: 0 | BQ24: 0 | BR24: 0 | BS24: 0 | BT24: 0 | BU24: 0 | BV24: 0 | BW24: 0 | BX24: 0 | BY24: 0 | BZ24: 0 | CA24: =SUBTOTAL(9,BM24:BZ24) -> 0 | CB24: 0 | CC24: 0 | CD24: 0 | CE24: 0 | CF24: 0 | CG24: 0 | CH24: 0 | CI24: 0 | CJ24: =SUBTOTAL(9,CC24:CI24) -> 0 | CK24: 0 | CL24: 0 | CM24: =SUM(CK24:CL24) -> 0 | CN24: 0 | CO24: 0 | CP24: 0 | CQ24: 0 | CR24: 0 | CS24: 0 | CT24: 0 | CU24: 0 | CV24: 0 | CW24: 0 | CX24: 0 | CY24: 0 | CZ24: 0 | DA24: 0 | DB24: 0 | DC24: =SUBTOTAL(9,CN24:DB24) -> 0 | DD24: 0 | DE24: 0 | DF24: 0 | DG24: 0 | DH24: 0 | DI24: 0 | DJ24: 0 | DK24: 0 | DL24: =SUBTOTAL(9,DD24:DK24) -> 0 | DM24: 0 | DN24: 0 | DO24: 0 | DP24: 0 | DQ24: 0 | DR24: 0 | DS24: 0 | DT24: =SUBTOTAL(9,DM24:DS24) -> 0 | DU24: 0 | DV24: 0 | DW24: 0 | DX24: 0 | DY24: 0 | DZ24: =SUBTOTAL(9,DU24:DY24) -> 0 | EA24: =SUM(DT24,DL24,DC24,CM24,CJ24,CA24,BL24,AY24,AU24,AP24,AE24,W24,DZ24) -> 0
... B27: อุทัยธานี | C27: 0 | D27: 0 | E27: 0 | F27: 0 | G27: 0 | H27: 0 | I27: 0 | J27: 0 | K27: 0 | L27: 0 | M27: 0 | N27: 0 | O27: 0 | P27: 0 | Q27: 0 | R27: 0 | S27: 0 | T27: 0 | U27: 0 | V27: 0 | W27: =SUBTOTAL(9,C27:V27) -> 0 | X27: 0 | Y27: 0 | Z27: 0 | AA27: 0 | AB27: 0 | AC27: 0 | AD27: 0 | AE27: =SUBTOTAL(9,X27:AD27) -> 0 | AF27: 0 | AG27: 0 | AH27: 0 | AI27: 0 | AJ27: 0 | AK27: 0 | AL27: 0 | AM27: 0 | AN27: 0 | AO27: 0 | AP27: =SUBTOTAL(9,AI27:AO27) -> 0 | AQ27: 0 | AR27: 0 | AS27: 0 | AT27: 0 | AU27: =SUBTOTAL(9,AQ27:AT27) -> 0 | AV27: 0 | AW27: 0 | AX27: 0 | AY27: =SUM(AV27:AX27) -> 0 | AZ27: 0 | BA27: 0 | BB27: 0 | BC27: 0 | BD27: 0 | BE27: 0 | BF27: 0 | BG27: 0 | BH27: 0 | BI27: 0 | BJ27: 0 | BK27: 0 | BL27: =SUBTOTAL(9,AZ27:BK27) -> 0 | BM27: 0 | BN27: 0 | BO27: 0 | BP27: 0 | BQ27: 0 | BR27: 0 | BS27: 0 | BT27: 0 | BU27: 0 | BV27: 0 | BW27: 0 | BX27: 0 | BY27: 0 | BZ27: 0 | CA27: =SUBTOTAL(9,BM27:BZ27) -> 0 | CB27: 0 | CC27: 0 | CD27: 0 | CE27: 0 | CF27: 0 | CG27: 0 | CH27: 0 | CI27: 0 | CJ27: =SUBTOTAL(9,CC27:CI27) -> 0 | CK27: 0 | CL27: 0 | CM27: =SUM(CK27:CL27) -> 0 | CN27: 0 | CO27: 0 | CP27: 0 | CQ27: 0 | CR27: 0 | CS27: 0 | CT27: 0 | CU27: 0 | CV27: 0 | CW27: 0 | CX27: 0 | CY27: 0 | CZ27: 0 | DA27: 0 | DB27: 0 | DC27: =SUBTOTAL(9,CN27:DB27) -> 0 | DD27: 0 | DE27: 0 | DF27: 0 | DG27: 0 | DH27: 0 | DI27: 0 | DJ27: 0 | DK27: 0 | DL27: =SUBTOTAL(9,DD27:DK27) -> 0 | DM27: 0 | DN27: 0 | DO27: 0 | DP27: 0 | DQ27: 0 | DR27: 0 | DS27: 0 | DT27: =SUBTOTAL(9,DM27:DS27) -> 0 | DU27: 0 | DV27: 0 | DW27: 0 | DX27: 0 | DY27: 0 | DZ27: =SUBTOTAL(9,DU27:DY27) -> 0 | EA27: =SUM(DT27,DL27,DC27,CM27,CJ27,CA27,BL27,AY27,AU27,AP27,AE27,W27,DZ27) -> 0
B28: อุตรดิตถ์ | C28: 0 | D28: 0 | E28: 0 | F28: 0 | G28: 0 | H28: 0 | I28: 0 | J28: 0 | K28: 0 | L28: 0 | M28: 0 | N28: 0 | O28: 0 | P28: 0 | Q28: 0 | R28: 0 | S28: 0 | T28: 0 | U28: 0 | V28: 0 | W28: =SUBTOTAL(9,C28:V28) -> 0 | X28: 0 | Y28: 0 | Z28: 0 | AA28: 0 | AB28: 0 | AC28: 0 | AD28: 0 | AE28: =SUBTOTAL(9,X28:AD28) -> 0 | AF28: 0 | AG28: 0 | AH28: 0 | AI28: 0 | AJ28: 0 | AK28: 0 | AL28: 0 | AM28: 0 | AN28: 0 | AO28: 0 | AP28: =SUBTOTAL(9,AI28:AO28) -> 0 | AQ28: 0 | AR28: 0 | AS28: 0 | AT28: 0 | AU28: =SUBTOTAL(9,AQ28:AT28) -> 0 | AV28: =SUM(AR28:AR28) -> 0 | AW28: 0 | AX28: =SUM(AU28:AU28) -> 0 | AY28: =SUM(AV28:AX28) -> 0 | AZ28: 0 | BA28: 0 | BB28: 0 | BC28: 0 | BD28: 0 | BE28: 0 | BF28: 0 | BG28: 0 | BH28: 0 | BI28: 0 | BJ28: 0 | BK28: 0 | BL28: =SUBTOTAL(9,AZ28:BK28) -> 0 | BM28: 0 | BN28: 0 | BO28: 0 | BP28: 0 | BQ28: 0 | BR28: 0 | BS28: 0 | BT28: 0 | BU28: 0 | BV28: 0 | BW28: 0 | BX28: 0 | BY28: 0 | BZ28: 0 | CA28: =SUBTOTAL(9,BM28:BZ28) -> 0 | CB28: 0 | CC28: 0 | CD28: 0 | CE28: 0 | CF28: 0 | CG28: 0 | CH28: 0 | CI28: 0 | CJ28: =SUBTOTAL(9,CC28:CI28) -> 0 | CK28: 0 | CL28: 0 | CM28: =SUM(CK28:CL28) -> 0 | CN28: 0 | CO28: 0 | CP28: 0 | CQ28: 0 | CR28: 0 | CS28: 0 | CT28: 0 | CU28: 0 | CV28: 0 | CW28: 0 | CX28: 0 | CY28: 0 | CZ28: 0 | DA28: 0 | DB28: 0 | DC28: =SUBTOTAL(9,CN28:DB28) -> 0 | DD28: 0 | DE28: 0 | DF28: 0 | DG28: 0 | DH28: 0 | DI28: 0 | DJ28: 0 | DK28: 0 | DL28: =SUBTOTAL(9,DD28:DK28) -> 0 | DM28: 0 | DN28: 0 | DO28: 0 | DP28: 0 | DQ28: 0 | DR28: 0 | DS28: 0 | DT28: =SUBTOTAL(9,DM28:DS28) -> 0 | DU28: 0 | DV28: 0 | DW28: 0 | DX28: 0 | DY28: 0 | DZ28: =SUBTOTAL(9,DU28:DY28) -> 0 | EA28: =SUM(DT28,DL28,DC28,CM28,CJ28,CA28,BL28,AY28,AU28,AP28,AE28,W28,DZ28) -> 0
A29: ภาคตะวันออกเฉียงเหนือ 15 จังหวัด | C29: =SUM(C30:C49) -> 0 | D29: =SUM(D30:D49) -> 0 | E29: =SUM(E30:E49) -> 0 | F29: =SUM(F30:F49) -> 0 | G29: =SUM(G30:G49) -> 0 | H29: =SUM(H30:H49) -> 0 | I29: =SUM(I30:I49) -> 0 | J29: =SUM(J30:J49) -> 0 | ... CM29: =SUM(CM30:CM49) -> 0 | CN29: =SUM(CN31:CN49) -> 0 | CO29: =SUM(CO31:CO49) -> 0 | CP29: =SUM(CP31:CP49) -> 0 | CQ29: =SUM(CQ30:CQ49) -> 0 | CR29: =SUM(CR30:CR49) -> 0 | CS29: =SUM(CS30:CS49) -> 0 | CT29: =SUM(CT30:CT49) -> 0 | CU29: =SUM(CU30:CU49) -> 0 | CV29: =SUM(CV30:CV49) -> 0 | CW29: =SUM(CW30:CW49) -> 0 | CX29: =SUM(CX30:CX49) -> 0 | ... DZ29: =SUM(DZ30:DZ49) -> 0 | EA29: =SUM(DT29,DL29,DC29,CM29,CJ29,CA29,BL29,AY29,AU29,AP29,AE29,W29,DZ29) -> 13897.72
B30: กาฬสินธุ์ | C30: 0 | D30: 0 | E30: 0 | F30: 0 | G30: 0 | H30: 0 | I30: 0 | J30: 0 | K30: 0 | L30: 0 | M30: 0 | N30: 0 | O30: 0 | P30: 0 | Q30: 0 | R30: 0 | S30: 0 | T30: 0 | U30: 0 | V30: 0 | W30: =SUBTOTAL(9,C30:V30) -> 0 | X30: 0 | Y30: 0 | Z30: 0 | AA30: 0 | AB30: 0 | AC30: 0 | AD30: 0 | AE30: =SUBTOTAL(9,X30:AD30) -> 0 | AF30: 0 | AG30: 0 | AH30: 0 | AI30: 0 | AJ30: 0 | AK30: 0 | AL30: 0 | AM30: 0 | AN30: 0 | AO30: 0 | AP30: =SUBTOTAL(9,AI30:AO30) -> 0 | AQ30: 0 | AR30: 0 | AT30: 0 | AU30: =SUBTOTAL(9,AQ30:AT30) -> 0 | AV30: 0 | AW30: 0 | AX30: 0 | AY30: =SUM(AV30:AX30) -> 0 | AZ30: 0 | BA30: 0 | BB30: 0 | BC30: 0 | BD30: 0 | BE30: 0 | BF30: 0 | BG30: 0 | BH30: 0 | BI30: 0 | BJ30: 0 | BK30: 0 | BL30: =SUBTOTAL(9,AZ30:BK30) -> 0 | BM30: 0 | BN30: 0 | BO30: 0 | BP30: 0 | BQ30: 0 | BR30: 0 | BS30: 0 | BT30: 0 | BU30: 0 | BV30: 0 | BW30: 0 | BX30: 0 | BY30: 0 | BZ30: 0 | CA30: =SUBTOTAL(9,BM30:BZ30) -> 0 | CB30: 0 | CC30: 0 | CD30: 0 | CE30: 0 | CF30: 0 | CG30: 0 | CH30: 0 | CI30: 0 | CJ30: =SUBTOTAL(9,CC30:CI30) -> 0 | CK30: 0 | CL30: 0 | CM30: =SUM(CK30:CL30) -> 0 | CN30: 0 | CO30: 0 | CP30: 0 | CQ30: 0 | CR30: 0 | CS30: 0 | CT30: 0 | CV30: 0 | CW30: 0 | CX30: 0 | CY30: 0 | CZ30: 0 | DA30: 0 | DB30: 0 | DC30: =SUBTOTAL(9,CN30:DB30) -> 0 | DD30: 0 | DE30: 0 | DF30: 0 | DG30: 0 | DH30: 0 | DI30: 0 | DJ30: 0 | DK30: 0 | DL30: =SUBTOTAL(9,DD30:DK30) -> 0 | DM30: 0 | DN30: 0 | DO30: 0 | DP30: 0 | DQ30: 0 | DR30: 0 | DS30: 0 | DT30: =SUBTOTAL(9,DM30:DS30) -> 0 | DU30: 0 | DV30: 0 | DW30: 0 | DX30: 0 | DY30: 0 | DZ30: =SUBTOTAL(9,DU30:DY30) -> 0 | EA30: =SUM(DT30,DL30,DC30,CM30,CJ30,CA30,BL30,AY30,AU30,AP30,AE30,W30,DZ30) -> 0
B31: ขอนแก่น | C31: 0 | D31: 0 | E31: 0 | F31: 0 | G31: 0 | H31: 0 | I31: 0 | J31: 0 | K31: 0 | L31: 0 | M31: 0 | N31: 0 | O31: 0 | P31: 0 | Q31: 0 | R31: 0 | S31: 0 | T31: 0 | U31: 0 | V31: 0 | W31: =SUBTOTAL(9,C31:V31) -> 0 | X31: 0 | Y31: 0 | Z31: 0 | AA31: 0 | AB31: 0 | AC31: 0 | AD31: 0 | AE31: =SUBTOTAL(9,X31:AD31) -> 0 | AF31: 0 | AG31: 0 | AH31: 0 | AI31: 0 | AJ31: 0 | AK31: 0 | AL31: 0 | AM31: 0 | AN31: 0 | AO31: 0 | AP31: =SUBTOTAL(9,AI31:AO31) -> 0 | AQ31: 0 | AR31: 0 | AS31: 0 | AT31: 0 | AU31: =SUBTOTAL(9,AQ31:AT31) -> 0 | AV31: 0 | AW31: 0 | AX31: 0 | AY31: =SUM(AV31:AX31) -> 0 | AZ31: 0 | BA31: 0 | BB31: 0 | BC31: 0 | BD31: 0 | BE31: 0 | BF31: 0 | BG31: 0 | BH31: 0 | BI31: 0 | BJ31: 0 | BK31: 0 | BL31: =SUBTOTAL(9,AZ31:BK31) -> 0 | BM31: 0 | BN31: 0 | BO31: 0 | BP31: 0 | BQ31: 0 | BR31: 0 | BS31: 0 | BT31: 0 | BU31: 0 | BV31: 0 | BW31: 0 | BX31: 0 | BY31: 0 | BZ31: 0 | CA31: =SUBTOTAL(9,BM31:BZ31) -> 0 | CB31: 0 | CC31: 0 | CD31: 0 | CE31: 0 | CF31: 0 | CG31: 0 | CH31: 0 | CI31: 0 | CJ31: =SUBTOTAL(9,CC31:CI31) -> 0 | CK31: 0 | CL31: 0 | CM31: =SUM(CK31:CL31) -> 0 | CN31: 0 | CO31: 0 | CP31: 0 | CQ31: 0 | CR31: 0 | CS31: 0 | CT31: 0 | CV31: 0 | CW31: 0 | CX31: 0 | CY31: 0 | CZ31: 0 | DA31: 0 | DB31: 0 | DC31: =SUBTOTAL(9,CN31:DB31) -> 0 | DD31: 0 | DE31: 0 | DF31: 0 | DG31: 0 | DH31: 0 | DI31: 0 | DJ31: 0 | DK31: 0 | DL31: =SUBTOTAL(9,DD31:DK31) -> 0 | DM31: 0 | DN31: 0 | DO31: 0 | DP31: 0 | DQ31: 0 | DR31: 0 | DS31: 0 | DT31: =SUBTOTAL(9,DM31:DS31) -> 0 | DU31: 0 | DV31: 0 | DW31: 0 | DX31: 0 | DY31: 0 | DZ31: =SUBTOTAL(9,DU31:DY31) -> 0 | EA31: =SUM(DT31,DL31,DC31,CM31,CJ31,CA31,BL31,AY31,AU31,AP31,AE31,W31,DZ31) -> 0
B32: ชัยภูมิ | C32: 0 | D32: 0 | E32: 0 | F32: 0 | G32: 0 | H32: 0 | I32: 0 | J32: 0 | K32: 0 | L32: 0 | M32: 0 | N32: 0 | O32: 0 | P32: 0 | Q32: 0 | R32: 0 | S32: 0 | T32: 0 | U32: 0 | V32: 0 | W32: =SUBTOTAL(9,C32:V32) -> 0 | X32: 0 | Y32: 0 | Z32: 0 | AA32: 0 | AB32: 0 | AC32: 0 | AD32: 0 | AE32: =SUBTOTAL(9,X32:AD32) -> 0 | AF32: 0 | AG32: 0 | AH32: 0 | AI32: 0 | AJ32: 0 | AK32: 0 | AL32: 0 | AM32: 0 | AN32: 0 | AO32: 0 | AP32: =SUBTOTAL(9,AI32:AO32) -> 0 | AQ32: 0 | AR32: 0 | AS32: 0 | AT32: 0 | AU32: =SUBTOTAL(9,AQ32:AT32) -> 0 | AV32: 0 | AW32: 0 | AX32: 0 | AY32: =SUM(AV32:AX32) -> 0 | AZ32: 0 | BA32: 0 | BB32: 0 | BC32: 0 | BD32: 0 | BE32: 0 | BF32: 0 | BG32: 0 | BH32: 0 | BI32: 0 | BJ32: 0 | BK32: 0 | BL32: =SUBTOTAL(9,AZ32:BK32) -> 0 | BM32: 0 | BN32: 0 | BO32: 0 | BP32: 0 | BQ32: 0 | BR32: 0 | BS32: 0 | BT32: 0 | BU32: 0 | BV32: 0 | BW32: 0 | BX32: 0 | BY32: 0 | BZ32: 0 | CA32: =SUBTOTAL(9,BM32:BZ32) -> 0 | CB32: 0 | CC32: 0 | CD32: 0 | CE32: 0 | CF32: 0 | CG32: 0 | CH32: 0 | CI32: 0 | CJ32: =SUBTOTAL(9,CC32:CI32) -> 0 | CK32: 0 | CL32: 0 | CM32: =SUM(CK32:CL32) -> 0 | CN32: 0 | CO32: 0 | CP32: 0 | CQ32: 0 | CR32: 0 | CS32: 0 | CT32: 0 | CV32: 0 | CW32: 0 | CX32: 0 | CY32: 0 | CZ32: 0 | DA32: 0 | DB32: 0 | DC32: =SUBTOTAL(9,CN32:DB32) -> 0 | DD32: 0 | DE32: 0 | DF32: 0 | DG32: 0 | DH32: 0 | DI32: 0 | DJ32: 0 | DK32: 0 | DL32: =SUBTOTAL(9,DD32:DK32) -> 0 | DM32: 0 | DN32: 0 | DO32: 0 | DP32: 0 | DQ32: 0 | DR32: 0 | DS32: 0 | DT32: =SUBTOTAL(9,DM32:DS32) -> 0 | DU32: 0 | DV32: 0 | DW32: 0 | DX32: 0 | DY32: 0 | DZ32: =SUBTOTAL(9,DU32:DY32) -> 0 | EA32: =SUM(DT32,DL32,DC32,CM32,CJ32,CA32,BL32,AY32,AU32,AP32,AE32,W32,DZ32) -> 0
B33: นครพนม | C33: 0 | D33: 0 | E33: 0 | F33: 0 | G33: 0 | H33: 0 | I33: 0 | J33: 0 | K33: 0 | L33: 0 | M33: 0 | N33: 0 | O33: 0 | P33: 0 | Q33: 0 | R33: 0 | S33: 0 | T33: 0 | U33: 0 | V33: 0 | W33: =SUBTOTAL(9,C33:V33) -> 0 | X33: 0 | Y33: 0 | Z33: 0 | AA33: 0 | AB33: 0 | AC33: 0 | AD33: 0 | AE33: =SUBTOTAL(9,X33:AD33) -> 0 | AF33: 0 | AG33: 0 | AH33: 0 | AI33: 0 | AJ33: 0 | AK33: 0 | AL33: 0 | AM33: 0 | AN33: 0 | AO33: 0 | AP33: =SUBTOTAL(9,AI33:AO33) -> 0 | AQ33: 0 | AR33: 0 | AS33: 0 | AT33: 0 | AU33: =SUBTOTAL(9,AQ33:AT33) -> 0 | AV33: 0 | AW33: 0 | AX33: 0 | AY33: =SUM(AV33:AX33) -> 0 | AZ33: 0 | BA33: 0 | BB33: 0 | BC33: 0 | BD33: 0 | BE33: 0 | BF33: 0 | BG33: 0 | BH33: 0 | BI33: 0 | BJ33: 0 | BK33: 0 | BL33: =SUBTOTAL(9,AZ33:BK33) -> 0 | BM33: 0 | BN33: 0 | BO33: 0 | BP33: 0 | BQ33: 0 | BR33: 0 | BS33: 0 | BT33: 0 | BU33: 0 | BV33: 0 | BW33: 0 | BX33: 0 | BY33: 0 | BZ33: 0 | CA33: =SUBTOTAL(9,BM33:BZ33) -> 0 | CB33: 0 | CC33: 0 | CD33: 0 | CE33: 0 | CF33: 0 | CG33: 0 | CH33: 0 | CI33: 0 | CJ33: =SUBTOTAL(9,CC33:CI33) -> 0 | CK33: 0 | CL33: 0 | CM33: =SUM(CK33:CL33) -> 0 | CN33: 0 | CO33: 0 | CP33: 0 | CQ33: 0 | CR33: 0 | CS33: 0 | CT33: 0 | CV33: 0 | CW33: 0 | CX33: 0 | CY33: 0 | CZ33: 0 | DA33: 0 | DB33: 0 | DC33: =SUBTOTAL(9,CN33:DB33) -> 0 | DD33: 0 | DE33: 0 | DF33: 0 | DG33: 0 | DH33: 0 | DI33: 0 | DJ33: 0 | DK33: 0 | DL33: =SUBTOTAL(9,DD33:DK33) -> 0 | DM33: 0 | DN33: 0 | DO33: 0 | DP33: 0 | DQ33: 0 | DR33: 0 | DS33: 0 | DT33: =SUBTOTAL(9,DM33:DS33) -> 0 | DU33: 0 | DV33: 0 | DW33: 0 | DX33: 0 | DY33: 0 | DZ33: =SUBTOTAL(9,DU33:DY33) -> 0 | EA33: =SUM(DT33,DL33,DC33,CM33,CJ33,CA33,BL33,AY33,AU33,AP33,AE33,W33,DZ33) -> 0
B34: นครราชสีมา | C34: 0 | D34: 0 | E34: 0 | F34: 0 | G34: 0 | H34: 0 | I34: 0 | J34: 0 | K34: 0 | L34: 0 | M34: 0 | N34: 0 | O34: 0 | P34: 0 | Q34: 0 | R34: 0 | S34: 0 | T34: 0 | U34: 0 | V34: 0 | W34: =SUBTOTAL(9,C34:V34) -> 0 | X34: 0 | Y34: 0 | Z34: 0 | AA34: 0 | AB34: 0 | AC34: 0 | AD34: 0 | AE34: =SUBTOTAL(9,X34:AD34) -> 0 | AF34: 0 | AG34: 0 | AH34: 0 | AI34: 0 | AJ34: 0 | AK34: 0 | AL34: 0 | AM34: 0 | AN34: 0 | AO34: 0 | AP34: =SUBTOTAL(9,AI34:AO34) -> 0 | AQ34: 0 | AR34: 0 | AS34: 0 | AT34: 0 | AU34: =SUBTOTAL(9,AQ34:AT34) -> 0 | AV34: 0 | AW34: 0 | AX34: 0 | AY34: =SUM(AV34:AX34) -> 0 | AZ34: 0 | BA34: 0 | BB34: 0 | BC34: 0 | BD34: 0 | BE34: 0 | BF34: 0 | BG34: 0 | BH34: 0 | BI34: 0 | BJ34: 13805.72 | BK34: 0 | BL34: =SUBTOTAL(9,AZ34:BK34) -> 13805.72 | BM34: 0 | BN34: 0 | BO34: 0 | BP34: 0 | BQ34: 0 | BR34: 0 | BS34: 0 | BT34: 0 | BU34: 0 | BV34: 0 | BW34: 0 | BX34: 0 | BY34: 0 | BZ34: 0 | CA34: =SUBTOTAL(9,BM34:BZ34) -> 0 | CB34: 0 | CC34: 0 | CD34: 0 | CE34: 0 | CF34: 0 | CG34: 0 | CH34: 0 | CI34: 0 | CJ34: =SUBTOTAL(9,CC34:CI34) -> 0 | CK34: 0 | CL34: 0 | CM34: =SUM(CK34:CL34) -> 0 | CN34: 0 | CO34: 0 | CP34: 0 | CQ34: 0 | CR34: 0 | CS34: 0 | CT34: 0 | CV34: 0 | CW34: 0 | CX34: 0 | CY34: 0 | CZ34: 0 | DA34: 0 | DB34: 0 | DC34: =SUBTOTAL(9,CN34:DB34) -> 0 | DD34: 0 | DE34: 0 | DF34: 0 | DG34: 0 | DH34: 0 | DI34: 0 | DJ34: 0 | DK34: 0 | DL34: =SUBTOTAL(9,DD34:DK34) -> 0 | DM34: 0 | DN34: 0 | DO34: 0 | DP34: 0 | DQ34: 0 | DR34: 0 | DS34: 0 | DT34: =SUBTOTAL(9,DM34:DS34) -> 0 | DU34: 0 | DV34: 0 | DW34: 0 | DX34: 0 | DY34: 0 | DZ34: =SUBTOTAL(9,DU34:DY34) -> 0 | EA34: =SUM(DT34,DL34,DC34,CM34,CJ34,CA34,BL34,AY34,AU34,AP34,AE34,W34,DZ34) -> 13805.72
B35: บึงกาฬ | C35: 0 | D35: 0 | E35: 0 | F35: 0 | G35: 0 | H35: 0 | I35: 0 | J35: 0 | K35: 0 | L35: 0 | M35: 0 | N35: 0 | O35: 0 | P35: 0 | Q35: 0 | R35: 0 | S35: 0 | T35: 0 | U35: 0 | V35: 0 | W35: =SUBTOTAL(9,C35:V35) -> 0 | X35: 0 | Y35: 0 | Z35: 0 | AA35: 0 | AB35: 0 | AC35: 0 | AD35: 0 | AE35: =SUBTOTAL(9,X35:AD35) -> 0 | AF35: 0 | AG35: 0 | AH35: 0 | AI35: 0 | AJ35: 0 | AK35: 0 | AL35: 0 | AM35: 0 | AN35: 0 | AO35: 0 | AP35: =SUBTOTAL(9,AI35:AO35) -> 0 | AQ35: 0 | AR35: 0 | AS35: 0 | AT35: 0 | AU35: =SUBTOTAL(9,AQ35:AT35) -> 0 | AV35: 0 | AW35: 0 | AX35: 0 | AY35: =SUM(AV35:AX35) -> 0 | AZ35: 0 | BA35: 0 | BB35: 0 | BC35: 0 | BD35: 0 | BE35: 0 | BF35: 0 | BG35: 0 | BH35: 0 | BI35: 0 | BJ35: 0 | BK35: 0 | BL35: =SUBTOTAL(9,AZ35:BK35) -> 0 | BM35: 0 | BN35: 0 | BO35: 0 | BP35: 0 | BQ35: 0 | BR35: 0 | BS35: 0 | BT35: 0 | BU35: 0 | BV35: 0 | BW35: 0 | BX35: 0 | BY35: 0 | BZ35: 0 | CA35: =SUBTOTAL(9,BM35:BZ35) -> 0 | CB35: 0 | CC35: 0 | CD35: 0 | CE35: 0 | CF35: 0 | CG35: 0 | CH35: 0 | CI35: 0 | CJ35: =SUBTOTAL(9,CC35:CI35) -> 0 | CK35: 0 | CL35: 0 | CM35: =SUM(CK35:CL35) -> 0 | CN35: 0 | CO35: 0 | CP35: 0 | CQ35: 0 | CR35: 0 | CS35: 0 | CT35: 0 | CV35: 0 | CW35: 0 | CX35: 0 | CY35: 0 | CZ35: 0 | DA35: 0 | DB35: 0 | DC35: =SUBTOTAL(9,CN35:DB35) -> 0 | DD35: 0 | DE35: 0 | DF35: 0 | DG35: 0 | DH35: 0 | DI35: 0 | DJ35: 0 | DK35: 0 | DL35: =SUBTOTAL(9,DD35:DK35) -> 0 | DM35: 0 | DN35: 0 | DO35: 0 | DP35: 0 | DQ35: 0 | DR35: 0 | DS35: 0 | DT35: =SUBTOTAL(9,DM35:DS35) -> 0 | DU35: 0 | DV35: 0 | DW35: 0 | DX35: 0 | DY35: 0 | DZ35: =SUBTOTAL(9,DU35:DY35) -> 0 | EA35: =SUM(DT35,DL35,DC35,CM35,CJ35,CA35,BL35,AY35,AU35,AP35,AE35,W35,DZ35) -> 0
B36: บุรีรัมย์ | C36: 0 | D36: 0 | E36: 0 | F36: 0 | G36: 0 | H36: 0 | I36: 0 | J36: 0 | K36: 0 | L36: 0 | M36: 0 | N36: 0 | O36: 0 | P36: 0 | Q36: 0 | R36: 0 | S36: 0 | T36: 0 | U36: 0 | V36: 0 | W36: =SUBTOTAL(9,C36:V36) -> 0 | X36: 0 | Y36: 0 | Z36: 0 | AA36: 0 | AB36: 0 | AC36: 0 | AD36: 0 | AE36: =SUBTOTAL(9,X36:AD36) -> 0 | AF36: 0 | AG36: 0 | AH36: 0 | AI36: 0 | AJ36: 0 | AK36: 0 | AL36: 0 | AM36: 0 | AN36: 0 | AO36: 0 | AP36: =SUBTOTAL(9,AI36:AO36) -> 0 | AQ36: 0 | AR36: 0 | AS36: 0 | AT36: 0 | AU36: =SUBTOTAL(9,AQ36:AT36) -> 0 | AV36: 0 | AW36: 0 | AX36: 0 | AY36: =SUM(AV36:AX36) -> 0 | AZ36: 0 | BA36: 0 | BB36: 0 | BC36: 0 | BD36: 0 | BE36: 0 | BF36: 0 | BG36: 0 | BH36: 0 | BI36: 0 | BJ36: 0 | BK36: 0 | BL36: =SUBTOTAL(9,AZ36:BK36) -> 0 | BM36: 0 | BN36: 0 | BO36: 0 | BP36: 0 | BQ36: 0 | BR36: 0 | BS36: 0 | BT36: 0 | BU36: 0 | BV36: 0 | BW36: 0 | BX36: 0 | BY36: 0 | BZ36: 0 | CA36: =SUBTOTAL(9,BM36:BZ36) -> 0 | CB36: 0 | CC36: 0 | CD36: 0 | CE36: 0 | CF36: 0 | CG36: 0 | CH36: 0 | CI36: 0 | CJ36: =SUBTOTAL(9,CC36:CI36) -> 0 | CK36: 0 | CL36: 0 | CM36: =SUM(CK36:CL36) -> 0 | CN36: 0 | CO36: 0 | CP36: 0 | CQ36: 0 | CR36: 0 | CS36: 0 | CT36: 0 | CV36: 0 | CW36: 0 | CX36: 0 | CY36: 0 | CZ36: 0 | DA36: 0 | DB36: 0 | DC36: =SUBTOTAL(9,CN36:DB36) -> 0 | DD36: 0 | DE36: 0 | DF36: 0 | DG36: 0 | DH36: 0 | DI36: 0 | DJ36: 0 | DK36: 0 | DL36: =SUBTOTAL(9,DD36:DK36) -> 0 | DM36: 0 | DN36: 0 | DO36: 0 | DP36: 0 | DQ36: 0 | DR36: 0 | DS36: 0 | DT36: =SUBTOTAL(9,DM36:DS36) -> 0 | DU36: 0 | DV36: 0 | DW36: 0 | DX36: 0 | DY36: 0 | DZ36: =SUBTOTAL(9,DU36:DY36) -> 0 | EA36: =SUM(DT36,DL36,DC36,CM36,CJ36,CA36,BL36,AY36,AU36,AP36,AE36,W36,DZ36) -> 0
B37: มหาสารคาม | C37: 0 | D37: 0 | E37: 0 | F37: 0 | G37: 0 | H37: 0 | I37: 0 | J37: 0 | K37: 0 | L37: 0 | M37: 0 | N37: 0 | O37: 0 | P37: 0 | Q37: 0 | R37: 0 | S37: 0 | T37: 0 | U37: 0 | V37: 0 | W37: =SUBTOTAL(9,C37:V37) -> 0 | X37: 0 | Y37: 0 | Z37: 0 | AA37: 0 | AB37: 0 | AC37: 0 | AD37: 0 | AE37: =SUBTOTAL(9,X37:AD37) -> 0 | AF37: 0 | AG37: 0 | AH37: 0 | AI37: 0 | AJ37: 0 | AK37: 0 | AL37: 0 | AM37: 0 | AN37: 0 | AO37: 0 | AP37: =SUBTOTAL(9,AI37:AO37) -> 0 | AQ37: 0 | AR37: 0 | AS37: 0 | AT37: 0 | AU37: =SUBTOTAL(9,AQ37:AT37) -> 0 | AV37: 0 | AW37: 0 | AX37: 0 | AY37: =SUM(AV37:AX37) -> 0 | AZ37: 0 | BA37: 0 | BB37: 0 | BC37: 0 | BD37: 0 | BE37: 0 | BF37: 0 | BG37: 0 | BH37: 0 | BI37: 0 | BJ37: 0 | BK37: 0 | BL37: =SUBTOTAL(9,AZ37:BK37) -> 0 | BM37: 0 | BN37: 0 | BO37: 0 | BP37: 0 | BQ37: 0 | BR37: 0 | BS37: 0 | BT37: 0 | BU37: 0 | BV37: 0 | BW37: 0 | BX37: 0 | BY37: 0 | BZ37: 0 | CA37: =SUBTOTAL(9,BM37:BZ37) -> 0 | CB37: 0 | CC37: 0 | CD37: 0 | CE37: 0 | CF37: 0 | CG37: 0 | CH37: 0 | CI37: 0 | CJ37: =SUBTOTAL(9,CC37:CI37) -> 0 | CK37: 0 | CL37: 0 | CM37: =SUM(CK37:CL37) -> 0 | CN37: 0 | CO37: 0 | CP37: 0 | CQ37: 0 | CR37: 0 | CS37: 0 | CT37: 0 | CV37: 0 | CW37: 0 | CX37: 0 | CY37: 0 | CZ37: 0 | DA37: 0 | DB37: 0 | DC37: =SUBTOTAL(9,CN37:DB37) -> 0 | DD37: 0 | DE37: 0 | DF37: 0 | DG37: 0 | DH37: 0 | DI37: 0 | DJ37: 0 | DK37: 0 | DL37: =SUBTOTAL(9,DD37:DK37) -> 0 | DM37: 0 | DN37: 0 | DO37: 0 | DP37: 0 | DQ37: 0 | DR37: 0 | DS37: 0 | DT37: =SUBTOTAL(9,DM37:DS37) -> 0 | DU37: 0 | DV37: 0 | DW37: 0 | DX37: 0 | DY37: 0 | DZ37: =SUBTOTAL(9,DU37:DY37) -> 0 | EA37: =SUM(DT37,DL37,DC37,CM37,CJ37,CA37,BL37,AY37,AU37,AP37,AE37,W37,DZ37) -> 0
B38: มุกดาหาร | C38: 0 | D38: 0 | E38: 0 | F38: 0 | G38: 0 | H38: 0 | I38: 0 | J38: 0 | K38: 0 | L38: 0 | M38: 0 | N38: 0 | O38: 0 | P38: 0 | Q38: 0 | R38: 0 | S38: 0 | T38: 0 | U38: 0 | V38: 0 | W38: =SUBTOTAL(9,C38:V38) -> 0 | X38: 0 | Y38: 0 | Z38: 0 | AA38: 0 | AB38: 0 | AC38: 0 | AD38: 0 | AE38: =SUBTOTAL(9,X38:AD38) -> 0 | AF38: 0 | AG38: 0 | AH38: 0 | AI38: 0 | AJ38: 0 | AK38: 0 | AL38: 0 | AM38: 0 | AN38: 0 | AO38: 0 | AP38: =SUBTOTAL(9,AI38:AO38) -> 0 | AQ38: 0 | AR38: 0 | AS38: 0 | AT38: 0 | AU38: =SUBTOTAL(9,AQ38:AT38) -> 0 | AV38: 0 | AW38: 0 | AX38: 0 | AY38: =SUM(AV38:AX38) -> 0 | AZ38: 0 | BA38: 0 | BB38: 0 | BC38: 0 | BD38: 0 | BE38: 0 | BF38: 0 | BG38: 0 | BH38: 0 | BI38: 0 | BJ38: 0 | BK38: 0 | BL38: =SUBTOTAL(9,AZ38:BK38) -> 0 | BM38: 0 | BN38: 0 | BO38: 0 | BP38: 0 | BQ38: 0 | BR38: 0 | BS38: 0 | BT38: 0 | BU38: 0 | BV38: 0 | BW38: 0 | BX38: 0 | BY38: 0 | BZ38: 0 | CA38: =SUBTOTAL(9,BM38:BZ38) -> 0 | CB38: 0 | CC38: 0 | CD38: 0 | CE38: 0 | CF38: 0 | CG38: 0 | CH38: 0 | CI38: 0 | CJ38: =SUBTOTAL(9,CC38:CI38) -> 0 | CK38: 0 | CL38: 0 | CM38: =SUM(CK38:CL38) -> 0 | CN38: 0 | CO38: 0 | CP38: 0 | CQ38: 0 | CR38: 0 | CS38: 0 | CT38: 0 | CV38: 0 | CW38: 0 | CX38: 0 | CY38: 0 | CZ38: 0 | DA38: 0 | DB38: 0 | DC38: =SUBTOTAL(9,CN38:DB38) -> 0 | DD38: 0 | DE38: 0 | DF38: 0 | DG38: 0 | DH38: 0 | DI38: 0 | DJ38: 0 | DK38: 0 | DL38: =SUBTOTAL(9,DD38:DK38) -> 0 | DM38: 0 | DN38: 0 | DO38: 0 | DP38: 0 | DQ38: 0 | DR38: 0 | DS38: 0 | DT38: =SUBTOTAL(9,DM38:DS38) -> 0 | DU38: 0 | DV38: 0 | DW38: 0 | DX38: 0 | DY38: 0 | DZ38: =SUBTOTAL(9,DU38:DY38) -> 0 | EA38: =SUM(DT38,DL38,DC38,CM38,CJ38,CA38,BL38,AY38,AU38,AP38,AE38,W38,DZ38) -> 0
B39: ยโสธร | C39: 0 | D39: 0 | E39: 0 | F39: 0 | G39: 0 | H39: 0 | I39: 0 | J39: 0 | K39: 0 | L39: 0 | M39: 0 | N39: 0 | O39: 0 | P39: 0 | Q39: 0 | R39: 0 | S39: 0 | T39: 0 | U39: 0 | V39: 0 | W39: =SUBTOTAL(9,C39:V39) -> 0 | X39: 0 | Y39: 0 | Z39: 0 | AA39: 0 | AB39: 0 | AC39: 0 | AD39: 0 | AE39: =SUBTOTAL(9,X39:AD39) -> 0 | AF39: 0 | AG39: 0 | AH39: 0 | AI39: 0 | AJ39: 0 | AK39: 0 | AL39: 0 | AM39: 0 | AN39: 0 | AO39: 0 | AP39: =SUBTOTAL(9,AI39:AO39) -> 0 | AQ39: 0 | AR39: 0 | AS39: 0 | AT39: 0 | AU39: =SUBTOTAL(9,AQ39:AT39) -> 0 | AV39: 0 | AW39: 0 | AX39: 0 | AY39: =SUM(AV39:AX39) -> 0 | AZ39: 0 | BA39: 0 | BB39: 0 | BC39: 0 | BD39: 0 | BE39: 0 | BF39: 0 | BG39: 0 | BH39: 0 | BI39: 0 | BJ39: 0 | BK39: 0 | BL39: =SUBTOTAL(9,AZ39:BK39) -> 0 | BM39: 0 | BN39: 0 | BO39: 0 | BP39: 0 | BQ39: 0 | BR39: 0 | BS39: 0 | BT39: 0 | BU39: 0 | BV39: 0 | BW39: 0 | BX39: 0 | BY39: 0 | BZ39: 0 | CA39: =SUBTOTAL(9,BM39:BZ39) -> 0 | CB39: 0 | CC39: 0 | CD39: 0 | CE39: 0 | CF39: 0 | CG39: 0 | CH39: 0 | CI39: 0 | CJ39: =SUBTOTAL(9,CC39:CI39) -> 0 | CK39: 0 | CL39: 0 | CM39: =SUM(CK39:CL39) -> 0 | CN39: 0 | CO39: 0 | CP39: 0 | CQ39: 0 | CR39: 0 | CS39: 0 | CT39: 0 | CV39: 0 | CW39: 0 | CX39: 0 | CY39: 0 | CZ39: 0 | DA39: 0 | DB39: 0 | DC39: =SUBTOTAL(9,CN39:DB39) -> 0 | DD39: 0 | DE39: 0 | DF39: 0 | DG39: 0 | DH39: 0 | DI39: 0 | DJ39: 0 | DK39: 0 | DL39: =SUBTOTAL(9,DD39:DK39) -> 0 | DM39: 0 | DN39: 0 | DO39: 0 | DP39: 0 | DQ39: 0 | DR39: 0 | DS39: 0 | DT39: =SUBTOTAL(9,DM39:DS39) -> 0 | DU39: 0 | DV39: 0 | DW39: 0 | DX39: 0 | DY39: 0 | DZ39: =SUBTOTAL(9,DU39:DY39) -> 0 | EA39: =SUM(DT39,DL39,DC39,CM39,CJ39,CA39,BL39,AY39,AU39,AP39,AE39,W39,DZ39) -> 0
B40: ร้อยเอ็ด | C40: 0 | D40: 0 | E40: 0 | F40: 0 | G40: 0 | H40: 0 | I40: 0 | J40: 0 | K40: 0 | L40: 0 | M40: 0 | N40: 0 | O40: 0 | P40: 0 | Q40: 0 | R40: 0 | S40: 0 | T40: 0 | U40: 0 | V40: 0 | W40: =SUBTOTAL(9,C40:V40) -> 0 | X40: 0 | Y40: 0 | Z40: 0 | AA40: 0 | AB40: 0 | AC40: 0 | AD40: 0 | AE40: =SUBTOTAL(9,X40:AD40) -> 0 | AF40: 0 | AG40: 0 | AH40: 0 | AI40: 0 | AJ40: 0 | AK40: 0 | AL40: 0 | AM40: 0 | AN40: 0 | AO40: 0 | AP40: =SUBTOTAL(9,AI40:AO40) -> 0 | AQ40: 0 | AR40: 0 | AS40: 0 | AT40: 0 | AU40: =SUBTOTAL(9,AQ40:AT40) -> 0 | AV40: 0 | AW40: 0 | AX40: 0 | AY40: =SUM(AV40:AX40) -> 0 | AZ40: 0 | BA40: 0 | BB40: 0 | BC40: 0 | BD40: 0 | BE40: 0 | BF40: 0 | BG40: 0 | BH40: 0 | BI40: 0 | BJ40: 0 | BK40: 0 | BL40: =SUBTOTAL(9,AZ40:BK40) -> 0 | BM40: 0 | BN40: 0 | BO40: 0 | BP40: 0 | BQ40: 0 | BR40: 0 | BS40: 0 | BT40: 0 | BU40: 0 | BV40: 0 | BW40: 0 | BX40: 0 | BY40: 0 | BZ40: 0 | CA40: =SUBTOTAL(9,BM40:BZ40) -> 0 | CB40: 0 | CC40: 0 | CD40: 0 | CE40: 0 | CF40: 0 | CG40: 0 | CH40: 0 | CI40: 0 | CJ40: =SUBTOTAL(9,CC40:CI40) -> 0 | CK40: 0 | CL40: 0 | CM40: =SUM(CK40:CL40) -> 0 | CN40: 0 | CO40: 0 | CP40: 0 | CQ40: 0 | CR40: 0 | CS40: 0 | CT40: 0 | CV40: 0 | CW40: 0 | CX40: 0 | CY40: 0 | CZ40: 0 | DA40: 0 | DB40: 0 | DC40: =SUBTOTAL(9,CN40:DB40) -> 0 | DD40: 0 | DE40: 0 | DF40: 0 | DG40: 0 | DH40: 0 | DI40: 0 | DJ40: 0 | DK40: 0 | DL40: =SUBTOTAL(9,DD40:DK40) -> 0 | DM40: 0 | DN40: 0 | DO40: 0 | DP40: 0 | DQ40: 0 | DR40: 0 | DS40: 0 | DT40: =SUBTOTAL(9,DM40:DS40) -> 0 | DU40: 0 | DV40: 0 | DW40: 0 | DX40: 0 | DY40: 0 | DZ40: =SUBTOTAL(9,DU40:DY40) -> 0 | EA40: =SUM(DT40,DL40,DC40,CM40,CJ40,CA40,BL40,AY40,AU40,AP40,AE40,W40,DZ40) -> 0
B41: เลย | C41: 0 | D41: 0 | E41: 0 | F41: 0 | G41: 0 | H41: 0 | I41: 0 | J41: 0 | K41: 0 | L41: 0 | M41: 0 | N41: 0 | O41: 0 | P41: 0 | Q41: 0 | R41: 0 | S41: 0 | T41: 0 | U41: 0 | V41: 0 | W41: =SUBTOTAL(9,C41:V41) -> 0 | X41: 0 | Y41: 0 | Z41: 0 | AA41: 0 | AB41: 0 | AC41: 0 | AD41: 0 | AE41: =SUBTOTAL(9,X41:AD41) -> 0 | AF41: 0 | AG41: 0 | AH41: 0 | AI41: 0 | AJ41: 0 | AK41: 0 | AL41: 0 | AM41: 0 | AN41: 0 | AO41: 0 | AP41: =SUBTOTAL(9,AI41:AO41) -> 0 | AQ41: 0 | AR41: 0 | AS41: 0 | AT41: 0 | AU41: =SUBTOTAL(9,AQ41:AT41) -> 0 | AV41: 0 | AW41: 0 | AX41: 0 | AY41: =SUM(AV41:AX41) -> 0 | AZ41: 0 | BA41: 0 | BB41: 0 | BC41: 0 | BD41: 0 | BE41: 0 | BF41: 0 | BG41: 0 | BH41: 0 | BI41: 0 | BJ41: 0 | BK41: 0 | BL41: =SUBTOTAL(9,AZ41:BK41) -> 0 | BM41: 0 | BN41: 0 | BO41: 0 | BP41: 0 | BQ41: 0 | BR41: 0 | BS41: 0 | BT41: 0 | BU41: 0 | BV41: 0 | BW41: 0 | BX41: 0 | BY41: 0 | BZ41: 0 | CA41: =SUBTOTAL(9,BM41:BZ41) -> 0 | CB41: 0 | CC41: 0 | CD41: 0 | CE41: 0 | CF41: 0 | CG41: 0 | CH41: 0 | CI41: 0 | CJ41: =SUBTOTAL(9,CC41:CI41) -> 0 | CK41: 0 | CL41: 0 | CM41: =SUM(CK41:CL41) -> 0 | CN41: 0 | CO41: 0 | CP41: 0 | CQ41: 0 | CR41: 0 | CS41: 0 | CT41: 0 | CV41: 0 | CW41: 0 | CX41: 0 | CY41: 0 | CZ41: 0 | DA41: 0 | DB41: 0 | DC41: =SUBTOTAL(9,CN41:DB41) -> 0 | DD41: 0 | DE41: 0 | DF41: 0 | DG41: 0 | DH41: 0 | DI41: 0 | DJ41: 0 | DK41: 0 | DL41: =SUBTOTAL(9,DD41:DK41) -> 0 | DM41: 0 | DN41: 0 | DO41: 0 | DP41: 0 | DQ41: 0 | DR41: 0 | DS41: 0 | DT41: =SUBTOTAL(9,DM41:DS41) -> 0 | DU41: 0 | DV41: 0 | DW41: 0 | DX41: 0 | DY41: 0 | DZ41: =SUBTOTAL(9,DU41:DY41) -> 0 | EA41: =SUM(DT41,DL41,DC41,CM41,CJ41,CA41,BL41,AY41,AU41,AP41,AE41,W41,DZ41) -> 0
B42: ศรีสะเกษ | C42: 0 | D42: 0 | E42: 0 | F42: 0 | G42: 0 | H42: 0 | I42: 0 | J42: 0 | K42: 0 | L42: 0 | M42: 0 | N42: 0 | O42: 0 | P42: 0 | Q42: 0 | R42: 0 | S42: 0 | T42: 0 | U42: 0 | V42: 0 | W42: =SUBTOTAL(9,C42:V42) -> 0 | X42: 6 | Y42: 0 | Z42: 0 | AA42: 0 | AB42: 0 | AC42: 0 | AD42: 0 | AE42: =SUBTOTAL(9,X42:AD42) -> 6 | AF42: 0 | AG42: 0 | AH42: 0 | AI42: 0 | AJ42: 0 | AK42: 0 | AL42: 0 | AM42: 0 | AN42: 0 | AO42: 0 | AP42: =SUBTOTAL(9,AI42:AO42) -> 0 | AQ42: 0 | AR42: 0 | AS42: 0 | AT42: 0 | AU42: =SUBTOTAL(9,AQ42:AT42) -> 0 | AV42: 0 | AW42: 0 | AX42: 0 | AY42: =SUM(AV42:AX42) -> 0 | AZ42: 0 | BA42: 0 | BB42: 0 | BC42: 0 | BD42: 0 | BE42: 0 | BF42: 0 | BG42: 0 | BH42: 0 | BI42: 0 | BJ42: 0 | BK42: 0 | BL42: =SUBTOTAL(9,AZ42:BK42) -> 0 | BM42: 0 | BN42: 0 | BO42: 0 | BP42: 0 | BQ42: 0 | BR42: 0 | BS42: 0 | BT42: 0 | BU42: 0 | BV42: 0 | BW42: 0 | BX42: 0 | BY42: 0 | BZ42: 0 | CA42: =SUBTOTAL(9,BM42:BZ42) -> 0 | CB42: 0 | CC42: 0 | CD42: 0 | CE42: 0 | CF42: 0 | CG42: 0 | CH42: 0 | CI42: 0 | CJ42: =SUBTOTAL(9,CC42:CI42) -> 0 | CK42: 0 | CL42: 0 | CM42: =SUM(CK42:CL42) -> 0 | CN42: 0 | CO42: 0 | CP42: 0 | CQ42: 0 | CR42: 0 | CS42: 0 | CT42: 0 | CV42: 0 | CW42: 0 | CX42: 0 | CY42: 0 | CZ42: 0 | DA42: 0 | DB42: 0 | DC42: =SUBTOTAL(9,CN42:DB42) -> 0 | DD42: 0 | DE42: 0 | DF42: 0 | DG42: 0 | DH42: 0 | DI42: 0 | DJ42: 0 | DK42: 0 | DL42: =SUBTOTAL(9,DD42:DK42) -> 0 | DM42: 0 | DN42: 0 | DO42: 0 | DP42: 0 | DQ42: 0 | DR42: 0 | DS42: 0 | DT42: =SUBTOTAL(9,DM42:DS42) -> 0 | DU42: 0 | DV42: 0 | DW42: 0 | DX42: 0 | DY42: 0 | DZ42: =SUBTOTAL(9,DU42:DY42) -> 0 | EA42: =SUM(DT42,DL42,DC42,CM42,CJ42,CA42,BL42,AY42,AU42,AP42,AE42,W42,DZ42) -> 6
... B46: หนองบัวลำภู | C46: 0 | D46: 0 | E46: 0 | F46: 0 | G46: 0 | H46: 0 | I46: 0 | J46: 0 | K46: 0 | L46: 0 | M46: 0 | N46: 0 | O46: 0 | P46: 0 | Q46: 0 | R46: 0 | S46: 0 | T46: 0 | U46: 0 | V46: 0 | W46: =SUBTOTAL(9,C46:V46) -> 0 | X46: 0 | Y46: 0 | Z46: 0 | AA46: 0 | AB46: 0 | AC46: 0 | AD46: 0 | AE46: =SUBTOTAL(9,X46:AD46) -> 0 | AF46: 0 | AG46: 0 | AH46: 0 | AI46: 0 | AJ46: 0 | AK46: 0 | AL46: 0 | AM46: 0 | AN46: 0 | AO46: 0 | AP46: =SUBTOTAL(9,AI46:AO46) -> 0 | AQ46: 0 | AR46: 0 | AS46: 0 | AT46: 0 | AU46: =SUBTOTAL(9,AQ46:AT46) -> 0 | AV46: 0 | AW46: 0 | AX46: 0 | AY46: =SUM(AV46:AX46) -> 0 | AZ46: 0 | BA46: 0 | BB46: 0 | BC46: 0 | BD46: 0 | BE46: 0 | BF46: 0 | BG46: 0 | BH46: 0 | BI46: 0 | BJ46: 0 | BK46: 0 | BL46: =SUBTOTAL(9,AZ46:BK46) -> 0 | BM46: 0 | BN46: 0 | BO46: 0 | BP46: 0 | BQ46: 0 | BR46: 0 | BS46: 0 | BT46: 0 | BU46: 0 | BV46: 0 | BW46: 0 | BX46: 0 | BY46: 0 | BZ46: 0 | CA46: =SUBTOTAL(9,BM46:BZ46) -> 0 | CB46: 0 | CC46: 0 | CD46: 0 | CE46: 0 | CF46: 0 | CG46: 0 | CH46: 0 | CI46: 0 | CJ46: =SUBTOTAL(9,CC46:CI46) -> 0 | CK46: 0 | CL46: 0 | CM46: =SUM(CK46:CL46) -> 0 | CN46: 0 | CO46: 0 | CP46: 0 | CQ46: 0 | CR46: 0 | CS46: 0 | CT46: 0 | CV46: 0 | CW46: 0 | CX46: 0 | CY46: 0 | CZ46: 0 | DA46: 0 | DB46: 0 | DC46: =SUBTOTAL(9,CN46:DB46) -> 0 | DD46: 0 | DE46: 0 | DF46: 0 | DG46: 0 | DH46: 0 | DI46: 0 | DJ46: 0 | DK46: 0 | DL46: =SUBTOTAL(9,DD46:DK46) -> 0 | DM46: 0 | DN46: 0 | DO46: 0 | DP46: 0 | DQ46: 0 | DR46: 0 | DS46: 0 | DT46: =SUBTOTAL(9,DM46:DS46) -> 0 | DU46: 0 | DV46: 0 | DW46: 0 | DX46: 0 | DY46: 0 | DZ46: =SUBTOTAL(9,DU46:DY46) -> 0 | EA46: =SUM(DT46,DL46,DC46,CM46,CJ46,CA46,BL46,AY46,AU46,AP46,AE46,W46,DZ46) -> 0
B47: อำนาจเจริญ | C47: 0 | D47: 0 | E47: 0 | F47: 0 | G47: 0 | H47: 0 | I47: 0 | J47: 0 | K47: 0 | L47: 0 | M47: 0 | N47: 0 | O47: 0 | P47: 0 | Q47: 0 | R47: 0 | S47: 0 | T47: 0 | U47: 0 | V47: 0 | W47: =SUBTOTAL(9,C47:V47) -> 0 | X47: 1 | Y47: 0 | Z47: 0 | AA47: 0 | AB47: 0 | AC47: 0 | AD47: 0 | AE47: =SUBTOTAL(9,X47:AD47) -> 1 | AF47: 0 | AG47: 0 | AH47: 0 | AI47: 0 | AJ47: 0 | AK47: 0 | AL47: 0 | AM47: 0 | AN47: 0 | AO47: 0 | AP47: =SUBTOTAL(9,AI47:AO47) -> 0 | AQ47: 0 | AR47: 0 | AS47: 0 | AT47: 0 | AU47: =SUBTOTAL(9,AQ47:AT47) -> 0 | AV47: 0 | AW47: 0 | AX47: 0 | AY47: =SUM(AV47:AX47) -> 0 | AZ47: 0 | BA47: 0 | BB47: 0 | BC47: 0 | BD47: 0 | BE47: 0 | BF47: 0 | BG47: 0 | BH47: 0 | BI47: 0 | BJ47: 0 | BK47: 0 | BL47: =SUBTOTAL(9,AZ47:BK47) -> 0 | BM47: 0 | BN47: 0 | BO47: 0 | BQ47: 0 | BR47: 0 | BS47: 0 | BT47: 0 | BU47: 0 | BV47: 0 | BW47: 0 | BX47: 0 | BY47: 0 | BZ47: 0 | CA47: =SUBTOTAL(9,BM47:BZ47) -> 0 | CB47: 0 | CC47: 0 | CD47: 0 | CE47: 0 | CF47: 0 | CG47: 0 | CH47: 0 | CI47: 0 | CJ47: =SUBTOTAL(9,CC47:CI47) -> 0 | CK47: 0 | CL47: 0 | CM47: =SUM(CK47:CL47) -> 0 | CN47: 0 | CO47: 0 | CP47: 0 | CQ47: 0 | CR47: 0 | CS47: 0 | CT47: 0 | CV47: 0 | CW47: 0 | CX47: 0 | CY47: 0 | CZ47: 0 | DA47: 0 | DB47: 0 | DC47: =SUBTOTAL(9,CN47:DB47) -> 0 | DD47: 0 | DE47: 0 | DF47: 0 | DG47: 0 | DH47: 0 | DI47: 0 | DJ47: 0 | DK47: 0 | DL47: =SUBTOTAL(9,DD47:DK47) -> 0 | DM47: 0 | DN47: 0 | DO47: 0 | DP47: 0 | DQ47: 0 | DR47: 0 | DS47: 0 | DT47: =SUBTOTAL(9,DM47:DS47) -> 0 | DU47: 0 | DV47: 0 | DW47: 0 | DX47: 0 | DY47: 0 | DZ47: =SUBTOTAL(9,DU47:DY47) -> 0 | EA47: =SUM(DT47,DL47,DC47,CM47,CJ47,CA47,BL47,AY47,AU47,AP47,AE47,W47,DZ47) -> 1
B48: อุดรธานี | C48: 0 | D48: 0 | E48: 0 | F48: 0 | G48: 0 | H48: 0 | I48: 0 | J48: 0 | K48: 0 | L48: 0 | M48: 0 | N48: 0 | O48: 0 | P48: 0 | Q48: 0 | R48: 0 | S48: 0 | T48: 0 | U48: 0 | V48: 0 | W48: =SUBTOTAL(9,C48:V48) -> 0 | X48: 0 | Y48: 0 | Z48: 0 | AA48: 0 | AB48: 0 | AC48: 0 | AD48: 0 | AE48: =SUBTOTAL(9,X48:AD48) -> 0 | AF48: 0 | AG48: 0 | AH48: 0 | AI48: 0 | AJ48: 0 | AK48: 0 | AL48: 0 | AM48: 0 | AN48: 0 | AO48: 0 | AP48: =SUBTOTAL(9,AI48:AO48) -> 0 | AQ48: 0 | AR48: 0 | AS48: 0 | AT48: 0 | AU48: =SUBTOTAL(9,AQ48:AT48) -> 0 | AV48: 0 | AW48: 0 | AX48: 0 | AY48: =SUM(AV48:AX48) -> 0 | AZ48: 0 | BA48: 0 | BB48: 0 | BC48: 0 | BD48: 0 | BE48: 0 | BF48: 0 | BG48: 0 | BH48: 0 | BI48: 0 | BJ48: 0 | BK48: 0 | BL48: =SUBTOTAL(9,AZ48:BK48) -> 0 | BM48: 0 | BN48: 0 | BO48: 0 | BP48: 0 | BQ48: 0 | BR48: 0 | BS48: 0 | BT48: 0 | BU48: 0 | BV48: 0 | BW48: 0 | BX48: 0 | BY48: 0 | BZ48: 0 | CA48: =SUBTOTAL(9,BM48:BZ48) -> 0 | CB48: 0 | CC48: 0 | CD48: 0 | CE48: 0 | CF48: 0 | CG48: 0 | CH48: 0 | CI48: 0 | CJ48: =SUBTOTAL(9,CC48:CI48) -> 0 | CK48: 0 | CL48: 0 | CM48: =SUM(CK48:CL48) -> 0 | CN48: 0 | CO48: 0 | CP48: 0 | CQ48: 0 | CR48: 0 | CS48: 0 | CT48: 0 | CV48: 0 | CW48: 0 | CX48: 0 | CY48: 0 | CZ48: 0 | DA48: 0 | DB48: 0 | DC48: =SUBTOTAL(9,CN48:DB48) -> 0 | DD48: 0 | DE48: 0 | DF48: 0 | DG48: 0 | DH48: 0 | DI48: 0 | DJ48: 0 | DK48: 0 | DL48: =SUBTOTAL(9,DD48:DK48) -> 0 | DM48: 0 | DN48: 0 | DO48: 0 | DP48: 0 | DQ48: 0 | DR48: 0 | DS48: 0 | DT48: =SUBTOTAL(9,DM48:DS48) -> 0 | DU48: 0 | DV48: 0 | DW48: 0 | DX48: 0 | DY48: 0 | DZ48: =SUBTOTAL(9,DU48:DY48) -> 0 | EA48: =SUM(DT48,DL48,DC48,CM48,CJ48,CA48,BL48,AY48,AU48,AP48,AE48,W48,DZ48) -> 0
B49: อุบลราชธานี | C49: 0 | D49: 0 | E49: 0 | F49: 0 | G49: 0 | H49: 0 | I49: 0 | J49: 0 | K49: 0 | L49: 0 | M49: 0 | N49: 0 | O49: 0 | P49: 0 | Q49: 0 | R49: 0 | S49: 0 | T49: 0 | U49: 0 | V49: 0 | W49: =SUBTOTAL(9,C49:V49) -> 0 | X49: 0 | Y49: 0 | Z49: 0 | AA49: 0 | AB49: 0 | AC49: 0 | AD49: 0 | AE49: =SUBTOTAL(9,X49:AD49) -> 0 | AF49: 0 | AG49: 0 | AH49: 0 | AI49: 0 | AJ49: 0 | AK49: 0 | AL49: 0 | AM49: 0 | AN49: 0 | AO49: 0 | AP49: =SUBTOTAL(9,AI49:AO49) -> 0 | AQ49: 0 | AR49: 0 | AS49: 0 | AT49: 0 | AU49: =SUBTOTAL(9,AQ49:AT49) -> 0 | AV49: 0 | AW49: 0 | AX49: 0 | AY49: =SUM(AV49:AX49) -> 0 | AZ49: 0 | BA49: 0 | BB49: 0 | BC49: 0 | BD49: 0 | BE49: 0 | BF49: 0 | BG49: 0 | BH49: 0 | BI49: 0 | BJ49: 0 | BK49: 0 | BL49: =SUBTOTAL(9,AZ49:BK49) -> 0 | BM49: 0 | BN49: 0 | BO49: 0 | BP49: 0 | BQ49: 0 | BR49: 0 | BS49: 0 | BT49: 0 | BU49: 0 | BV49: 0 | BW49: 0 | BX49: 0 | BY49: 0 | BZ49: 0 | CA49: =SUBTOTAL(9,BM49:BZ49) -> 0 | CB49: 0 | CC49: 0 | CD49: 0 | CE49: 0 | CF49: 0 | CG49: 0 | CH49: 0 | CI49: 0 | CJ49: =SUBTOTAL(9,CC49:CI49) -> 0 | CK49: 0 | CL49: 0 | CM49: =SUM(CK49:CL49) -> 0 | CN49: 0 | CO49: 0 | CP49: 0 | CQ49: 0 | CR49: 0 | CS49: 0 | CT49: 0 | CV49: 0 | CW49: 0 | CX49: 0 | CY49: 0 | CZ49: 0 | DA49: 0 | DB49: 0 | DC49: =SUBTOTAL(9,CN49:DB49) -> 0 | DD49: 0 | DE49: 0 | DF49: 0 | DG49: 0 | DH49: 0 | DI49: 0 | DJ49: 0 | DK49: 0 | DL49: =SUBTOTAL(9,DD49:DK49) -> 0 | DM49: 0 | DN49: 0 | DO49: 0 | DP49: 0 | DQ49: 0 | DR49: 0 | DS49: 0 | DT49: =SUBTOTAL(9,DM49:DS49) -> 0 | DU49: 0 | DV49: 0 | DW49: 0 | DX49: 0 | DY49: 0 | DZ49: =SUBTOTAL(9,DU49:DY49) -> 0 | EA49: =SUM(DT49,DL49,DC49,CM49,CJ49,CA49,BL49,AY49,AU49,AP49,AE49,W49,DZ49) -> 0
A50: ภาคกลาง 12 จังหวัด | C50: =SUM(C51:C58) -> 0 | D50: =SUM(D51:D58) -> 0 | E50: =SUM(E51:E58) -> 0 | F50: =SUM(F51:F58) -> 0 | G50: =SUM(G51:G58) -> 0 | H50: =SUM(H51:H58) -> 0 | I50: =SUM(I51:I58) -> 0 | J50: =SUM(J51:J58) -> 30 | ... CM50: =SUM(CM51:CM58) -> 0 | CN50: =SUM(CN51:CN57) -> 0 | CO50: =SUM(CO51:CO57) -> 0 | CP50: =SUM(CP51:CP57) -> 0 | CQ50: =SUM(CQ51:CQ58) -> 0 | CR50: =SUM(CR51:CR58) -> 0 | CS50: =SUM(CS51:CS58) -> 0 | CT50: =SUM(CT51:CT58) -> 0 | CU50: =SUM(CU51:CU58) -> 0 | CV50: =SUM(CV51:CV58) -> 0 | CW50: =SUM(CW51:CW58) -> 0 | CX50: =SUM(CX51:CX58) -> 0 | ... DZ50: =SUM(DZ51:DZ58) -> 0 | EA50: =SUM(DT50,DL50,DC50,CM50,CJ50,CA50,BL50,AY50,AU50,AP50,AE50,W50,DZ50) -> 719
B51: กรุงเทพมหานคร | C51: 0 | D51: 0 | E51: 0 | F51: 0 | G51: 0 | H51: 0 | I51: 0 | J51: 0 | K51: 0 | L51: 0 | M51: 0 | N51: 0 | O51: 0 | P51: 0 | Q51: 0 | R51: 0 | S51: 0 | T51: 0 | U51: 0 | V51: 0 | W51: =SUBTOTAL(9,C51:V51) -> 0 | X51: 499 | Y51: 22 | Z51: 25 | AA51: 53 | AB51: 0 | AC51: 0 | AD51: 0 | AE51: =SUM(X51:AD51) -> 599 | AF51: 0 | AG51: 0 | AH51: 0 | AI51: 0 | AJ51: 0 | AK51: 0 | AL51: 0 | AM51: 0 | AN51: 0 | AO51: 0 | AP51: =SUBTOTAL(9,AI51:AO51) -> 0 | AQ51: 0 | AR51: 0 | AS51: 0 | AT51: 0 | AU51: =SUBTOTAL(9,AQ51:AT51) -> 0 | AV51: 0 | AW51: 0 | AX51: 0 | AY51: =SUM(AV51:AX51) -> 0 | AZ51: 0 | BA51: 0 | BB51: 0 | BC51: 0 | BD51: 0 | BE51: 0 | BF51: 0 | BG51: 0 | BH51: 0 | BI51: 0 | BJ51: 0 | BK51: 0 | BL51: =SUBTOTAL(9,AZ51:BK51) -> 0 | BM51: 0 | BN51: 0 | BO51: 0 | BP51: 0 | BQ51: 0 | BR51: 0 | BS51: 0 | BT51: 0 | BU51: 0 | BV51: 0 | BW51: 0 | BX51: 0 | BY51: 0 | BZ51: 0 | CA51: =SUBTOTAL(9,BM51:BZ51) -> 0 | CB51: 0 | CC51: 0 | CD51: 0 | CE51: 0 | CF51: 0 | CG51: 0 | CH51: 0 | CI51: 0 | CJ51: =SUBTOTAL(9,CC51:CI51) -> 0 | CK51: 0 | CL51: 0 | CM51: =SUM(CK51:CL51) -> 0 | CN51: 0 | CO51: 0 | CP51: 0 | CQ51: 0 | CR51: 0 | CS51: 0 | CT51: 0 | CU51: 0 | CV51: 0 | CW51: 0 | CX51: 0 | CY51: 0 | CZ51: 0 | DA51: 0 | DB51: 0 | DC51: =SUBTOTAL(9,CN51:DB51) -> 0 | DD51: 0 | DE51: 0 | DF51: 0 | DG51: 0 | DH51: 0 | DI51: 0 | DJ51: 0 | DK51: 0 | DL51: =SUBTOTAL(9,DD51:DK51) -> 0 | DM51: 0 | DN51: 0 | DO51: 0 | DP51: 0 | DQ51: 0 | DR51: 0 | DS51: 0 | DT51: =SUBTOTAL(9,DM51:DS51) -> 0 | DU51: 0 | DV51: 0 | DW51: 0 | DX51: 0 | DY51: 0 | DZ51: =SUBTOTAL(9,DU51:DY51) -> 0 | EA51: =SUM(DT51,DL51,DC51,CM51,CJ51,CA51,BL51,AY51,AU51,AP51,AE51,W51,DZ51) -> 599
B52: ชัยนาท | C52: 0 | D52: 0 | E52: 0 | F52: 0 | G52: 0 | H52: 0 | I52: 0 | J52: 0 | K52: 0 | L52: 0 | M52: 0 | N52: 0 | O52: 0 | P52: 0 | Q52: 0 | R52: 0 | S52: 0 | T52: 0 | U52: 0 | V52: 0 | W52: =SUBTOTAL(9,C52:V52) -> 0 | X52: 0 | Y52: 0 | Z52: 0 | AA52: 0 | AB52: 0 | AC52: 0 | AD52: 0 | AE52: =SUM(X52:AD52) -> 0 | AF52: 0 | AG52: 0 | AH52: 0 | AI52: 0 | AJ52: 0 | AK52: 0 | AL52: 0 | AM52: 0 | AN52: 0 | AO52: 0 | AP52: =SUBTOTAL(9,AI52:AO52) -> 0 | AQ52: 0 | AR52: 0 | AS52: 0 | AT52: 0 | AU52: =SUBTOTAL(9,AQ52:AT52) -> 0 | AV52: 0 | AW52: 0 | AX52: 0 | AY52: =SUM(AV52:AX52) -> 0 | AZ52: 12 | BA52: 0 | BB52: 0 | BC52: 0 | BD52: 0 | BE52: 0 | BF52: 0 | BG52: 0 | BH52: 0 | BI52: 0 | BJ52: 0 | BK52: 0 | BL52: =SUBTOTAL(9,AZ52:BK52) -> 12 | BM52: 0 | BN52: 0 | BO52: 0 | BP52: 0 | BQ52: 0 | BR52: 0 | BS52: 0 | BT52: 0 | BU52: 0 | BV52: 0 | BW52: 0 | BX52: 0 | BY52: 0 | BZ52: 0 | CA52: =SUBTOTAL(9,BM52:BZ52) -> 0 | CB52: 0 | CC52: 0 | CD52: 0 | CE52: 0 | CF52: 0 | CG52: 0 | CH52: 0 | CI52: 0 | CJ52: =SUBTOTAL(9,CC52:CI52) -> 0 | CK52: 0 | CL52: 0 | CM52: =SUM(CK52:CL52) -> 0 | CN52: 0 | CO52: 0 | CP52: 0 | CQ52: 0 | CR52: 0 | CS52: 0 | CT52: 0 | CU52: 0 | CV52: 0 | CW52: 0 | CX52: 0 | CY52: 0 | CZ52: 0 | DA52: 0 | DB52: 0 | DC52: =SUBTOTAL(9,CN52:DB52) -> 0 | DD52: 0 | DE52: 0 | DF52: 0 | DG52: 0 | DH52: 0 | DI52: 0 | DJ52: 0 | DK52: 0 | DL52: =SUBTOTAL(9,DD52:DK52) -> 0 | DM52: 0 | DN52: 0 | DO52: 0 | DP52: 0 | DQ52: 0 | DR52: 0 | DS52: 0 | DT52: =SUBTOTAL(9,DM52:DS52) -> 0 | DU52: 0 | DV52: 0 | DW52: 0 | DX52: 0 | DY52: 0 | DZ52: =SUBTOTAL(9,DU52:DY52) -> 0 | EA52: =SUM(DT52,DL52,DC52,CM52,CJ52,CA52,BL52,AY52,AU52,AP52,AE52,W52,DZ52) -> 12
B53: นนทบุรี | C53: 0 | D53: 0 | E53: 0 | F53: 0 | G53: 0 | H53: 0 | I53: 0 | J53: 0 | K53: 0 | L53: 0 | M53: 0 | N53: 0 | O53: 0 | P53: 0 | Q53: 0 | R53: 0 | S53: 0 | T53: 0 | U53: 0 | V53: 0 | W53: =SUBTOTAL(9,C53:V53) -> 0 | X53: 0 | Y53: 0 | Z53: 0 | AA53: 0 | AB53: 0 | AC53: 0 | AD53: 0 | AE53: =SUM(X53:AD53) -> 0 | AF53: 0 | AG53: 0 | AH53: 0 | AI53: 0 | AJ53: 0 | AK53: 0 | AL53: 0 | AM53: 0 | AN53: 0 | AO53: 0 | AP53: =SUBTOTAL(9,AI53:AO53) -> 0 | AQ53: 0 | AR53: 0 | AT53: 0 | AU53: =SUBTOTAL(9,AQ53:AT53) -> 0 | AV53: 0 | AW53: 0 | AX53: 0 | AY53: =SUM(AV53:AX53) -> 0 | AZ53: 0 | BA53: 0 | BB53: 0 | BC53: 0 | BD53: 0 | BE53: 0 | BF53: 0 | BG53: 0 | BH53: 0 | BI53: 0 | BJ53: 0 | BK53: 0 | BL53: =SUBTOTAL(9,AZ53:BK53) -> 0 | BM53: 0 | BN53: 0 | BO53: 0 | BP53: 0 | BQ53: 0 | BR53: 0 | BS53: 0 | BT53: 0 | BU53: 0 | BV53: 0 | BW53: 0 | BX53: 0 | BY53: 0 | BZ53: 0 | CA53: =SUBTOTAL(9,BM53:BZ53) -> 0 | CB53: 0 | CC53: 0 | CD53: 0 | CE53: 0 | CF53: 0 | CG53: 0 | CH53: 0 | CI53: 0 | CJ53: =SUBTOTAL(9,CC53:CI53) -> 0 | CK53: 0 | CL53: 0 | CM53: =SUM(CK53:CL53) -> 0 | CN53: 0 | CO53: 0 | CP53: 0 | CQ53: 0 | CR53: 0 | CS53: 0 | CT53: 0 | CU53: 0 | CV53: 0 | CW53: 0 | CX53: 0 | CY53: 0 | CZ53: 0 | DA53: 0 | DB53: 0 | DC53: =SUBTOTAL(9,CN53:DB53) -> 0 | DD53: 0 | DE53: 0 | DF53: 0 | DG53: 0 | DH53: 0 | DI53: 0 | DJ53: 0 | DK53: 0 | DL53: =SUBTOTAL(9,DD53:DK53) -> 0 | DM53: 0 | DN53: 0 | DO53: 0 | DP53: 0 | DQ53: 0 | DR53: 0 | DS53: 0 | DT53: =SUBTOTAL(9,DM53:DS53) -> 0 | DU53: 0 | DV53: 0 | DW53: 0 | DX53: 0 | DY53: 0 | DZ53: =SUBTOTAL(9,DU53:DY53) -> 0 | EA53: =SUM(DT53,DL53,DC53,CM53,CJ53,CA53,BL53,AY53,AU53,AP53,AE53,W53,DZ53) -> 0
B54: พระนครศรีอยุธยา | C54: 0 | D54: 0 | E54: 0 | F54: 0 | G54: 0 | H54: 0 | I54: 0 | J54: 30 | K54: 0 | L54: 0 | M54: 0 | N54: 0 | O54: 0 | P54: 0 | Q54: 0 | R54: 0 | S54: 0 | T54: 0 | U54: 0 | V54: 0 | W54: =SUBTOTAL(9,C54:V54) -> 30 | X54: 0 | Y54: 0 | Z54: 0 | AA54: 0 | AB54: 0 | AC54: 0 | AD54: 0 | AE54: =SUM(X54:AD54) -> 0 | AF54: 0 | AG54: 0 | AH54: 0 | AI54: 0 | AJ54: 0 | AK54: 0 | AL54: 0 | AM54: 0 | AN54: 0 | AO54: 0 | AP54: =SUBTOTAL(9,AI54:AO54) -> 0 | AQ54: 0 | AR54: 0 | AS54: 0 | AT54: 0 | AU54: =SUBTOTAL(9,AQ54:AT54) -> 0 | AV54: 0 | AW54: 0 | AX54: 0 | AY54: =SUM(AV54:AX54) -> 0 | AZ54: 0 | BA54: 0 | BB54: 0 | BC54: 0 | BD54: 0 | BE54: 0 | BF54: 0 | BG54: 0 | BH54: 0 | BI54: 0 | BJ54: 0 | BK54: 0 | BL54: =SUBTOTAL(9,AZ54:BK54) -> 0 | BM54: 0 | BN54: 0 | BO54: 0 | BP54: 0 | BQ54: 0 | BR54: 0 | BS54: 0 | BT54: 0 | BU54: 0 | BV54: 0 | BW54: 0 | BX54: 0 | BY54: 0 | BZ54: 0 | CA54: =SUBTOTAL(9,BM54:BZ54) -> 0 | CB54: 0 | CC54: 0 | CD54: 0 | CE54: 0 | CF54: 0 | CG54: 0 | CH54: 0 | CI54: 0 | CJ54: =SUBTOTAL(9,CC54:CI54) -> 0 | CK54: 0 | CL54: 0 | CM54: =SUM(CK54:CL54) -> 0 | CN54: 0 | CO54: 0 | CP54: 0 | CQ54: 0 | CR54: 0 | CS54: 0 | CT54: 0 | CU54: 0 | CV54: 0 | CW54: 0 | CX54: 0 | CY54: 0 | CZ54: 0 | DA54: 0 | DB54: 0 | DC54: =SUBTOTAL(9,CN54:DB54) -> 0 | DD54: 0 | DE54: 0 | DF54: 0 | DG54: 0 | DH54: 0 | DI54: 0 | DJ54: 0 | DK54: 0 | DL54: =SUBTOTAL(9,DD54:DK54) -> 0 | DM54: 0 | DN54: 0 | DO54: 0 | DP54: 0 | DQ54: 0 | DR54: 0 | DS54: 0 | DT54: =SUBTOTAL(9,DM54:DS54) -> 0 | DU54: 0 | DV54: 0 | DW54: 0 | DX54: 0 | DY54: 0 | DZ54: =SUBTOTAL(9,DU54:DY54) -> 0 | EA54: =SUM(DT54,DL54,DC54,CM54,CJ54,CA54,BL54,AY54,AU54,AP54,AE54,W54,DZ54) -> 30
B55: ลพบุรี | C55: 0 | D55: 0 | E55: 0 | F55: 0 | G55: 0 | H55: 0 | I55: 0 | J55: 0 | K55: 0 | L55: 0 | M55: 0 | N55: 0 | O55: 0 | P55: 0 | Q55: 0 | R55: 0 | S55: 0 | T55: 0 | U55: 0 | V55: 0 | W55: =SUBTOTAL(9,C55:V55) -> 0 | X55: 0 | Y55: 0 | Z55: 0 | AA55: 0 | AB55: 0 | AC55: 0 | AD55: 0 | AE55: =SUM(X55:AD55) -> 0 | AF55: 0 | AG55: 0 | AH55: 0 | AI55: 0 | AJ55: 0 | AK55: 0 | AL55: 0 | AM55: 0 | AN55: 0 | AO55: 0 | AP55: =SUBTOTAL(9,AI55:AO55) -> 0 | AQ55: 0 | AR55: 0 | AS55: 0 | AT55: 0 | AU55: =SUBTOTAL(9,AQ55:AT55) -> 0 | AV55: 0 | AW55: 0 | AX55: 0 | AY55: =SUM(AV55:AX55) -> 0 | AZ55: 0 | BA55: 0 | BB55: 0 | BC55: 0 | BD55: 0 | BE55: 0 | BF55: 0 | BG55: 0 | BH55: 0 | BI55: 0 | BJ55: 78 | BK55: 0 | BL55: =SUBTOTAL(9,AZ55:BK55) -> 78 | BM55: 0 | BN55: 0 | BO55: 0 | BP55: 0 | BQ55: 0 | BR55: 0 | BS55: 0 | BT55: 0 | BU55: 0 | BV55: 0 | BW55: 0 | BX55: 0 | BY55: 0 | BZ55: 0 | CA55: =SUBTOTAL(9,BM55:BZ55) -> 0 | CB55: 0 | CC55: 0 | CD55: 0 | CE55: 0 | CF55: 0 | CG55: 0 | CH55: 0 | CI55: 0 | CJ55: =SUBTOTAL(9,CC55:CI55) -> 0 | CK55: 0 | CL55: 0 | CM55: =SUM(CK55:CL55) -> 0 | CN55: 0 | CO55: 0 | CP55: 0 | CQ55: 0 | CR55: 0 | CS55: 0 | CT55: 0 | CU55: 0 | CV55: 0 | CW55: 0 | CX55: 0 | CY55: 0 | CZ55: 0 | DA55: 0 | DB55: 0 | DC55: =SUBTOTAL(9,CN55:DB55) -> 0 | DD55: 0 | DE55: 0 | DF55: 0 | DG55: 0 | DH55: 0 | DI55: 0 | DJ55: 0 | DK55: 0 | DL55: =SUBTOTAL(9,DD55:DK55) -> 0 | DM55: 0 | DN55: 0 | DO55: 0 | DP55: 0 | DQ55: 0 | DR55: 0 | DS55: 0 | DT55: =SUBTOTAL(9,DM55:DS55) -> 0 | DU55: 0 | DV55: 0 | DW55: 0 | DX55: 0 | DY55: 0 | DZ55: =SUBTOTAL(9,DU55:DY55) -> 0 | EA55: =SUM(DT55,DL55,DC55,CM55,CJ55,CA55,BL55,AY55,AU55,AP55,AE55,W55,DZ55) -> 78
