Workbook

Sheet 01.12.64
A1: รายงานสถานการณ์ศัตรูพืชระบาด
A2: ข้อมูล ณ วันที่ 10 พฤศจิกายน 2564
A4: ที่ | B4: จังหวัด | C4: ข้าว | X4: มะพร้าว | AF4: ปาล์มน้ำมัน | AQ4: ยางพารา | AV4: กาแฟ | AZ4: มันสำปะหลัง | BM4: อ้อย | CB4: ข้าวโพด | CK4: สับปะรด | CN4: ทุเรียน | DD4: เงาะ | DM4: มังคุด | DU4: ลำไย | DZ4: ลำไย | EA4: พื้นที่รวม ทั้งประเทศ (ไร่) | EB4: =+DT10+DL10+DC10+CM10+CJ10+CA10+BL10+AU10+AP10+AE10+W10+DZ10 -> 426573.93
C5: พื้นที่การระบาด (ไร่) | X5: พื้นที่การระบาด (ไร่) | AF5: พื้นที่การระบาด (ไร่) | AQ5: พื้นที่การระบาด (ไร่) | AV5: พื้นที่การระบาด (ไร่) | AZ5: พื้นที่การระบาด (ไร่) | BM5: พื้นที่การระบาด (ไร่) | CB5: พื้นที่การระบาด (ไร่) | CK5: พื้นที่การระบาด (ไร่) | CN5: พื้นที่การระบาด (ไร่) | DD5: พื้นที่การระบาด (ไร่) | DM5: พื้นที่การระบาด (ไร่) | DU5: พื้นที่การระบาด (ไร่)
C6: เพลี้ยกระโดดสีน้ำตาล | D6: หนอนห่อใบข้าว | E6: โรคไหม้ข้าว | F6: แมลงสิง | G6: เพลี้ยกระโดดหลังขาว | H6: เพลี้ยไฟ | I6: โรคใบสีส้ม | J6: โรคขอบใบแห้งข้าว | K6: โรคกาบใบแห้ง | L6: โรคใบจุดสีน้ำตาล | M6: หนอนกระทู้ข้าว | N6: โรคใบขีดสีน้ำตาล | O6: หนอนกัดใบข้าว | P6: แมลงหล่า | Q6: แมลงบั่ว | R6: โรคเมล็ดด่าง | S6: ด้วงดำ | T6: ตั๊กแตนหนวดสั้น | U6: หนอนกอข้าว | V6: หนอนกระทู้ข้าวโพดลายจุด | W6: รวม | X6: หนอนหัวดำ | Y6: แมลงดำหนาม | Z6: ด้วงแรด | AA6: ด้วงงวง | AB6: ไรสี่ขามะพร้าว | AC6: หนอนพาราซ่า | AD6: หนอนกินใบมะพร้าว | AE6: รวม | AF6: หนอนหัวดำ | AG6: หนอนปลอกเล็ก | AH6: หนอนหน้าแมว | AI6: ด้วงแรด | AJ6: ด้วงกุหลาบ | AK6: หนู | AL6: โรคลำต้นเน่า | AM6: โรคทะลายเน่า | AN6: โรคใบไหม้ | AO6: โรคยอดเน่า | AP6: รวม | AQ6: โรครากขาว | AR6: โรคใบร่วง (ชนิดใหม่) | AS6: โรคใบร่วง | AT6: โรคเส้นดำ | AU6: รวม | AV6: โรคใบจุดสีน้ำตาล | AW6: หนอนเจาะลำต้น | AX6: มอดเจาะผลกาแฟ | AY6: รวม | AZ6: เพลี้ยแป้งมันสำปะหลัง | BA6: เพลี้ยแป้งสีชมพู | BB6: ไรแดงมันสำปะหลัง | BC6: แมลงนูนหลวง | BD6: แมลงหวี่ขาว | BE6: เพลี้ยหอย | BF6: โรคใบจุดน้ำตาล | BG6: โรคแอนแทคโนส | BH6: โรคโคนเน่าหัวเน่า | BI6: โรคใบไหม้ | BJ6: โรคใบด่างมันสำปะหลัง | BK6: โรคพุ่มแจ้ | BL6: รวม | BM6: หนอนกออ้อย | BN6: ด้วงหนวดยาว | BO6: แมลงนูนหลวง | BP6: จักจั่น | BQ6: ตั๊กแตน | BR6: จักจั่น | BS6: หนอนกระทู้ข้าวโพดลายจุด | BT6: เพลี้ยอ่อน | BU6: เพลี้ยแป้ง | BV6: โรคกอตะไคร้ | BW6: โรคใบขาว | BX6: ปลวก | BY6: โรคแส้ดำ | BZ6: เพลี้ยหอยเกร็ด | CA6: รวม | CB6: หนอนเจาะฝัก | CC6: หนอนกระทู้ลายจุดข้าวโพด | CD6: หนอนกระทู้ผัก | CE6: หนอนเจาะลำต้น | CF6: เพลี้ยอ่อน | CG6: ตั๊กแตน | CH6: โรคใบไหม้แผลเล็ก | CI6: โรคใบไหม้แผลใหญ่ | CJ6: รวม | CK6: โรคเหี่ยว | CL6: เพลี้ยแป้ง | CM6: รวม | CN6: หนอนเจาะลำต้น | CO6: หนอนเจาะผล | CP6: หนอนกินใบ | CQ6: เพลี้ยไฟ | CR6: เพลี้ยแป้ง | CS6: เพลี้ยไก่แจ้ | CT6: ไรแดง | CU6: โรคใบติด | CV6: โรครากเน่าโคนเน่า | CW6: ราดำ | CX6: โรคราใบไหม้ | CY6: โรคผลเน่า | CZ6: โรคราสีชมพู | DA6: โรคจุดสาหร่าย | DB6: หนอนเจาะผล | DC6: รวม | DD6: หนอนกินช่อดอก | DE6: เพลี้ยแป้ง | DF6: เพลี้ยไฟ | DG6: หนอนทราย | DH6: โรคใบจุดสาหร่าย | DI6: โรคราดำ | DJ6: โรคขอบใบแห้ง | DK6: หนอนกินช่อดอกไม้ | DL6: รวม | DM6: หนอนชอนใบ | DN6: หนอนกินใบ | DO6: เพลี้ยไฟ | DP6: เพลี้ยแป้ง | DQ6: ไรแดง | DR6: โรคแอนแทรคโนส | DS6: โรคใบจุด | DT6: รวม | DU6: โรคพุ่มไม้กวาด | DV6: เพลี้ยแป้ง | DW6: โรคราดำ | DX6: เพลี้ยหอย | DY6: มวนลำไย | DZ6: รวม | EA6: รวม
C7: =C8-C9 -> 227 | D7: =D8-D9 -> -10 | E7: =E8-E9 -> -225 | F7: =F8-F9 -> 0 | G7: =G8-G9 -> -36 | H7: =H8-H9 -> 0 | I7: =I8-I9 -> 0 | J7: =J8-J9 -> 28 | ... EA7: =EA8-EA9 -> -45461
B8: 1 ธ.ค. 64 | C8: 260 | D8: 0 | E8: 63 | G8: 4 | J8: 66 | Q8: 0 | U8: 0 | W8: =C8+D8+E8+G8+J8+Q8+U8 -> 393 | X8: 6500 | Y8: 12068 | Z8: 5154 | AA8: 1220 | AB8: 1020 | AD8: 155 | AE8: =AD8+AB8+AA8+Z8+Y8+X8 -> 26117 | AI8: 648 | AL8: 169 | AP8: =AL8+AI8 -> 817 | AQ8: 103 | AR8: 375088 | AS8: 1835 | AU8: =AR8+AQ8+AS8 -> 377026 | AZ8: 167 | BH8: 7 | BJ8: 13884 | BL8: =BJ8+BH8+BB8+AZ8 -> 14058 | CC8: 382 | CE8: 65 | CJ8: =CC8+CE8 -> 447 | CL8: 11 | CM8: =CK8+CL8 -> 11 | CQ8: 110 | CR8: 0 | CS8: 12 | CV8: 6645 | DC8: =CV8+CS8+CR8+CQ8+CP8+CO8+CN8 -> 6767 | DL8: =DF8 -> 0 | DO8: 98 | DT8: =DO8 -> 98 | DU8: 280 | DV8: 28 | DW8: 325 | DY8: 207 | DZ8: =DY8+DW8+DV8+DU8 -> 840 | EA8: =DZ8+DT8+DL8+DC8+CJ8+BL8+AU8+AP8+AE8+W8+CM8 -> 426574
B9: 24 พ.ย. 64 | C9: 33 | D9: 10 | E9: 288 | G9: 40 | J9: 38 | Q9: 158 | U9: 290 | W9: =C9+D9+E9+G9+J9+Q9+U9 -> 857 | X9: 6346 | Y9: 11808 | Z9: 4747 | AA9: 479 | AB9: 681 | AD9: 150 | AE9: =AD9+AB9+AA9+Z9+Y9+X9 -> 24211 | AI9: 1456 | AL9: 167 | AP9: =AL9+AI9 -> 1623 | AQ9: 115 | AR9: 419998 | AS9: 2490 | AU9: =AR9+AQ9+AS9 -> 422603 | AZ9: 94 | BH9: 129 | BJ9: 13898 | BL9: =BJ9+BH9+BB9+AZ9 -> 14121 | CC9: 384 | CE9: 65 | CJ9: =CC9+CE9 -> 449 | CL9: 11 | CM9: =CK9+CL9 -> 11 | CQ9: 5 | CR9: 8 | CS9: 237 | CV9: 7183 | DC9: =CV9+CS9+CR9+CQ9+CP9+CO9+CN9 -> 7433 | DF9: 0 | DL9: =DF9 -> 0 | DO9: 94 | DT9: =DO9 -> 94 | DU9: 274 | DV9: 28 | DW9: 319 | DY9: 12 | DZ9: =DY9+DW9+DV9+DU9 -> 633 | EA9: =DZ9+DT9+DL9+DC9+CJ9+BL9+AU9+AP9+AE9+W9+CM9 -> 472035
A10: รวมทั้งประเทศ 63 จังหวัด | C10: =SUM(C11,C29,C50,C59,C69,C78) -> 260 | D10: =SUM(D11,D29,D50,D59,D69,D78) -> 0 | E10: =SUM(E11,E29,E50,E59,E69,E78) -> 63 | F10: =SUM(F11,F29,F50,F59,F69,F78) -> 0 | G10: =SUM(G11,G29,G50,G59,G69,G78) -> 4 | H10: =SUM(H11,H29,H50,H59,H69,H78) -> 0 | I10: =SUM(I11,I29,I50,I59,I69,I78) -> 0 | J10: =SUM(J11,J29,J50,J59,J69,J78) -> 66 | ... DZ10: =SUM(DZ11,DZ29,DZ50,DZ59,DZ69,DZ78) -> 840.25 | EA10: =SUM(DZ10,DT10,DL10,DC10,CM10,CJ10,CA10,BL10,AU10,AP10,AE10,W10) -> 426573.93
A11: ภาคเหนือ 11 จังหวัด | C11: =SUM(C12:C28) -> 250 | D11: =SUM(D12:D28) -> 0 | E11: =SUM(E12:E28) -> 0 | F11: =SUM(F12:F28) -> 0 | G11: =SUM(G12:G28) -> 0 | H11: =SUM(H12:H28) -> 0 | I11: =SUM(I12:I28) -> 0 | J11: =SUM(J12:J28) -> 15 | ... AE11: =SUM(AE12:AE28) -> 2 | AF11: =SUM(AF19:AF28) -> 0 | AG11: =SUM(AG19:AG28) -> 0 | AH11: =SUM(AH19:AH28) -> 0 | AI11: =SUM(AI12:AI28) -> 0 | AJ11: =SUM(AJ12:AJ28) -> 0 | AK11: =SUM(AK12:AK28) -> 0 | AL11: =SUM(AL12:AL28) -> 0 | AM11: =SUM(AM12:AM28) -> 0 | AN11: =SUM(AN12:AN28) -> 0 | AO11: =SUM(AO12:AO28) -> 0 | AP11: =SUM(AP12:AP28) -> 0 | ... CM11: =SUM(CM12:CM28) -> 0 | CN11: =SUM(CN19:CN28) -> 0 | CO11: =SUM(CO19:CO28) -> 0 | CP11: =SUM(CP19:CP28) -> 0 | CQ11: =SUM(CQ12:CQ28) -> 0 | CR11: =SUM(CR12:CR28) -> 0 | CS11: =SUM(CS12:CS28) -> 0 | CT11: =SUM(CT12:CT28) -> 0 | CU11: =SUM(CU12:CU28) -> 0 | CV11: =SUM(CV12:CV28) -> 0 | CW11: =SUM(CW12:CW28) -> 0 | CX11: =SUM(CX12:CX28) -> 0 | ... DZ11: =SUM(DZ12:DZ28) -> 195 | EA11: =SUM(DT11,DL11,DC11,CM11,CJ11,CA11,BL11,AY11,AU11,AP11,AE11,W11,DZ11) -> 811
B12: กำแพงเพชร | C12: 0 | D12: 0 | E12: 0 | F12: 0 | G12: 0 | H12: 0 | I12: 0 | J12: 0 | K12: 0 | L12: 0 | M12: 0 | N12: 0 | O12: 0 | P12: 0 | Q12: 0 | R12: 0 | S12: 0 | T12: 0 | U12: 0 | V12: 0 | W12: =SUBTOTAL(9,C12:V12) -> 0 | X12: 0 | Y12: 0 | Z12: 0 | AA12: 0 | AB12: 0 | AC12: 0 | AD12: 0 | AE12: =SUBTOTAL(9,X12:AD12) -> 0 | AF12: 0 | AG12: 0 | AH12: 0 | AI12: 0 | AJ12: 0 | AK12: 0 | AL12: 0 | AM12: 0 | AN12: 0 | AO12: 0 | AP12: =SUBTOTAL(9,AI12:AO12) -> 0 | AQ12: 0 | AR12: 0 | AS12: 0 | AT12: 0 | AU12: =SUBTOTAL(9,AQ12:AT12) -> 0 | AV12: =SUM(AR12:AR12) -> 0 | AW12: 0 | AX12: =SUM(AU12:AU12) -> 0 | AY12: =SUM(AV12:AX12) -> 0 | AZ12: 0 | BA12: 0 | BB12: 0 | BC12: 0 | BD12: 0 | BE12: 0 | BF12: 0 | BG12: 0 | BH12: 0 | BI12: 0 | BJ12: 0 | BK12: 0 | BL12: =SUBTOTAL(9,AZ12:BK12) -> 0 | BM12: 0 | BN12: 0 | BO12: 0 | BP12: 0 | BQ12: 0 | BR12: 0 | BS12: 0 | BT12: 0 | BU12: 0 | BV12: 0 | BW12: 0 | BX12: 0 | BY12: 0 | BZ12: 0 | CA12: =SUBTOTAL(9,BM12:BZ12) -> 0 | CB12: 0 | CC12: 0 | CD12: 0 | CE12: 0 | CF12: 0 | CG12: 0 | CH12: 0 | CI12: 0 | CJ12: =SUBTOTAL(9,CC12:CI12) -> 0 | CK12: 0 | CL12: 0 | CM12: =SUM(CK12:CL12) -> 0 | CN12: 0 | CO12: 0 | CP12: 0 | CQ12: 0 | CR12: 0 | CS12: 0 | CT12: 0 | CU12: 0 | CV12: 0 | CW12: 0 | CX12: 0 | CY12: 0 | CZ12: 0 | DA12: 0 | DB12: 0 | DC12: =SUBTOTAL(9,CN12:DB12) -> 0 | DD12: 0 | DE12: 0 | DF12: 0 | DG12: 0 | DH12: 0 | DI12: 0 | DJ12: 0 | DK12: 0 | DL12: =SUBTOTAL(9,DD12:DK12) -> 0 | DM12: 0 | DN12: 0 | DO12: 0 | DP12: 0 | DQ12: 0 | DR12: 0 | DS12: 0 | DT12: =SUBTOTAL(9,DM12:DS12) -> 0 | DU12: 0 | DV12: 0 | DW12: 0 | DX12: 0 | DY12: 0 | DZ12: =SUBTOTAL(9,DU12:DY12) -> 0 | EA12: =SUM(DT12,DL12,DC12,CM12,CJ12,CA12,BL12,AY12,AU12,AP12,AE12,W12,DZ12) -> 0
B13: เชียงใหม่ | C13: 0 | D13: 0 | E13: 0 | F13: 0 | G13: 0 | H13: 0 | I13: 0 | J13: 0 | K13: 0 | L13: 0 | M13: 0 | N13: 0 | O13: 0 | P13: 0 | Q13: 0 | R13: 0 | S13: 0 | T13: 0 | U13: 0 | V13: 0 | W13: =SUBTOTAL(9,C13:V13) -> 0 | X13: 0 | Y13: 0 | Z13: 0 | AA13: 0 | AB13: 0 | AC13: 0 | AD13: 0 | AE13: =SUBTOTAL(9,X13:AD13) -> 0 | AF13: 0 | AG13: 0 | AH13: 0 | AI13: 0 | AJ13: 0 | AK13: 0 | AL13: 0 | AM13: 0 | AN13: 0 | AO13: 0 | AP13: =SUBTOTAL(9,AI13:AO13) -> 0 | AQ13: 0 | AR13: 0 | AS13: 0 | AT13: 0 | AU13: =SUBTOTAL(9,AQ13:AT13) -> 0 | AV13: 0 | AW13: 0 | AX13: 0 | AY13: =SUM(AV13:AX13) -> 0 | AZ13: 0 | BA13: 0 | BB13: 0 | BC13: 0 | BD13: 0 | BE13: 0 | BF13: 0 | BG13: 0 | BH13: 0 | BI13: 0 | BJ13: 0 | BK13: 0 | BL13: =SUBTOTAL(9,AZ13:BK13) -> 0 | BM13: 0 | BN13: 0 | BO13: 0 | BP13: 0 | BQ13: 0 | BR13: 0 | BS13: 0 | BT13: 0 | BU13: 0 | BV13: 0 | BW13: 0 | BX13: 0 | BY13: 0 | BZ13: 0 | CA13: =SUBTOTAL(9,BM13:BZ13) -> 0 | CB13: 0 | CC13: 0 | CD13: 0 | CE13: 0 | CF13: 0 | CG13: 0 | CH13: 0 | CI13: 0 | CJ13: =SUBTOTAL(9,CC13:CI13) -> 0 | CK13: 0 | CL13: 0 | CM13: =SUM(CK13:CL13) -> 0 | CN13: 0 | CO13: 0 | CP13: 0 | CQ13: 0 | CR13: 0 | CS13: 0 | CT13: 0 | CU13: 0 | CV13: 0 | CW13: 0 | CX13: 0 | CY13: 0 | CZ13: 0 | DA13: 0 | DB13: 0 | DC13: =SUBTOTAL(9,CN13:DB13) -> 0 | DD13: 0 | DE13: 0 | DF13: 0 | DG13: 0 | DH13: 0 | DI13: 0 | DJ13: 0 | DK13: 0 | DL13: =SUBTOTAL(9,DD13:DK13) -> 0 | DM13: 0 | DN13: 0 | DO13: 0 | DP13: 0 | DQ13: 0 | DR13: 0 | DS13: 0 | DT13: =SUBTOTAL(9,DM13:DS13) -> 0 | DU13: 0 | DV13: 0 | DW13: 0 | DX13: 0 | DY13: 0 | DZ13: =SUBTOTAL(9,DU13:DY13) -> 0 | EA13: =SUM(DT13,DL13,DC13,CM13,CJ13,CA13,BL13,AY13,AU13,AP13,AE13,W13,DZ13) -> 0
B14: เชียงราย | C14: 0 | D14: 0 | E14: 0 | F14: 0 | G14: 0 | H14: 0 | I14: 0 | J14: 0 | K14: 0 | L14: 0 | M14: 0 | N14: 0 | O14: 0 | P14: 0 | Q14: 0 | R14: 0 | S14: 0 | T14: 0 | U14: 0 | V14: 0 | W14: =SUBTOTAL(9,C14:V14) -> 0 | X14: 0 | Y14: 0 | Z14: 0 | AA14: 0 | AB14: 0 | AC14: 0 | AD14: 0 | AE14: =SUBTOTAL(9,X14:AD14) -> 0 | AF14: 0 | AG14: 0 | AH14: 0 | AI14: 0 | AJ14: 0 | AK14: 0 | AL14: 0 | AM14: 0 | AN14: 0 | AO14: 0 | AP14: =SUBTOTAL(9,AI14:AO14) -> 0 | AQ14: 0 | AR14: 0 | AS14: 0 | AT14: 0 | AU14: =SUBTOTAL(9,AQ14:AT14) -> 0 | AV14: 0 | AW14: 0 | AX14: 0 | AY14: =SUM(AV14:AX14) -> 0 | AZ14: 0 | BA14: 0 | BB14: 0 | BC14: 0 | BD14: 0 | BE14: 0 | BF14: 0 | BG14: 0 | BH14: 0 | BI14: 0 | BJ14: 0 | BK14: 0 | BL14: =SUBTOTAL(9,AZ14:BK14) -> 0 | BM14: 0 | BN14: 0 | BO14: 0 | BP14: 0 | BQ14: 0 | BR14: 0 | BS14: 0 | BT14: 0 | BU14: 0 | BV14: 0 | BW14: 0 | BX14: 0 | BY14: 0 | BZ14: 0 | CA14: =SUBTOTAL(9,BM14:BZ14) -> 0 | CB14: 0 | CC14: 0 | CD14: 0 | CE14: 0 | CF14: 0 | CG14: 0 | CH14: 0 | CI14: 0 | CJ14: =SUBTOTAL(9,CC14:CI14) -> 0 | CK14: 0 | CL14: 0 | CM14: =SUM(CK14:CL14) -> 0 | CN14: 0 | CO14: 0 | CP14: 0 | CQ14: 0 | CR14: 0 | CS14: 0 | CT14: 0 | CU14: 0 | CV14: 0 | CW14: 0 | CX14: 0 | CY14: 0 | CZ14: 0 | DA14: 0 | DB14: 0 | DC14: =SUBTOTAL(9,CN14:DB14) -> 0 | DD14: 0 | DE14: 0 | DF14: 0 | DG14: 0 | DH14: 0 | DI14: 0 | DJ14: 0 | DK14: 0 | DL14: =SUBTOTAL(9,DD14:DK14) -> 0 | DM14: 0 | DN14: 0 | DO14: 0 | DP14: 0 | DQ14: 0 | DR14: 0 | DS14: 0 | DT14: =SUBTOTAL(9,DM14:DS14) -> 0 | DU14: 0 | DV14: 0 | DW14: 0 | DX14: 0 | DY14: 0 | DZ14: =SUBTOTAL(9,DU14:DY14) -> 0 | EA14: =SUM(DT14,DL14,DC14,CM14,CJ14,CA14,BL14,AY14,AU14,AP14,AE14,W14,DZ14) -> 0
B15: ตาก | C15: 250 | D15: 0 | E15: 0 | F15: 0 | G15: 0 | H15: 0 | I15: 0 | J15: 0 | K15: 0 | L15: 0 | M15: 0 | N15: 0 | O15: 0 | P15: 0 | Q15: 0 | R15: 0 | S15: 0 | T15: 0 | U15: 0 | V15: 0 | W15: =SUBTOTAL(9,C15:V15) -> 250 | X15: 0 | Y15: 0 | Z15: 0 | AA15: 0 | AB15: 0 | AC15: 0 | AD15: 0 | AE15: =SUBTOTAL(9,X15:AD15) -> 0 | AF15: 0 | AG15: 0 | AH15: 0 | AI15: 0 | AJ15: 0 | AK15: 0 | AL15: 0 | AM15: 0 | AN15: 0 | AO15: 0 | AP15: =SUBTOTAL(9,AI15:AO15) -> 0 | AQ15: 0 | AR15: 0 | AS15: 0 | AT15: 0 | AU15: =SUBTOTAL(9,AQ15:AT15) -> 0 | AV15: 0 | AW15: 0 | AX15: 0 | AY15: =SUM(AV15:AX15) -> 0 | AZ15: 15 | BA15: 0 | BB15: 0 | BC15: 0 | BD15: 0 | BE15: 0 | BF15: 0 | BG15: 0 | BH15: 0 | BI15: 0 | BJ15: 0 | BK15: 0 | BL15: =SUBTOTAL(9,AZ15:BK15) -> 15 | BM15: 0 | BN15: 0 | BO15: 0 | BP15: 0 | BQ15: 0 | BR15: 0 | BS15: 0 | BT15: 0 | BU15: 0 | BV15: 0 | BW15: 0 | BX15: 0 | BY15: 0 | BZ15: 0 | CA15: =SUBTOTAL(9,BM15:BZ15) -> 0 | CB15: 0 | CC15: 205 | CD15: 0 | CE15: 0 | CF15: 0 | CG15: 0 | CH15: 0 | CI15: 0 | CJ15: =SUBTOTAL(9,CC15:CI15) -> 205 | CK15: 0 | CL15: 0 | CM15: =SUM(CK15:CL15) -> 0 | CN15: 0 | CO15: 0 | CP15: 0 | CQ15: 0 | CR15: 0 | CS15: 0 | CT15: 0 | CU15: 0 | CV15: 0 | CW15: 0 | CX15: 0 | CY15: 0 | CZ15: 0 | DA15: 0 | DB15: 0 | DC15: =SUBTOTAL(9,CN15:DB15) -> 0 | DD15: 0 | DE15: 0 | DF15: 0 | DG15: 0 | DH15: 0 | DI15: 0 | DJ15: 0 | DK15: 0 | DL15: =SUBTOTAL(9,DD15:DK15) -> 0 | DM15: 0 | DN15: 0 | DO15: 0 | DP15: 0 | DQ15: 0 | DR15: 0 | DS15: 0 | DT15: =SUBTOTAL(9,DM15:DS15) -> 0 | DU15: 0 | DV15: 0 | DW15: 0 | DX15: 0 | DY15: 195 | DZ15: =SUBTOTAL(9,DU15:DY15) -> 195 | EA15: =SUM(DT15,DL15,DC15,CM15,CJ15,CA15,BL15,AY15,AU15,AP15,AE15,W15,DZ15) -> 665
B16: นครสวรรค์ | C16: 0 | D16: 0 | E16: 0 | F16: 0 | G16: 0 | H16: 0 | I16: 0 | J16: 0 | K16: 0 | L16: 0 | M16: 0 | N16: 0 | O16: 0 | P16: 0 | Q16: 0 | R16: 0 | S16: 0 | T16: 0 | U16: 0 | V16: 0 | W16: =SUBTOTAL(9,C16:V16) -> 0 | X16: 0 | Y16: 0 | Z16: 0 | AA16: 2 | AB16: 0 | AC16: 0 | AD16: 0 | AE16: =SUBTOTAL(9,X16:AD16) -> 2 | AF16: 0 | AG16: 0 | AH16: 0 | AI16: 0 | AJ16: 0 | AK16: 0 | AL16: 0 | AM16: 0 | AN16: 0 | AO16: 0 | AP16: =SUBTOTAL(9,AI16:AO16) -> 0 | AQ16: 0 | AR16: 0 | AS16: 0 | AT16: 0 | AU16: =SUBTOTAL(9,AQ16:AT16) -> 0 | AV16: 0 | AW16: 0 | AX16: 0 | AY16: =SUM(AV16:AX16) -> 0 | AZ16: 30 | BA16: 0 | BB16: 0 | BC16: 0 | BD16: 0 | BE16: 0 | BF16: 0 | BG16: 0 | BH16: 0 | BI16: 0 | BJ16: 0 | BK16: 0 | BL16: =SUBTOTAL(9,AZ16:BK16) -> 30 | BM16: 0 | BN16: 0 | BO16: 0 | BP16: 0 | BQ16: 0 | BR16: 0 | BS16: 0 | BT16: 0 | BU16: 0 | BV16: 0 | BW16: 0 | BX16: 0 | BY16: 0 | BZ16: 0 | CA16: =SUBTOTAL(9,BM16:BZ16) -> 0 | CB16: 0 | CC16: 9 | CD16: 0 | CE16: 0 | CF16: 0 | CG16: 0 | CH16: 0 | CI16: 0 | CJ16: =SUBTOTAL(9,CC16:CI16) -> 9 | CK16: 0 | CL16: 0 | CM16: =SUM(CK16:CL16) -> 0 | CN16: 0 | CO16: 0 | CP16: 0 | CQ16: 0 | CR16: 0 | CS16: 0 | CT16: 0 | CU16: 0 | CV16: 0 | CW16: 0 | CX16: 0 | CY16: 0 | CZ16: 0 | DA16: 0 | DB16: 0 | DC16: =SUBTOTAL(9,CN16:DB16) -> 0 | DD16: 0 | DE16: 0 | DF16: 0 | DG16: 0 | DH16: 0 | DI16: 0 | DJ16: 0 | DK16: 0 | DL16: =SUBTOTAL(9,DD16:DK16) -> 0 | DM16: 0 | DN16: 0 | DO16: 0 | DP16: 0 | DQ16: 0 | DR16: 0 | DS16: 0 | DT16: =SUBTOTAL(9,DM16:DS16) -> 0 | DU16: 0 | DV16: 0 | DW16: 0 | DX16: 0 | DY16: 0 | DZ16: =SUBTOTAL(9,DU16:DY16) -> 0 | EA16: =SUM(DT16,DL16,DC16,CM16,CJ16,CA16,BL16,AY16,AU16,AP16,AE16,W16,DZ16) -> 41
B17: น่าน | C17: 0 | D17: 0 | E17: 0 | F17: 0 | G17: 0 | H17: 0 | I17: 0 | J17: 0 | K17: 0 | L17: 0 | M17: 0 | N17: 0 | O17: 0 | P17: 0 | Q17: 0 | R17: 0 | S17: 0 | T17: 0 | U17: 0 | V17: 0 | W17: =SUBTOTAL(9,C17:V17) -> 0 | X17: 0 | Y17: 0 | Z17: 0 | AA17: 0 | AB17: 0 | AC17: 0 | AD17: 0 | AE17: =SUBTOTAL(9,X17:AD17) -> 0 | AF17: 0 | AG17: 0 | AH17: 0 | AI17: 0 | AJ17: 0 | AK17: 0 | AL17: 0 | AM17: 0 | AN17: 0 | AO17: 0 | AP17: =SUBTOTAL(9,AI17:AO17) -> 0 | AQ17: 0 | AR17: 0 | AS17: 15 | AT17: 0 | AU17: =SUBTOTAL(9,AQ17:AT17) -> 15 | AV17: 0 | AW17: 0 | AX17: 0 | AY17: =SUM(AV17:AX17) -> 0 | AZ17: 3 | BA17: 0 | BB17: 0 | BC17: 0 | BD17: 0 | BE17: 0 | BF17: 0 | BG17: 0 | BH17: 7 | BI17: 0 | BJ17: 0 | BK17: 0 | BL17: =SUBTOTAL(9,AZ17:BK17) -> 10 | BM17: 0 | BN17: 0 | BO17: 0 | BP17: 0 | BQ17: 0 | BR17: 0 | BS17: 0 | BT17: 0 | BU17: 0 | BV17: 0 | BW17: 0 | BX17: 0 | BY17: 0 | BZ17: 0 | CA17: =SUBTOTAL(9,BM17:BZ17) -> 0 | CB17: 0 | CC17: 0 | CD17: 0 | CE17: 0 | CF17: 0 | CG17: 0 | CH17: 0 | CI17: 0 | CJ17: =SUBTOTAL(9,CC17:CI17) -> 0 | CK17: 0 | CL17: 0 | CM17: =SUM(CK17:CL17) -> 0 | CN17: 0 | CO17: 0 | CP17: 0 | CQ17: 0 | CR17: 0 | CS17: 0 | CT17: 0 | CU17: 0 | CV17: 0 | CW17: 0 | CX17: 0 | CY17: 0 | CZ17: 0 | DA17: 0 | DB17: 0 | DC17: =SUBTOTAL(9,CN17:DB17) -> 0 | DD17: 0 | DE17: 0 | DF17: 0 | DG17: 0 | DH17: 0 | DI17: 0 | DJ17: 0 | DK17: 0 | DL17: =SUBTOTAL(9,DD17:DK17) -> 0 | DM17: 0 | DN17: 0 | DO17: 0 | DP17: 0 | DQ17: 0 | DR17: 0 | DS17: 0 | DT17: =SUBTOTAL(9,DM17:DS17) -> 0 | DU17: 0 | DV17: 0 | DW17: 0 | DX17: 0 | DY17: 0 | DZ17: =SUBTOTAL(9,DU17:DY17) -> 0 | EA17: =SUM(DT17,DL17,DC17,CM17,CJ17,CA17,BL17,AY17,AU17,AP17,AE17,W17,DZ17) -> 25
B18: พะเยา | C18: 0 | D18: 0 | E18: 0 | F18: 0 | G18: 0 | H18: 0 | I18: 0 | J18: 0 | K18: 0 | L18: 0 | M18: 0 | N18: 0 | O18: 0 | P18: 0 | Q18: 0 | R18: 0 | S18: 0 | T18: 0 | U18: 0 | V18: 0 | W18: =SUBTOTAL(9,C18:V18) -> 0 | X18: 0 | Y18: 0 | Z18: 0 | AA18: 0 | AB18: 0 | AC18: 0 | AD18: 0 | AE18: =SUBTOTAL(9,X18:AD18) -> 0 | AF18: 0 | AG18: 0 | AH18: 0 | AI18: 0 | AJ18: 0 | AK18: 0 | AL18: 0 | AM18: 0 | AN18: 0 | AO18: 0 | AP18: =SUBTOTAL(9,AI18:AO18) -> 0 | AQ18: 0 | AR18: 0 | AS18: 0 | AT18: 0 | AU18: =SUBTOTAL(9,AQ18:AT18) -> 0 | AV18: 0 | AW18: 0 | AX18: 0 | AY18: =SUM(AV18:AX18) -> 0 | AZ18: 0 | BA18: 0 | BB18: 0 | BC18: 0 | BD18: 0 | BE18: 0 | BF18: 0 | BG18: 0 | BH18: 0 | BI18: 0 | BJ18: 0 | BK18: 0 | BL18: =SUBTOTAL(9,AZ18:BK18) -> 0 | BM18: 0 | BN18: 0 | BO18: 0 | BP18: 0 | BQ18: 0 | BR18: 0 | BS18: 0 | BT18: 0 | BU18: 0 | BV18: 0 | BW18: 0 | BX18: 0 | BY18: 0 | BZ18: 0 | CA18: =SUBTOTAL(9,BM18:BZ18) -> 0 | CB18: 0 | CC18: 0 | CD18: 0 | CE18: 0 | CF18: 0 | CG18: 0 | CH18: 0 | CI18: 0 | CJ18: =SUBTOTAL(9,CC18:CI18) -> 0 | CK18: 0 | CL18: 0 | CM18: =SUM(CK18:CL18) -> 0 | CN18: 0 | CO18: 0 | CP18: 0 | CQ18: 0 | CR18: 0 | CS18: 0 | CT18: 0 | CU18: 0 | CV18: 0 | CW18: 0 | CX18: 0 | CY18: 0 | CZ18: 0 | DA18: 0 | DB18: 0 | DC18: =SUBTOTAL(9,CN18:DB18) -> 0 | DD18: 0 | DE18: 0 | DF18: 0 | DG18: 0 | DH18: 0 | DI18: 0 | DJ18: 0 | DK18: 0 | DL18: =SUBTOTAL(9,DD18:DK18) -> 0 | DM18: 0 | DN18: 0 | DO18: 0 | DP18: 0 | DQ18: 0 | DR18: 0 | DS18: 0 | DT18: =SUBTOTAL(9,DM18:DS18) -> 0 | DU18: 0 | DV18: 0 | DW18: 0 | DX18: 0 | DY18: 0 | DZ18: =SUBTOTAL(9,DU18:DY18) -> 0 | EA18: =SUM(DT18,DL18,DC18,CM18,CJ18,CA18,BL18,AY18,AU18,AP18,AE18,W18,DZ18) -> 0
B19: พิจิตร | C19: 0 | D19: 0 | E19: 0 | F19: 0 | G19: 0 | H19: 0 | I19: 0 | J19: 0 | K19: 0 | L19: 0 | M19: 0 | N19: 0 | O19: 0 | P19: 0 | Q19: 0 | R19: 0 | S19: 0 | T19: 0 | U19: 0 | V19: 0 | W19: =SUBTOTAL(9,C19:V19) -> 0 | X19: 0 | Y19: 0 | Z19: 0 | AA19: 0 | AB19: 0 | AC19: 0 | AD19: 0 | AE19: =SUBTOTAL(9,X19:AD19) -> 0 | AF19: 0 | AG19: 0 | AH19: 0 | AI19: 0 | AJ19: 0 | AK19: 0 | AL19: 0 | AM19: 0 | AN19: 0 | AO19: 0 | AP19: =SUBTOTAL(9,AI19:AO19) -> 0 | AQ19: 0 | AR19: 0 | AS19: 0 | AT19: 0 | AU19: =SUBTOTAL(9,AQ19:AT19) -> 0 | AV19: 0 | AW19: 0 | AX19: 0 | AY19: =SUM(AV19:AX19) -> 0 | AZ19: 0 | BA19: 0 | BB19: 0 | BC19: 0 | BD19: 0 | BE19: 0 | BF19: 0 | BG19: 0 | BH19: 0 | BI19: 0 | BJ19: 0 | BK19: 0 | BL19: =SUBTOTAL(9,AZ19:BK19) -> 0 | BM19: 0 | BN19: 0 | BO19: 0 | BP19: 0 | BQ19: 0 | BR19: 0 | BS19: 0 | BT19: 0 | BU19: 0 | BV19: 0 | BW19: 0 | BX19: 0 | BY19: 0 | BZ19: 0 | CA19: =SUBTOTAL(9,BM19:BZ19) -> 0 | CB19: 0 | CC19: 0 | CD19: 0 | CE19: 65 | CF19: 0 | CG19: 0 | CH19: 0 | CI19: 0 | CJ19: =SUBTOTAL(9,CC19:CI19) -> 65 | CK19: 0 | CL19: 0 | CM19: =SUM(CK19:CL19) -> 0 | CN19: 0 | CO19: 0 | CP19: 0 | CQ19: 0 | CR19: 0 | CS19: 0 | CT19: 0 | CU19: 0 | CV19: 0 | CW19: 0 | CX19: 0 | CY19: 0 | CZ19: 0 | DA19: 0 | DB19: 0 | DC19: =SUBTOTAL(9,CN19:DB19) -> 0 | DD19: 0 | DE19: 0 | DF19: 0 | DG19: 0 | DH19: 0 | DI19: 0 | DJ19: 0 | DK19: 0 | DL19: =SUBTOTAL(9,DD19:DK19) -> 0 | DM19: 0 | DN19: 0 | DO19: 0 | DP19: 0 | DQ19: 0 | DR19: 0 | DS19: 0 | DT19: =SUBTOTAL(9,DM19:DS19) -> 0 | DU19: 0 | DV19: 0 | DW19: 0 | DX19: 0 | DY19: 0 | DZ19: =SUBTOTAL(9,DU19:DY19) -> 0 | EA19: =SUM(DT19,DL19,DC19,CM19,CJ19,CA19,BL19,AY19,AU19,AP19,AE19,W19,DZ19) -> 65
B20: พิษณุโลก | C20: 0 | D20: 0 | E20: 0 | F20: 0 | G20: 0 | H20: 0 | I20: 0 | J20: 0 | K20: 0 | L20: 0 | M20: 0 | N20: 0 | O20: 0 | P20: 0 | Q20: 0 | R20: 0 | S20: 0 | T20: 0 | U20: 0 | V20: 0 | W20: =SUBTOTAL(9,C20:V20) -> 0 | X20: 0 | Y20: 0 | Z20: 0 | AA20: 0 | AB20: 0 | AC20: 0 | AD20: 0 | AE20: =SUBTOTAL(9,X20:AD20) -> 0 | AF20: 0 | AG20: 0 | AH20: 0 | AI20: 0 | AJ20: 0 | AK20: 0 | AL20: 0 | AM20: 0 | AN20: 0 | AO20: 0 | AP20: =SUBTOTAL(9,AI20:AO20) -> 0 | AQ20: 0 | AR20: 0 | AS20: 0 | AT20: 0 | AU20: =SUBTOTAL(9,AQ20:AT20) -> 0 | AV20: 0 | AW20: 0 | AX20: 0 | AY20: =SUM(AV20:AX20) -> 0 | AZ20: 0 | BA20: 0 | BB20: 0 | BC20: 0 | BD20: 0 | BE20: 0 | BF20: 0 | BG20: 0 | BH20: 0 | BI20: 0 | BJ20: 0 | BK20: 0 | BL20: =SUBTOTAL(9,AZ20:BK20) -> 0 | BM20: 0 | BN20: 0 | BO20: 0 | BP20: 0 | BQ20: 0 | BR20: 0 | BS20: 0 | BT20: 0 | BU20: 0 | BV20: 0 | BW20: 0 | BX20: 0 | BY20: 0 | BZ20: 0 | CA20: =SUBTOTAL(9,BM20:BZ20) -> 0 | CB20: 0 | CC20: 0 | CD20: 0 | CE20: 0 | CF20: 0 | CG20: 0 | CH20: 0 | CI20: 0 | CJ20: =SUBTOTAL(9,CC20:CI20) -> 0 | CK20: 0 | CL20: 0 | CM20: =SUM(CK20:CL20) -> 0 | CN20: 0 | CO20: 0 | CP20: 0 | CQ20: 0 | CR20: 0 | CS20: 0 | CT20: 0 | CU20: 0 | CV20: 0 | CW20: 0 | CX20: 0 | CY20: 0 | CZ20: 0 | DA20: 0 | DB20: 0 | DC20: =SUBTOTAL(9,CN20:DB20) -> 0 | DD20: 0 | DE20: 0 | DF20: 0 | DG20: 0 | DH20: 0 | DI20: 0 | DJ20: 0 | DK20: 0 | DL20: =SUBTOTAL(9,DD20:DK20) -> 0 | DM20: 0 | DN20: 0 | DO20: 0 | DP20: 0 | DQ20: 0 | DR20: 0 | DS20: 0 | DT20: =SUBTOTAL(9,DM20:DS20) -> 0 | DU20: 0 | DV20: 0 | DW20: 0 | DX20: 0 | DY20: 0 | DZ20: =SUBTOTAL(9,DU20:DY20) -> 0 | EA20: =SUM(DT20,DL20,DC20,CM20,CJ20,CA20,BL20,AY20,AU20,AP20,AE20,W20,DZ20) -> 0
B21: เพชรบูรณ์ | C21: 0 | D21: 0 | E21: 0 | F21: 0 | G21: 0 | H21: 0 | I21: 0 | J21: 0 | K21: 0 | L21: 0 | M21: 0 | N21: 0 | O21: 0 | P21: 0 | Q21: 0 | R21: 0 | S21: 0 | T21: 0 | U21: 0 | V21: 0 | W21: =SUBTOTAL(9,C21:V21) -> 0 | X21: 0 | Y21: 0 | Z21: 0 | AA21: 0 | AB21: 0 | AC21: 0 | AD21: 0 | AE21: =SUBTOTAL(9,X21:AD21) -> 0 | AF21: 0 | AG21: 0 | AH21: 0 | AI21: 0 | AJ21: 0 | AK21: 0 | AL21: 0 | AM21: 0 | AN21: 0 | AO21: 0 | AP21: =SUBTOTAL(9,AI21:AO21) -> 0 | AQ21: 0 | AR21: 0 | AS21: 0 | AT21: 0 | AU21: =SUBTOTAL(9,AQ21:AT21) -> 0 | AV21: 0 | AW21: 0 | AX21: 0 | AY21: =SUM(AV21:AX21) -> 0 | AZ21: 0 | BA21: 0 | BB21: 0 | BC21: 0 | BD21: 0 | BE21: 0 | BF21: 0 | BG21: 0 | BH21: 0 | BI21: 0 | BJ21: 0 | BK21: 0 | BL21: =SUBTOTAL(9,AZ21:BK21) -> 0 | BM21: 0 | BN21: 0 | BO21: 0 | BP21: 0 | BQ21: 0 | BR21: 0 | BS21: 0 | BT21: 0 | BU21: 0 | BV21: 0 | BW21: 0 | BX21: 0 | BY21: 0 | BZ21: 0 | CA21: =SUBTOTAL(9,BM21:BZ21) -> 0 | CB21: 0 | CC21: 0 | CD21: 0 | CE21: 0 | CF21: 0 | CG21: 0 | CH21: 0 | CI21: 0 | CJ21: =SUBTOTAL(9,CC21:CI21) -> 0 | CK21: 0 | CL21: 0 | CM21: =SUM(CK21:CL21) -> 0 | CN21: 0 | CO21: 0 | CP21: 0 | CQ21: 0 | CR21: 0 | CS21: 0 | CT21: 0 | CU21: 0 | CV21: 0 | CW21: 0 | CX21: 0 | CY21: 0 | CZ21: 0 | DA21: 0 | DB21: 0 | DC21: =SUBTOTAL(9,CN21:DB21) -> 0 | DD21: 0 | DE21: 0 | DF21: 0 | DG21: 0 | DH21: 0 | DI21: 0 | DJ21: 0 | DK21: 0 | DL21: =SUBTOTAL(9,DD21:DK21) -> 0 | DM21: 0 | DN21: 0 | DO21: 0 | DP21: 0 | DQ21: 0 | DR21: 0 | DS21: 0 | DT21: =SUBTOTAL(9,DM21:DS21) -> 0 | DU21: 0 | DV21: 0 | DW21: 0 | DX21: 0 | DY21: 0 | DZ21: =SUBTOTAL(9,DU21:DY21) -> 0 | EA21: =SUM(DT21,DL21,DC21,CM21,CJ21,CA21,BL21,AY21,AU21,AP21,AE21,W21,DZ21) -> 0
B22: แพร่ | C22: 0 | D22: 0 | E22: 0 | F22: 0 | G22: 0 | H22: 0 | I22: 0 | J22: 0 | K22: 0 | L22: 0 | M22: 0 | N22: 0 | O22: 0 | P22: 0 | Q22: 0 | R22: 0 | S22: 0 | T22: 0 | U22: 0 | V22: 0 | W22: =SUBTOTAL(9,C22:V22) -> 0 | X22: 0 | Y22: 0 | Z22: 0 | AA22: 0 | AB22: 0 | AC22: 0 | AD22: 0 | AE22: =SUBTOTAL(9,X22:AD22) -> 0 | AF22: 0 | AG22: 0 | AH22: 0 | AI22: 0 | AJ22: 0 | AK22: 0 | AL22: 0 | AM22: 0 | AN22: 0 | AO22: 0 | AP22: =SUBTOTAL(9,AI22:AO22) -> 0 | AQ22: 0 | AR22: 0 | AS22: 0 | AT22: 0 | AU22: =SUBTOTAL(9,AQ22:AT22) -> 0 | AV22: 0 | AW22: 0 | AX22: 0 | AY22: =SUM(AV22:AX22) -> 0 | AZ22: 0 | BA22: 0 | BB22: 0 | BC22: 0 | BD22: 0 | BE22: 0 | BF22: 0 | BG22: 0 | BH22: 0 | BI22: 0 | BJ22: 0 | BK22: 0 | BL22: =SUBTOTAL(9,AZ22:BK22) -> 0 | BM22: 0 | BN22: 0 | BO22: 0 | BP22: 0 | BQ22: 0 | BR22: 0 | BS22: 0 | BT22: 0 | BU22: 0 | BV22: 0 | BW22: 0 | BX22: 0 | BY22: 0 | BZ22: 0 | CA22: =SUBTOTAL(9,BM22:BZ22) -> 0 | CB22: 0 | CC22: 0 | CD22: 0 | CE22: 0 | CF22: 0 | CG22: 0 | CH22: 0 | CI22: 0 | CJ22: =SUBTOTAL(9,CC22:CI22) -> 0 | CK22: 0 | CL22: 0 | CM22: =SUM(CK22:CL22) -> 0 | CN22: 0 | CO22: 0 | CP22: 0 | CQ22: 0 | CR22: 0 | CS22: 0 | CT22: 0 | CU22: 0 | CV22: 0 | CW22: 0 | CX22: 0 | CY22: 0 | CZ22: 0 | DA22: 0 | DB22: 0 | DC22: =SUBTOTAL(9,CN22:DB22) -> 0 | DD22: 0 | DE22: 0 | DF22: 0 | DG22: 0 | DH22: 0 | DI22: 0 | DJ22: 0 | DK22: 0 | DL22: =SUBTOTAL(9,DD22:DK22) -> 0 | DM22: 0 | DN22: 0 | DO22: 0 | DP22: 0 | DQ22: 0 | DR22: 0 | DS22: 0 | DT22: =SUBTOTAL(9,DM22:DS22) -> 0 | DU22: 0 | DV22: 0 | DW22: 0 | DX22: 0 | DY22: 0 | DZ22: =SUBTOTAL(9,DU22:DY22) -> 0 | EA22: =SUM(DT22,DL22,DC22,CM22,CJ22,CA22,BL22,AY22,AU22,AP22,AE22,W22,DZ22) -> 0
B23: แม่ฮ่องสอน | C23: 0 | D23: 0 | E23: 0 | F23: 0 | G23: 0 | H23: 0 | I23: 0 | J23: 0 | K23: 0 | L23: 0 | M23: 0 | N23: 0 | O23: 0 | P23: 0 | Q23: 0 | R23: 0 | S23: 0 | T23: 0 | U23: 0 | V23: 0 | W23: =SUBTOTAL(9,C23:V23) -> 0 | X23: 0 | Y23: 0 | Z23: 0 | AA23: 0 | AB23: 0 | AC23: 0 | AD23: 0 | AE23: =SUBTOTAL(9,X23:AD23) -> 0 | AF23: 0 | AG23: 0 | AH23: 0 | AI23: 0 | AJ23: 0 | AK23: 0 | AL23: 0 | AM23: 0 | AN23: 0 | AO23: 0 | AP23: =SUBTOTAL(9,AI23:AO23) -> 0 | AQ23: 0 | AR23: 0 | AS23: 0 | AT23: 0 | AU23: =SUBTOTAL(9,AQ23:AT23) -> 0 | AV23: 0 | AW23: 0 | AX23: 0 | AY23: =SUM(AV23:AX23) -> 0 | AZ23: 0 | BA23: 0 | BB23: 0 | BC23: 0 | BD23: 0 | BE23: 0 | BF23: 0 | BG23: 0 | BH23: 0 | BI23: 0 | BJ23: 0 | BK23: 0 | BL23: =SUBTOTAL(9,AZ23:BK23) -> 0 | BM23: 0 | BN23: 0 | BO23: 0 | BP23: 0 | BQ23: 0 | BR23: 0 | BS23: 0 | BT23: 0 | BU23: 0 | BV23: 0 | BW23: 0 | BX23: 0 | BY23: 0 | BZ23: 0 | CA23: =SUBTOTAL(9,BM23:BZ23) -> 0 | CB23: 0 | CC23: 0 | CD23: 0 | CE23: 0 | CF23: 0 | CG23: 0 | CH23: 0 | CI23: 0 | CJ23: =SUBTOTAL(9,CC23:CI23) -> 0 | CK23: 0 | CL23: 0 | CM23: =SUM(CK23:CL23) -> 0 | CN23: 0 | CO23: 0 | CP23: 0 | CQ23: 0 | CR23: 0 | CS23: 0 | CT23: 0 | CU23: 0 | CV23: 0 | CW23: 0 | CX23: 0 | CY23: 0 | CZ23: 0 | DA23: 0 | DB23: 0 | DC23: =SUBTOTAL(9,CN23:DB23) -> 0 | DD23: 0 | DE23: 0 | DF23: 0 | DG23: 0 | DH23: 0 | DI23: 0 | DJ23: 0 | DK23: 0 | DL23: =SUBTOTAL(9,DD23:DK23) -> 0 | DM23: 0 | DN23: 0 | DO23: 0 | DP23: 0 | DQ23: 0 | DR23: 0 | DS23: 0 | DT23: =SUBTOTAL(9,DM23:DS23) -> 0 | DU23: 0 | DV23: 0 | DW23: 0 | DX23: 0 | DY23: 0 | DZ23: =SUBTOTAL(9,DU23:DY23) -> 0 | EA23: =SUM(DT23,DL23,DC23,CM23,CJ23,CA23,BL23,AY23,AU23,AP23,AE23,W23,DZ23) -> 0
B24: ลำปาง | C24: 0 | D24: 0 | E24: 0 | F24: 0 | G24: 0 | H24: 0 | I24: 0 | J24: 0 | K24: 0 | L24: 0 | M24: 0 | N24: 0 | O24: 0 | P24: 0 | Q24: 0 | R24: 0 | S24: 0 | T24: 0 | U24: 0 | V24: 0 | W24: =SUBTOTAL(9,C24:V24) -> 0 | X24: 0 | Y24: 0 | Z24: 0 | AA24: 0 | AB24: 0 | AC24: 0 | AD24: 0 | AE24: =SUBTOTAL(9,X24:AD24) -> 0 | AF24: 0 | AG24: 0 | AH24: 0 | AI24: 0 | AJ24: 0 | AK24: 0 | AL24: 0 | AM24: 0 | AN24: 0 | AO24: 0 | AP24: =SUBTOTAL(9,AI24:AO24) -> 0 | AQ24: 0 | AR24: 0 | AS24: 0 | AT24: 0 | AU24: =SUBTOTAL(9,AQ24:AT24) -> 0 | AV24: 0 | AW24: 0 | AX24: 0 | AY24: =SUM(AV24:AX24) -> 0 | AZ24: 0 | BA24: 0 | BB24: 0 | BC24: 0 | BD24: 0 | BE24: 0 | BF24: 0 | BG24: 0 | BH24: 0 | BI24: 0 | BJ24: 0 | BK24: 0 | BL24: =SUBTOTAL(9,AZ24:BK24) -> 0 | BM24: 0 | BN24: 0 | BO24: 0 | BP24: 0 | BQ24: 0 | BR24: 0 | BS24: 0 | BT24: 0 | BU24: 0 | BV24: 0 | BW24: 0 | BX24: 0 | BY24: 0 | BZ24: 0 | CA24: =SUBTOTAL(9,BM24:BZ24) -> 0 | CB24: 0 | CC24: 0 | CD24: 0 | CE24: 0 | CF24: 0 | CG24: 0 | CH24: 0 | CI24: 0 | CJ24: =SUBTOTAL(9,CC24:CI24) -> 0 | CK24: 0 | CL24: 0 | CM24: =SUM(CK24:CL24) -> 0 | CN24: 0 | CO24: 0 | CP24: 0 | CQ24: 0 | CR24: 0 | CS24: 0 | CT24: 0 | CU24: 0 | CV24: 0 | CW24: 0 | CX24: 0 | CY24: 0 | CZ24: 0 | DA24: 0 | DB24: 0 | DC24: =SUBTOTAL(9,CN24:DB24) -> 0 | DD24: 0 | DE24: 0 | DF24: 0 | DG24: 0 | DH24: 0 | DI24: 0 | DJ24: 0 | DK24: 0 | DL24: =SUBTOTAL(9,DD24:DK24) -> 0 | DM24: 0 | DN24: 0 | DO24: 0 | DP24: 0 | DQ24: 0 | DR24: 0 | DS24: 0 | DT24: =SUBTOTAL(9,DM24:DS24) -> 0 | DU24: 0 | DV24: 0 | DW24: 0 | DX24: 0 | DY24: 0 | DZ24: =SUBTOTAL(9,DU24:DY24) -> 0 | EA24: =SUM(DT24,DL24,DC24,CM24,CJ24,CA24,BL24,AY24,AU24,AP24,AE24,W24,DZ24) -> 0
... B27: อุทัยธานี | C27: 0 | D27: 0 | E27: 0 | F27: 0 | G27: 0 | H27: 0 | I27: 0 | J27: 0 | K27: 0 | L27: 0 | M27: 0 | N27: 0 | O27: 0 | P27: 0 | Q27: 0 | R27: 0 | S27: 0 | T27: 0 | U27: 0 | V27: 0 | W27: =SUBTOTAL(9,C27:V27) -> 0 | X27: 0 | Y27: 0 | Z27: 0 | AA27: 0 | AB27: 0 | AC27: 0 | AD27: 0 | AE27: =SUBTOTAL(9,X27:AD27) -> 0 | AF27: 0 | AG27: 0 | AH27: 0 | AI27: 0 | AJ27: 0 | AK27: 0 | AL27: 0 | AM27: 0 | AN27: 0 | AO27: 0 | AP27: =SUBTOTAL(9,AI27:AO27) -> 0 | AQ27: 0 | AR27: 0 | AS27: 0 | AT27: 0 | AU27: =SUBTOTAL(9,AQ27:AT27) -> 0 | AV27: 0 | AW27: 0 | AX27: 0 | AY27: =SUM(AV27:AX27) -> 0 | AZ27: 0 | BA27: 0 | BB27: 0 | BC27: 0 | BD27: 0 | BE27: 0 | BF27: 0 | BG27: 0 | BH27: 0 | BI27: 0 | BJ27: 0 | BK27: 0 | BL27: =SUBTOTAL(9,AZ27:BK27) -> 0 | BM27: 0 | BN27: 0 | BO27: 0 | BP27: 0 | BQ27: 0 | BR27: 0 | BS27: 0 | BT27: 0 | BU27: 0 | BV27: 0 | BW27: 0 | BX27: 0 | BY27: 0 | BZ27: 0 | CA27: =SUBTOTAL(9,BM27:BZ27) -> 0 | CB27: 0 | CC27: 0 | CD27: 0 | CE27: 0 | CF27: 0 | CG27: 0 | CH27: 0 | CI27: 0 | CJ27: =SUBTOTAL(9,CC27:CI27) -> 0 | CK27: 0 | CL27: 0 | CM27: =SUM(CK27:CL27) -> 0 | CN27: 0 | CO27: 0 | CP27: 0 | CQ27: 0 | CR27: 0 | CS27: 0 | CT27: 0 | CU27: 0 | CV27: 0 | CW27: 0 | CX27: 0 | CY27: 0 | CZ27: 0 | DA27: 0 | DB27: 0 | DC27: =SUBTOTAL(9,CN27:DB27) -> 0 | DD27: 0 | DE27: 0 | DF27: 0 | DG27: 0 | DH27: 0 | DI27: 0 | DJ27: 0 | DK27: 0 | DL27: =SUBTOTAL(9,DD27:DK27) -> 0 | DM27: 0 | DN27: 0 | DO27: 0 | DP27: 0 | DQ27: 0 | DR27: 0 | DS27: 0 | DT27: =SUBTOTAL(9,DM27:DS27) -> 0 | DU27: 0 | DV27: 0 | DW27: 0 | DX27: 0 | DY27: 0 | DZ27: =SUBTOTAL(9,DU27:DY27) -> 0 | EA27: =SUM(DT27,DL27,DC27,CM27,CJ27,CA27,BL27,AY27,AU27,AP27,AE27,W27,DZ27) -> 0
B28: อุตรดิตถ์ | C28: 0 | D28: 0 | E28: 0 | F28: 0 | G28: 0 | H28: 0 | I28: 0 | J28: 0 | K28: 0 | L28: 0 | M28: 0 | N28: 0 | O28: 0 | P28: 0 | Q28: 0 | R28: 0 | S28: 0 | T28: 0 | U28: 0 | V28: 0 | W28: =SUBTOTAL(9,C28:V28) -> 0 | X28: 0 | Y28: 0 | Z28: 0 | AA28: 0 | AB28: 0 | AC28: 0 | AD28: 0 | AE28: =SUBTOTAL(9,X28:AD28) -> 0 | AF28: 0 | AG28: 0 | AH28: 0 | AI28: 0 | AJ28: 0 | AK28: 0 | AL28: 0 | AM28: 0 | AN28: 0 | AO28: 0 | AP28: =SUBTOTAL(9,AI28:AO28) -> 0 | AQ28: 0 | AR28: 0 | AS28: 0 | AT28: 0 | AU28: =SUBTOTAL(9,AQ28:AT28) -> 0 | AV28: =SUM(AR28:AR28) -> 0 | AW28: 0 | AX28: =SUM(AU28:AU28) -> 0 | AY28: =SUM(AV28:AX28) -> 0 | AZ28: 0 | BA28: 0 | BB28: 0 | BC28: 0 | BD28: 0 | BE28: 0 | BF28: 0 | BG28: 0 | BH28: 0 | BI28: 0 | BJ28: 0 | BK28: 0 | BL28: =SUBTOTAL(9,AZ28:BK28) -> 0 | BM28: 0 | BN28: 0 | BO28: 0 | BP28: 0 | BQ28: 0 | BR28: 0 | BS28: 0 | BT28: 0 | BU28: 0 | BV28: 0 | BW28: 0 | BX28: 0 | BY28: 0 | BZ28: 0 | CA28: =SUBTOTAL(9,BM28:BZ28) -> 0 | CB28: 0 | CC28: 0 | CD28: 0 | CE28: 0 | CF28: 0 | CG28: 0 | CH28: 0 | CI28: 0 | CJ28: =SUBTOTAL(9,CC28:CI28) -> 0 | CK28: 0 | CL28: 0 | CM28: =SUM(CK28:CL28) -> 0 | CN28: 0 | CO28: 0 | CP28: 0 | CQ28: 0 | CR28: 0 | CS28: 0 | CT28: 0 | CU28: 0 | CV28: 0 | CW28: 0 | CX28: 0 | CY28: 0 | CZ28: 0 | DA28: 0 | DB28: 0 | DC28: =SUBTOTAL(9,CN28:DB28) -> 0 | DD28: 0 | DE28: 0 | DF28: 0 | DG28: 0 | DH28: 0 | DI28: 0 | DJ28: 0 | DK28: 0 | DL28: =SUBTOTAL(9,DD28:DK28) -> 0 | DM28: 0 | DN28: 0 | DO28: 0 | DP28: 0 | DQ28: 0 | DR28: 0 | DS28: 0 | DT28: =SUBTOTAL(9,DM28:DS28) -> 0 | DU28: 0 | DV28: 0 | DW28: 0 | DX28: 0 | DY28: 0 | DZ28: =SUBTOTAL(9,DU28:DY28) -> 0 | EA28: =SUM(DT28,DL28,DC28,CM28,CJ28,CA28,BL28,AY28,AU28,AP28,AE28,W28,DZ28) -> 0
A29: ภาคตะวันออกเฉียงเหนือ 15 จังหวัด | C29: =SUM(C30:C49) -> 0 | D29: =SUM(D30:D49) -> 0 | E29: =SUM(E30:E49) -> 15 | F29: =SUM(F30:F49) -> 0 | G29: =SUM(G30:G49) -> 0 | H29: =SUM(H30:H49) -> 0 | I29: =SUM(I30:I49) -> 0 | J29: =SUM(J30:J49) -> 0 | ... CM29: =SUM(CM30:CM49) -> 0 | CN29: =SUM(CN31:CN49) -> 0 | CO29: =SUM(CO31:CO49) -> 0 | CP29: =SUM(CP31:CP49) -> 0 | CQ29: =SUM(CQ30:CQ49) -> 0 | CR29: =SUM(CR30:CR49) -> 0 | CS29: =SUM(CS30:CS49) -> 0 | CT29: =SUM(CT30:CT49) -> 0 | CU29: =SUM(CU30:CU49) -> 0 | CV29: =SUM(CV30:CV49) -> 0 | CW29: =SUM(CW30:CW49) -> 0 | CX29: =SUM(CX30:CX49) -> 0 | ... DZ29: =SUM(DZ30:DZ49) -> 0 | EA29: =SUM(DT29,DL29,DC29,CM29,CJ29,CA29,BL29,AY29,AU29,AP29,AE29,W29,DZ29) -> 13915.72
B30: กาฬสินธุ์ | C30: 0 | D30: 0 | E30: 0 | F30: 0 | G30: 0 | H30: 0 | I30: 0 | J30: 0 | K30: 0 | L30: 0 | M30: 0 | N30: 0 | O30: 0 | P30: 0 | Q30: 0 | R30: 0 | S30: 0 | T30: 0 | U30: 0 | V30: 0 | W30: =SUBTOTAL(9,C30:V30) -> 0 | X30: 0 | Y30: 0 | Z30: 0 | AA30: 0 | AB30: 0 | AC30: 0 | AD30: 0 | AE30: =SUBTOTAL(9,X30:AD30) -> 0 | AF30: 0 | AG30: 0 | AH30: 0 | AI30: 0 | AJ30: 0 | AK30: 0 | AL30: 0 | AM30: 0 | AN30: 0 | AO30: 0 | AP30: =SUBTOTAL(9,AI30:AO30) -> 0 | AQ30: 0 | AR30: 0 | AT30: 0 | AU30: =SUBTOTAL(9,AQ30:AT30) -> 0 | AV30: 0 | AW30: 0 | AX30: 0 | AY30: =SUM(AV30:AX30) -> 0 | AZ30: 0 | BA30: 0 | BB30: 0 | BC30: 0 | BD30: 0 | BE30: 0 | BF30: 0 | BG30: 0 | BH30: 0 | BI30: 0 | BJ30: 0 | BK30: 0 | BL30: =SUBTOTAL(9,AZ30:BK30) -> 0 | BM30: 0 | BN30: 0 | BO30: 0 | BP30: 0 | BQ30: 0 | BR30: 0 | BS30: 0 | BT30: 0 | BU30: 0 | BV30: 0 | BW30: 0 | BX30: 0 | BY30: 0 | BZ30: 0 | CA30: =SUBTOTAL(9,BM30:BZ30) -> 0 | CB30: 0 | CC30: 0 | CD30: 0 | CE30: 0 | CF30: 0 | CG30: 0 | CH30: 0 | CI30: 0 | CJ30: =SUBTOTAL(9,CC30:CI30) -> 0 | CK30: 0 | CL30: 0 | CM30: =SUM(CK30:CL30) -> 0 | CN30: 0 | CO30: 0 | CP30: 0 | CQ30: 0 | CR30: 0 | CS30: 0 | CT30: 0 | CV30: 0 | CW30: 0 | CX30: 0 | CY30: 0 | CZ30: 0 | DA30: 0 | DB30: 0 | DC30: =SUBTOTAL(9,CN30:DB30) -> 0 | DD30: 0 | DE30: 0 | DF30: 0 | DG30: 0 | DH30: 0 | DI30: 0 | DJ30: 0 | DK30: 0 | DL30: =SUBTOTAL(9,DD30:DK30) -> 0 | DM30: 0 | DN30: 0 | DO30: 0 | DP30: 0 | DQ30: 0 | DR30: 0 | DS30: 0 | DT30: =SUBTOTAL(9,DM30:DS30) -> 0 | DU30: 0 | DV30: 0 | DW30: 0 | DX30: 0 | DY30: 0 | DZ30: =SUBTOTAL(9,DU30:DY30) -> 0 | EA30: =SUM(DT30,DL30,DC30,CM30,CJ30,CA30,BL30,AY30,AU30,AP30,AE30,W30,DZ30) -> 0
B31: ขอนแก่น | C31: 0 | D31: 0 | E31: 0 | F31: 0 | G31: 0 | H31: 0 | I31: 0 | J31: 0 | K31: 0 | L31: 0 | M31: 0 | N31: 0 | O31: 0 | P31: 0 | Q31: 0 | R31: 0 | S31: 0 | T31: 0 | U31: 0 | V31: 0 | W31: =SUBTOTAL(9,C31:V31) -> 0 | X31: 0 | Y31: 0 | Z31: 0 | AA31: 0 | AB31: 0 | AC31: 0 | AD31: 0 | AE31: =SUBTOTAL(9,X31:AD31) -> 0 | AF31: 0 | AG31: 0 | AH31: 0 | AI31: 0 | AJ31: 0 | AK31: 0 | AL31: 0 | AM31: 0 | AN31: 0 | AO31: 0 | AP31: =SUBTOTAL(9,AI31:AO31) -> 0 | AQ31: 0 | AR31: 0 | AS31: 0 | AT31: 0 | AU31: =SUBTOTAL(9,AQ31:AT31) -> 0 | AV31: 0 | AW31: 0 | AX31: 0 | AY31: =SUM(AV31:AX31) -> 0 | AZ31: 0 | BA31: 0 | BB31: 0 | BC31: 0 | BD31: 0 | BE31: 0 | BF31: 0 | BG31: 0 | BH31: 0 | BI31: 0 | BJ31: 0 | BK31: 0 | BL31: =SUBTOTAL(9,AZ31:BK31) -> 0 | BM31: 0 | BN31: 0 | BO31: 0 | BP31: 0 | BQ31: 0 | BR31: 0 | BS31: 0 | BT31: 0 | BU31: 0 | BV31: 0 | BW31: 0 | BX31: 0 | BY31: 0 | BZ31: 0 | CA31: =SUBTOTAL(9,BM31:BZ31) -> 0 | CB31: 0 | CC31: 0 | CD31: 0 | CE31: 0 | CF31: 0 | CG31: 0 | CH31: 0 | CI31: 0 | CJ31: =SUBTOTAL(9,CC31:CI31) -> 0 | CK31: 0 | CL31: 0 | CM31: =SUM(CK31:CL31) -> 0 | CN31: 0 | CO31: 0 | CP31: 0 | CQ31: 0 | CR31: 0 | CS31: 0 | CT31: 0 | CV31: 0 | CW31: 0 | CX31: 0 | CY31: 0 | CZ31: 0 | DA31: 0 | DB31: 0 | DC31: =SUBTOTAL(9,CN31:DB31) -> 0 | DD31: 0 | DE31: 0 | DF31: 0 | DG31: 0 | DH31: 0 | DI31: 0 | DJ31: 0 | DK31: 0 | DL31: =SUBTOTAL(9,DD31:DK31) -> 0 | DM31: 0 | DN31: 0 | DO31: 0 | DP31: 0 | DQ31: 0 | DR31: 0 | DS31: 0 | DT31: =SUBTOTAL(9,DM31:DS31) -> 0 | DU31: 0 | DV31: 0 | DW31: 0 | DX31: 0 | DY31: 0 | DZ31: =SUBTOTAL(9,DU31:DY31) -> 0 | EA31: =SUM(DT31,DL31,DC31,CM31,CJ31,CA31,BL31,AY31,AU31,AP31,AE31,W31,DZ31) -> 0
B32: ชัยภูมิ | C32: 0 | D32: 0 | E32: 0 | F32: 0 | G32: 0 | H32: 0 | I32: 0 | J32: 0 | K32: 0 | L32: 0 | M32: 0 | N32: 0 | O32: 0 | P32: 0 | Q32: 0 | R32: 0 | S32: 0 | T32: 0 | U32: 0 | V32: 0 | W32: =SUBTOTAL(9,C32:V32) -> 0 | X32: 0 | Y32: 0 | Z32: 0 | AA32: 0 | AB32: 0 | AC32: 0 | AD32: 0 | AE32: =SUBTOTAL(9,X32:AD32) -> 0 | AF32: 0 | AG32: 0 | AH32: 0 | AI32: 0 | AJ32: 0 | AK32: 0 | AL32: 0 | AM32: 0 | AN32: 0 | AO32: 0 | AP32: =SUBTOTAL(9,AI32:AO32) -> 0 | AQ32: 0 | AR32: 0 | AS32: 0 | AT32: 0 | AU32: =SUBTOTAL(9,AQ32:AT32) -> 0 | AV32: 0 | AW32: 0 | AX32: 0 | AY32: =SUM(AV32:AX32) -> 0 | AZ32: 0 | BA32: 0 | BB32: 0 | BC32: 0 | BD32: 0 | BE32: 0 | BF32: 0 | BG32: 0 | BH32: 0 | BI32: 0 | BJ32: 0 | BK32: 0 | BL32: =SUBTOTAL(9,AZ32:BK32) -> 0 | BM32: 0 | BN32: 0 | BO32: 0 | BP32: 0 | BQ32: 0 | BR32: 0 | BS32: 0 | BT32: 0 | BU32: 0 | BV32: 0 | BW32: 0 | BX32: 0 | BY32: 0 | BZ32: 0 | CA32: =SUBTOTAL(9,BM32:BZ32) -> 0 | CB32: 0 | CC32: 0 | CD32: 0 | CE32: 0 | CF32: 0 | CG32: 0 | CH32: 0 | CI32: 0 | CJ32: =SUBTOTAL(9,CC32:CI32) -> 0 | CK32: 0 | CL32: 0 | CM32: =SUM(CK32:CL32) -> 0 | CN32: 0 | CO32: 0 | CP32: 0 | CQ32: 0 | CR32: 0 | CS32: 0 | CT32: 0 | CV32: 0 | CW32: 0 | CX32: 0 | CY32: 0 | CZ32: 0 | DA32: 0 | DB32: 0 | DC32: =SUBTOTAL(9,CN32:DB32) -> 0 | DD32: 0 | DE32: 0 | DF32: 0 | DG32: 0 | DH32: 0 | DI32: 0 | DJ32: 0 | DK32: 0 | DL32: =SUBTOTAL(9,DD32:DK32) -> 0 | DM32: 0 | DN32: 0 | DO32: 0 | DP32: 0 | DQ32: 0 | DR32: 0 | DS32: 0 | DT32: =SUBTOTAL(9,DM32:DS32) -> 0 | DU32: 0 | DV32: 0 | DW32: 0 | DX32: 0 | DY32: 0 | DZ32: =SUBTOTAL(9,DU32:DY32) -> 0 | EA32: =SUM(DT32,DL32,DC32,CM32,CJ32,CA32,BL32,AY32,AU32,AP32,AE32,W32,DZ32) -> 0
B33: นครพนม | C33: 0 | D33: 0 | E33: 0 | F33: 0 | G33: 0 | H33: 0 | I33: 0 | J33: 0 | K33: 0 | L33: 0 | M33: 0 | N33: 0 | O33: 0 | P33: 0 | Q33: 0 | R33: 0 | S33: 0 | T33: 0 | U33: 0 | V33: 0 | W33: =SUBTOTAL(9,C33:V33) -> 0 | X33: 0 | Y33: 0 | Z33: 0 | AA33: 0 | AB33: 0 | AC33: 0 | AD33: 0 | AE33: =SUBTOTAL(9,X33:AD33) -> 0 | AF33: 0 | AG33: 0 | AH33: 0 | AI33: 0 | AJ33: 0 | AK33: 0 | AL33: 0 | AM33: 0 | AN33: 0 | AO33: 0 | AP33: =SUBTOTAL(9,AI33:AO33) -> 0 | AQ33: 0 | AR33: 0 | AS33: 0 | AT33: 0 | AU33: =SUBTOTAL(9,AQ33:AT33) -> 0 | AV33: 0 | AW33: 0 | AX33: 0 | AY33: =SUM(AV33:AX33) -> 0 | AZ33: 0 | BA33: 0 | BB33: 0 | BC33: 0 | BD33: 0 | BE33: 0 | BF33: 0 | BG33: 0 | BH33: 0 | BI33: 0 | BJ33: 0 | BK33: 0 | BL33: =SUBTOTAL(9,AZ33:BK33) -> 0 | BM33: 0 | BN33: 0 | BO33: 0 | BP33: 0 | BQ33: 0 | BR33: 0 | BS33: 0 | BT33: 0 | BU33: 0 | BV33: 0 | BW33: 0 | BX33: 0 | BY33: 0 | BZ33: 0 | CA33: =SUBTOTAL(9,BM33:BZ33) -> 0 | CB33: 0 | CC33: 0 | CD33: 0 | CE33: 0 | CF33: 0 | CG33: 0 | CH33: 0 | CI33: 0 | CJ33: =SUBTOTAL(9,CC33:CI33) -> 0 | CK33: 0 | CL33: 0 | CM33: =SUM(CK33:CL33) -> 0 | CN33: 0 | CO33: 0 | CP33: 0 | CQ33: 0 | CR33: 0 | CS33: 0 | CT33: 0 | CV33: 0 | CW33: 0 | CX33: 0 | CY33: 0 | CZ33: 0 | DA33: 0 | DB33: 0 | DC33: =SUBTOTAL(9,CN33:DB33) -> 0 | DD33: 0 | DE33: 0 | DF33: 0 | DG33: 0 | DH33: 0 | DI33: 0 | DJ33: 0 | DK33: 0 | DL33: =SUBTOTAL(9,DD33:DK33) -> 0 | DM33: 0 | DN33: 0 | DO33: 0 | DP33: 0 | DQ33: 0 | DR33: 0 | DS33: 0 | DT33: =SUBTOTAL(9,DM33:DS33) -> 0 | DU33: 0 | DV33: 0 | DW33: 0 | DX33: 0 | DY33: 0 | DZ33: =SUBTOTAL(9,DU33:DY33) -> 0 | EA33: =SUM(DT33,DL33,DC33,CM33,CJ33,CA33,BL33,AY33,AU33,AP33,AE33,W33,DZ33) -> 0
B34: นครราชสีมา | C34: 0 | D34: 0 | E34: 15 | F34: 0 | G34: 0 | H34: 0 | I34: 0 | J34: 0 | K34: 0 | L34: 0 | M34: 0 | N34: 0 | O34: 0 | P34: 0 | Q34: 0 | R34: 0 | S34: 0 | T34: 0 | U34: 0 | V34: 0 | W34: =SUBTOTAL(9,C34:V34) -> 15 | X34: 0 | Y34: 0 | Z34: 0 | AA34: 0 | AB34: 0 | AC34: 0 | AD34: 0 | AE34: =SUBTOTAL(9,X34:AD34) -> 0 | AF34: 0 | AG34: 0 | AH34: 0 | AI34: 0 | AJ34: 0 | AK34: 0 | AL34: 0 | AM34: 0 | AN34: 0 | AO34: 0 | AP34: =SUBTOTAL(9,AI34:AO34) -> 0 | AQ34: 0 | AR34: 0 | AS34: 0 | AT34: 0 | AU34: =SUBTOTAL(9,AQ34:AT34) -> 0 | AV34: 0 | AW34: 0 | AX34: 0 | AY34: =SUM(AV34:AX34) -> 0 | AZ34: 0 | BA34: 0 | BB34: 0 | BC34: 0 | BD34: 0 | BE34: 0 | BF34: 0 | BG34: 0 | BH34: 0 | BI34: 0 | BJ34: 13805.72 | BK34: 0 | BL34: =SUBTOTAL(9,AZ34:BK34) -> 13805.72 | BM34: 0 | BN34: 0 | BO34: 0 | BP34: 0 | BQ34: 0 | BR34: 0 | BS34: 0 | BT34: 0 | BU34: 0 | BV34: 0 | BW34: 0 | BX34: 0 | BY34: 0 | BZ34: 0 | CA34: =SUBTOTAL(9,BM34:BZ34) -> 0 | CB34: 0 | CC34: 0 | CD34: 0 | CE34: 0 | CF34: 0 | CG34: 0 | CH34: 0 | CI34: 0 | CJ34: =SUBTOTAL(9,CC34:CI34) -> 0 | CK34: 0 | CL34: 0 | CM34: =SUM(CK34:CL34) -> 0 | CN34: 0 | CO34: 0 | CP34: 0 | CQ34: 0 | CR34: 0 | CS34: 0 | CT34: 0 | CV34: 0 | CW34: 0 | CX34: 0 | CY34: 0 | CZ34: 0 | DA34: 0 | DB34: 0 | DC34: =SUBTOTAL(9,CN34:DB34) -> 0 | DD34: 0 | DE34: 0 | DF34: 0 | DG34: 0 | DH34: 0 | DI34: 0 | DJ34: 0 | DK34: 0 | DL34: =SUBTOTAL(9,DD34:DK34) -> 0 | DM34: 0 | DN34: 0 | DO34: 0 | DP34: 0 | DQ34: 0 | DR34: 0 | DS34: 0 | DT34: =SUBTOTAL(9,DM34:DS34) -> 0 | DU34: 0 | DV34: 0 | DW34: 0 | DX34: 0 | DY34: 0 | DZ34: =SUBTOTAL(9,DU34:DY34) -> 0 | EA34: =SUM(DT34,DL34,DC34,CM34,CJ34,CA34,BL34,AY34,AU34,AP34,AE34,W34,DZ34) -> 13820.72
B35: บึงกาฬ | C35: 0 | D35: 0 | E35: 0 | F35: 0 | G35: 0 | H35: 0 | I35: 0 | J35: 0 | K35: 0 | L35: 0 | M35: 0 | N35: 0 | O35: 0 | P35: 0 | Q35: 0 | R35: 0 | S35: 0 | T35: 0 | U35: 0 | V35: 0 | W35: =SUBTOTAL(9,C35:V35) -> 0 | X35: 0 | Y35: 0 | Z35: 0 | AA35: 0 | AB35: 0 | AC35: 0 | AD35: 0 | AE35: =SUBTOTAL(9,X35:AD35) -> 0 | AF35: 0 | AG35: 0 | AH35: 0 | AI35: 0 | AJ35: 0 | AK35: 0 | AL35: 0 | AM35: 0 | AN35: 0 | AO35: 0 | AP35: =SUBTOTAL(9,AI35:AO35) -> 0 | AQ35: 0 | AR35: 0 | AS35: 0 | AT35: 0 | AU35: =SUBTOTAL(9,AQ35:AT35) -> 0 | AV35: 0 | AW35: 0 | AX35: 0 | AY35: =SUM(AV35:AX35) -> 0 | AZ35: 0 | BA35: 0 | BB35: 0 | BC35: 0 | BD35: 0 | BE35: 0 | BF35: 0 | BG35: 0 | BH35: 0 | BI35: 0 | BJ35: 0 | BK35: 0 | BL35: =SUBTOTAL(9,AZ35:BK35) -> 0 | BM35: 0 | BN35: 0 | BO35: 0 | BP35: 0 | BQ35: 0 | BR35: 0 | BS35: 0 | BT35: 0 | BU35: 0 | BV35: 0 | BW35: 0 | BX35: 0 | BY35: 0 | BZ35: 0 | CA35: =SUBTOTAL(9,BM35:BZ35) -> 0 | CB35: 0 | CC35: 0 | CD35: 0 | CE35: 0 | CF35: 0 | CG35: 0 | CH35: 0 | CI35: 0 | CJ35: =SUBTOTAL(9,CC35:CI35) -> 0 | CK35: 0 | CL35: 0 | CM35: =SUM(CK35:CL35) -> 0 | CN35: 0 | CO35: 0 | CP35: 0 | CQ35: 0 | CR35: 0 | CS35: 0 | CT35: 0 | CV35: 0 | CW35: 0 | CX35: 0 | CY35: 0 | CZ35: 0 | DA35: 0 | DB35: 0 | DC35: =SUBTOTAL(9,CN35:DB35) -> 0 | DD35: 0 | DE35: 0 | DF35: 0 | DG35: 0 | DH35: 0 | DI35: 0 | DJ35: 0 | DK35: 0 | DL35: =SUBTOTAL(9,DD35:DK35) -> 0 | DM35: 0 | DN35: 0 | DO35: 0 | DP35: 0 | DQ35: 0 | DR35: 0 | DS35: 0 | DT35: =SUBTOTAL(9,DM35:DS35) -> 0 | DU35: 0 | DV35: 0 | DW35: 0 | DX35: 0 | DY35: 0 | DZ35: =SUBTOTAL(9,DU35:DY35) -> 0 | EA35: =SUM(DT35,DL35,DC35,CM35,CJ35,CA35,BL35,AY35,AU35,AP35,AE35,W35,DZ35) -> 0
B36: บุรีรัมย์ | C36: 0 | D36: 0 | E36: 0 | F36: 0 | G36: 0 | H36: 0 | I36: 0 | J36: 0 | K36: 0 | L36: 0 | M36: 0 | N36: 0 | O36: 0 | P36: 0 | Q36: 0 | R36: 0 | S36: 0 | T36: 0 | U36: 0 | V36: 0 | W36: =SUBTOTAL(9,C36:V36) -> 0 | X36: 0 | Y36: 0 | Z36: 0 | AA36: 0 | AB36: 0 | AC36: 0 | AD36: 0 | AE36: =SUBTOTAL(9,X36:AD36) -> 0 | AF36: 0 | AG36: 0 | AH36: 0 | AI36: 0 | AJ36: 0 | AK36: 0 | AL36: 0 | AM36: 0 | AN36: 0 | AO36: 0 | AP36: =SUBTOTAL(9,AI36:AO36) -> 0 | AQ36: 0 | AR36: 0 | AS36: 0 | AT36: 0 | AU36: =SUBTOTAL(9,AQ36:AT36) -> 0 | AV36: 0 | AW36: 0 | AX36: 0 | AY36: =SUM(AV36:AX36) -> 0 | AZ36: 0 | BA36: 0 | BB36: 0 | BC36: 0 | BD36: 0 | BE36: 0 | BF36: 0 | BG36: 0 | BH36: 0 | BI36: 0 | BJ36: 0 | BK36: 0 | BL36: =SUBTOTAL(9,AZ36:BK36) -> 0 | BM36: 0 | BN36: 0 | BO36: 0 | BP36: 0 | BQ36: 0 | BR36: 0 | BS36: 0 | BT36: 0 | BU36: 0 | BV36: 0 | BW36: 0 | BX36: 0 | BY36: 0 | BZ36: 0 | CA36: =SUBTOTAL(9,BM36:BZ36) -> 0 | CB36: 0 | CC36: 0 | CD36: 0 | CE36: 0 | CF36: 0 | CG36: 0 | CH36: 0 | CI36: 0 | CJ36: =SUBTOTAL(9,CC36:CI36) -> 0 | CK36: 0 | CL36: 0 | CM36: =SUM(CK36:CL36) -> 0 | CN36: 0 | CO36: 0 | CP36: 0 | CQ36: 0 | CR36: 0 | CS36: 0 | CT36: 0 | CV36: 0 | CW36: 0 | CX36: 0 | CY36: 0 | CZ36: 0 | DA36: 0 | DB36: 0 | DC36: =SUBTOTAL(9,CN36:DB36) -> 0 | DD36: 0 | DE36: 0 | DF36: 0 | DG36: 0 | DH36: 0 | DI36: 0 | DJ36: 0 | DK36: 0 | DL36: =SUBTOTAL(9,DD36:DK36) -> 0 | DM36: 0 | DN36: 0 | DO36: 0 | DP36: 0 | DQ36: 0 | DR36: 0 | DS36: 0 | DT36: =SUBTOTAL(9,DM36:DS36) -> 0 | DU36: 0 | DV36: 0 | DW36: 0 | DX36: 0 | DY36: 0 | DZ36: =SUBTOTAL(9,DU36:DY36) -> 0 | EA36: =SUM(DT36,DL36,DC36,CM36,CJ36,CA36,BL36,AY36,AU36,AP36,AE36,W36,DZ36) -> 0
B37: มหาสารคาม | C37: 0 | D37: 0 | E37: 0 | F37: 0 | G37: 0 | H37: 0 | I37: 0 | J37: 0 | K37: 0 | L37: 0 | M37: 0 | N37: 0 | O37: 0 | P37: 0 | Q37: 0 | R37: 0 | S37: 0 | T37: 0 | U37: 0 | V37: 0 | W37: =SUBTOTAL(9,C37:V37) -> 0 | X37: 0 | Y37: 0 | Z37: 0 | AA37: 0 | AB37: 0 | AC37: 0 | AD37: 0 | AE37: =SUBTOTAL(9,X37:AD37) -> 0 | AF37: 0 | AG37: 0 | AH37: 0 | AI37: 0 | AJ37: 0 | AK37: 0 | AL37: 0 | AM37: 0 | AN37: 0 | AO37: 0 | AP37: =SUBTOTAL(9,AI37:AO37) -> 0 | AQ37: 0 | AR37: 0 | AS37: 0 | AT37: 0 | AU37: =SUBTOTAL(9,AQ37:AT37) -> 0 | AV37: 0 | AW37: 0 | AX37: 0 | AY37: =SUM(AV37:AX37) -> 0 | AZ37: 0 | BA37: 0 | BB37: 0 | BC37: 0 | BD37: 0 | BE37: 0 | BF37: 0 | BG37: 0 | BH37: 0 | BI37: 0 | BJ37: 0 | BK37: 0 | BL37: =SUBTOTAL(9,AZ37:BK37) -> 0 | BM37: 0 | BN37: 0 | BO37: 0 | BP37: 0 | BQ37: 0 | BR37: 0 | BS37: 0 | BT37: 0 | BU37: 0 | BV37: 0 | BW37: 0 | BX37: 0 | BY37: 0 | BZ37: 0 | CA37: =SUBTOTAL(9,BM37:BZ37) -> 0 | CB37: 0 | CC37: 0 | CD37: 0 | CE37: 0 | CF37: 0 | CG37: 0 | CH37: 0 | CI37: 0 | CJ37: =SUBTOTAL(9,CC37:CI37) -> 0 | CK37: 0 | CL37: 0 | CM37: =SUM(CK37:CL37) -> 0 | CN37: 0 | CO37: 0 | CP37: 0 | CQ37: 0 | CR37: 0 | CS37: 0 | CT37: 0 | CV37: 0 | CW37: 0 | CX37: 0 | CY37: 0 | CZ37: 0 | DA37: 0 | DB37: 0 | DC37: =SUBTOTAL(9,CN37:DB37) -> 0 | DD37: 0 | DE37: 0 | DF37: 0 | DG37: 0 | DH37: 0 | DI37: 0 | DJ37: 0 | DK37: 0 | DL37: =SUBTOTAL(9,DD37:DK37) -> 0 | DM37: 0 | DN37: 0 | DO37: 0 | DP37: 0 | DQ37: 0 | DR37: 0 | DS37: 0 | DT37: =SUBTOTAL(9,DM37:DS37) -> 0 | DU37: 0 | DV37: 0 | DW37: 0 | DX37: 0 | DY37: 0 | DZ37: =SUBTOTAL(9,DU37:DY37) -> 0 | EA37: =SUM(DT37,DL37,DC37,CM37,CJ37,CA37,BL37,AY37,AU37,AP37,AE37,W37,DZ37) -> 0
B38: มุกดาหาร | C38: 0 | D38: 0 | E38: 0 | F38: 0 | G38: 0 | H38: 0 | I38: 0 | J38: 0 | K38: 0 | L38: 0 | M38: 0 | N38: 0 | O38: 0 | P38: 0 | Q38: 0 | R38: 0 | S38: 0 | T38: 0 | U38: 0 | V38: 0 | W38: =SUBTOTAL(9,C38:V38) -> 0 | X38: 0 | Y38: 0 | Z38: 0 | AA38: 0 | AB38: 0 | AC38: 0 | AD38: 0 | AE38: =SUBTOTAL(9,X38:AD38) -> 0 | AF38: 0 | AG38: 0 | AH38: 0 | AI38: 0 | AJ38: 0 | AK38: 0 | AL38: 0 | AM38: 0 | AN38: 0 | AO38: 0 | AP38: =SUBTOTAL(9,AI38:AO38) -> 0 | AQ38: 0 | AR38: 0 | AS38: 0 | AT38: 0 | AU38: =SUBTOTAL(9,AQ38:AT38) -> 0 | AV38: 0 | AW38: 0 | AX38: 0 | AY38: =SUM(AV38:AX38) -> 0 | AZ38: 0 | BA38: 0 | BB38: 0 | BC38: 0 | BD38: 0 | BE38: 0 | BF38: 0 | BG38: 0 | BH38: 0 | BI38: 0 | BJ38: 0 | BK38: 0 | BL38: =SUBTOTAL(9,AZ38:BK38) -> 0 | BM38: 0 | BN38: 0 | BO38: 0 | BP38: 0 | BQ38: 0 | BR38: 0 | BS38: 0 | BT38: 0 | BU38: 0 | BV38: 0 | BW38: 0 | BX38: 0 | BY38: 0 | BZ38: 0 | CA38: =SUBTOTAL(9,BM38:BZ38) -> 0 | CB38: 0 | CC38: 0 | CD38: 0 | CE38: 0 | CF38: 0 | CG38: 0 | CH38: 0 | CI38: 0 | CJ38: =SUBTOTAL(9,CC38:CI38) -> 0 | CK38: 0 | CL38: 0 | CM38: =SUM(CK38:CL38) -> 0 | CN38: 0 | CO38: 0 | CP38: 0 | CQ38: 0 | CR38: 0 | CS38: 0 | CT38: 0 | CV38: 0 | CW38: 0 | CX38: 0 | CY38: 0 | CZ38: 0 | DA38: 0 | DB38: 0 | DC38: =SUBTOTAL(9,CN38:DB38) -> 0 | DD38: 0 | DE38: 0 | DF38: 0 | DG38: 0 | DH38: 0 | DI38: 0 | DJ38: 0 | DK38: 0 | DL38: =SUBTOTAL(9,DD38:DK38) -> 0 | DM38: 0 | DN38: 0 | DO38: 0 | DP38: 0 | DQ38: 0 | DR38: 0 | DS38: 0 | DT38: =SUBTOTAL(9,DM38:DS38) -> 0 | DU38: 0 | DV38: 0 | DW38: 0 | DX38: 0 | DY38: 0 | DZ38: =SUBTOTAL(9,DU38:DY38) -> 0 | EA38: =SUM(DT38,DL38,DC38,CM38,CJ38,CA38,BL38,AY38,AU38,AP38,AE38,W38,DZ38) -> 0
B39: ยโสธร | C39: 0 | D39: 0 | E39: 0 | F39: 0 | G39: 0 | H39: 0 | I39: 0 | J39: 0 | K39: 0 | L39: 0 | M39: 0 | N39: 0 | O39: 0 | P39: 0 | Q39: 0 | R39: 0 | S39: 0 | T39: 0 | U39: 0 | V39: 0 | W39: =SUBTOTAL(9,C39:V39) -> 0 | X39: 0 | Y39: 0 | Z39: 0 | AA39: 0 | AB39: 0 | AC39: 0 | AD39: 0 | AE39: =SUBTOTAL(9,X39:AD39) -> 0 | AF39: 0 | AG39: 0 | AH39: 0 | AI39: 0 | AJ39: 0 | AK39: 0 | AL39: 0 | AM39: 0 | AN39: 0 | AO39: 0 | AP39: =SUBTOTAL(9,AI39:AO39) -> 0 | AQ39: 0 | AR39: 0 | AS39: 0 | AT39: 0 | AU39: =SUBTOTAL(9,AQ39:AT39) -> 0 | AV39: 0 | AW39: 0 | AX39: 0 | AY39: =SUM(AV39:AX39) -> 0 | AZ39: 0 | BA39: 0 | BB39: 0 | BC39: 0 | BD39: 0 | BE39: 0 | BF39: 0 | BG39: 0 | BH39: 0 | BI39: 0 | BJ39: 0 | BK39: 0 | BL39: =SUBTOTAL(9,AZ39:BK39) -> 0 | BM39: 0 | BN39: 0 | BO39: 0 | BP39: 0 | BQ39: 0 | BR39: 0 | BS39: 0 | BT39: 0 | BU39: 0 | BV39: 0 | BW39: 0 | BX39: 0 | BY39: 0 | BZ39: 0 | CA39: =SUBTOTAL(9,BM39:BZ39) -> 0 | CB39: 0 | CC39: 2 | CD39: 0 | CE39: 0 | CF39: 0 | CG39: 0 | CH39: 0 | CI39: 0 | CJ39: =SUBTOTAL(9,CC39:CI39) -> 2 | CK39: 0 | CL39: 0 | CM39: =SUM(CK39:CL39) -> 0 | CN39: 0 | CO39: 0 | CP39: 0 | CQ39: 0 | CR39: 0 | CS39: 0 | CT39: 0 | CV39: 0 | CW39: 0 | CX39: 0 | CY39: 0 | CZ39: 0 | DA39: 0 | DB39: 0 | DC39: =SUBTOTAL(9,CN39:DB39) -> 0 | DD39: 0 | DE39: 0 | DF39: 0 | DG39: 0 | DH39: 0 | DI39: 0 | DJ39: 0 | DK39: 0 | DL39: =SUBTOTAL(9,DD39:DK39) -> 0 | DM39: 0 | DN39: 0 | DO39: 0 | DP39: 0 | DQ39: 0 | DR39: 0 | DS39: 0 | DT39: =SUBTOTAL(9,DM39:DS39) -> 0 | DU39: 0 | DV39: 0 | DW39: 0 | DX39: 0 | DY39: 0 | DZ39: =SUBTOTAL(9,DU39:DY39) -> 0 | EA39: =SUM(DT39,DL39,DC39,CM39,CJ39,CA39,BL39,AY39,AU39,AP39,AE39,W39,DZ39) -> 2
B40: ร้อยเอ็ด | C40: 0 | D40: 0 | E40: 0 | F40: 0 | G40: 0 | H40: 0 | I40: 0 | J40: 0 | K40: 0 | L40: 0 | M40: 0 | N40: 0 | O40: 0 | P40: 0 | Q40: 0 | R40: 0 | S40: 0 | T40: 0 | U40: 0 | V40: 0 | W40: =SUBTOTAL(9,C40:V40) -> 0 | X40: 0 | Y40: 0 | Z40: 0 | AA40: 0 | AB40: 0 | AC40: 0 | AD40: 0 | AE40: =SUBTOTAL(9,X40:AD40) -> 0 | AF40: 0 | AG40: 0 | AH40: 0 | AI40: 0 | AJ40: 0 | AK40: 0 | AL40: 0 | AM40: 0 | AN40: 0 | AO40: 0 | AP40: =SUBTOTAL(9,AI40:AO40) -> 0 | AQ40: 0 | AR40: 0 | AS40: 0 | AT40: 0 | AU40: =SUBTOTAL(9,AQ40:AT40) -> 0 | AV40: 0 | AW40: 0 | AX40: 0 | AY40: =SUM(AV40:AX40) -> 0 | AZ40: 0 | BA40: 0 | BB40: 0 | BC40: 0 | BD40: 0 | BE40: 0 | BF40: 0 | BG40: 0 | BH40: 0 | BI40: 0 | BJ40: 0 | BK40: 0 | BL40: =SUBTOTAL(9,AZ40:BK40) -> 0 | BM40: 0 | BN40: 0 | BO40: 0 | BP40: 0 | BQ40: 0 | BR40: 0 | BS40: 0 | BT40: 0 | BU40: 0 | BV40: 0 | BW40: 0 | BX40: 0 | BY40: 0 | BZ40: 0 | CA40: =SUBTOTAL(9,BM40:BZ40) -> 0 | CB40: 0 | CC40: 0 | CD40: 0 | CE40: 0 | CF40: 0 | CG40: 0 | CH40: 0 | CI40: 0 | CJ40: =SUBTOTAL(9,CC40:CI40) -> 0 | CK40: 0 | CL40: 0 | CM40: =SUM(CK40:CL40) -> 0 | CN40: 0 | CO40: 0 | CP40: 0 | CQ40: 0 | CR40: 0 | CS40: 0 | CT40: 0 | CV40: 0 | CW40: 0 | CX40: 0 | CY40: 0 | CZ40: 0 | DA40: 0 | DB40: 0 | DC40: =SUBTOTAL(9,CN40:DB40) -> 0 | DD40: 0 | DE40: 0 | DF40: 0 | DG40: 0 | DH40: 0 | DI40: 0 | DJ40: 0 | DK40: 0 | DL40: =SUBTOTAL(9,DD40:DK40) -> 0 | DM40: 0 | DN40: 0 | DO40: 0 | DP40: 0 | DQ40: 0 | DR40: 0 | DS40: 0 | DT40: =SUBTOTAL(9,DM40:DS40) -> 0 | DU40: 0 | DV40: 0 | DW40: 0 | DX40: 0 | DY40: 0 | DZ40: =SUBTOTAL(9,DU40:DY40) -> 0 | EA40: =SUM(DT40,DL40,DC40,CM40,CJ40,CA40,BL40,AY40,AU40,AP40,AE40,W40,DZ40) -> 0
B41: เลย | C41: 0 | D41: 0 | E41: 0 | F41: 0 | G41: 0 | H41: 0 | I41: 0 | J41: 0 | K41: 0 | L41: 0 | M41: 0 | N41: 0 | O41: 0 | P41: 0 | Q41: 0 | R41: 0 | S41: 0 | T41: 0 | U41: 0 | V41: 0 | W41: =SUBTOTAL(9,C41:V41) -> 0 | X41: 0 | Y41: 0 | Z41: 0 | AA41: 0 | AB41: 0 | AC41: 0 | AD41: 0 | AE41: =SUBTOTAL(9,X41:AD41) -> 0 | AF41: 0 | AG41: 0 | AH41: 0 | AI41: 0 | AJ41: 0 | AK41: 0 | AL41: 0 | AM41: 0 | AN41: 0 | AO41: 0 | AP41: =SUBTOTAL(9,AI41:AO41) -> 0 | AQ41: 0 | AR41: 0 | AS41: 0 | AT41: 0 | AU41: =SUBTOTAL(9,AQ41:AT41) -> 0 | AV41: 0 | AW41: 0 | AX41: 0 | AY41: =SUM(AV41:AX41) -> 0 | AZ41: 0 | BA41: 0 | BB41: 0 | BC41: 0 | BD41: 0 | BE41: 0 | BF41: 0 | BG41: 0 | BH41: 0 | BI41: 0 | BJ41: 0 | BK41: 0 | BL41: =SUBTOTAL(9,AZ41:BK41) -> 0 | BM41: 0 | BN41: 0 | BO41: 0 | BP41: 0 | BQ41: 0 | BR41: 0 | BS41: 0 | BT41: 0 | BU41: 0 | BV41: 0 | BW41: 0 | BX41: 0 | BY41: 0 | BZ41: 0 | CA41: =SUBTOTAL(9,BM41:BZ41) -> 0 | CB41: 0 | CC41: 0 | CD41: 0 | CE41: 0 | CF41: 0 | CG41: 0 | CH41: 0 | CI41: 0 | CJ41: =SUBTOTAL(9,CC41:CI41) -> 0 | CK41: 0 | CL41: 0 | CM41: =SUM(CK41:CL41) -> 0 | CN41: 0 | CO41: 0 | CP41: 0 | CQ41: 0 | CR41: 0 | CS41: 0 | CT41: 0 | CV41: 0 | CW41: 0 | CX41: 0 | CY41: 0 | CZ41: 0 | DA41: 0 | DB41: 0 | DC41: =SUBTOTAL(9,CN41:DB41) -> 0 | DD41: 0 | DE41: 0 | DF41: 0 | DG41: 0 | DH41: 0 | DI41: 0 | DJ41: 0 | DK41: 0 | DL41: =SUBTOTAL(9,DD41:DK41) -> 0 | DM41: 0 | DN41: 0 | DO41: 0 | DP41: 0 | DQ41: 0 | DR41: 0 | DS41: 0 | DT41: =SUBTOTAL(9,DM41:DS41) -> 0 | DU41: 0 | DV41: 0 | DW41: 0 | DX41: 0 | DY41: 0 | DZ41: =SUBTOTAL(9,DU41:DY41) -> 0 | EA41: =SUM(DT41,DL41,DC41,CM41,CJ41,CA41,BL41,AY41,AU41,AP41,AE41,W41,DZ41) -> 0
B42: ศรีสะเกษ | C42: 0 | D42: 0 | E42: 0 | F42: 0 | G42: 0 | H42: 0 | I42: 0 | J42: 0 | K42: 0 | L42: 0 | M42: 0 | N42: 0 | O42: 0 | P42: 0 | Q42: 0 | R42: 0 | S42: 0 | T42: 0 | U42: 0 | V42: 0 | W42: =SUBTOTAL(9,C42:V42) -> 0 | X42: 6 | Y42: 0 | Z42: 0 | AA42: 0 | AB42: 0 | AC42: 0 | AD42: 0 | AE42: =SUBTOTAL(9,X42:AD42) -> 6 | AF42: 0 | AG42: 0 | AH42: 0 | AI42: 0 | AJ42: 0 | AK42: 0 | AL42: 0 | AM42: 0 | AN42: 0 | AO42: 0 | AP42: =SUBTOTAL(9,AI42:AO42) -> 0 | AQ42: 0 | AR42: 0 | AS42: 0 | AT42: 0 | AU42: =SUBTOTAL(9,AQ42:AT42) -> 0 | AV42: 0 | AW42: 0 | AX42: 0 | AY42: =SUM(AV42:AX42) -> 0 | AZ42: 0 | BA42: 0 | BB42: 0 | BC42: 0 | BD42: 0 | BE42: 0 | BF42: 0 | BG42: 0 | BH42: 0 | BI42: 0 | BJ42: 0 | BK42: 0 | BL42: =SUBTOTAL(9,AZ42:BK42) -> 0 | BM42: 0 | BN42: 0 | BO42: 0 | BP42: 0 | BQ42: 0 | BR42: 0 | BS42: 0 | BT42: 0 | BU42: 0 | BV42: 0 | BW42: 0 | BX42: 0 | BY42: 0 | BZ42: 0 | CA42: =SUBTOTAL(9,BM42:BZ42) -> 0 | CB42: 0 | CC42: 0 | CD42: 0 | CE42: 0 | CF42: 0 | CG42: 0 | CH42: 0 | CI42: 0 | CJ42: =SUBTOTAL(9,CC42:CI42) -> 0 | CK42: 0 | CL42: 0 | CM42: =SUM(CK42:CL42) -> 0 | CN42: 0 | CO42: 0 | CP42: 0 | CQ42: 0 | CR42: 0 | CS42: 0 | CT42: 0 | CV42: 0 | CW42: 0 | CX42: 0 | CY42: 0 | CZ42: 0 | DA42: 0 | DB42: 0 | DC42: =SUBTOTAL(9,CN42:DB42) -> 0 | DD42: 0 | DE42: 0 | DF42: 0 | DG42: 0 | DH42: 0 | DI42: 0 | DJ42: 0 | DK42: 0 | DL42: =SUBTOTAL(9,DD42:DK42) -> 0 | DM42: 0 | DN42: 0 | DO42: 0 | DP42: 0 | DQ42: 0 | DR42: 0 | DS42: 0 | DT42: =SUBTOTAL(9,DM42:DS42) -> 0 | DU42: 0 | DV42: 0 | DW42: 0 | DX42: 0 | DY42: 0 | DZ42: =SUBTOTAL(9,DU42:DY42) -> 0 | EA42: =SUM(DT42,DL42,DC42,CM42,CJ42,CA42,BL42,AY42,AU42,AP42,AE42,W42,DZ42) -> 6
... B46: หนองบัวลำภู | C46: 0 | D46: 0 | E46: 0 | F46: 0 | G46: 0 | H46: 0 | I46: 0 | J46: 0 | K46: 0 | L46: 0 | M46: 0 | N46: 0 | O46: 0 | P46: 0 | Q46: 0 | R46: 0 | S46: 0 | T46: 0 | U46: 0 | V46: 0 | W46: =SUBTOTAL(9,C46:V46) -> 0 | X46: 0 | Y46: 0 | Z46: 0 | AA46: 0 | AB46: 0 | AC46: 0 | AD46: 0 | AE46: =SUBTOTAL(9,X46:AD46) -> 0 | AF46: 0 | AG46: 0 | AH46: 0 | AI46: 0 | AJ46: 0 | AK46: 0 | AL46: 0 | AM46: 0 | AN46: 0 | AO46: 0 | AP46: =SUBTOTAL(9,AI46:AO46) -> 0 | AQ46: 0 | AR46: 0 | AS46: 0 | AT46: 0 | AU46: =SUBTOTAL(9,AQ46:AT46) -> 0 | AV46: 0 | AW46: 0 | AX46: 0 | AY46: =SUM(AV46:AX46) -> 0 | AZ46: 0 | BA46: 0 | BB46: 0 | BC46: 0 | BD46: 0 | BE46: 0 | BF46: 0 | BG46: 0 | BH46: 0 | BI46: 0 | BJ46: 0 | BK46: 0 | BL46: =SUBTOTAL(9,AZ46:BK46) -> 0 | BM46: 0 | BN46: 0 | BO46: 0 | BP46: 0 | BQ46: 0 | BR46: 0 | BS46: 0 | BT46: 0 | BU46: 0 | BV46: 0 | BW46: 0 | BX46: 0 | BY46: 0 | BZ46: 0 | CA46: =SUBTOTAL(9,BM46:BZ46) -> 0 | CB46: 0 | CC46: 0 | CD46: 0 | CE46: 0 | CF46: 0 | CG46: 0 | CH46: 0 | CI46: 0 | CJ46: =SUBTOTAL(9,CC46:CI46) -> 0 | CK46: 0 | CL46: 0 | CM46: =SUM(CK46:CL46) -> 0 | CN46: 0 | CO46: 0 | CP46: 0 | CQ46: 0 | CR46: 0 | CS46: 0 | CT46: 0 | CV46: 0 | CW46: 0 | CX46: 0 | CY46: 0 | CZ46: 0 | DA46: 0 | DB46: 0 | DC46: =SUBTOTAL(9,CN46:DB46) -> 0 | DD46: 0 | DE46: 0 | DF46: 0 | DG46: 0 | DH46: 0 | DI46: 0 | DJ46: 0 | DK46: 0 | DL46: =SUBTOTAL(9,DD46:DK46) -> 0 | DM46: 0 | DN46: 0 | DO46: 0 | DP46: 0 | DQ46: 0 | DR46: 0 | DS46: 0 | DT46: =SUBTOTAL(9,DM46:DS46) -> 0 | DU46: 0 | DV46: 0 | DW46: 0 | DX46: 0 | DY46: 0 | DZ46: =SUBTOTAL(9,DU46:DY46) -> 0 | EA46: =SUM(DT46,DL46,DC46,CM46,CJ46,CA46,BL46,AY46,AU46,AP46,AE46,W46,DZ46) -> 0
...

Sheet 08.12.64
A1: รายงานสถานการณ์ศัตรูพืชระบาด
A2: ข้อมูล ณ วันที่ 10 พฤศจิกายน 2564
A4: ที่ | B4: จังหวัด | C4: ข้าว | X4: มะพร้าว | AF4: ปาล์มน้ำมัน | AQ4: ยางพารา | AV4: กาแฟ | AZ4: มันสำปะหลัง | BM4: อ้อย | CB4: ข้าวโพด | CK4: สับปะรด | CN4: ทุเรียน | DD4: เงาะ | DM4: มังคุด | DU4: ลำไย | DZ4: ลำไย | EA4: พื้นที่รวม ทั้งประเทศ (ไร่) | EB4: =+DT10+DL10+DC10+CM10+CJ10+CA10+BL10+AU10+AP10+AE10+W10+DZ10 -> 455459.88
C5: พื้นที่การระบาด (ไร่) | X5: พื้นที่การระบาด (ไร่) | AF5: พื้นที่การระบาด (ไร่) | AQ5: พื้นที่การระบาด (ไร่) | AV5: พื้นที่การระบาด (ไร่) | AZ5: พื้นที่การระบาด (ไร่) | BM5: พื้นที่การระบาด (ไร่) | CB5: พื้นที่การระบาด (ไร่) | CK5: พื้นที่การระบาด (ไร่) | CN5: พื้นที่การระบาด (ไร่) | DD5: พื้นที่การระบาด (ไร่) | DM5: พื้นที่การระบาด (ไร่) | DU5: พื้นที่การระบาด (ไร่)
C6: เพลี้ยกระโดดสีน้ำตาล | D6: หนอนห่อใบข้าว | E6: โรคไหม้ข้าว | F6: แมลงสิง | G6: เพลี้ยกระโดดหลังขาว | H6: เพลี้ยไฟ | I6: โรคใบสีส้ม | J6: โรคขอบใบแห้งข้าว | K6: โรคกาบใบแห้ง | L6: โรคใบจุดสีน้ำตาล | M6: หนอนกระทู้ข้าว | N6: โรคใบขีดสีน้ำตาล | O6: หนอนกัดใบข้าว | P6: แมลงหล่า | Q6: แมลงบั่ว | R6: โรคเมล็ดด่าง | S6: ด้วงดำ | T6: ตั๊กแตนหนวดสั้น | U6: หนอนกอข้าว | V6: หนอนกระทู้ข้าวโพดลายจุด | W6: รวม | X6: หนอนหัวดำ | Y6: แมลงดำหนาม | Z6: ด้วงแรด | AA6: ด้วงงวง | AB6: ไรสี่ขามะพร้าว | AC6: หนอนพาราซ่า | AD6: หนอนกินใบมะพร้าว | AE6: รวม | AF6: หนอนหัวดำ | AG6: หนอนปลอกเล็ก | AH6: หนอนหน้าแมว | AI6: ด้วงแรด | AJ6: ด้วงกุหลาบ | AK6: หนู | AL6: โรคลำต้นเน่า | AM6: โรคทะลายเน่า | AN6: โรคใบไหม้ | AO6: โรคยอดเน่า | AP6: รวม | AQ6: โรครากขาว | AR6: โรคใบร่วง (ชนิดใหม่) | AS6: โรคใบร่วง | AT6: โรคเส้นดำ | AU6: รวม | AV6: โรคใบจุดสีน้ำตาล | AW6: หนอนเจาะลำต้น | AX6: มอดเจาะผลกาแฟ | AY6: รวม | AZ6: เพลี้ยแป้งมันสำปะหลัง | BA6: เพลี้ยแป้งสีชมพู | BB6: ไรแดงมันสำปะหลัง | BC6: แมลงนูนหลวง | BD6: แมลงหวี่ขาว | BE6: เพลี้ยหอย | BF6: โรคใบจุดน้ำตาล | BG6: โรคแอนแทคโนส | BH6: โรคโคนเน่าหัวเน่า | BI6: โรคใบไหม้ | BJ6: โรคใบด่างมันสำปะหลัง | BK6: โรคพุ่มแจ้ | BL6: รวม | BM6: หนอนกออ้อย | BN6: ด้วงหนวดยาว | BO6: แมลงนูนหลวง | BP6: จักจั่น | BQ6: ตั๊กแตน | BR6: จักจั่น | BS6: หนอนกระทู้ข้าวโพดลายจุด | BT6: เพลี้ยอ่อน | BU6: เพลี้ยแป้ง | BV6: โรคกอตะไคร้ | BW6: โรคใบขาว | BX6: ปลวก | BY6: โรคแส้ดำ | BZ6: เพลี้ยหอยเกร็ด | CA6: รวม | CB6: หนอนเจาะฝัก | CC6: หนอนกระทู้ลายจุดข้าวโพด | CD6: หนอนกระทู้ผัก | CE6: หนอนเจาะลำต้น | CF6: เพลี้ยอ่อน | CG6: ตั๊กแตน | CH6: โรคใบไหม้แผลเล็ก | CI6: โรคใบไหม้แผลใหญ่ | CJ6: รวม | CK6: โรคเหี่ยว | CL6: เพลี้ยแป้ง | CM6: รวม | CN6: หนอนเจาะลำต้น | CO6: หนอนเจาะผล | CP6: หนอนกินใบ | CQ6: เพลี้ยไฟ | CR6: เพลี้ยแป้ง | CS6: เพลี้ยไก่แจ้ | CT6: ไรแดง | CU6: โรคใบติด | CV6: โรครากเน่าโคนเน่า | CW6: ราดำ | CX6: โรคราใบไหม้ | CY6: โรคผลเน่า | CZ6: โรคราสีชมพู | DA6: โรคจุดสาหร่าย | DB6: หนอนเจาะผล | DC6: รวม | DD6: หนอนกินช่อดอก | DE6: เพลี้ยแป้ง | DF6: เพลี้ยไฟ | DG6: หนอนทราย | DH6: โรคใบจุดสาหร่าย | DI6: โรคราดำ | DJ6: โรคขอบใบแห้ง | DK6: หนอนกินช่อดอกไม้ | DL6: รวม | DM6: หนอนชอนใบ | DN6: หนอนกินใบ | DO6: เพลี้ยไฟ | DP6: เพลี้ยแป้ง | DQ6: ไรแดง | DR6: โรคแอนแทรคโนส | DS6: โรคใบจุด | DT6: รวม | DU6: โรคพุ่มไม้กวาด | DV6: เพลี้ยแป้ง | DW6: โรคราดำ | DX6: เพลี้ยหอย | DY6: มวนลำไย | DZ6: รวม | EA6: รวม
C7: =C8-C9 -> -80 | D7: =D8-D9 -> 94 | E7: =E8-E9 -> -31 | F7: =F8-F9 -> -4 | G7: =G8-G9 -> -4 | H7: =H8-H9 -> 0 | I7: =I8-I9 -> 0 | J7: =J8-J9 -> -28 | ... EA7: =EA8-EA9 -> 28888
B8: 8 ธ.ค. 64 | C8: 180 | D8: 94 | E8: 32 | G8: 0 | J8: 38 | Q8: 5 | U8: 0 | W8: =C8+D8+E8+G8+J8+Q8+U8 -> 349 | X8: 6720 | Y8: 11913 | Z8: 5428 | AA8: 1226 | AB8: 1021 | AD8: 100 | AE8: =AD8+AB8+AA8+Z8+Y8+X8 -> 26408 | AI8: 936 | AL8: 276 | AP8: =AL8+AI8 -> 1212 | AQ8: 84 | AR8: 400607 | AS8: 7472 | AU8: =AR8+AQ8+AS8 -> 408163 | AZ8: 171 | BH8: 0 | BJ8: 13884 | BL8: =BJ8+BH8+BB8+AZ8 -> 14055 | CC8: 374 | CE8: 90 | CJ8: =CC8+CE8 -> 464 | CK8: 55 | CL8: 11 | CM8: =CK8+CL8 -> 66 | CQ8: 108 | CR8: 8 | CS8: 374 | CV8: 3492 | DC8: =CV8+CS8+CR8+CQ8+CP8+CO8+CN8 -> 3982 | DL8: =DF8 -> 0 | DO8: 97 | DT8: =DO8 -> 97 | DU8: 277 | DV8: 42 | DW8: 328 | DY8: 19 | DZ8: =DY8+DW8+DV8+DU8 -> 666 | EA8: =DZ8+DT8+DL8+DC8+CJ8+BL8+AU8+AP8+AE8+W8+CM8 -> 455462
