Workbook

Sheet 1. รายได้ครัวเรือน
A1: ตารางตรวจสอบรายได้ครัวเรือน | H1: (รวมหนี้สินที่ขอกู้)
A2: จำนวนสมาชิกในครัวเรือน (คน) | C2: 1 | D2: จำนวนแรงงานในครัวเรือน (คน) | F2: 1 | H2: =SUM(I4,I5,I6,I7) -> 250000
A3: รายได้ครัวเรือน/ปี | D3: ค่าใช้จ่ายครัวเรือน/ปี
A4: ลำดับ | B4: ด้านการเกษตร (บาท) | D4: ลำดับ | E4: ด้านการเกษตร (บาท) | H4: หนี้สินตามสัญญาที่ 1 | I4: 250000
A5: 1 | B5: รายได้ 1 | C5: 0 | D5: 1 | E5: ค่าใช้จ่าย 1 | F5: 0 | H5: หนี้สินตามสัญญาที่ 2 | I5: 0
A6: 2 | B6: รายได้ 2 | C6: 0 | D6: 2 | E6: ค่าใช้จ่าย 2 | F6: 0 | H6: หนี้สินตามสัญญาที่ 3 | I6: 0
A7: 3 | B7: รายได้ 3 | C7: 0 | D7: 3 | E7: ค่าใช้จ่าย 3 | F7: 0 | H7: กู้ประกอบอาชีพ | I7: 0
A8: รวมด้านการเกษตร | C8: =SUM(C5:C7) -> 0 | D8: รวมด้านการเกษตร | F8: =SUM(F5:F7) -> 0
A9: ลำดับ | B9: ด้านนอกการเกษตร (บาท) | D9: ลำดับ | E9: ด้านนอกการเกษตร (บาท)
A10: 1 | B10: รายได้ 1 | C10: 240000 | D10: 1 | E10: ค่าใช้จ่าย 1 | F10: 80000
A11: 2 | B11: รายได้ 2 | C11: 0 | D11: 2 | E11: ค่าใช้จ่าย 2 | F11: 0
A12: 3 | B12: รายได้ 3 | C12: 0 | D12: 3 | E12: ค่าใช้จ่าย 3 | F12: 0
A13: รวมด้านนอกการเกษตร | C13: =SUM(C10:C12) -> 240000 | D13: รวมด้านนอกการเกษตร | F13: =SUM(F10:F12) -> 80000
A14: รายได้อื่นๆ | C14: 0 | D14: ค่าใช้จ่ายในครัวเรือน | F14: 90000
D15: ค่าใช้จ่ายอื่นๆ | F15: 20000
A16: รวมรายได้เป็นเงิน (ตาม (ธ.ก.ส.) | C16: =SUM(C14,C13,C8) -> 240000 | D16: รวมค่าใช้จ่ายเป็นเงิน (ตาม ธ.ก.ส.) | F16: =SUM(F8,F13,F14,F15) -> 190000
A17: รวมรายได้สุทธิครัวเรือน = | C17: =SUM(C16-F16) -> 50000 | D17: เฉลี่ยรายได้สุทธิเฉพาะตัว = | F17: =C17/F2 -> 50000

Sheet 2. ตารางแผน 3 ปี
A1: 5. รายได้/ค่าใช้จ่าย และแผนการผลิตเพื่อฟื้นฟูอาชีพของผู้กู้ | D1: (หากเป็นแบบประเมินเก่า "แนวขวาง" ให้นำข้อมูลจากรายงานการประชุมาใส่แทน) | M1: หน้า 3
A2: 5.1 รายได้/ ค่าใช้จ่ายของผู้กู้ (รายละเอียดตามข้อมูลลูกค้ารายคนที่แนบ)
A3: รายการ | B3: ปีที่ 1 (ปีปัจจุบัน) | F3: ปีที่ 2 | J3: ปีที่ 3
A4: 5.1.1 รายได้และค่าใช้จ่ายการเกษตร | B4: XX | C4: XX | D4: XX | E4: รวม | F4: XX | G4: XX | H4: XX | I4: รวม | J4: XX | K4: XX | L4: XX | M4: รวม
A5: (1) ประเภทการผลิต | B5: XX | C5: XX | D5: XX | E5: XX | F5: XX | G5: XX | H5: XX | I5: XX | J5: XX | K5: XX | L5: XX | M5: XX
A6: (2) ระยะเวลาการผลิต (เดือน/ ปี) | B6: XX | C6: XX | D6: XX | E6: XX | F6: XX | G6: XX | H6: XX | I6: XX | J6: XX | K6: XX | L6: XX | M6: XX
A7: (3) เนื้อที่หรือจำนวนการผลิต | B7: XX | C7: XX | D7: XX | E7: XX | F7: XX | G7: XX | H7: XX | I7: XX | J7: XX | K7: XX | L7: XX | M7: XX
A8: (4) รายได้ก่อนหักค่าใช้จ่าย (บาท) | B8: ='1. รายได้ครัวเรือน'!C5 -> 0 | C8: ='1. รายได้ครัวเรือน'!C6 -> 0 | D8: ='1. รายได้ครัวเรือน'!C7 -> 0 | E8: =SUM(B8:D8) -> 0 | F8: =B8 -> 0 | G8: =C8 -> 0 | H8: =D8 -> 0 | I8: =E8 -> 0 | J8: =B8 -> 0 | K8: =C8 -> 0 | L8: =D8 -> 0 | M8: =E8 -> 0
A9: (5) ค่าใช้จ่ายการเกษตร (บาท) | B9: ='1. รายได้ครัวเรือน'!F5 -> 0 | C9: ='1. รายได้ครัวเรือน'!F6 -> 0 | D9: ='1. รายได้ครัวเรือน'!F7 -> 0 | E9: =SUM(B9:D9) -> 0 | F9: =B9 -> 0 | G9: =C9 -> 0 | H9: =D9 -> 0 | I9: =E9 -> 0 | J9: =B9 -> 0 | K9: =C9 -> 0 | L9: =D9 -> 0 | M9: =E9 -> 0
A10: (6) รายได้การเกษตรสุทธิ (4)-(5) | B10: =B8-B9 -> 0 | C10: =SUM(C8-C9) -> 0 | D10: =SUM(D8-D9) -> 0 | E10: =SUM(B10:D10) -> 0 | F10: =B10 -> 0 | G10: =C10 -> 0 | H10: =D10 -> 0 | I10: =E10 -> 0 | J10: =B10 -> 0 | K10: =C10 -> 0 | L10: =D10 -> 0 | M10: =E10 -> 0
A11: 5.1.2 รายได้และค่าใช้จ่ายนอกการเกษตร | B11: XX | C11: XX | D11: XX | E11: XX | F11: XX | G11: XX | H11: XX | I11: XX | J11: XX | K11: XX | L11: XX | M11: XX
A12: (1) ประเภทการผลิต | B12: XX | C12: XX | D12: XX | E12: XX | F12: XX | G12: XX | H12: XX | I12: XX | J12: XX | K12: XX | L12: XX | M12: XX
A13: (2) ระยะเวลาการผลิต/ บริการ (เดือน/ ปี) | B13: XX | C13: XX | D13: XX | E13: XX | F13: XX | G13: XX | H13: XX | I13: XX | J13: XX | K13: XX | L13: XX | M13: XX
A14: (3) รายได้นอกการเกษตร | B14: ='1. รายได้ครัวเรือน'!C10 -> 240000 | C14: ='1. รายได้ครัวเรือน'!C11 -> 0 | D14: ='1. รายได้ครัวเรือน'!C12 -> 0 | E14: =SUM(B14:D14) -> 240000 | F14: =B14 -> 240000 | G14: =C14 -> 0 | H14: =D14 -> 0 | I14: =SUM(F14:H14) -> 240000 | J14: =B14 -> 240000 | K14: =C14 -> 0 | L14: =D14 -> 0 | M14: =E14 -> 240000
A15: (4) ค่าใช้จ่ายนอกการเกษตร (บาท) | B15: ='1. รายได้ครัวเรือน'!F10 -> 80000 | C15: ='1. รายได้ครัวเรือน'!F11 -> 0 | D15: ='1. รายได้ครัวเรือน'!F12 -> 0 | E15: =SUM(B15:D15) -> 80000 | F15: =B15 -> 80000 | G15: =C15 -> 0 | H15: =D15 -> 0 | I15: =E15 -> 80000 | J15: =B15 -> 80000 | K15: =C15 -> 0 | L15: =D15 -> 0 | M15: =E15 -> 80000
A16: (5) รายได้นอกการเกษตรสุทธิ (3)-(4) | B16: =B14-B15 -> 160000 | C16: =C14-C15 -> 0 | D16: =D14-D15 -> 0 | E16: =E14-E15 -> 160000 | F16: =F14-F15 -> 160000 | G16: =G14-G15 -> 0 | H16: =H14-H15 -> 0 | I16: =E16 -> 160000 | J16: =B16 -> 160000 | K16: =C16 -> 0 | L16: =D16 -> 0 | M16: =E16 -> 160000
A17: 5.1.3 รายได้อื่นๆ (รับจ้าง-โรงแรมใน กทม.) | B17: XX | C17: XX | D17: XX | E17: ='1. รายได้ครัวเรือน'!C14 -> 0 | F17: XX | G17: XX | H17: XX | I17: =E17 -> 0 | J17: XX | K17: XX | L17: XX | M17: =E17 -> 0
A18: 5.1.4 ค่าใช้จ่ายอื่น ๆ (บาท) | B18: XX | C18: XX | D18: XX | E18: XX | F18: XX | G18: XX | H18: XX | I18: XX | J18: XX | K18: XX | L18: XX | M18: XX
A19: (1) ค่าใช้จ่ายครัวเรือน | B19: XX | C19: XX | D19: XX | E19: ='1. รายได้ครัวเรือน'!F14 -> 90000 | F19: XX | G19: XX | H19: XX | I19: =E19 -> 90000 | J19: XX | K19: XX | L19: XX | M19: =E19 -> 90000
A20: (2) ค่าใช้จ่ายอื่น ๆ (ผ่อนบ้าน11,000บ./เดือน) | B20: XX | C20: XX | D20: XX | E20: ='1. รายได้ครัวเรือน'!F15 -> 20000 | F20: XX | G20: XX | H20: XX | I20: =E20 -> 20000 | J20: XX | K20: XX | L20: XX | M20: =E20 -> 20000
A21: (3) รวมค่าใช้จ่าย (1)+(2) | B21: XX | C21: XX | D21: XX | E21: =SUM(E19:E20) -> 110000 | F21: XX | G21: XX | H21: XX | I21: =E21 -> 110000 | J21: XX | K21: XX | L21: XX | M21: =E21 -> 110000
A22: 5.1.5 รายได้สุทธิ (บาท) | B22: XX | C22: XX | D22: XX | E22: =(E10+E16+E17)-E21 -> 50000 | F22: XX | G22: XX | H22: XX | I22: =E22 -> 50000 | J22: XX | K22: XX | L22: XX | M22: =E22 -> 50000
A23: 5.1.1(6) + 5.1.2(5) + 5.1.3 - 5.1.4(3) | B23: XX | C23: XX | D23: XX | E23: XX | F23: XX | G23: XX | H23: XX | I23: XX | J23: XX | K23: XX | L23: XX | M23: XX

Sheet 3. กระแสเงินสด 1-20 ปี
E1: (กรณีไม่ครบ 20 ปี ให้ใส่ปีที่ไม่ได้ใช่เป็น 0 ทุกช่อง)
A2: 6. ประมาณการกระแสเงินสดและแผนการชำระคืนหนี้เงินกู้ของผู้กู้ | D2: หมายเหตุ ใช้กับการคำนวณกระแสเงินสด "การกู้เงินกองทุนฯ" หรือการคำนวณกระแสเงินสด "การกู้เงินกองทุนฯ" พร้อมกับ "การกู้ประกอบอาชีพ"
A3: รายการ | B3: ปีที่ (ตั้งแต่ปีที่ 1 จนถึงปีที่ชำระเสร็จสิ้น) | L3: ปีที่ (ตั้งแต่ปีที่ 1 จนถึงปีที่ชำระเสร็จ)
B4: 1 | C4: 2 | D4: 3 | E4: 4 | F4: 5 | G4: 6 | H4: 7 | I4: 8 | J4: 9 | K4: 10 | L4: 11 | M4: 12 | N4: 13 | O4: 14 | P4: 15 | Q4: 16 | R4: 17 | S4: 18 | T4: 19 | U4: 20 | V4: รวม
A5: 6.1 เงินสดรับ (บาท)
A6: (1) รายได้สุทธิ (ตามข้อ 5.1.5) | B6: ='2. ตารางแผน 3 ปี'!E22 -> 50000 | C6: 50000 | D6: 50000 | E6: 50000 | F6: 50000 | G6: 50000 | H6: 50000 | I6: 50000 | J6: 50000 | K6: 50000 | L6: 50000 | M6: 50000 | N6: 50000 | O6: 50000 | P6: 50000 | Q6: 50000 | R6: 50000 | S6: 50000 | T6: 50000 | U6: 50000 | V6: =SUM(B6:U6) -> 1000000
A7: (2) เงินกู้ชำระหนี้สินเดิม สป.กษ. | B7: ='1. รายได้ครัวเรือน'!H2 -> 250000 | C7: xxx | D7: xxx | E7: xxx | F7: xxx | G7: xxx | H7: xxx | I7: xxx | J7: xxx | K7: xxx | L7: xxx | M7: xxx | N7: xxx | O7: xxx | P7: xxx | Q7: xxx | R7: xxx | S7: xxx | T7: xxx | U7: xxx | V7: =SUM(B7:U7) -> 250000
A8: (3) เงินกู้เพื่อการประกอบอาชีพ สป.กษ. | B8: 0 | C8: xxx | D8: xxx | E8: xxx | F8: xxx | G8: xxx | H8: xxx | I8: xxx | J8: xxx | K8: xxx | L8: xxx | M8: xxx | N8: xxx | O8: xxx | P8: xxx | Q8: xxx | R8: xxx | S8: xxx | T8: xxx | U8: xxx | V8: =SUM(B8:U8) -> 0
A9: (4) เงินกู้จากเจ้าหนี้อื่น ................................. | B9: 0 | C9: 0 | D9: 0 | E9: 0 | F9: 0 | G9: 0 | H9: 0 | I9: 0 | J9: 0 | K9: 0 | L9: 0 | M9: 0 | N9: 0 | O9: 0 | P9: 0 | Q9: 0 | R9: 0 | S9: 0 | T9: 0 | U9: 0 | V9: =SUM(B9:U9) -> 0
A10: (5) เงินสดสมทบ(ถ้ามี)เงินสดคงเหลือ 6.3 | B10: 0 | C10: =B27 -> 25000 | D10: =C27 -> 50625 | E10: =D27 -> 76875 | F10: =E27 -> 103750 | G10: =F27 -> 131250 | H10: =G27 -> 159375 | I10: =H27 -> 188125 | J10: =I27 -> 217500 | ... U10: =T27 -> 581875 | V10: =SUM(B10:U10) -> 5462500
A11: (6) รวมเงินสดรับ (1)+(2)+(3)+(4)+(5) | B11: =SUM(B6:B10) -> 300000 | C11: =SUM(C6:C10) -> 75000 | D11: =SUM(D6:D10) -> 100625 | E11: =SUM(E6:E10) -> 126875 | F11: =SUM(F6:F10) -> 153750 | G11: =SUM(G6:G10) -> 181250 | H11: =SUM(H6:H10) -> 209375 | I11: =SUM(I6:I10) -> 238125 | ... U11: =SUM(U6:U10) -> 631875 | V11: =SUM(B11:U11) -> 6712500
A12: 6.2 เงินสดจ่าย (บาท) | B12: =B26 -> 275000 | C12: =C26 -> 24375 | D12: =D26 -> 23750 | E12: =E26 -> 23125 | F12: =F26 -> 22500 | G12: =G26 -> 21875 | H12: =H26 -> 21250 | I12: =I26 -> 20625 | ... U12: =U26 -> 13125 | V12: =SUM(B12:U12) -> 631250
A13: ต้นเงินกู้ สป.กษ.คงเหลือ | B13: =B14 -> 250000 | C13: =B13-B15 -> 237500 | D13: =C13-C15 -> 225000 | E13: =D13-D15 -> 212500 | F13: =E13-E15 -> 200000 | G13: =F13-F15 -> 187500 | H13: =G13-G15 -> 175000 | I13: =H13-H15 -> 162500 | J13: =I13-I15 -> 150000 | ... U13: =T13-T15 -> 12500 | V13: =SUM(B13:U13) -> 2625000
A14: (1) ชำระหนี้สินเดิมให้เจ้าหนี้ | B14: =B7 -> 250000 | C14: xxx | D14: xxx | E14: xxx | F14: xxx | G14: xxx | H14: xxx | I14: xxx | J14: xxx | K14: xxx | L14: xxx | M14: xxx | N14: xxx | O14: xxx | P14: xxx | Q14: xxx | R14: xxx | S14: xxx | T14: xxx | U14: xxx | V14: =SUM(B14:U14) -> 250000
A15: (2) ชำระต้นเงินกู้ สป.กษ. | B15: 12500 | C15: 12500 | D15: 12500 | E15: 12500 | F15: 12500 | G15: 12500 | H15: 12500 | I15: 12500 | J15: 12500 | K15: 12500 | L15: 12500 | M15: 12500 | N15: 12500 | O15: 12500 | P15: 12500 | Q15: 12500 | R15: 12500 | S15: 12500 | T15: 12500 | U15: 12500 | V15: =SUM(B15:U15) -> 250000
A16: (3) ชำระดอกเบี้ย สป.กษ.(5%) | B16: =B14*5/100 -> 12500 | C16: =SUM(C13)*0.05 -> 11875 | D16: =SUM(D13)*0.05 -> 11250 | E16: =SUM(E13)*0.05 -> 10625 | F16: =SUM(F13)*0.05 -> 10000 | G16: =SUM(G13)*0.05 -> 9375 | H16: =SUM(H13)*0.05 -> 8750 | I16: =SUM(I13)*0.05 -> 8125 | J16: =SUM(J13)*0.05 -> 7500 | ... U16: =SUM(U13)*0.05 -> 625 | V16: =SUM(B16:U16) -> 131250
A17: (4) ชำระต้นเงินกู้เพื่อประกอบอาชีพ สป.กษ./ ธ.ก.ส. | B17: 0 | C17: 0 | D17: 0 | E17: 0 | F17: 0 | G17: 0 | H17: 0 | I17: 0 | J17: 0 | K17: 0 | L17: 0 | M17: 0 | N17: 0 | O17: 0 | P17: 0 | Q17: 0 | R17: 0 | S17: 0 | T17: 0 | U17: 0 | V17: =SUM(B17:U17) -> 0
A18: (5) ชำระดอกเบี้ยเงินกู้เพื่อประกอบอาชีพ สป.กษ./ ธ.ก.ส. | B18: =B8*5/100 -> 0 | C18: =C30*5/100 -> 0 | D18: =D30*5/100 -> 0 | E18: =E30*5/100 -> 0 | F18: =F30*5/100 -> 0 | G18: =G30*5/100 -> 0 | H18: =H30*5/100 -> 0 | I18: =I30*5/100 -> 0 | J18: =J30*5/100 -> 0 | ... U18: =U30*5/100 -> 0 | V18: =SUM(B18:U18) -> 0
A19: (6) ชำระต้นเงินเจ้าหนี้อื่น | B19: 0 | C19: 0 | D19: 0 | E19: 0 | F19: 0 | G19: 0 | H19: 0 | I19: 0 | J19: 0 | K19: 0 | L19: 0 | M19: 0 | N19: 0 | O19: 0 | P19: 0 | Q19: 0 | R19: 0 | S19: 0 | T19: 0 | U19: 0 | V19: =SUM(B19:U19) -> 0
A20: (7) ชำระดอกเบี้ยหนี้อื่น | B20: 0 | C20: 0 | D20: 0 | E20: 0 | F20: 0 | G20: 0 | H20: 0 | I20: 0 | J20: 0 | K20: 0 | L20: 0 | M20: 0 | N20: 0 | O20: 0 | P20: 0 | Q20: 0 | R20: 0 | S20: 0 | T20: 0 | U20: 0 | V20: =SUM(B20:U20) -> 0
A21: ข้อมูลหนี้ตามข้อ 3.3 เจ้าหนี้ 1 (ต้น+ดอก)/ปี | B21: 0 | C21: 0 | D21: 0 | E21: 0 | F21: 0 | G21: 0 | H21: 0 | I21: 0 | J21: 0 | K21: 0 | L21: 0 | M21: 0 | N21: 0 | O21: 0 | P21: 0 | Q21: 0 | R21: 0 | S21: 0 | T21: 0 | U21: 0 | V21: =SUM(B21:U21) -> 0
A22: ข้อมูลหนี้ตามข้อ 3.3 เจ้าหนี้ 2 (ต้น+ดอก)/ปี | B22: 0 | C22: 0 | D22: 0 | E22: 0 | F22: 0 | G22: 0 | H22: 0 | I22: 0 | J22: 0 | K22: 0 | L22: 0 | M22: 0 | N22: 0 | O22: 0 | P22: 0 | Q22: 0 | R22: 0 | S22: 0 | T22: 0 | U22: 0 | V22: =SUM(B22:U22) -> 0
A23: ข้อมูลหนี้ตามข้อ 3.3 เจ้าหนี้ 3 (ต้น+ดอก)/ปี | B23: 0 | C23: 0 | D23: 0 | E23: 0 | F23: 0 | G23: 0 | H23: 0 | I23: 0 | J23: 0 | K23: 0 | L23: 0 | M23: 0 | N23: 0 | O23: 0 | P23: 0 | Q23: 0 | R23: 0 | S23: 0 | T23: 0 | U23: 0 | V23: =SUM(B23:U23) -> 0
A24: ข้อมูลหนี้ตามข้อ 3.3 เจ้าหนี้ 4 (ต้น+ดอก)/ปี | B24: 0 | C24: 0 | D24: 0 | E24: 0 | F24: 0 | G24: 0 | H24: 0 | I24: 0 | J24: 0 | K24: 0 | L24: 0 | M24: 0 | N24: 0 | O24: 0 | P24: 0 | Q24: 0 | R24: 0 | S24: 0 | T24: 0 | U24: 0 | V24: =SUM(B24:U24) -> 0
A25: ข้อมูลหนี้ตามข้อ 3.3 เจ้าหนี้ 5 (ต้น+ดอก)/ปี | B25: 0 | C25: 0 | D25: 0 | E25: 0 | F25: 0 | G25: 0 | H25: 0 | I25: 0 | J25: 0 | K25: 0 | L25: 0 | M25: 0 | N25: 0 | O25: 0 | P25: 0 | Q25: 0 | R25: 0 | S25: 0 | T25: 0 | U25: 0 | V25: =SUM(B25:U25) -> 0
A26: (8) รวมเงินสดจ่าย (1)+(2)+(3)+(4)+(5)+(6)+(7) | B26: =SUM(B14:B25) -> 275000 | C26: =SUM(C14:C25) -> 24375 | D26: =SUM(D14:D25) -> 23750 | E26: =SUM(E14:E25) -> 23125 | F26: =SUM(F14:F25) -> 22500 | G26: =SUM(G14:G25) -> 21875 | H26: =SUM(H14:H25) -> 21250 | I26: =SUM(I14:I25) -> 20625 | ... U26: =SUM(U14:U25) -> 13125 | V26: =SUM(B26:U26) -> 631250
A27: 6.3 เงินสดคงเหลือ 6.1 - 6.2 | B27: =B11-B26 -> 25000 | C27: =C11-C26 -> 50625 | D27: =D11-D26 -> 76875 | E27: =E11-E26 -> 103750 | F27: =F11-F26 -> 131250 | G27: =G11-G26 -> 159375 | H27: =H11-H26 -> 188125 | I27: =I11-I26 -> 217500 | ... U27: =U11-U26 -> 618750 | V27: =SUM(B27:U27) -> 6081250
A28: รวมชำระหนี้ให้เจ้าหนี้ทุกรายต่อปี | B28: =SUM(B14:B25) -> 275000 | C28: =SUM(C14:C25) -> 24375 | D28: =SUM(D14:D25) -> 23750 | E28: =SUM(E14:E25) -> 23125 | F28: =SUM(F14:F25) -> 22500 | G28: =SUM(G14:G25) -> 21875 | H28: =SUM(H14:H25) -> 21250 | I28: =SUM(I14:I25) -> 20625 | ... U28: =SUM(U14:U25) -> 13125 | V28: =SUM(B28:U28) -> 631250
A29: ยอดหนี้อื่นๆ รวม | B29: =SUM(B19:B25) -> 0 | C29: =SUM(C19:C25) -> 0 | D29: =SUM(D19:D25) -> 0 | E29: =SUM(E19:E25) -> 0 | F29: =SUM(F19:F25) -> 0 | G29: =SUM(G19:G25) -> 0 | H29: =SUM(H19:H25) -> 0 | I29: =SUM(I19:I25) -> 0 | ... U29: =SUM(U19:U25) -> 0
A30: เงินต้นกู้ประกอบอาชีพคงเหลือ | B30: =B8 -> 0 | C30: =B30-B17 -> 0 | D30: =C30-C17 -> 0 | E30: =D30-D17 -> 0 | F30: =E30-E17 -> 0 | G30: =F30-F17 -> 0 | H30: =G30-G17 -> 0 | I30: =H30-H17 -> 0 | J30: =I30-I17 -> 0 | ... U30: =T30-T17 -> 0
A31: ยอดชำระเฉพาะเงินกู้ประกอบอาชีพรายปี | B31: =B17+B18 -> 0 | C31: =C17+C18 -> 0 | D31: =D17+D18 -> 0 | E31: =E17+E18 -> 0 | F31: =F17+F18 -> 0 | G31: =G17+G18 -> 0 | H31: =H17+H18 -> 0 | I31: =I17+I18 -> 0 | ... U31: =U17+U18 -> 0

Sheet 4. กู้ประกอบอาชีพภายหลัง
E1: (กรณีไม่ครบ 20 ปี ให้ใส่ปีที่ไม่ได้ใช่เป็น 0 ทุกช่อง)
A2: 6. ประมาณการกระแสเงินสดและแผนการชำระคืนหนี้เงินกู้ของผู้กู้ | D2: หมายเหตุ ใช้กับการคำนวณกระแสเงินสด "การกู้ประกอบอาชีพ" ภายหลัง
A3: รายการ | B3: ปีที่ (ตั้งแต่ปีที่ 1 จนถึงปีที่ชำระเสร็จสิ้น) | L3: ปีที่ (ตั้งแต่ปีที่ 1 จนถึงปีที่ชำระเสร็จ)
B4: 1 | C4: 2 | D4: 3 | E4: 4 | F4: 5 | G4: 6 | H4: 7 | I4: 8 | J4: 9 | K4: 10 | L4: 11 | M4: 12 | N4: 13 | O4: 14 | P4: 15 | Q4: 16 | R4: 17 | S4: 18 | T4: 19 | U4: 20 | V4: รวม
A5: 6.1 เงินสดรับ (บาท)
A6: (1) รายได้สุทธิ (ตามข้อ 5.1.5) | B6: ='2. ตารางแผน 3 ปี'!E22 -> 50000 | C6: 0 | D6: 0 | E6: 0 | F6: 0 | G6: 0 | H6: 0 | I6: 0 | J6: 0 | K6: 0 | L6: 0 | M6: 0 | N6: 0 | O6: 0 | P6: 0 | Q6: 0 | R6: 0 | S6: 0 | T6: 0 | U6: 0 | V6: =SUM(B6:U6) -> 50000
A7: (3) เงินกู้เพื่อการประกอบอาชีพ สป.กษ. | B7: 0 | C7: xxx | D7: xxx | E7: xxx | F7: xxx | G7: xxx | H7: xxx | I7: xxx | J7: xxx | K7: xxx | L7: xxx | M7: xxx | N7: xxx | O7: xxx | P7: xxx | Q7: xxx | R7: xxx | S7: xxx | T7: xxx | U7: xxx | V7: =SUM(B7:U7) -> 0
A8: (4) เงินกู้จากเจ้าหนี้อื่น ................................. | B8: 0 | C8: 0 | D8: 0 | E8: 0 | F8: 0 | G8: 0 | H8: 0 | I8: 0 | J8: 0 | K8: 0 | L8: 0 | M8: 0 | N8: 0 | O8: 0 | P8: 0 | Q8: 0 | R8: 0 | S8: 0 | T8: 0 | U8: 0 | V8: =SUM(B8:U8) -> 0
A9: (5) เงินสดสมทบ(ถ้ามี)เงินสดคงเหลือ 6.3 | B9: 0 | C9: =B24 -> 50000 | D9: =C24 -> 50000 | E9: =D24 -> 50000 | F9: =E24 -> 50000 | G9: =F24 -> 50000 | H9: =G24 -> 50000 | I9: =H24 -> 50000 | J9: =I24 -> 50000 | ... U9: =T24 -> 50000 | V9: =SUM(B9:U9) -> 950000
A10: (6) รวมเงินสดรับ (1)+(2)+(3)+(4)+(5) | B10: =SUM(B6:B9) -> 50000 | C10: =SUM(C6:C9) -> 50000 | D10: =SUM(D6:D9) -> 50000 | E10: =SUM(E6:E9) -> 50000 | F10: =SUM(F6:F9) -> 50000 | G10: =SUM(G6:G9) -> 50000 | H10: =SUM(H6:H9) -> 50000 | I10: =SUM(I6:I9) -> 50000 | ... U10: =SUM(U6:U9) -> 50000 | V10: =SUM(B10:U10) -> 1000000
A11: 6.2 เงินสดจ่าย (บาท) | B11: =B23 -> 0 | C11: =C23 -> 0 | D11: =D23 -> 0 | E11: =E23 -> 0 | F11: =F23 -> 0 | G11: =G23 -> 0 | H11: =H23 -> 0 | I11: =I23 -> 0 | ... U11: =U23 -> 0 | V11: =SUM(B11:U11) -> 0
A12: (2) ชำระต้นเงินกู้ สป.กษ. (ปีที่เหลือทั้งหมดฯ) | B12: 0 | C12: 0 | D12: 0 | E12: 0 | F12: 0 | G12: 0 | H12: 0 | I12: 0 | J12: 0 | K12: 0 | L12: 0 | M12: 0 | N12: 0 | O12: 0 | P12: 0 | Q12: 0 | R12: 0 | S12: 0 | T12: 0 | U12: 0 | V12: =SUM(B12:U12) -> 0
A13: (3) ชำระดอกเบี้ย สป.กษ.(5%) (ปีที่เหลือทั้งหมดฯ) | B13: 0 | C13: 0 | D13: 0 | E13: 0 | F13: 0 | G13: 0 | H13: 0 | I13: 0 | J13: 0 | K13: 0 | L13: 0 | M13: 0 | N13: 0 | O13: 0 | P13: 0 | Q13: 0 | R13: 0 | S13: 0 | T13: 0 | U13: 0 | V13: =SUM(B13:U13) -> 0
A14: (4) ชำระต้นเงินกู้เพื่อประกอบอาชีพ สป.กษ./ ธ.ก.ส. | B14: 0 | C14: 0 | D14: 0 | E14: 0 | F14: 0 | G14: 0 | H14: 0 | I14: 0 | J14: 0 | K14: 0 | L14: 0 | M14: 0 | N14: 0 | O14: 0 | P14: 0 | Q14: 0 | R14: 0 | S14: 0 | T14: 0 | U14: 0 | V14: =SUM(B14:U14) -> 0
A15: (5) ชำระดอกเบี้ยเงินกู้เพื่อประกอบอาชีพ สป.กษ./ ธ.ก.ส. | B15: =B7*5/100 -> 0 | C15: =C27*5/100 -> 0 | D15: =D27*5/100 -> 0 | E15: =E27*5/100 -> 0 | F15: =F27*5/100 -> 0 | G15: =G27*5/100 -> 0 | H15: =H27*5/100 -> 0 | I15: =I27*5/100 -> 0 | J15: =J27*5/100 -> 0 | ... U15: =U27*5/100 -> 0 | V15: =SUM(B15:U15) -> 0
A16: (6) ชำระต้นเงินเจ้าหนี้อื่น | B16: 0 | C16: 0 | D16: 0 | E16: 0 | F16: 0 | G16: 0 | H16: 0 | I16: 0 | J16: 0 | K16: 0 | L16: 0 | M16: 0 | N16: 0 | O16: 0 | P16: 0 | Q16: 0 | R16: 0 | S16: 0 | T16: 0 | U16: 0 | V16: =SUM(B16:U16) -> 0
A17: (7) ชำระดอกเบี้ยหนี้อื่น | B17: 0 | C17: 0 | D17: 0 | E17: 0 | F17: 0 | G17: 0 | H17: 0 | I17: 0 | J17: 0 | K17: 0 | L17: 0 | M17: 0 | N17: 0 | O17: 0 | P17: 0 | Q17: 0 | R17: 0 | S17: 0 | T17: 0 | U17: 0 | V17: =SUM(B17:U17) -> 0
A18: ข้อมูลหนี้ตามข้อ 3.3 เจ้าหนี้ 1 (ต้น+ดอก)/ปี | B18: 0 | C18: 0 | D18: 0 | E18: 0 | F18: 0 | G18: 0 | H18: 0 | I18: 0 | J18: 0 | K18: 0 | L18: 0 | M18: 0 | N18: 0 | O18: 0 | P18: 0 | Q18: 0 | R18: 0 | S18: 0 | T18: 0 | U18: 0 | V18: =SUM(B18:U18) -> 0
A19: ข้อมูลหนี้ตามข้อ 3.3 เจ้าหนี้ 2 (ต้น+ดอก)/ปี | B19: 0 | C19: 0 | D19: 0 | E19: 0 | F19: 0 | G19: 0 | H19: 0 | I19: 0 | J19: 0 | K19: 0 | L19: 0 | M19: 0 | N19: 0 | O19: 0 | P19: 0 | Q19: 0 | R19: 0 | S19: 0 | T19: 0 | U19: 0 | V19: =SUM(B19:U19) -> 0
A20: ข้อมูลหนี้ตามข้อ 3.3 เจ้าหนี้ 3 (ต้น+ดอก)/ปี | B20: 0 | C20: 0 | D20: 0 | E20: 0 | F20: 0 | G20: 0 | H20: 0 | I20: 0 | J20: 0 | K20: 0 | L20: 0 | M20: 0 | N20: 0 | O20: 0 | P20: 0 | Q20: 0 | R20: 0 | S20: 0 | T20: 0 | U20: 0 | V20: =SUM(B20:U20) -> 0
A21: ข้อมูลหนี้ตามข้อ 3.3 เจ้าหนี้ 4 (ต้น+ดอก)/ปี | B21: 0 | C21: 0 | D21: 0 | E21: 0 | F21: 0 | G21: 0 | H21: 0 | I21: 0 | J21: 0 | K21: 0 | L21: 0 | M21: 0 | N21: 0 | O21: 0 | P21: 0 | Q21: 0 | R21: 0 | S21: 0 | T21: 0 | U21: 0 | V21: =SUM(B21:U21) -> 0
A22: ข้อมูลหนี้ตามข้อ 3.3 เจ้าหนี้ 5 (ต้น+ดอก)/ปี | B22: 0 | C22: 0 | D22: 0 | E22: 0 | F22: 0 | G22: 0 | H22: 0 | I22: 0 | J22: 0 | K22: 0 | L22: 0 | M22: 0 | N22: 0 | O22: 0 | P22: 0 | Q22: 0 | R22: 0 | S22: 0 | T22: 0 | U22: 0 | V22: =SUM(B22:U22) -> 0
A23: (8) รวมเงินสดจ่าย (1)+(2)+(3)+(4)+(5)+(6)+(7) | B23: =SUM(B12:B22) -> 0 | C23: =SUM(C12:C22) -> 0 | D23: =SUM(D12:D22) -> 0 | E23: =SUM(E12:E22) -> 0 | F23: =SUM(F12:F22) -> 0 | G23: =SUM(G12:G22) -> 0 | H23: =SUM(H12:H22) -> 0 | I23: =SUM(I12:I22) -> 0 | ... U23: =SUM(U12:U22) -> 0 | V23: =SUM(B23:U23) -> 0
A24: 6.3 เงินสดคงเหลือ 6.1 - 6.2 | B24: =B10-B23 -> 50000 | C24: =C10-C23 -> 50000 | D24: =D10-D23 -> 50000 | E24: =E10-E23 -> 50000 | F24: =F10-F23 -> 50000 | G24: =G10-G23 -> 50000 | H24: =H10-H23 -> 50000 | I24: =I10-I23 -> 50000 | ... U24: =U10-U23 -> 50000 | V24: =SUM(B24:U24) -> 1000000
A25: รวมชำระหนี้ให้เจ้าหนี้ทุกรายต่อปี | B25: =SUM(B12:B22) -> 0 | C25: =SUM(C12:C22) -> 0 | D25: =SUM(D12:D22) -> 0 | E25: =SUM(E12:E22) -> 0 | F25: =SUM(F12:F22) -> 0 | G25: =SUM(G12:G22) -> 0 | H25: =SUM(H12:H22) -> 0 | I25: =SUM(I12:I22) -> 0 | ... U25: =SUM(U12:U22) -> 0 | V25: =SUM(B25:U25) -> 0
A26: ยอดหนี้อื่นๆ รวม | B26: =SUM(B16:B22) -> 0 | C26: =SUM(C16:C22) -> 0 | D26: =SUM(D16:D22) -> 0 | E26: =SUM(E16:E22) -> 0 | F26: =SUM(F16:F22) -> 0 | G26: =SUM(G16:G22) -> 0 | H26: =SUM(H16:H22) -> 0 | I26: =SUM(I16:I22) -> 0 | ... U26: =SUM(U16:U22) -> 0
A27: เงินต้นกู้ประกอบอาชีพคงเหลือ | B27: =B7 -> 0 | C27: =B27-B14 -> 0 | D27: =C27-C14 -> 0 | E27: =D27-D14 -> 0 | F27: =E27-E14 -> 0 | G27: =F27-F14 -> 0 | H27: =G27-G14 -> 0 | I27: =H27-H14 -> 0 | J27: =I27-I14 -> 0 | ... U27: =T27-T14 -> 0
A28: ยอดชำระเฉพาะเงินกู้ประกอบอาชีพรายปี | B28: =B14+B15 -> 0 | C28: =C14+C15 -> 0 | D28: =D14+D15 -> 0 | E28: =E14+E15 -> 0 | F28: =F14+F15 -> 0 | G28: =G14+G15 -> 0 | H28: =H14+H15 -> 0 | I28: =I14+I15 -> 0 | ... U28: =U14+U15 -> 0

Sheet 5. ประเมินที่และประเมินบ้าน
A1: การพิจารณาราคาหลักประกันเงินกู้
G2: ราคา (1) | P2: ราคา (2)
A3: ที่ | B3: ที่ดิน (ข้อมูลจากแบบประเมินที่ดิน) | G3: รวมราคาที่ดินอย่างเดียว | H3: รวมราคาที่ดินโดย ธกส. | I3: สิ่งปลูกสร้าง (ข้อมูลจากแบบประเมินสิ่งปลูกสร้าง)
B4: ราคาประเมินต่อไร่ (บาท) | C4: ราคาต่อตารางวา (บาท) | D4: ขนาด | I4: เนื้อที่ (ตรม.) | J4: ราคา/ตรม. | K4: ค่าเสื่อมราคา | N4: ราคาบ้านหลังหักค่าเสื่อม | O4: ราคาบ้าน ธกส.ให้ | P4: มีประกันอัคคีภัย
D5: ไร่ | E5: งาน | F5: ตารางวา | P5: ไม่มี (30%) | Q5: มี (50%)
G6: (บาท) | H6: (บาท) | K6: ราคาบ้าน | L6: % | M6: ราคาค่าเสื่อมฯ | O6: (บาท) | P6: (บาท) | Q6: (บาท)
A7: 1 | B7: 168000 | C7: =B7/400 -> 420 | D7: 1 | E7: 2 | F7: 15 | G7: =((D7*400)+(E7*100)+F7)*C7 -> 258300 | H7: 258300 | I7: 0 | J7: 0 | K7: =SUM(I7*J7) -> 0 | L7: 0 | M7: =K7*L7/100 -> 0 | N7: =K7-M7 -> 0 | O7: 0 | P7: =O7*30/100 -> 0 | Q7: =O7*50/100 -> 0
A8: 2 | B8: 0 | C8: =B8/400 -> 0 | D8: 0 | E8: 0 | F8: 0 | G8: =((D8*400)+(E8*100)+F8)*C8 -> 0 | H8: 0 | I8: 0 | J8: 0 | K8: =SUM(I8*J8) -> 0 | L8: 0 | M8: =K8*L8/100 -> 0 | N8: =K8-M8 -> 0 | O8: 0 | P8: =O8*30/100 -> 0 | Q8: =O8*50/100 -> 0
A9: 3 | B9: 0 | C9: =B9/400 -> 0 | D9: 0 | E9: 0 | F9: 0 | G9: =((D9*400)+(E9*100)+F9)*C9 -> 0 | H9: 0 | I9: 0 | J9: 0 | K9: =SUM(I9*J9) -> 0 | L9: 0 | M9: =K9*L9/100 -> 0 | N9: =K9-M9 -> 0 | O9: 0 | P9: =O9*30/100 -> 0 | Q9: =O9*50/100 -> 0
A10: 4 | B10: 0 | C10: =B10/400 -> 0 | D10: 0 | E10: 0 | F10: 0 | H10: 0 | I10: 0 | J10: 0 | K10: =SUM(I10*J10) -> 0 | L10: 0 | M10: =K10*L10/100 -> 0 | N10: =K10-M10 -> 0 | O10: 0 | P10: =O10*30/100 -> 0 | Q10: =O10*50/100 -> 0
A11: 5 | B11: 0 | C11: =B11/400 -> 0 | D11: 0 | E11: 0 | F11: 0 | H11: 0 | I11: 0 | J11: 0 | K11: =SUM(I11*J11) -> 0 | L11: 0 | M11: =K11*L11/100 -> 0 | N11: =K11-M11 -> 0 | O11: 0 | P11: =O11*30/100 -> 0 | Q11: =O11*50/100 -> 0
A12: รวม | B12: =SUM(B7:B11) -> 168000 | C12: =SUM(C7:C11) -> 420 | D12: =SUM(D7:D11) -> 1 | E12: =SUM(E7:E11) -> 2 | F12: =SUM(F7:F11) -> 15 | G12: =SUM(G7:G11) -> 258300 | H12: =SUM(H7:H11) -> 258300 | I12: =SUM(I7:I11) -> 0 | ... K12: =SUM(K7:K11) -> 0 | M12: =SUM(M7:M11) -> 0 | N12: =SUM(N7:N11) -> 0 | O12: =SUM(O7:O11) -> 0 | P12: =SUM(P7:P11) -> 0 | Q12: =SUM(Q7:Q11) -> 0
A14: มูลหนี้ขอกู้ จำนวน = | G14: ='1. รายได้ครัวเรือน'!H2 -> 250000 | I14: 0.01 | J14: =G14*1/100 -> 2500 | M14: รวมเงินจ่ายสุทธิ | O14: =G14+J14 -> 252500
B15: ราคาประเมินที่ดินไม่มีสิ่งปลูกสร้าง = | G15: =H12 -> 258300 | I15: คิดเป็นร้อยละ | J15: =G15/G14*100 -> 103.32 | K15: ของมูลหนี้
B16: ราคาประเมินที่ดินรวมสิ่งปลูกสร้างไม่มีประกัน = | G16: =H12+P12 -> 258300 | I16: คิดเป็นร้อยละ | J16: =G16/G14*100 -> 103.32 | K16: ของมูลหนี้
B17: ราคาประเมินที่ดินรวมสิ่งปลูกสร้างมีประกัน = | G17: =H12+Q12 -> 258300 | I17: คิดเป็นร้อยละ | J17: =G17/G14*100 -> 103.32 | K17: ของมูลหนี้
