Workbook

Sheet สรุป
A1: สรุปการติดตามเกษตรกรกิจกรรมติดตามการพัฒนาเกษตรกรรุ่นใหม่
A2: ภายใต้โครงการตำบลมั่นคง มั่งคั่ง ยั่งยืนในจังหวัดชายแดนภาคใต้ ประจำปีงบประมาณ พ.ศ.2564
A3: จังหวัดสงขลา
A4: ปีที่เข้าร่วม | B4: เป้าหมาย | C4: จำนวนตอบแบบสอบถาม | D4: รายได้ภาคการเกษตร (ต่อปี) | F4: รายได้นอกภาคการเกษตร (ต่อปี) | H4: รายจ่ายภาคการเกษตร (ต่อปี) | J4: รายได้เปรียบเทียบก่อนและหลังเข้าร่วมโครงการฯ (ต่อปี)
D5: ทั้งหมด | E5: ต่อคนต่อปี | F5: ทั้งหมด | G5: ต่อคนต่อปี | H5: ทั้งหมด | I5: ต่อคนต่อปี | J5: รายได้ก่อนเข้าร่วมโครงการ | K5: รายได้หลังเข้าร่วมโครงการ | L5: ผลลัพท์ | M5: เพิ่มขึ้น/ลดลง
A6: 2562 | B6: 69 | C6: 51 | D6: =+'2562'!BJ76 -> 10138292 | E6: =+'2562'!BJ77 -> 198790.04 | F6: =+'2562'!BP76 -> 3277800 | G6: =+'2562'!BP77 -> 64270.588 | H6: =+'2562'!BY76 -> 1808310 | I6: =+'2562'!BY77 -> 35457.059 | J6: 9436608 | K6: =+D6+F6-H6 -> 11607782 | L6: =+K6-J6 -> 2171174 | M6: เพิ่มขึ้น 46 ราย ลดลง 5 ราย
A7: 2563 | B7: 32 | C7: 23 | D7: =+'2563'!BM39 -> 4283450.8 | E7: =+'2563'!BM40 -> 186236.99 | F7: =+'2563'!BS39 -> 1850800 | G7: =+'2563'!BS40 -> 80469.565 | H7: =+'2563'!CB39 -> 1080310 | I7: =+'2563'!CB40 -> 46970 | J7: =+'2563'!CE39 -> 4365000 | K7: =+D7+F7-H7 -> 5053940.8 | L7: =+K7-J7 -> 688940.84 | M7: เพิ่มขึ้น 23 ราย

Sheet 2562
A1: ข้อมูลการติดตามเกษตรกรกิจกรรมติดตามการพัฒนาเกษตรกรรุ่นใหม่ ปีงบประมาณ พ.ศ.2564 สำนักงานเกษตรและสหกรณ์จังหวัดสงขลา
A2: ปีที่เข้าร่วม 2562 จำนวน 69 ราย
A3: ลำดับที่ | B3: ส่วนที่ 1 ข้อมูลทั่วไป | R3: ส่วนที่ 2 ข้อมูลรายได้ครัวเรือน | CF3: ส่วนที่ 3 กิจกรรมที่ต้องการให้หน่วยงานภาครัฐ และสถาบันการศึกษาส่งเสริม/สนับสนุนเพิ่มเติม กรุณาระบุให้ชัดเจน
B4: 1.ชื่อ-สกุล | C4: 2.ที่อยู่ | F4: 3.อายุ | G4: 4.จำนวนสมาชิกในครัวเรือน | H4: 5.จำนวนพื้นที่ที่ท่านถือครองเพื่อทำการเกษตร | I4: 6.อาชีพ | K4: 7.กิจกรรมทางการเกษตรที่ดำเนินการหลังเข้าร่วมกิจกรรม | P4: 7.3 ท่านมีช่องทางการจำหน่ายสินค้าออนไลน์เป็นของตัวเองหรือไหม | Q4: 7.4 ท่านจำหน่ายสินค้าทางการเกษตรช่องทางใด | R4: ด้านพืช | AG4: ด้านประมง | AM4: ด้านปศุสัตว์ | AY4: ด้านอื่นๆ | BJ4: รวม | BK4: 2.รายได้นอกภาคการเงิน | BQ4: 3.รายจ่ายเงินสดทางการเกษตร | BZ4: 4.รายได้เงินสดสุทธิทางการเกษตร | CA4: 5.รายได้เงินสดสุทธิครัวเรือน | CB4: 6.รายได้เปรียบเทียบก่อนและหลังเข้าร่วมโครงการฯ (ต่อปี)
C5: ที่อยู่ | D5: เบอร์โทรศัพท์ | E5: ID Line /Facebook | I5: อาชีพหลัก | J5: อาชีพรอง | K5: 7.1 ท่านมีการวางการผลิตก่อนการทำการเกษตรของท่านหรือไหม | L5: 7.2 ดำเนินกิจกรรมทางการเกษตร | R5: ยางพารา | U5: ปาล์มน้ำมัน | X5: ไม้ผล | AA5: พืชไร่ (ข้าวโพด แตงโม ฯลฯ) | AD5: พืชผัก/สมุนไพร/ผักสวนครัว | AG5: ปลาน้ำจืด | AJ5: กบ/หอย/ปูนา | AM5: วัวเนื้อ/วัวนม | AP5: แพะเนื้อ/แพะนม | AS5: สุกร (หมู) | AV5: สัตว์ปีก (ไก่ไข่ ไก่เนื้อ เป็ดไข่ เป็ดเนื้อ นกกระทา ฯลฯ) | AY5: ผึ้ง/ชันโรง | BB5: การนำผลผลิตทางการเกษตรมาแปรรูปผลิตภัณฑ์ต่างๆ เช่น เครื่องแกง ปลาส้ม ปลาร้า เป็นต้น | BF5: ผลผลิตการเกษตรอื่นๆ
L6: ด้านพืช | M6: ด้านประมง | N6: ด้านปศุสัตว์ | O6: ด้านอื่นๆ | S6: ปริมาณผลผลิตยางพารา จำนวนกี่กิโกลิกรัม ต่อปี (ปี64 ปีนี้) | T6: รายได้จากการขายผลผลิตยางพารา ต่อปี (ปี64 ปีนี้) | V6: ปริมาณผลผลิตปาล์มน้ำมัน จำนวนกี่กิโกลิกรัม ต่อปี (ปี64 ปีนี้) (โปรดระบุ) | W6: รายได้จากการขายผลผลิตปาล์มน้ำมัน ต่อปี (ปี64 ปีนี้) โปรดระบุ | Y6: ปริมาณผลผลิตไม้ผล จำนวนกี่กิโกลิกรัม ต่อปี (ปี64 ปีนี้) (โปรดระบุ) | Z6: รายได้จากการขายผลผลิตไม้ผล ต่อปี (ปี64 ปีนี้) โปรดระบุ | AB6: ปริมาณผลผลิตพืชไร่ จำนวนกี่กิโกลิกรัม ต่อปี (ปี64 ปีนี้) (โปรดระบุ) | AC6: รายได้จากการขายผลผลิตพืชไร่ ต่อปี (ปี64 ปีนี้) โปรดระบุ | AE6: ปริมาณผลผลิตพืชผัก/สมุนไพร/ผักสวนครัว จำนวนกี่กิโกลิกรัม ต่อปี (ปี64 ปีนี้) (โปรดระบุ) | AF6: รายได้จากการขายผลผลิตพืชผัก/สมุนไพร/ผักสวนครัว ต่อปี (ปี64 ปีนี้) โปรดระบุ | AH6: จำนวนปลาน้ำจืด ที่ขายในปี 64 ตัว (โปรดระบุ) | AI6: รายได้จากการขายปลาน้ำจืด ต่อปี (ปี64 ปีนี้) โปรดระบุ | AK6: จำนวนกบ/หอย/ปูนา ที่ขายในปี 64 ตัว (โปรดระบุ) | AL6: รายได้จากการขายกบ/หอย/ปูนา ต่อปี (ปี64 ปีนี้) โปรดระบุ | AN6: จำนวนวัวที่ขายในปี 64 ตัว / จำนวนมูลวัวขาย กระสอบ/ปี (โปรดระบุ) | AO6: รายได้จากการขายวัว/มูลวัว ต่อปี (ปี64 ปีนี้) โปรดระบุ | AQ6: จำนวนแพะที่ขายในปี 64 ตัว / จำนวนมูลแพะขาย กระสอบ/ปี (โปรดระบุ) | AR6: รายได้จากการขายแพะ/มูลแพะ ต่อปี (ปี64 ปีนี้) โปรดระบุ | AT6: จำนวนสุกรที่ขายในปี 64 ตัว / จำนวนมูลสุกรขาย กระสอบ/ปี (โปรดระบุ) | AU6: รายได้จากการขายสุกร/มูลสุกร ต่อปี (ปี64 ปีนี้) โปรดระบุ | AW6: จำนวนสัตว์ปีก ที่ขายในปี 64 ตัว / จำนวนมูลสัตว์ปีกขาย กระสอบต่อปี/จำนวนไข่ที่จำหน่าย ฟองต่อปี (โปรดระบุ) | AX6: รายได้จากการขายสัตว์ปี/มูล/ไข่ ต่อปี (ปี64 ปีนี้) โปรดระบุ | AZ6: ปริมาณผลผลิตน้ำผึ้ง /รัง จำนวนกี่ขวด/รัง ต่อปี (ปี64 ปีนี้) (โปรดระบุ) | BA6: รายได้จากการขายผลผลิตน้ำผึ้ง/รัง ต่อปี (ปี64 ปีนี้) โปรดระบุ | BC6: ท่านแปรรูปเป็นสินค้าใด โปรดระบุ | BD6: ปริมาณสินค้าแปรรูปที่ท่านผลิตในปี 2564 จำนวนกี่กิโกลิกรัม/ขวด/กระปุก โปรดระบุ จำนวน และหน่วยนับ | BE6: รายได้จากการขายสินค้าแปรรูปในปี64 โปรดระบุ | BG6: ผลผลิตการเกษตรอื่นๆ โปรดระบุชื่อผลผลิตนั้น | BH6: ปริมาณที่ท่านผลิตในปี 2564 โปรดระบุ จำนวน และหน่วยนับ | BI6: รายได้จากการขายผลผลิตการเกษตรอื่นๆ ในปี64 โปรดระบุ | BK6: ค่าเช่าที่ดิน/ทรัพย์สิน/บ้าน/อาคารพาณิชย์/รถยนต์ | BL6: การรับจ้างทั่วไป/เงินเดือน | BM6: ธุรกิจ/การค้าที่มิใช่เกษตร | BN6: บำนาญ/บำเหน็จ/ลูกหลาน | BO6: อื่นๆ (เสี่ยงโชค/ มรดก งานพิธีต่างๆ) | BP6: รวม | BQ6: ค่าจ้างแรงงาน "ด้านพืช" (เพื่อใส่ปุ๋ย เตรียมดิน ให้น้ำ เก็บเกี่ยว ฯลฯ) บาท/ปี | BR6: ค่าวัสดุอุปกรณ์ "ด้านพืช" (ค่าสารเคมี ปุ๋ย น้ำมัน ไฟฟ้า ฯลฯ ) บาท/ปี | BS6: ค่าจ้างแรงงาน "ด้านปศุสัตว์/สัตว์น้ำ" (เพื่อขุดบ่อ เตรียมอาหาร บริหารจัดการ ฯลฯ) บาท/ปี | BT6: ค่าวัสดุอุปกรณ์ "ด้านปศุสัตว์/สัตว์น้ำ" (ค่าอาหาร ยา ค่าน้ำมัน ฯลฯ ) บาท/ปี | BU6: ค่าซื้อ/ค่าเช่าที่ดิน/ค่าภาษีที่ดิน/ค่าไถ่ถอนที่ดิน/บุกเบิกที่ดินทางการเกษตร คือค่าใช้จ่ายเกี่ยวกับอสังหาริมทรัพย์ที่เกี่ยวกับการเกษตร บาท/ปี | BV6: ค่าซื้อ/ค่าเช่า/ค่าซ่อม/ค่าบำรุงรักษาทรัพย์สินทางการเกษตร (โรงเรือน เครื่องจักร อุปกรณ์ทางการเกษตร) บาท/ปี | BW6: ค่าใช้จ่ายเกี่ยวกับการพัฒนาด้านแหล่งน้ำ (ขุดลอกบ่อ/สระ ทำคันกั้นน้ำ) บาท/ปี | BX6: ค่าใช้จ่ายอื่นๆ เกี่ยวกับการเกษตร บาท/ปี | BY6: รวม | CB6: รายได้ก่อนเข้าร่วมโครงการ | CC6: รายได้หลังเข้าร่วมโครงการ | CD6: ผลลัพท์ | CE6: เพิ่มขึ้น/ลดลง
A7: 1 | B7: นายมาหะมุด กายียุ | C7: 20/7 ม1 ตำบลธารคีรี อำเภอสะบ้าย้อย จังหวัดสงขลา | D7: 0635831833 | E7: Bin kayeeyu | F7: 31-40 ปี | G7: มากกว่า 6 คนขึ้นไป | H7: 1-3 ไร่ | I7: เกษตรกรรม (เกษตร ประมง ปศุสัตว์) | J7: รับจ้างทางการเกษตร/ทั่วไป | K7: มี | L7: - | M7: - | N7: - | O7: - | P7: ไม่มี | Q7: ตลาดในพื้นที่ | R7: ทำ | S7: 800 | T7: =+S7*53.42 -> 42736 | U7: ไม่ทำ | V7: - | W7: - | X7: ทำ | Y7: บริโภคในครัวเรือน | Z7: 0 | AA7: ไม่ทำ | AB7: - | AC7: - | AD7: ไม่ทำ | AE7: - | AF7: - | AG7: ไม่ทำ | AH7: - | AI7: - | AJ7: ไม่ทำ | AK7: - | AL7: - | AM7: ไม่ทำ | AN7: - | AO7: - | AP7: ไม่ทำ | AQ7: - | AR7: - | AS7: ไม่ทำ | AT7: - | AU7: - | AV7: ไม่ทำ | AW7: - | AX7: - | AY7: ทำ | AZ7: เพิ่งเริ่มเลี้ยง | BA7: ยังไม่สามารถจำหน่ายได้ | BB7: ไม่ทำ | BC7: - | BD7: - | BE7: - | BF7: ไม่มี | BG7: - | BH7: - | BI7: - | BJ7: =SUM(T7,W7,Z7,AC7,AF7,AI7,AL7,AO7,AR7,AU7,AX7,BA7,BE7,BI7) -> 42736 | BK7: ไม่มี | BL7: =2500*10 -> 25000 | BM7: ไม่มี | BN7: ไม่มี | BO7: 9500 | BP7: =SUM(BK7:BO7) -> 34500 | BQ7: ไม่มี | BR7: ไม่มี | BS7: ไมีมี | BT7: ไม่มี | BU7: ไม่มี | BV7: ไม่มี | BW7: ไม่มี | BX7: ไม่มี | BY7: =SUM(BQ7:BX7) -> 0 | BZ7: =+BJ7-BY7 -> 42736 | CA7: =+BP7+BZ7 -> 77236 | CB7: =8000*12 -> 96000 | CC7: =+CA7 -> 77236 | CD7: =+CC7-CB7 -> -18764 | CE7: =IF(CB7<CC7,"เพิ่มขึ้น","ลดลง") -> ลดลง | CF7: น้ำใช้การเกษตร
A8: 2 | B8: นางสาวณัฐพร อิสโร | C8: 6/2 ม.6 ต.ป่าชิง อ.จะนะ จ.สงขลา | D8: 0987190315 | E8: 0987190315 | F8: 31-40 ปี | G8: 4-5 คน | H8: 1-3 ไร่ | I8: ข้าราชการ/พนักงานของรัฐ | J8: รับจ้างทางการเกษตร/ทั่วไป | K8: ไม่มี | L8: - | M8: - | N8: - | O8: - | P8: facebook | Q8: ตลาดในพื้นที่ | R8: ทำ | S8: ไม่ทราบ | T8: 40000 | U8: ไม่ทำ | V8: - | W8: - | X8: ทำ | Y8: บริโภคในครัวเรือน | Z8: 0 | AA8: ไม่ทำ | AB8: - | AC8: - | AD8: ทำ | AE8: บริโภคในครัวเรือน | AF8: - | AG8: ไม่ทำ | AH8: - | AI8: - | AJ8: ไม่ทำ | AK8: - | AL8: - | AM8: ไม่ทำ | AN8: - | AO8: - | AP8: ไม่ทำ | AQ8: - | AR8: - | AS8: ไม่ทำ | AT8: - | AU8: - | AV8: ทำ | AW8: บริโภคในครัวเรือน | AX8: - | AY8: ไม่ทำ | AZ8: - | BA8: - | BB8: ไม่ทำ | BC8: - | BD8: - | BE8: - | BF8: ไม่มี | BG8: - | BH8: - | BI8: - | BJ8: =SUM(T8,W8,Z8,AC8,AF8,AI8,AL8,AO8,AR8,AU8,AX8,BA8,BE8,BI8) -> 40000 | BK8: ไม่มี | BL8: =5000*12 -> 60000 | BM8: ไม่มี | BN8: ไม่มี | BO8: 9500 | BP8: =SUM(BK8:BO8) -> 69500 | BQ8: ไม่มี | BR8: 2000 | BS8: ไม่มี | BT8: ไม่มี | BU8: ไม่มี | BV8: ไม่มี | BW8: ไม่มี | BX8: ไม่มี | BY8: =SUM(BQ8:BX8) -> 2000 | BZ8: =+BJ8-BY8 -> 38000 | CA8: =+BP8+BZ8 -> 107500 | CB8: 80000 | CC8: =+CA8 -> 107500 | CD8: =+CC8-CB8 -> 27500 | CE8: =IF(CB8<CC8,"เพิ่มขึ้น","ลดลง") -> เพิ่มขึ้น | CF8: ทุนในการทำการเกษตรแบบผสมผสาน
A9: 3 | B9: นายทนงศักดิ์ หนูคง | C9: 19 ม.1ต.ป่าชิง อ.จะนะ จ.สงขลา | D9: 0872658869 | E9: 0627374096 | F9: 41-50 ปี | G9: 4-5 คน | H9: 1-3 ไร่ | I9: เกษตรกรรม (เกษตร ประมง ปศุสัตว์) | J9: ค้าขาย /รับจ้างทั่วไป | K9: มี | L9: - | M9: - | N9: - | O9: - | P9: facebook | Q9: ตลาดในพื้นที่, เปิดร้านค้าขายเอง | R9: ทำ | S9: =3*272 -> 816 | T9: =+S9*53.42 -> 43590.72 | U9: ไม่ทำ | V9: - | W9: - | X9: ไม่ทำ | Y9: - | Z9: - | AA9: ไม่ทำ | AB9: - | AC9: - | AD9: ทำ | AE9: 200 | AF9: 10000 | AG9: ทำ | AH9: 100 | AI9: 7000 | AJ9: ทำ | AK9: 60 | AL9: 6000 | AM9: ไม่ทำ | AN9: - | AO9: - | AP9: ไม่ทำ | AQ9: - | AR9: - | AS9: ไม่ทำ | AT9: - | AU9: - | AV9: ทำ | AW9: 5000 | AX9: 15000 | AY9: ทำ | AZ9: 10 | BA9: 5000 | BB9: ไม่ทำ | BC9: - | BD9: - | BE9: - | BF9: มี | BG9: พืชผักสวนครัวต่างๆ | BH9: 80 | BI9: 5000 | BJ9: =SUM(T9,W9,Z9,AC9,AF9,AI9,AL9,AO9,AR9,AU9,AX9,BA9,BE9,BI9) -> 91590.72 | BK9: =12000*12 -> 144000 | BL9: =3500*12 -> 42000 | BM9: ไม่มี | BN9: ไม่มี | BO9: 9500 | BP9: =SUM(BK9:BO9) -> 195500 | BQ9: 3000 | BR9: 5000 | BS9: ไม่มี | BT9: 24000 | BU9: 95 | BV9: ไม่มี | BW9: ไม่มี | BX9: ไม่มี | BY9: =SUM(BQ9:BX9) -> 32095 | BZ9: =+BJ9-BY9 -> 59495.72 | CA9: =+BP9+BZ9 -> 254995.72 | CB9: =20000*12 -> 240000 | CC9: =+CA9 -> 254995.72 | CD9: =+CC9-CB9 -> 14995.72 | CE9: =IF(CB9<CC9,"เพิ่มขึ้น","ลดลง") -> เพิ่มขึ้น | CF9: ไม่มี
A10: 4 | B10: นายอับดุลเล๊าะ หวังยี | C10: 265 ม.2 ต.ลำไพล อ.เทพา จ.สงขลา | D10: 0637296348 | F10: 51 ปีขึ้นไป | G10: 4-5 คน | H10: มากกว่า 6 ไร่ | I10: เกษตรกรรม (เกษตร ประมง ปศุสัตว์) | J10: รับจ้างทางการเกษตร/ทั่วไป | K10: ไม่มี | L10: - | M10: - | N10: - | O10: - | P10: ไม่มี | Q10: ร้านค้า (ฝากจำหน่ายสินค้าไว้กับร้านค้า) | R10: ทำ | S10: 1500 | T10: =+S10*53.42 -> 80130 | U10: ไม่ทำ | V10: - | W10: - | X10: ไม่ทำ | Y10: - | Z10: - | AA10: ไม่ทำ | AB10: - | AC10: - | AD10: ไม่ทำ | AE10: - | AF10: - | AG10: ไม่ทำ | AH10: - | AI10: - | AJ10: ไม่ทำ | AK10: - | AL10: - | AM10: ไม่ทำ | AN10: - | AO10: - | AP10: ไม่ทำ | AQ10: - | AR10: - | AS10: ไม่ทำ | AT10: - | AU10: - | AV10: ทำ | AW10: บริโภคในครัวเรือน | AX10: - | AY10: ไม่ทำ | AZ10: - | BA10: - | BB10: ไม่ทำ | BC10: - | BD10: - | BE10: - | BF10: มี | BG10: ข่า | BH10: 200 | BI10: 2000 | BJ10: =SUM(T10,W10,Z10,AC10,AF10,AI10,AL10,AO10,AR10,AU10,AX10,BA10,BE10,BI10) -> 82130 | BK10: ไม่มี | BL10: =9600+25000 -> 34600 | BM10: ไม่มี | BN10: ไม่มี | BO10: 9500 | BP10: =SUM(BK10:BO10) -> 44100 | BQ10: ไม่มี | BR10: 6000 | BS10: ไม่มี | BT10: ไม่มี | BU10: ไม่มี | BV10: ไม่มี | BW10: ไม่มี | BX10: ไม่มี | BY10: =SUM(BQ10:BX10) -> 6000 | BZ10: =+BJ10-BY10 -> 76130 | CA10: =+BP10+BZ10 -> 120230 | CB10: =10000*12 -> 120000 | CC10: =+CA10 -> 120230 | CD10: =+CC10-CB10 -> 230 | CE10: =IF(CB10<CC10,"เพิ่มขึ้น","ลดลง") -> เพิ่มขึ้น | CF10: ปรับปรุงและพัฒนา พื้นที่ เพื่อทำการเกษตรได้อย่างยั่งยืน และมั่นคง
A11: 5 | B11: นายก่อเดช อาหวัง | C11: 69/1ม6ตปลักหนูอนาทวีจสงขลา | D11: 0819634243 | F11: 51 ปีขึ้นไป | G11: 4-5 คน | H11: มากกว่า 6 ไร่ | I11: เกษตรกรรม (เกษตร ประมง ปศุสัตว์) | J11: รับจ้างทางการเกษตร/ทั่วไป | K11: ไม่มี | L11: - | M11: - | N11: - | O11: - | P11: ไม่มี | Q11: พ่อค้าคนกลาง/มีคนมารับซื้อถึงบ้าน | R11: ทำ | S11: 2000 | T11: =+S11*53.42 -> 106840 | U11: ไม่ทำ | V11: - | W11: - | X11: ทำ | Y11: 200 | Z11: 10000 | AA11: ไม่ทำ | AB11: - | AC11: - | AD11: ไม่ทำ | AE11: - | AF11: - | AG11: ไม่ทำ | AH11: - | AI11: - | AJ11: ไม่ทำ | AK11: - | AL11: - | AM11: ไม่ทำ | AN11: - | AO11: - | AP11: ไม่ทำ | AQ11: - | AR11: - | AS11: ไม่ทำ | AT11: - | AU11: - | AV11: ไม่ทำ | AW11: - | AX11: - | AY11: ไม่ทำ | AZ11: - | BA11: - | BB11: ไม่ทำ | BC11: - | BD11: - | BE11: - | BF11: ไม่มี | BG11: - | BH11: - | BI11: - | BJ11: =SUM(T11,W11,Z11,AC11,AF11,AI11,AL11,AO11,AR11,AU11,AX11,BA11,BE11,BI11) -> 116840 | BK11: ไม่มี | BL11: 25000 | BM11: ไม่มี | BN11: ไม่มีไม่ | BO11: 9500 | BP11: =SUM(BK11:BO11) -> 34500 | BQ11: ไม่มี | BR11: 5000 | BS11: ไม่มี | BT11: ไม่มี | BU11: 190 | BV11: ไม่มี | BW11: ไม่มี | BX11: ไม่มี | BY11: =SUM(BQ11:BX11) -> 5190 | BZ11: =+BJ11-BY11 -> 111650 | CA11: =+BP11+BZ11 -> 146150 | CB11: 120000 | CC11: =+CA11 -> 146150 | CD11: =+CC11-CB11 -> 26150 | CE11: =IF(CB11<CC11,"เพิ่มขึ้น","ลดลง") -> เพิ่มขึ้น | CF11: ไม่มี
A12: 6 | B12: สูวัยบ๊ะ สมัน | C12: 20. ม.2. ต.แค อ.จะนะ | D12: 0848895083 | E12: Suwaibah saman | F12: 31-40 ปี | G12: มากกว่า 6 คนขึ้นไป | H12: ไม่ถึง 1 ไร่ | I12: รับจ้างทางการเกษตร/ทั่วไป | J12: ไม่มี | K12: มี | L12: - | M12: - | N12: - | O12: เลี้ยงไส้เดือน | P12: ไม่มี | Q12: พ่อค้าคนกลาง/มีคนมารับซื้อถึงบ้าน, ตลาดในพื้นที่ | R12: ไม่ทำ | S12: - | T12: - | U12: ไม่ทำ | V12: - | W12: - | X12: ไม่ทำ | Y12: - | Z12: - | AA12: ไม่ทำ | AB12: - | AC12: - | AD12: ทำ | AE12: 500 | AF12: 5000 | AG12: ไม่ทำ | AH12: - | AI12: - | AJ12: ไม่ทำ | AK12: - | AL12: - | AM12: ไม่ทำ | AN12: - | AO12: - | AP12: ไม่ทำ | AQ12: - | AR12: - | AS12: ไม่ทำ | AT12: - | AU12: - | AV12: ไม่ทำ | AW12: - | AX12: - | AY12: ไม่ทำ | AZ12: - | BA12: - | BB12: ไม่ทำ | BC12: - | BD12: - | BE12: - | BF12: ไม่มี | BG12: - | BH12: - | BI12: - | BJ12: =SUM(T12,W12,Z12,AC12,AF12,AI12,AL12,AO12,AR12,AU12,AX12,BA12,BE12,BI12) -> 5000 | BK12: ไม่มี | BL12: =7500*12 -> 90000 | BM12: ไม่มี | BN12: ไม่มี | BO12: 9500 | BP12: =SUM(BK12:BO12) -> 99500 | BQ12: ไม่มี | BR12: 1000 | BS12: ไม่มี | BT12: ไม่มี | BU12: ไม่มี | BV12: ไม่มี | BW12: ไม่มี | BX12: ไม่มี | BY12: =SUM(BQ12:BX12) -> 1000 | BZ12: =+BJ12-BY12 -> 4000 | CA12: =+BP12+BZ12 -> 103500 | CB12: =9500*12 -> 114000 | CC12: =+CA12 -> 103500 | CD12: =+CC12-CB12 -> -10500 | CE12: =IF(CB12<CC12,"เพิ่มขึ้น","ลดลง") -> ลดลง | CF12: ไม่มี
A13: 7 | B13: นายจักรพงค์ สินมาก | C13: 35/1ม.2ต.สะท้อน อ.นาทวี จ.สงขลา | D13: 0939106201-0833976191 | E13: Fb.จักรพงค์ สินมาก | F13: 41-50 ปี | G13: 4-5 คน | H13: มากกว่า 6 ไร่ | I13: เกษตรกรรม (เกษตร ประมง ปศุสัตว์) | J13: ค้าขาย /รับจ้างทั่วไป | K13: มี | L13: - | M13: - | N13: - | O13: - | P13: facebook | Q13: พ่อค้าคนกลาง/มีคนมารับซื้อถึงบ้าน, ตลาดในพื้นที่, เปิดร้านค้าขายเอง | R13: ทำ | S13: =272*10 -> 2720 | T13: =+S13*53.42 -> 145302.4 | U13: ไม่ทำ | V13: - | W13: - | X13: ทำ | Y13: 3000 | Z13: 240000 | AA13: ทำ | AB13: 200 | AC13: 8000 | AD13: ทำ | AE13: 100 | AF13: 4000 | AG13: ไม่ทำ | AH13: - | AI13: - | AJ13: ไม่ทำ | AK13: - | AL13: - | AM13: ทำ | AN13: 1000 | AO13: 5000 | AP13: ทำ | AQ13: 6 | AR13: 4000 | AS13: ไม่ทำ | AT13: - | AU13: - | AV13: ทำ | AW13: 2 | AX13: 1000 | AY13: ทำ | AZ13: 1 | BA13: 600 | BB13: ไม่ทำ | BC13: - | BD13: - | BE13: - | BF13: มี | BG13: ชำกิ่งพันธุ์ | BH13: 100 | BI13: 1000 | BJ13: =SUM(T13,W13,Z13,AC13,AF13,AI13,AL13,AO13,AR13,AU13,AX13,BA13,BE13,BI13) -> 408902.4 | BK13: =6000*12 -> 72000 | BL13: =2500*10 -> 25000 | BM13: =2000*12 -> 24000 | BN13: ไม่มี | BO13: ไม่มี | BP13: =SUM(BK13:BO13) -> 121000 | BQ13: 10000 | BR13: 3000 | BS13: 5000 | BT13: 50000 | BU13: ไม่มี | BV13: 4000 | BW13: 20000 | BX13: 3000 | BY13: =SUM(BQ13:BX13) -> 95000 | BZ13: =+BJ13-BY13 -> 313902.4 | CA13: =+BP13+BZ13 -> 434902.4 | CB13: 336000 | CC13: =+CA13 -> 434902.4 | CD13: =+CC13-CB13 -> 98902.4 | CE13: =IF(CB13<CC13,"เพิ่มขึ้น","ลดลง") -> เพิ่มขึ้น | CF13: รับรองมาตฐานแปลง
A14: 8 | B14: นางสาวรอมือละ. มะ | C14: 2 ม.4 ต. บาโหย. อ. สะบ้าย้อย จ.สงขลา | D14: 0630835043 | E14: 0630835043 | F14: 41-50 ปี | G14: มากกว่า 6 คนขึ้นไป | H14: มากกว่า 6 ไร่ | I14: เกษตรกรรม (เกษตร ประมง ปศุสัตว์) | J14: รับจ้างทางการเกษตร/ทั่วไป | K14: ไม่มี | L14: - | M14: - | N14: - | O14: - | P14: ไม่มี | Q14: ตลาดในพื้นที่ | R14: ทำ | S14: 2700 | T14: =+S14*53.42 -> 144234 | U14: ไม่ทำ | V14: - | W14: - | X14: ทำ | Y14: 100 | Z14: 5000 | AA14: ไม่ทำ | AB14: - | AC14: - | AD14: ทำ | AE14: บริโภคในครัวเรือน | AF14: - | AG14: ไม่ทำ | AH14: - | AI14: - | AJ14: ไม่ทำ | AK14: - | AL14: - | AM14: ไม่ทำ | AN14: - | AO14: - | AP14: ทำ | AQ14: บริโภคในครัวเรือน | AR14: - | AS14: ไม่ทำ | AT14: - | AU14: - | AV14: ไม่ทำ | AW14: - | AX14: - | AY14: ไม่ทำ | AZ14: - | BA14: - | BB14: ไม่ทำ | BC14: - | BD14: - | BE14: - | BF14: ไม่มี | BG14: - | BH14: - | BI14: - | BJ14: =SUM(T14,W14,Z14,AC14,AF14,AI14,AL14,AO14,AR14,AU14,AX14,BA14,BE14,BI14) -> 149234 | BK14: ไม่มี | BL14: =2500*10 -> 25000 | BM14: ไม่มี | BN14: ไม่มี | BO14: 9500 | BP14: =SUM(BK14:BO14) -> 34500 | BQ14: ไม่มี | BR14: ไม่มี | BS14: ไม่มี | BT14: ไม่มี | BU14: ไม่มี | BV14: ไม่มี | BW14: ไม่มี | BX14: ไมมี | BY14: =SUM(BQ14:BX14) -> 0 | BZ14: =+BJ14-BY14 -> 149234 | CA14: =+BP14+BZ14 -> 183734 | CB14: 180000 | CC14: =+CA14 -> 183734 | CD14: =+CC14-CB14 -> 3734 | CE14: =IF(CB14<CC14,"เพิ่มขึ้น","ลดลง") -> เพิ่มขึ้น | CF14: ไม่มี
A15: 9 | B15: ลำยอง ติเอียดย่อ | C15: 22/1 ม.5 ต.เกาะสะบ้า อ.เทพา จ.สงขลา | D15: 0805453494 | E15: 0805453494/ย่าพี่คิวน้องเคนแก้มหอม | F15: 51 ปีขึ้นไป | G15: มากกว่า 6 คนขึ้นไป | H15: 4-5 ไร่ | I15: เกษตรกรรม (เกษตร ประมง ปศุสัตว์) | J15: รับจ้างทางการเกษตร/ทั่วไป | K15: มี | L15: - | M15: - | N15: - | O15: - | P15: facebook | Q15: ตลาดในพื้นที่ | R15: ทำ | S15: 1120 | T15: =+S15*53.42 -> 59830.4 | U15: ไม่ทำ | V15: - | W15: - | X15: ไม่ทำ | Y15: - | Z15: - | AA15: ทำ | AB15: 200 | AC15: 4000 | AD15: ทำ | AE15: 100 | AF15: 3000 | AG15: ไม่ทำ | AH15: - | AI15: - | AJ15: ไม่ทำ | AK15: - | AL15: - | AM15: ไม่ทำ | AN15: - | AO15: - | AP15: ไม่ทำ | AQ15: - | AR15: - | AS15: ไม่ทำ | AT15: - | AU15: - | AV15: ไม่ทำ | AW15: - | AX15: - | AY15: ไม่ทำ | AZ15: - | BA15: - | BB15: ทำ | BC15: ปลาดุกร้า | BD15: 100กิโลกรัม | BE15: 40000 | BF15: ไม่มี | BG15: - | BH15: - | BI15: - | BJ15: =SUM(T15,W15,Z15,AC15,AF15,AI15,AL15,AO15,AR15,AU15,AX15,BA15,BE15,BI15) -> 106830.4 | BK15: ไม่มี | BL15: 25000 | BM15: ไม่มี | BN15: ไม่มี | BO15: 9500 | BP15: =SUM(BK15:BO15) -> 34500 | BQ15: 1000 | BR15: 4000 | BS15: ไม่มี | BT15: ไม่มี | BU15: ไม่มี | BV15: ไม่มี | BW15: ไม่มี | BX15: ไม่มี | BY15: =SUM(BQ15:BX15) -> 5000 | BZ15: =+BJ15-BY15 -> 101830.4 | CA15: =+BP15+BZ15 -> 136330.4 | CB15: 120000 | CC15: =+CA15 -> 136330.4 | CD15: =+CC15-CB15 -> 16330.4 | CE15: =IF(CB15<CC15,"เพิ่มขึ้น","ลดลง") -> เพิ่มขึ้น | CF15: ส่งเสริมกิจกรรมที่เป็นรายได้เสริมให้กับเกษตรกรและสนับสนุนงบประมาณในกิจกรรมนั้นๆ
A16: 10 | B16: นายพันธ์ อรุณศรี | C16: 122 ม.5 ต.วังใหญ่ อ.เทพา จ.สงขลา | D16: 0631602796 | F16: 51 ปีขึ้นไป | G16: 2-3 คน | H16: มากกว่า 6 ไร่ | I16: เกษตรกรรม (เกษตร ประมง ปศุสัตว์) | J16: ค้าขาย /รับจ้างทั่วไป | K16: มี | L16: - | M16: - | N16: - | O16: ทำปุ๋ยหมัก เพื่อลดต้นทุนการผลิต | P16: ไม่มี | Q16: ตลาดในพื้นที่ | R16: ทำ | S16: 1800 | T16: =+S16*53.42 -> 96156 | U16: ไม่ทำ | V16: - | W16: - | X16: ไม่ทำ | Y16: - | Z16: - | AA16: ไม่ทำ | AB16: - | AC16: - | AD16: ทำ | AE16: 25 | AF16: 1000 | AG16: ไม่ทำ | AH16: - | AI16: - | AJ16: ไม่ทำ | AK16: - | AL16: - | AM16: ไม่ทำ | AN16: - | AO16: - | AP16: ไม่ทำ | AQ16: - | AR16: - | AS16: ไม่ทำ | AT16: - | AU16: - | AV16: ไม่ทำ | AW16: - | AX16: - | AY16: ไม่ทำ | AZ16: - | BA16: - | BB16: ไม่ทำ | BC16: - | BD16: - | BE16: - | BF16: มี | BG16: หน่อไม้ดอง | BH16: 100 | BI16: 1000 | BJ16: =SUM(T16,W16,Z16,AC16,AF16,AI16,AL16,AO16,AR16,AU16,AX16,BA16,BE16,BI16) -> 98156 | BK16: ไม่มี | BL16: 25000 | BM16: 5000 | BN16: ไม่มี | BO16: 9500 | BP16: =SUM(BK16:BO16) -> 39500 | BQ16: 5000 | BR16: 1000 | BS16: ไม่มี | BT16: ไม่มี | BU16: ไม่มี | BV16: ไม่มี | BW16: ไม่มี | BX16: ไม่มี | BY16: =SUM(BQ16:BX16) -> 6000 | BZ16: =+BJ16-BY16 -> 92156 | CA16: =+BP16+BZ16 -> 131656 | CB16: 120000 | CC16: =+CA16 -> 131656 | CD16: =+CC16-CB16 -> 11656 | CE16: =IF(CB16<CC16,"เพิ่มขึ้น","ลดลง") -> เพิ่มขึ้น | CF16: ต้องการให้สนับสนุน ให้ความรู้เพิ่มเติม
A17: 11 | B17: บือราเฮง ยะพา | C17: 63 ม.5 ต.จแหน อ.สะบ้าย้อย จ.สงขลา | D17: 0937502857 | E17: บือราเฮง ยะพา | F17: 51 ปีขึ้นไป | G17: 2-3 คน | H17: 4-5 ไร่ | I17: รับจ้างทางการเกษตร/ทั่วไป | J17: เกษตรกรรม (เกษตร ประมง ปศุสัตว์) | K17: ไม่มี | L17: เพาะไม้ผล เพื่อจำหน่าย | M17: - | N17: - | O17: - | P17: facebook | Q17: เปิดร้านค้าขายเอง | R17: ทำ | S17: 1800 | T17: =+S17*53.42 -> 96156 | U17: ไม่ทำ | V17: - | W17: - | X17: ทำ | Y17: 500 | Z17: 20000 | AA17: ไม่ทำ | AB17: - | AC17: - | AD17: ไม่ทำ | AE17: - | AF17: - | AG17: ไม่ทำ | AH17: - | AI17: - | AJ17: ไม่ทำ | AK17: - | AL17: - | AM17: ไม่ทำ | AN17: - | AO17: - | AP17: ไม่ทำ | AQ17: - | AR17: - | AS17: ไม่ทำ | AT17: - | AU17: - | AV17: ไม่ทำ | AW17: - | AX17: - | AY17: ไม่ทำ | AZ17: - | BA17: - | BB17: ไม่ทำ | BC17: - | BD17: - | BE17: - | BF17: มี | BG17: งาะ ทุเรียน | BH17: 5000 | BI17: 15000 | BJ17: =SUM(T17,W17,Z17,AC17,AF17,AI17,AL17,AO17,AR17,AU17,AX17,BA17,BE17,BI17) -> 131156 | BK17: ไม่มี | BL17: 25000 | BM17: ไม่มี | BN17: ไม่มี | BO17: 9500 | BP17: =SUM(BK17:BO17) -> 34500 | BQ17: 16000 | BR17: ไมมี | BS17: ไม่มี | BT17: ไม่มี | BU17: ไมมี | BV17: ไม่มี | BW17: ไม่มี | BX17: ไม่มี | BY17: =SUM(BQ17:BX17) -> 16000 | BZ17: =+BJ17-BY17 -> 115156 | CA17: =+BP17+BZ17 -> 149656 | CB17: 120000 | CC17: =+CA17 -> 149656 | CD17: =+CC17-CB17 -> 29656 | CE17: =IF(CB17<CC17,"เพิ่มขึ้น","ลดลง") -> เพิ่มขึ้น | CF17: ไม่มี
A18: 12 | B18: นางอัสสุชล เพชรรัตน์ | C18: 11หมู่ที่ 5 ต.นาหมอศรี อ.นาทวี จ.สงขลา90160 | D18: 0918461071 | E18: 0918461071 | F18: 51 ปีขึ้นไป | G18: 4-5 คน | H18: 4-5 ไร่ | I18: เกษตรกรรม (เกษตร ประมง ปศุสัตว์) | J18: รับจ้างทางการเกษตร/ทั่วไป | K18: มี | L18: ปลูกผักปลอดสารพิษ | M18: - | N18: - | O18: - | P18: ไม่มี | Q18: ตลาดในพื้นที่ | R18: ทำ | S18: 4000 | T18: =+S18*53.42 -> 213680 | U18: ไม่ทำ | V18: - | W18: - | X18: ทำ | Y18: 150 | Z18: 3500 | AA18: ไม่ทำ | AB18: - | AC18: - | AD18: ทำ | AE18: บริโภคในครัวเรือน | AF18: - | AG18: ไม่ทำ | AH18: - | AI18: - | AJ18: ไม่ทำ | AK18: - | AL18: - | AM18: ไม่ทำ | AN18: - | AO18: - | AP18: ไม่ทำ | AQ18: - | AR18: - | AS18: ไม่ทำ | AT18: - | AU18: - | AV18: ทำ | AW18: ไข่ 100 ฟอง | AX18: 3000 | AY18: ทำ | AZ18: 5 ขวด | BA18: 2500 | BB18: ไม่ทำ | BC18: - | BD18: - | BE18: - | BF18: ไม่มี | BG18: - | BH18: - | BI18: - | BJ18: =SUM(T18,W18,Z18,AC18,AF18,AI18,AL18,AO18,AR18,AU18,AX18,BA18,BE18,BI18) -> 222680 | BK18: ไม่มี | BL18: 25000 | BM18: ไม่มี | BN18: ไม่มี | BO18: 9500 | BP18: =SUM(BK18:BO18) -> 34500 | BQ18: ไม่มี | BR18: ไม่มี | BS18: ไม่มี | BT18: ไม่มี | BU18: ไม่มี | BV18: ไม่มี | BW18: ไม่มี | BX18: 3000 | BY18: =SUM(BQ18:BX18) -> 3000 | BZ18: =+BJ18-BY18 -> 219680 | CA18: =+BP18+BZ18 -> 254180 | CB18: 192000 | CC18: =+CA18 -> 254180 | CD18: =+CC18-CB18 -> 62180 | CE18: =IF(CB18<CC18,"เพิ่มขึ้น","ลดลง") -> เพิ่มขึ้น | CF18: ทางการเกษตรอยากได้แคร่และอุปกรณ์เพื่อปลูกผัก
A19: 13 | B19: วารุณี เด็นมะโระ | C19: 38/5 ม.1ต.สะบ้าย้อย อ.สะบ้าย้อย จ.สงขลา | D19: 092-8391598 | F19: 31-40 ปี | G19: 2-3 คน | H19: 4-5 ไร่ | I19: เกษตรกรรม (เกษตร ประมง ปศุสัตว์) | J19: รับจ้างทางการเกษตร/ทั่วไป | K19: ไม่มี | L19: - | M19: - | N19: - | O19: - | P19: ไม่มี | Q19: ร้านค้า (ฝากจำหน่ายสินค้าไว้กับร้านค้า) | R19: ทำ | S19: 1200 | T19: =+S19*53.42 -> 64104 | U19: ไม่ทำ | V19: - | W19: - | X19: ทำ | Y19: 50 | Z19: 3500 | AA19: ทำ | AB19: 20 | AC19: 1200 | AD19: ไม่ทำ | AE19: - | AF19: - | AG19: ไม่ทำ | AH19: - | AI19: - | AJ19: ไม่ทำ | AK19: - | AL19: - | AM19: ไม่ทำ | AN19: - | AO19: - | AP19: ไม่ทำ | AQ19: - | AR19: - | AS19: ไม่ทำ | AT19: - | AU19: - | AV19: ไม่ทำ | AW19: - | AX19: - | AY19: ไม่ทำ | AZ19: - | BA19: - | BB19: ไม่ทำ | BC19: - | BD19: - | BE19: - | BF19: ไม่มี | BG19: - | BH19: - | BI19: - | BJ19: =SUM(T19,W19,Z19,AC19,AF19,AI19,AL19,AO19,AR19,AU19,AX19,BA19,BE19,BI19) -> 68804 | BK19: ไม่มี | BL19: 25000 | BM19: ไม่มี | BN19: ไม่มี | BO19: 9500 | BP19: =SUM(BK19:BO19) -> 34500 | BQ19: ไม่มี | BR19: ไม่มี | BS19: ไม่มี | BT19: ไม่มี | BU19: ไม่มี | BV19: ไม่มี | BW19: ไม่มี | BX19: ไม่มี | BY19: =SUM(BQ19:BX19) -> 0 | BZ19: =+BJ19-BY19 -> 68804 | CA19: =+BP19+BZ19 -> 103304 | CB19: 84000 | CC19: =+CA19 -> 103304 | CD19: =+CC19-CB19 -> 19304 | CE19: =IF(CB19<CC19,"เพิ่มขึ้น","ลดลง") -> เพิ่มขึ้น | CF19: ไม่มี
A20: 14 | B20: นายสมชาย โต๊ะหลี | C20: 192 ม.9 ต.สะกอม อ.จะนะ จ.สงขลา | D20: 0953868144 | E20: somchay282508 | F20: 51 ปีขึ้นไป | G20: 2-3 คน | H20: มากกว่า 6 ไร่ | I20: เกษตรกรรม (เกษตร ประมง ปศุสัตว์) | J20: รับจ้างทางการเกษตร/ทั่วไป | K20: มี | L20: - | M20: - | N20: - | O20: เกษตรผสมผสาน | P20: ไม่มี | Q20: พ่อค้าคนกลาง/มีคนมารับซื้อถึงบ้าน | R20: ทำ | S20: 5000 | T20: =+S20*53.42 -> 267100 | U20: ไม่ทำ | V20: - | W20: - | X20: ไม่ทำ | Y20: - | Z20: - | AA20: ไม่ทำ | AB20: - | AC20: - | AD20: ไม่ทำ | AE20: - | AF20: - | AG20: ไม่ทำ | AH20: - | AI20: - | AJ20: ไม่ทำ | AK20: - | AL20: - | AM20: ไม่ทำ | AN20: - | AO20: - | AP20: ไม่ทำ | AQ20: - | AR20: - | AS20: ไม่ทำ | AT20: - | AU20: - | AV20: ไม่ทำ | AW20: - | AX20: - | AY20: ไม่ทำ | AZ20: - | BA20: - | BB20: ทำ | BC20: น้ำมันมะพร้าวสกัดเย็น | BD20: 20 ขวด | BE20: 2000 | BF20: มี | BG20: มะพร้าว | BH20: 200 ลูก | BI20: 2000 | BJ20: =SUM(T20,W20,Z20,AC20,AF20,AI20,AL20,AO20,AR20,AU20,AX20,BA20,BE20,BI20) -> 271100 | BK20: ไม่มี | BL20: =3000*12 -> 36000 | BM20: ไม่มี | BN20: ไม่มี | BO20: ไม่มี | BP20: =SUM(BK20:BO20) -> 36000 | BQ20: ไม่มี | BR20: 2000 | BS20: ไม่มี | BT20: ไม่มี | BU20: ไม่มี | BV20: ไม่มี | BW20: ไม่มี | BX20: ไม่มี | BY20: =SUM(BQ20:BX20) -> 2000 | BZ20: =+BJ20-BY20 -> 269100 | CA20: =+BP20+BZ20 -> 305100 | CB20: 240000 | CC20: =+CA20 -> 305100 | CD20: =+CC20-CB20 -> 65100 | CE20: =IF(CB20<CC20,"เพิ่มขึ้น","ลดลง") -> เพิ่มขึ้น | CF20: กิจกรรมน้ำมันมะพร้าวสกัดเย็น
A21: 15 | B21: นายฮาซัน ทองเส็บ | C21: 41/2 ม.6 ต.นาหมอศรี อ.นาทวี จ.สงขลา | D21: 0987151689 | E21: 0987151689 | F21: 31-40 ปี | G21: ข้าพเจ้า 1 คน | H21: 1-3 ไร่ | I21: เกษตรกรรม (เกษตร ประมง ปศุสัตว์) | J21: รับจ้างทางการเกษตร/ทั่วไป | K21: มี | L21: - | M21: - | N21: - | O21: ปลูกผักเลี้ยงปลา เลี้ยงไก่ไข่ | P21: ไม่มี | Q21: ตลาดในพื้นที่ | R21: ทำ | S21: 1500 | T21: =+S21*53.42 -> 80130 | U21: ไม่ทำ | V21: - | X21: ทำ | Y21: 500 | Z21: 4500 | AA21: ทำ | AB21: 100 | AC21: 1500 | AD21: ทำ | AE21: 60 | AF21: 500 | AG21: ทำ | AH21: 300 | AI21: 700 | AJ21: ไม่ทำ | AK21: - | AL21: - | AM21: ไม่ทำ | AN21: - | AO21: - | AP21: ไม่ทำ | AQ21: - | AR21: - | AS21: ไม่ทำ | AT21: - | AU21: - | AV21: ทำ | AW21: 500 ฟอง | AX21: 1000 | AY21: ไม่ทำ | AZ21: - | BA21: - | BB21: ไม่ทำ | BC21: - | BD21: - | BE21: - | BF21: ไม่มี | BG21: - | BH21: - | BI21: - | BJ21: =SUM(T21,W21,Z21,AC21,AF21,AI21,AL21,AO21,AR21,AU21,AX21,BA21,BE21,BI21) -> 88330 | BK21: ไม่มี | BL21: =8500*12 -> 102000 | BM21: ไม่มี | BN21: ไม่มี | BO21: 9500 | BP21: =SUM(BK21:BO21) -> 111500 | BQ21: ไม่มี | BR21: ไม่มี | BS21: ไม่มี | BT21: ไม่มี | BU21: ไม่มี | BV21: ไม่มี | BW21: ไม่มี | BX21: 3500 | BY21: =SUM(BQ21:BX21) -> 3500 | BZ21: =+BJ21-BY21 -> 84830 | CA21: =+BP21+BZ21 -> 196330 | CB21: 156000 | CC21: =+CA21 -> 196330 | CD21: =+CC21-CB21 -> 40330 | CE21: =IF(CB21<CC21,"เพิ่มขึ้น","ลดลง") -> เพิ่มขึ้น | CF21: สนับสนุนพันธ์ปลา.พันธ์พืช.
A22: 16 | B22: สุกาญดา​ จันทอง | C22: 71/2​ ม.2 ต.จะโหนง​ อ.จะนะ​ จ.สงขลา | D22: 0929844865​ | F22: 51 ปีขึ้นไป | G22: 4-5 คน | H22: มากกว่า 6 ไร่ | I22: เกษตรกรรม (เกษตร ประมง ปศุสัตว์) | J22: รับจ้างทางการเกษตร/ทั่วไป | K22: มี | L22: - | M22: - | N22: - | O22: ทำเกษตรผสมผสาน | P22: ไม่มี | Q22: ตลาดในพื้นที่ | R22: ทำ | S22: 1800 | T22: =+S22*53.42 -> 96156 | U22: ไม่ทำ | V22: - | W22: - | X22: ทำ | Y22: 1500 | Z22: 25000 | AA22: ไม่ทำ | AB22: - | AC22: - | AD22: ทำ | AE22: 200 | AF22: 15000 | AG22: ไม่ทำ | AH22: - | AI22: - | AJ22: ไม่ทำ | AK22: - | AL22: - | AM22: ไม่ทำ | AN22: - | AO22: - | AP22: ทำ | AQ22: 10ตัวมูลแพะ50กระสอบ​ต่อปี | AR22: 25000 | AS22: ไม่ทำ | AT22: - | AU22: - | AV22: ไม่ทำ | AW22: - | AX22: - | AY22: ไม่ทำ | AZ22: - | BA22: - | BB22: ทำ | BC22: เครื่องแกง | BD22: 3000กิโลต่อปี | BE22: 50000 | BF22: มี | BG22: จำปาด๊ะ | BH22: 200ลูกต่อปี | BI22: 10000 | BJ22: =SUM(T22,W22,Z22,AC22,AF22,AI22,AL22,AO22,AR22,AU22,AX22,BA22,BE22,BI22) -> 221156 | BK22: ไม่มี | BL22: 25000 | BM22: ไม่มี | BN22: ไม่มี | BO22: 9500 | BP22: =SUM(BK22:BO22) -> 34500 | BQ22: ไม่มี | BR22: ไม่มี | BS22: ไม่มี | BT22: ไม่มี | BU22: ไม่มี | BV22: ไม่มี | BW22: ไม่มี | BX22: ไม่มี | BY22: =SUM(BQ22:BX22) -> 0 | BZ22: =+BJ22-BY22 -> 221156 | CA22: =+BP22+BZ22 -> 255656 | CB22: 204000 | CC22: =+CA22 -> 255656 | CD22: =+CC22-CB22 -> 51656 | CE22: =IF(CB22<CC22,"เพิ่มขึ้น","ลดลง") -> เพิ่มขึ้น | CF22: ปัจจัยการผลิต.ด้านการตลาด
A23: 17 | B23: มารยาท มะสะ | C23: 1ม.3ต.ทุ่งพอ อ.สะบ้าย้อย จ.สงขลว | D23: 0870320238 | F23: 51 ปีขึ้นไป | G23: 4-5 คน | H23: 1-3 ไร่ | I23: เกษตรกรรม (เกษตร ประมง ปศุสัตว์) | J23: ค้าขาย | K23: มี | L23: - | M23: - | N23: - | O23: ทำการเพาะปลูกผัก | P23: ไม่มี | Q23: พ่อค้าคนกลาง/มีคนมารับซื้อถึงบ้าน, ตลาดในพื้นที่ | R23: ทำ | S23: 700 | T23: =+S23*53.42 -> 37394 | U23: ไม่ทำ | V23: - | W23: - | X23: ทำ | Y23: 100 | Z23: 8000 | AA23: ไม่ทำ | AB23: - | AC23: - | AD23: ทำ | AE23: 3000 | AF23: 6000 | AG23: ไม่ทำ | AH23: - | AI23: - | AJ23: ไม่ทำ | AK23: - | AL23: - | AM23: ทำ | AN23: 30 | AO23: 1500 | AP23: ทำ | AQ23: 10 | AR23: 1500 | AS23: ไม่ทำ | AT23: - | AU23: - | AV23: ทำ | AW23: 13 | AX23: 700 | AY23: ไม่ทำ | AZ23: - | BA23: - | BB23: ไม่ทำ | BC23: - | BD23: - | BE23: - | BF23: ไม่มี | BG23: - | BH23: - | BI23: - | BJ23: =SUM(T23,W23,Z23,AC23,AF23,AI23,AL23,AO23,AR23,AU23,AX23,BA23,BE23,BI23) -> 55094 | BK23: ไม่มี | BL23: 25000 | BM23: =5000*12 -> 60000 | BN23: ไม่มี | BO23: 9500 | BP23: =SUM(BK23:BO23) -> 94500 | BQ23: ไม่มี | BR23: 5000 | BS23: ไม้มี | BT23: ไม่มี | BU23: ไม่มี | BV23: ไม่มี | BW23: ไม่มี | BX23: ไม่มี | BY23: =SUM(BQ23:BX23) -> 5000 | BZ23: =+BJ23-BY23 -> 50094 | CA23: =+BP23+BZ23 -> 144594 | CB23: 108000 | CC23: =+CA23 -> 144594 | CD23: =+CC23-CB23 -> 36594 | CE23: =IF(CB23<CC23,"เพิ่มขึ้น","ลดลง") -> เพิ่มขึ้น | CF23: อุปกรทีทันสมัยในการปลูก
A24: 18 | B24: สุภา ไสยทอง | C24: 40 ม.8 ต.คลองเปียะ อ.จะนะ จ.สงขลา | D24: 0849644639 | F24: 51 ปีขึ้นไป | G24: 2-3 คน | H24: มากกว่า 6 ไร่ | I24: เกษตรกรรม (เกษตร ประมง ปศุสัตว์) | J24: รับจ้างทางการเกษตร/ทั่วไป | K24: มี | L24: - | M24: - | N24: - | O24: เลี้ยงไก่ไข่ | P24: facebook | Q24: ตลาดในพื้นที่ | R24: ทำ | S24: ยางแห้ง ประมาณ1800 | T24: 70000 | U24: ไม่ทำ | V24: - | W24: - | X24: ทำ | Y24: 300 | Z24: 4000 | AA24: ทำ | AB24: 50 | AC24: 1000 | AD24: ทำ | AE24: ถั่วลิสง | AF24: 1800 | AG24: ไม่ทำ | AH24: - | AI24: - | AJ24: ไม่ทำ | AK24: - | AL24: - | AM24: ทำ | AN24: 2 ตัว | AO24: 36500 | AP24: ไม่ทำ | AQ24: - | AR24: - | AS24: ไม่ทำ | AT24: - | AU24: - | AV24: ทำ | AW24: บริโภคในครัวเรือน | AX24: 2700 | AY24: ไม่ทำ | AZ24: - | BA24: - | BB24: ทำ | BC24: เครื่องแกง | BD24: 100 กิโลกรัม | BE24: 1500 | BF24: มี | BG24: ข้าว | BH24: 500 กิโลกรัม | BI24: 12500 | BJ24: =SUM(T24,W24,Z24,AC24,AF24,AI24,AL24,AO24,AR24,AU24,AX24,BA24,BE24,BI24) -> 130000 | BK24: ไม่มี | BL24: =10000*12 -> 120000 | BM24: ไมมี | BN24: ไม่มี | BO24: 9500 | BP24: =SUM(BK24:BO24) -> 129500 | BQ24: 5000 | BR24: 5000 | BS24: ไม่มี | BT24: =27600+10000 -> 37600 | BU24: 2000 | BV24: 3000 | BW24: ไม่มี | BX24: ไม่มี | BY24: =SUM(BQ24:BX24) -> 52600 | BZ24: =+BJ24-BY24 -> 77400 | CA24: =+BP24+BZ24 -> 206900 | CB24: 156000 | CC24: =+CA24 -> 206900 | CD24: =+CC24-CB24 -> 50900 | CE24: =IF(CB24<CC24,"เพิ่มขึ้น","ลดลง") -> เพิ่มขึ้น | CF24: การทำเครื่องแกง
A25: 19 | B25: เนือง จันทจิตรจริงใจ | C25: 113/2 หมู่10 บ้านนา | D25: 0980105829 | F25: 51 ปีขึ้นไป | G25: 4-5 คน | H25: มากกว่า 6 ไร่ | I25: เกษตรกรรม (เกษตร ประมง ปศุสัตว์) | J25: รับจ้างทางการเกษตร/ทั่วไป | K25: มี | L25: - | M25: - | N25: - | P25: ไม่มี | Q25: ตลาดในพื้นที่ | R25: ทำ | S25: 3000 | T25: =+S25*53.42 -> 160260 | U25: ไม่ทำ | V25: - | W25: - | X25: ไม่ทำ | Y25: - | Z25: - | AA25: ไม่ทำ | AB25: - | AC25: - | AD25: ทำ | AE25: 100 | AF25: 1000 | AG25: ทำ | AH25: 100 | AI25: 2000 | AJ25: ไม่ทำ | AK25: - | AL25: - | AM25: ไม่ทำ | AN25: - | AO25: - | AP25: ไม่ทำ | AQ25: - | AR25: - | AS25: ไม่ทำ | AT25: - | AU25: - | AV25: ทำ | AW25: 20 ตัว | AX25: 5000 | AY25: ทำ | AZ25: 2 รัง 4 ขวด | BA25: 2000 | BB25: ไม่ทำ | BC25: - | BD25: - | BE25: - | BF25: ไม่มี | BG25: - | BH25: - | BI25: - | BJ25: =SUM(T25,W25,Z25,AC25,AF25,AI25,AL25,AO25,AR25,AU25,AX25,BA25,BE25,BI25) -> 170260 | BK25: ไม่มี | BL25: =8000*12 -> 96000 | BM25: ไม่มี | BN25: ไม่มี | BO25: 9500 | BP25: =SUM(BK25:BO25) -> 105500 | BQ25: 6000 | BR25: 6000 | BS25: ไม่มี | BT25: 4500 | BU25: ไม่มี | BV25: 2500 | BW25: ไม่มี | BX25: 3000 | BY25: =SUM(BQ25:BX25) -> 22000 | BZ25: =+BJ25-BY25 -> 148260 | CA25: =+BP25+BZ25 -> 253760 | CB25: 192000 | CC25: =+CA25 -> 253760 | CD25: =+CC25-CB25 -> 61760 | CE25: =IF(CB25<CC25,"เพิ่มขึ้น","ลดลง") -> เพิ่มขึ้น | CF25: เทคโนโลยีสมัยใหม่
A26: 20 | B26: นายเสกสรร ชูเขียว | C26: 52/10 ม.3 ต.ตลิ่งชัน จ.จะนะ จ.สงขลา | D26: 0810946247 | E26: f เสกสรร มัลเบอร์รี่ | F26: 51 ปีขึ้นไป | G26: 4-5 คน | H26: มากกว่า 6 ไร่ | I26: เกษตรกรรม (เกษตร ประมง ปศุสัตว์) | J26: ค้าขาย | K26: มี | L26: - | M26: - | N26: - | P26: facebook | Q26: ตลาดในพื้นที่, เปิดร้านค้าขายเอง | R26: ทำ | S26: ยางแห้ง 1500 กิโล | T26: 40000 | U26: ทำ | V26: 2000 | W26: =+V26*6.29 -> 12580 | X26: ทำ | Y26: 100 | Z26: 10000 | AA26: ทำ | AB26: 500 | AC26: 1000 | AD26: ทำ | AE26: ไม่แน่นอน | AF26: 5000 | AG26: ทำ | AH26: บริโภคในครัวเรือน | AI26: - | AJ26: ทำ | AK26: บริโภคในครัวเรือน | AL26: - | AM26: ไม่ทำ | AN26: - | AO26: - | AP26: ไม่ทำ | AQ26: - | AR26: - | AS26: ไม่ทำ | AT26: - | AU26: - | AV26: ทำ | AW26: บริโภคในครัวเรือน | AX26: - | AY26: ทำ | AZ26: 20 | BA26: 10000 | BB26: ทำ | BC26: ผลมัลเบอร์รี้ | BD26: 1000 ขวด | BE26: 15000 | BF26: ไม่มี | BG26: - | BH26: - | BI26: - | BJ26: =SUM(T26,W26,Z26,AC26,AF26,AI26,AL26,AO26,AR26,AU26,AX26,BA26,BE26,BI26) -> 93580 | BK26: ไม่มี | BL26: 25000 | BM26: 60000 | BN26: ไม่มี | BO26: 9500 | BP26: =SUM(BK26:BO26) -> 94500 | BQ26: ไม่มี | BR26: 30000 | BS26: 4000 | BT26: ไม่มี | BU26: ไม่มี | BV26: 2000 | BW26: 20000 | BX26: ไม่มี | BY26: =SUM(BQ26:BX26) -> 56000 | BZ26: =+BJ26-BY26 -> 37580 | CA26: =+BP26+BZ26 -> 132080 | CB26: 108000 | CC26: =+CA26 -> 132080 | CD26: =+CC26-CB26 -> 24080 | CE26: =IF(CB26<CC26,"เพิ่มขึ้น","ลดลง") -> เพิ่มขึ้น | CF26: ไม่มี
A27: 21 | B27: คมกฤช เหมศิริ | C27: 9 ม.6 ค.บ้านโหนด อ.สะบ้าย้อย จ.สงขลา 90210 | D27: 0800579733 | E27: Komkrich hemsiri | F27: 51 ปีขึ้นไป | G27: 4-5 คน | H27: 1-3 ไร่ | I27: เกษตรกรรม (เกษตร ประมง ปศุสัตว์) | J27: รับจ้างทางการเกษตร/ทั่วไป | K27: มี | L27: - | M27: - | N27: - | O27: เลี้ยงวัว | P27: facebook | Q27: เปิดร้านค้าขายเอง | R27: ทำ | S27: 8000 | T27: =+S27*53.42 -> 427360 | U27: ไม่ทำ | V27: - | W27: - | X27: ทำ | Y27: บริโภคในครัวเรือน | Z27: - | AA27: ไม่ทำ | AB27: - | AC27: - | AD27: ไม่ทำ | AE27: - | AF27: - | AG27: ไม่ทำ | AH27: - | AI27: - | AJ27: ไม่ทำ | AK27: - | AL27: - | AM27: ทำ | AN27: มูลวัว 500 กระสอบ | AO27: 125000 | AP27: ไม่ทำ | AQ27: - | AR27: - | AS27: ไม่ทำ | AT27: - | AU27: - | AV27: ทำ | AW27: 10950 ฟอง | AX27: 36500 | AY27: ไม่ทำ | AZ27: - | BA27: - | BB27: ไม่ทำ | BC27: - | BD27: - | BE27: - | BF27: ไม่มี | BG27: - | BH27: - | BI27: - | BJ27: =SUM(T27,W27,Z27,AC27,AF27,AI27,AL27,AO27,AR27,AU27,AX27,BA27,BE27,BI27) -> 588860 | BK27: ไม่มี | BL27: =12*5000 -> 60000 | BM27: ไม่มี | BN27: ไม่มี | BO27: ไม่มี | BP27: =SUM(BK27:BO27) -> 60000 | BQ27: ไม่มี | BR27: 50000 | BS27: ไม่มี | BT27: ไม่มี | BU27: ไม่มี | BV27: 200000 | BW27: ไม่มี | BX27: ไม่มี | BY27: =SUM(BQ27:BX27) -> 250000 | BZ27: =+BJ27-BY27 -> 338860 | CA27: =+BP27+BZ27 -> 398860 | CB27: 324000 | CC27: =+CA27 -> 398860 | CD27: =+CC27-CB27 -> 74860 | CE27: =IF(CB27<CC27,"เพิ่มขึ้น","ลดลง") -> เพิ่มขึ้น | CF27: ไม่มี
A28: 22 | B28: นาย ทิศ สีสมอ่อน | C28: 36/10 ม.3 ต.เขาแดง อ.สะบ้าย้อย จ.สงขลา | D28: 0862998077 | F28: 51 ปีขึ้นไป | G28: 4-5 คน | H28: มากกว่า 6 ไร่ | I28: เกษตรกรรม (เกษตร ประมง ปศุสัตว์) | J28: รับจ้างทางการเกษตร/ทั่วไป | K28: มี | L28: - | M28: - | N28: - | P28: ไม่มี | Q28: ตลาดในพื้นที่ | R28: ทำ | S28: 2500 | T28: =+S28*53.42 -> 133550 | U28: ทำ | V28: 12000 | W28: =+V28*6.29 -> 75480 | X28: ทำ | Y28: 2500 | Z28: 20000 | AA28: ทำ | AB28: 300 | AC28: 6000 | AD28: ทำ | AE28: 200 | AF28: 5000 | AG28: ทำ | AH28: 300 | AI28: 4500 | AJ28: ไม่ทำ | AK28: - | AL28: - | AM28: ทำ | AN28: 2 ตัว | AO28: 50000 | AP28: ไม่ทำ | AQ28: - | AR28: - | AS28: ไม่ทำ | AT28: - | AU28: - | AV28: ทำ | AW28: 3650 ฟอง/ปี | AX28: 14000 | AY28: ไม่ทำ | AZ28: - | BA28: - | BB28: ไม่ทำ | BC28: - | BD28: - | BE28: - | BF28: ไม่มี | BG28: - | BH28: - | BI28: - | BJ28: =SUM(T28,W28,Z28,AC28,AF28,AI28,AL28,AO28,AR28,AU28,AX28,BA28,BE28,BI28) -> 308530 | BK28: ไม่มี | BL28: =2500*12 -> 30000 | BM28: ไม่มี | BN28: ไม่มี | BO28: ไม่มี | BP28: =SUM(BK28:BO28) -> 30000 | BQ28: 3000 | BR28: ไม่มี | BS28: ไม่มี | BT28: 4000 | BU28: ไม่มี | BV28: ไม่มี | BW28: 20000 | BX28: ไม่มี | BY28: =SUM(BQ28:BX28) -> 27000 | BZ28: =+BJ28-BY28 -> 281530 | CA28: =+BP28+BZ28 -> 311530 | CB28: 240000 | CC28: =+CA28 -> 311530 | CD28: =+CC28-CB28 -> 71530 | CE28: =IF(CB28<CC28,"เพิ่มขึ้น","ลดลง") -> เพิ่มขึ้น | CF28: จัดอบรบให้ความรู้เพิ่มเติมแก่เกษตรกร
A29: 23 | B29: นาย ปรีชา ชำนาญวารี | C29: 50/5 ม.12ต.นาทับอ.จะนะจ.สงขลา | D29: 099-285-3192 | F29: 51 ปีขึ้นไป | G29: 4-5 คน | H29: มากกว่า 6 ไร่ | I29: เกษตรกรรม (เกษตร ประมง ปศุสัตว์) | J29: ไม่มี | K29: มี | L29: - | M29: - | N29: - | P29: ไม่มี | Q29: พ่อค้าคนกลาง/มีคนมารับซื้อถึงบ้าน, เปิดร้านค้าขายเอง | R29: ไม่ทำ | S29: - | T29: - | U29: ไม่ทำ | V29: - | W29: - | X29: ทำ | Y29: 20000 | Z29: 160000 | AA29: ทำ | AB29: 40000 | AC29: 400000 | AD29: ทำ | AE29: 10000 | AF29: 80000 | AG29: ไม่ทำ | AH29: - | AI29: - | AJ29: ไม่ทำ | AK29: - | AL29: - | AM29: ทำ | AN29: 2 ตัว | AO29: 20000 | AP29: ไม่ทำ | AQ29: - | AR29: - | AS29: ไม่ทำ | AT29: - | AU29: - | AV29: ทำ | AW29: ไก่บ้าน50ตัว | AX29: 5000 | AY29: ไม่ทำ | AZ29: - | BA29: - | BB29: ไม่ทำ | BC29: - | BD29: - | BE29: - | BF29: ไม่มี | BG29: - | BH29: - | BI29: - | BJ29: =SUM(T29,W29,Z29,AC29,AF29,AI29,AL29,AO29,AR29,AU29,AX29,BA29,BE29,BI29) -> 665000 | BK29: ไม่มี | BL29: 25000 | BM29: ไม่มี | BN29: ไม่มี | BO29: ไม่มี | BP29: =SUM(BK29:BO29) -> 25000 | BQ29: 200000 | BR29: 100000 | BS29: ไม่มี | BT29: ไม่มี | BU29: 10000 | BV29: 10000บ | BW29: 10000 | BX29: ไม่มี | BY29: =SUM(BQ29:BX29) -> 320000 | BZ29: =+BJ29-BY29 -> 345000 | CA29: =+BP29+BZ29 -> 370000 | CB29: 300000 | CC29: =+CA29 -> 370000 | CD29: =+CC29-CB29 -> 70000 | CE29: =IF(CB29<CC29,"เพิ่มขึ้น","ลดลง") -> เพิ่มขึ้น | CF29: ไม่มี
A30: 24 | B30: นายสายัณ อินทวงศ์ | C30: 35/1 ม.6 ต.ประกอบ อ.นาทวี จ.สงขลา | D30: 063-5865315 | F30: 41-50 ปี | G30: 2-3 คน | H30: มากกว่า 6 ไร่ | I30: เกษตรกรรม (เกษตร ประมง ปศุสัตว์) | J30: ไม่มี | K30: ไม่มี | L30: - | M30: - | N30: - | P30: ไม่มี | Q30: พ่อค้าคนกลาง/มีคนมารับซื้อถึงบ้าน | R30: ทำ | S30: 800 | T30: =+S30*53.42 -> 42736 | U30: ไม่ทำ | V30: - | W30: - | X30: ไม่ทำ | Y30: - | Z30: - | AA30: ไม่ทำ | AB30: - | AC30: - | AD30: ไม่ทำ | AE30: - | AF30: - | AG30: ไม่ทำ | AH30: - | AI30: - | AJ30: ไม่ทำ | AK30: - | AL30: - | AM30: ไม่ทำ | AN30: - | AO30: - | AP30: ไม่ทำ | AQ30: - | AR30: - | AS30: ไม่ทำ | AT30: - | AU30: - | AV30: ไม่ทำ | AW30: - | AX30: - | AY30: ไม่ทำ | AZ30: - | BA30: - | BB30: ไม่ทำ | BC30: - | BD30: - | BE30: - | BF30: ไม่มี | BG30: - | BH30: - | BI30: - | BJ30: =SUM(T30,W30,Z30,AC30,AF30,AI30,AL30,AO30,AR30,AU30,AX30,BA30,BE30,BI30) -> 42736 | BK30: ไม่มี | BL30: ไม่มี | BM30: ไม่มี | BN30: ไม่มี | BO30: 9500 | BP30: =SUM(BK30:BO30) -> 9500 | BQ30: ไม่มี | BR30: ไม่มี | BS30: ไม่มี | BT30: ไม่มี | BU30: ไม่มี | BV30: ไม่มี | BW30: ไม่มี | BX30: ไม่มี | BY30: =SUM(BQ30:BX30) -> 0 | BZ30: =+BJ30-BY30 -> 42736 | CA30: =+BP30+BZ30 -> 52236 | CB30: =5000*12 -> 60000 | CC30: =+CA30 -> 52236 | CD30: =+CC30-CB30 -> -7764 | CE30: =IF(CB30<CC30,"เพิ่มขึ้น","ลดลง") -> ลดลง | CF30: ไม่มี
A31: 25 | B31: อณิตา สาและ | C31: 53/1 ม.5 ต.จะแหน อ.สะบ้าย้อย จ.สงขลา | D31: 0812775298 | F31: 41-50 ปี | G31: 2-3 คน | H31: 4-5 ไร่ | I31: เกษตรกรรม (เกษตร ประมง ปศุสัตว์) | J31: ไม่มี | K31: มี | L31: - | M31: - | N31: - | P31: facebook | Q31: พ่อค้าคนกลาง/มีคนมารับซื้อถึงบ้าน, ตลาดในพื้นที่ | R31: ทำ | S31: 1000 | T31: =+S31*53.42 -> 53420 | U31: ไม่ทำ | V31: - | W31: - | X31: ทำ | Y31: 100 | Z31: 20000 | AA31: ไม่ทำ | AB31: - | AC31: - | AD31: ทำ | AE31: บริโภคในครัวเรือน | AF31: - | AG31: ทำ | AH31: 400 | AI31: 20000 | AJ31: ไม่ทำ | AK31: - | AL31: - | AM31: ไม่ทำ | AN31: - | AO31: - | AP31: ไม่ทำ | AQ31: - | AR31: - | AS31: ไม่ทำ | AT31: - | AU31: - | AV31: ไม่ทำ | AW31: - | AX31: - | AY31: ไม่ทำ | AZ31: - | BA31: - | BB31: ทำ | BC31: ปลาส้ม | BD31: 150กก./ปี | BE31: 18000 | BF31: ไม่มี | BG31: - | BH31: - | BI31: - | BJ31: =SUM(T31,W31,Z31,AC31,AF31,AI31,AL31,AO31,AR31,AU31,AX31,BA31,BE31,BI31) -> 111420 | BK31: ไม่มี | BL31: ไม่มี | BM31: ไม่มี | BN31: ไม่มี | BO31: 9500 | BP31: =SUM(BK31:BO31) -> 9500 | BQ31: ไม่มี | BR31: 15000 | BS31: ไม่มี | BT31: 3000 | BU31: ไม่มี | BV31: ไม่มี | BW31: ไม่มี | BX31: ไม่มี | BY31: =SUM(BQ31:BX31) -> 18000 | BZ31: =+BJ31-BY31 -> 93420 | CA31: =+BP31+BZ31 -> 102920 | CB31: 80000 | CC31: =+CA31 -> 102920 | CD31: =+CC31-CB31 -> 22920 | CE31: =IF(CB31<CC31,"เพิ่มขึ้น","ลดลง") -> เพิ่มขึ้น | CF31: ให้จัดอบรมเพื่อเพิ่มทักษะในการประกอบอาชีพ
A32: 26 | B32: ศรัณยภัทร คงสมแก้ว | C32: 46 ม.5 ต.คูหา อ.สะบ้าย้อย จ.สงขลา | D32: 084-9661876 | E32: fศรัณยภัทร คงสมแก้ว id 0849661876 | F32: 31-40 ปี | G32: 4-5 คน | H32: มากกว่า 6 ไร่ | I32: เกษตรกรรม (เกษตร ประมง ปศุสัตว์) | J32: ค้าขาย | K32: มี | L32: - | M32: - | N32: - | P32: ไม่มี | Q32: ร้านค้า (ฝากจำหน่ายสินค้าไว้กับร้านค้า) | R32: ทำ | S32: 2500 | T32: =+S32*53.42 -> 133550 | U32: ไม่ทำ | V32: - | W32: - | X32: ไม่ทำ | Y32: - | Z32: - | AA32: ไม่ทำ | AB32: - | AC32: - | AD32: ทำ | AE32: 40 | AF32: 1000 | AG32: ไม่ทำ | AH32: - | AI32: - | AJ32: ไม่ทำ | AK32: - | AL32: - | AM32: ไม่ทำ | AN32: - | AO32: - | AP32: ไม่ทำ | AQ32: - | AR32: - | AS32: ไม่ทำ | AT32: - | AU32: - | AV32: ไม่ทำ | AW32: - | AX32: - | AY32: ไม่ทำ | AZ32: - | BA32: - | BB32: ไม่ทำ | BC32: - | BD32: - | BE32: - | BF32: ไม่มี | BG32: - | BH32: - | BI32: - | BJ32: =SUM(T32,W32,Z32,AC32,AF32,AI32,AL32,AO32,AR32,AU32,AX32,BA32,BE32,BI32) -> 134550 | BK32: ไม่มี | BL32: ไม่มี | BM32: 50000 | BN32: ไม่มี | BO32: 9500 | BP32: =SUM(BK32:BO32) -> 59500 | BQ32: 10000 | BR32: 50000 | BS32: ไม่มี | BT32: ไม่มี | BU32: ไม่มี | BV32: ไม่มี | BW32: ไม่มี | BX32: ไม่มี | BY32: =SUM(BQ32:BX32) -> 60000 | BZ32: =+BJ32-BY32 -> 74550 | CA32: =+BP32+BZ32 -> 134050 | CB32: 100000 | CC32: =+CA32 -> 134050 | CD32: =+CC32-CB32 -> 34050 | CE32: =IF(CB32<CC32,"เพิ่มขึ้น","ลดลง") -> เพิ่มขึ้น | CF32: ไม่มี
A33: 27 | B33: นายสามารถ อิแอ | C33: 41/1 ม 3 ต เทพา อ เทพา จ สงขลา | D33: 0884448599 | F33: 41-50 ปี | G33: 4-5 คน | H33: 4-5 ไร่ | I33: รับจ้างทางการเกษตร/ทั่วไป | J33: เกษตรกรรม (เกษตร ประมง ปศุสัตว์) | K33: มี | L33: - | M33: - | N33: - | O33: ทำเกษตรทฤษฎีใหม่ | P33: ไม่มี | Q33: ตลาดในพื้นที่ | R33: ทำ | S33: 4800 | T33: =+S33*53.42 -> 256416 | U33: ไม่ทำ | V33: - | W33: - | X33: ไม่ทำ | Y33: - | Z33: - | AA33: ทำ | AB33: 100 | AC33: 2000 | AD33: ไม่ทำ | AE33: - | AF33: - | AG33: ไม่ทำ | AH33: - | AI33: - | AJ33: ไม่ทำ | AK33: - | AL33: - | AM33: ไม่ทำ | AN33: - | AO33: - | AP33: ไม่ทำ | AQ33: - | AR33: - | AS33: ไม่ทำ | AT33: - | AU33: - | AV33: ไม่ทำ | AW33: - | AX33: - | AY33: ทำ | AZ33: 5 | BA33: 6500 | BB33: ไม่ทำ | BC33: - | BD33: - | BE33: - | BF33: ไม่มี | BG33: - | BH33: - | BI33: - | BJ33: =SUM(T33,W33,Z33,AC33,AF33,AI33,AL33,AO33,AR33,AU33,AX33,BA33,BE33,BI33) -> 264916 | BK33: ไม่มี | BL33: =23000*12 -> 276000 | BM33: ไม่มั | BN33: ไม่มี | BO33: ไม่มี | BP33: =SUM(BK33:BO33) -> 276000 | BQ33: ไม่มี | BR33: 20000 | BS33: ไม่ที | BT33: ไม่มี | BU33: ไม่มี | BV33: 5000 | BW33: 40000 | BX33: ไม่มี | BY33: =SUM(BQ33:BX33) -> 65000 | BZ33: =+BJ33-BY33 -> 199916 | CA33: =+BP33+BZ33 -> 475916 | CB33: 380000 | CC33: =+CA33 -> 475916 | CD33: =+CC33-CB33 -> 95916 | CE33: =IF(CB33<CC33,"เพิ่มขึ้น","ลดลง") -> เพิ่มขึ้น | CF33: ไม่มี
A34: 28 | B34: นางสาว พัชราภรณ์ ทองแก้ว | C34: 34/2 ม.9 ต.ทับช้าง อ.นาทวี จ.สงขลา | D34: 0874753688 | E34: 0874753688 | F34: 31-40 ปี | G34: 4-5 คน | H34: มากกว่า 6 ไร่ | I34: เกษตรกรรม (เกษตร ประมง ปศุสัตว์) | J34: เกษตรกรรม (เกษตร ประมง ปศุสัตว์) | K34: ไม่มี | L34: - | M34: - | N34: - | O34: ปลูกผักกินเอง, ทำฟาร์มเห็ดนางฟ้า | P34: facebook | Q34: พ่อค้าคนกลาง/มีคนมารับซื้อถึงบ้าน, ตลาดในพื้นที่, เปิดร้านค้าขายเอง | R34: ทำ | S34: 4400 | T34: =+S34*53.42 -> 235048 | U34: ไม่ทำ | V34: - | W34: - | X34: ทำ | Y34: 1000 | Z34: 100000 | AA34: ไม่ทำ | AB34: - | AC34: - | AD34: ไม่ทำ | AE34: - | AF34: - | AG34: ไม่ทำ | AH34: - | AI34: - | AJ34: ไม่ทำ | AK34: - | AL34: - | AM34: ไม่ทำ | AN34: - | AO34: - | AP34: ไม่ทำ | AQ34: - | AR34: - | AS34: ทำ | AT34: 8 ตัว | AU34: 19200 | AV34: ไม่ทำ | AW34: - | AX34: - | AY34: ไม่ทำ | AZ34: - | BA34: - | BB34: ไม่ทำ | BC34: - | BD34: - | BE34: - | BF34: ไม่มี | BG34: - | BH34: - | BI34: - | BJ34: =SUM(T34,W34,Z34,AC34,AF34,AI34,AL34,AO34,AR34,AU34,AX34,BA34,BE34,BI34) -> 354248 | BK34: ไม่มี | BL34: ไม่มี | BM34: ไม่มี | BN34: ไม่มี | BO34: ไม่มี | BP34: =SUM(BK34:BO34) -> 0 | BQ34: ไม่มี | BR34: ไม่มี | BS34: ไม่มี | BT34: 32175 | BU34: ไม่มี | BV34: ไม่มี | BW34: ไม่มี | BX34: ไม่มี | BY34: =SUM(BQ34:BX34) -> 32175 | BZ34: =+BJ34-BY34 -> 322073 | CA34: =+BP34+BZ34 -> 322073 | CB34: 250000 | CC34: =+CA34 -> 322073 | CD34: =+CC34-CB34 -> 72073 | CE34: =IF(CB34<CC34,"เพิ่มขึ้น","ลดลง") -> เพิ่มขึ้น | CF34: ทำอาหารสัตว์ใช้เอง อาหารสุกร
A35: 29 | B35: นาย สมนึก เดิมพรม | C35: 67/1 ม ๔ ต คูหา อ สะบ้าย้อย จ สงขลา | D35: 0994838692 | F35: 51 ปีขึ้นไป | G35: 4-5 คน | H35: มากกว่า 6 ไร่ | I35: เกษตรกรรม (เกษตร ประมง ปศุสัตว์) | J35: รับจ้างทางการเกษตร/ทั่วไป | K35: ไม่มี | L35: - | M35: - | N35: - | P35: ไม่มี | Q35: พ่อค้าคนกลาง/มีคนมารับซื้อถึงบ้าน | R35: ทำ | S35: 900 | T35: =+S35*53.42 -> 48078 | U35: ไม่ทำ | V35: - | W35: - | X35: ไม่ทำ | Y35: - | Z35: - | AA35: ไม่ทำ | AB35: - | AC35: - | AD35: ไม่ทำ | AE35: - | AF35: - | AG35: ไม่ทำ | AH35: - | AI35: - | AJ35: ไม่ทำ | AK35: - | AL35: - | AM35: ไม่ทำ | AN35: - | AO35: - | AP35: ไม่ทำ | AQ35: - | AR35: - | AS35: ไม่ทำ | AT35: - | AU35: - | AV35: ไม่ทำ | AW35: - | AX35: - | AY35: ไม่ทำ | AZ35: - | BA35: - | BB35: ไม่ทำ | BC35: - | BD35: - | BE35: - | BF35: ไม่มี | BG35: - | BH35: - | BI35: - | BJ35: =SUM(T35,W35,Z35,AC35,AF35,AI35,AL35,AO35,AR35,AU35,AX35,BA35,BE35,BI35) -> 48078 | BK35: ไม่มี | BL35: =56000+250000 -> 306000 | BM35: ไม่มี | BN35: ไม่มี | BO35: ไม่มี | BP35: =SUM(BK35:BO35) -> 306000 | BQ35: 10000 | BR35: 7200 | BS35: ไม่มี | BT35: ไม่มี50 | BU35: 50 | BV35: ไม่มี | BW35: ไม่มี | BX35: ไม่มี | BY35: =SUM(BQ35:BX35) -> 17250 | BZ35: =+BJ35-BY35 -> 30828 | CA35: =+BP35+BZ35 -> 336828 | CB35: 270000 | CC35: =+CA35 -> 336828 | CD35: =+CC35-CB35 -> 66828 | CE35: =IF(CB35<CC35,"เพิ่มขึ้น","ลดลง") -> เพิ่มขึ้น | CF35: ไม่มี
A36: 30 | B36: นางปาตีเมาะ. เป๊าะซา | C36: 144/7 ม.6 ต.เปียน อ.สะบ้าย้อย จ.สงขลา | D36: 0987979212 | E36: 0987979212 | F36: 41-50 ปี | G36: 4-5 คน | H36: มากกว่า 6 ไร่ | I36: เกษตรกรรม (เกษตร ประมง ปศุสัตว์) | J36: ค้าขาย | K36: มี | L36: - | M36: - | N36: - | O36: ปลูกข้าวโพดหวาน | P36: facebook | Q36: พ่อค้าคนกลาง/มีคนมารับซื้อถึงบ้าน, ตลาดในพื้นที่ | R36: ทำ | S36: 1500 | T36: =+S36*53.42 -> 80130 | U36: ไม่ทำ | V36: - | W36: - | X36: ทำ | Y36: - | Z36: - | AA36: ทำ | AB36: 100 | AC36: 2000 | AD36: ทำ | AE36: บริโภคในครัวเรือน | AF36: - | AG36: ไม่ทำ | AH36: - | AI36: - | AJ36: ไม่ทำ | AK36: - | AL36: - | AM36: ไม่ทำ | AN36: - | AO36: - | AP36: ไม่ทำ | AQ36: - | AR36: - | AS36: ไม่ทำ | AT36: - | AU36: - | AV36: ทำ | AW36: บริโภคในครัวเรือน | AX36: - | AY36: ไม่ทำ | AZ36: - | BA36: - | BB36: ไม่ทำ | BC36: - | BD36: - | BE36: - | BF36: มี | BG36: สะตอ | BH36: 500ฝัก | BI36: 5000 | BJ36: =SUM(T36,W36,Z36,AC36,AF36,AI36,AL36,AO36,AR36,AU36,AX36,BA36,BE36,BI36) -> 87130 | BK36: ไม่มี | BL36: 25000 | BM36: =12*7000 -> 84000 | BN36: ไม่มี | BO36: ไม่มี | BP36: =SUM(BK36:BO36) -> 109000 | BQ36: ไม่มี | BR36: 5000 | BS36: ไม่มี | BT36: ไม่มีไม่มี | BU36: ไม่มี | BV36: ไม่มี | BW36: ไม่มี | BX36: 5000 | BY36: =SUM(BQ36:BX36) -> 10000 | BZ36: =+BJ36-BY36 -> 77130 | CA36: =+BP36+BZ36 -> 186130 | CB36: 150000 | CC36: =+CA36 -> 186130 | CD36: =+CC36-CB36 -> 36130 | CE36: =IF(CB36<CC36,"เพิ่มขึ้น","ลดลง") -> เพิ่มขึ้น | CF36: ส่งเสริมด้านแหล่งน้ำ
A37: 31 | B37: น.ส สายฟ้า เรืองเจริญ | C37: 32 ม.2 ต.คลองกวาง อ.นาทวี จ.สงขลา | D37: 0857966026 | E37: 0857966026 | F37: 41-50 ปี | G37: 2-3 คน | H37: 1-3 ไร่ | I37: เกษตรกรรม (เกษตร ประมง ปศุสัตว์) | J37: เกษตรกรรม (เกษตร ประมง ปศุสัตว์) | K37: ไม่มี | L37: - | M37: - | N37: - | O37: ปลูกหมากเตี้ย | P37: facebook | Q37: ตลาดในพื้นที่ | R37: ทำ | S37: =3*272 -> 816 | T37: =+S37*53.42 -> 43590.72 | U37: ไม่ทำ | V37: - | W37: - | X37: ทำ | Y37: 400 | Z37: 2000 | AA37: ไม่ทำ | AB37: - | AC37: - | AD37: ไม่ทำ | AE37: - | AF37: - | AG37: ไม่ทำ | AH37: - | AI37: - | AJ37: ไม่ทำ | AK37: - | AL37: - | AM37: ไม่ทำ | AN37: - | AO37: - | AP37: ไม่ทำ | AQ37: - | AR37: - | AS37: ไม่ทำ | AT37: - | AU37: - | AV37: ไม่ทำ | AW37: - | AX37: - | AY37: ไม่ทำ | AZ37: - | BA37: - | BB37: ไม่ทำ | BC37: - | BD37: - | BE37: - | BF37: ไม่มี | BG37: - | BH37: - | BI37: - | BJ37: =SUM(T37,W37,Z37,AC37,AF37,AI37,AL37,AO37,AR37,AU37,AX37,BA37,BE37,BI37) -> 45590.72 | BK37: ไม่มี | BL37: ไม่มี | BM37: ไม่มี | BN37: ไม่มี | BO37: ไม่มี | BP37: =SUM(BK37:BO37) -> 0 | BQ37: 5000 | BR37: 10000 | BS37: ไม่มี | BT37: ไม่มี | BU37: ไม่มี | BV37: 2000 | BW37: ไม่มี | BX37: ไม่มี | BY37: =SUM(BQ37:BX37) -> 17000 | BZ37: =+BJ37-BY37 -> 28590.72 | CA37: =+BP37+BZ37 -> 28590.72 | CB37: 35000 | CC37: =+CA37 -> 28590.72 | CD37: =+CC37-CB37 -> -6409.28 | CE37: =IF(CB37<CC37,"เพิ่มขึ้น","ลดลง") -> ลดลง | CF37: อยากมีตลาดรองรับผลผลิตที่แน่นอนไม่ต้องไปขายเร่หรือผ่านพ่อค้าคนกลาง
A38: 32 | B38: ว่าที่ร.ตหญิงชุติมา ช่วยเทพ | C38: 32 ม.2 ต.คลองกวาง อ.นาทวี จ.สงขลา | D38: 0872950928 | E38: 0872950928 | F38: 31-40 ปี | G38: 2-3 คน | H38: มากกว่า 6 ไร่ | I38: เกษตรกรรม (เกษตร ประมง ปศุสัตว์) | J38: ไม่มี | K38: ไม่มี | L38: - | M38: - | N38: - | O38: เพาะต้นกล้าหมากเตี้ย | P38: facebook | Q38: พ่อค้าคนกลาง/มีคนมารับซื้อถึงบ้าน | R38: ทำ | S38: 1760 | T38: =+S38*53.42 -> 94019.2 | U38: ไม่ทำ | V38: - | W38: - | X38: ทำ | Y38: 500 | Z38: 3000 | AA38: ไม่ทำ | AB38: - | AC38: - | AD38: ไม่ทำ | AE38: - | AF38: - | AG38: ไม่ทำ | AH38: - | AI38: - | AJ38: ไม่ทำ | AK38: - | AL38: - | AM38: ไม่ทำ | AN38: - | AO38: - | AP38: ไม่ทำ | AQ38: - | AR38: - | AS38: ไม่ทำ | AT38: - | AU38: - | AV38: ไม่ทำ | AW38: - | AX38: - | AY38: ทำ | AZ38: 2ขวด/ลัง | BA38: =5*2*600 -> 6000 | BB38: ไม่ทำ | BC38: - | BD38: - | BE38: - | BF38: ไม่มี | BG38: - | BH38: - | BI38: - | BJ38: =SUM(T38,W38,Z38,AC38,AF38,AI38,AL38,AO38,AR38,AU38,AX38,BA38,BE38,BI38) -> 103019.2 | BK38: ไม่มี | BL38: ไม่มี | BM38: ไม่มี | BN38: ไม่มี | BO38: ไม่มี | BP38: =SUM(BK38:BO38) -> 0 | BQ38: 10000 | BR38: 20000 | BS38: ไม่มี | BT38: ไม่มี | BU38: ไม่มี | BV38: 5000 | BW38: ไม่มี | BX38: ไม่มี | BY38: =SUM(BQ38:BX38) -> 35000 | BZ38: =+BJ38-BY38 -> 68019.2 | CA38: =+BP38+BZ38 -> 68019.2 | CB38: 55000 | CC38: =+CA38 -> 68019.2 | CD38: =+CC38-CB38 -> 13019.2 | CE38: =IF(CB38<CC38,"เพิ่มขึ้น","ลดลง") -> เพิ่มขึ้น | CF38: มีตลาดที่แน่นอนมีทีรองรับผลผลิตที่ชัดเจน
A39: 33 | B39: ภูชิสส์ดา แก้วสกูล | C39: 123 หมู่ที่ 7 ตำบลน้ำขาวอำเภอจะนะจังหวัดสงขลา | D39: 0813284026 | E39: Vg3b39/Da pooshisda kaewsagoon | F39: 41-50 ปี | G39: 4-5 คน | H39: มากกว่า 6 ไร่ | I39: เกษตรกรรม (เกษตร ประมง ปศุสัตว์) | J39: รับจ้างทางการเกษตร/ทั่วไป | K39: ไม่มี | L39: - | M39: - | N39: - | P39: ไม่มี | Q39: เปิดร้านค้าขายเอง | R39: ทำ | S39: 9000 | T39: =+S39*53.42 -> 480780 | U39: ไม่ทำ | V39: - | W39: - | X39: ไม่ทำ | Y39: - | Z39: - | AA39: ไม่ทำ | AB39: - | AC39: - | AD39: ไม่ทำ | AE39: - | AF39: - | AG39: ไม่ทำ | AH39: - | AI39: - | AJ39: ไม่ทำ | AK39: - | AL39: - | AM39: ไม่ทำ | AN39: - | AO39: - | AP39: ไม่ทำ | AQ39: - | AR39: - | AS39: ไม่ทำ | AT39: - | AU39: - | AV39: ไม่ทำ | AW39: - | AX39: - | AY39: ไม่ทำ | AZ39: - | BA39: - | BB39: ไม่ทำ | BC39: - | BD39: - | BE39: - | BF39: ไม่มี | BG39: - | BH39: - | BI39: - | BJ39: =SUM(T39,W39,Z39,AC39,AF39,AI39,AL39,AO39,AR39,AU39,AX39,BA39,BE39,BI39) -> 480780 | BK39: ไม่มี | BL39: =12*10000 -> 120000 | BM39: ไม่มี | BN39: ไม่มี | BO39: ไม่มี | BP39: =SUM(BK39:BO39) -> 120000 | BQ39: 20000 | BR39: 20000 | BS39: ไม่มี | BT39: ไม่มี | BU39: ไม่มี | BV39: ไม่มี | BW39: ไม่มี | BX39: ไม่มี | BY39: =SUM(BQ39:BX39) -> 40000 | BZ39: =+BJ39-BY39 -> 440780 | CA39: =+BP39+BZ39 -> 560780 | CB39: 445000 | CC39: =+CA39 -> 560780 | CD39: =+CC39-CB39 -> 115780 | CE39: =IF(CB39<CC39,"เพิ่มขึ้น","ลดลง") -> เพิ่มขึ้น | CF39: เพิ่มทุนและวัสดุในทางการเกษตร
A40: 34 | B40: นางศรีริ วรรณศรี | C40: 9/1หมู่9ตำบลน้ำขาว อำเภอจะนะ จังหวัดสงขลา | D40: 0800570091 | E40: ศรีริ วรรณศรี | F40: 51 ปีขึ้นไป | G40: ข้าพเจ้า 1 คน | H40: 1-3 ไร่ | I40: เกษตรกรรม (เกษตร ประมง ปศุสัตว์) | J40: ไม่มี | K40: มี | L40: - | M40: - | N40: - | O40: ปลูกผลไม้ ดอกไม้ต่างๆ | P40: ไม่มี | Q40: พ่อค้าคนกลาง/มีคนมารับซื้อถึงบ้าน | R40: ทำ | S40: 500 | T40: =+S40*53.42 -> 26710 | U40: ไม่ทำ | V40: - | W40: - | X40: ทำ | Y40: 800 | Z40: =+Y40*53.42 -> 42736 | AA40: ไม่ทำ | AB40: - | AC40: - | AD40: ทำ | AE40: - | AF40: - | AG40: ไม่ทำ | AH40: - | AI40: - | AJ40: ไม่ทำ | AK40: - | AL40: - | AM40: ไม่ทำ | AN40: - | AO40: - | AP40: ไม่ทำ | AQ40: - | AR40: - | AS40: ไม่ทำ | AT40: - | AU40: - | AV40: ไม่ทำ | AW40: - | AX40: - | AY40: ไม่ทำ | AZ40: - | BA40: - | BB40: ไม่ทำ | BC40: - | BD40: - | BE40: - | BF40: ไม่มี | BG40: - | BH40: - | BI40: - | BJ40: =SUM(T40,W40,Z40,AC40,AF40,AI40,AL40,AO40,AR40,AU40,AX40,BA40,BE40,BI40) -> 69446 | BK40: ไม่มี | BL40: ไม่มี | BM40: ไม่มี | BN40: ไม่มี | BO40: 9500 | BP40: =SUM(BK40:BO40) -> 9500 | BQ40: ไม่มี | BR40: 4500 | BS40: ไม่มี | BT40: ไม่มี | BU40: ไม่มี | BV40: ไม่มี | BW40: ไม่มี | BX40: ไม่มี | BY40: =SUM(BQ40:BX40) -> 4500 | BZ40: =+BJ40-BY40 -> 64946 | CA40: =+BP40+BZ40 -> 74446 | CB40: =7000*12 -> 84000 | CC40: =+CA40 -> 74446 | CD40: =+CC40-CB40 -> -9554 | CE40: =IF(CB40<CC40,"เพิ่มขึ้น","ลดลง") -> ลดลง | CF40: ส่งเสริมอาชีพให้เกษตรกร
A41: 35 | B41: นายประดับ จันหนู | C41: 79/2 ม.7ต.สะพานไม้แก่นอ.จะนะ | D41: 0862924170 | F41: 51 ปีขึ้นไป | G41: 4-5 คน | H41: มากกว่า 6 ไร่ | I41: เกษตรกรรม (เกษตร ประมง ปศุสัตว์) | J41: รับจ้างทางการเกษตร/ทั่วไป | K41: มี | L41: - | M41: - | N41: - | P41: ไม่มี | Q41: พ่อค้าคนกลาง/มีคนมารับซื้อถึงบ้าน, ตลาดในพื้นที่ | R41: ทำ | S41: 2500 | T41: =+S41*53.42 -> 133550 | U41: ไม่ทำ | V41: - | W41: - | X41: ทำ | Y41: บริโภคในครัวเรือน | Z41: - | AA41: ไม่ทำ | AB41: - | AC41: - | AD41: ทำ | AE41: บริโภคในครัวเรือน | AF41: - | AG41: ทำ | AH41: บริโภคในครัวเรือน | AI41: - | AJ41: ไม่ทำ | AK41: - | AL41: - | AM41: ทำ | AN41: 2 ตัว | AO41: 40000 | AP41: ไม่ทำ | AQ41: - | AR41: - | AS41: ไม่ทำ | AT41: - | AU41: - | AV41: ไม่ทำ | AW41: - | AX41: - | AY41: ไม่ทำ | AZ41: - | BA41: - | BB41: ไม่ทำ | BC41: - | BD41: - | BE41: - | BF41: ไม่มี | BG41: - | BH41: - | BI41: - | BJ41: =SUM(T41,W41,Z41,AC41,AF41,AI41,AL41,AO41,AR41,AU41,AX41,BA41,BE41,BI41) -> 173550 | BK41: ไม่มี | BL41: 25000 | BM41: ไม่มี | BN41: ไม่มี | BO41: 9500 | BP41: =SUM(BK41:BO41) -> 34500 | BQ41: ไม่มี | BR41: 13000 | BS41: 10000 | BT41: 10000 | BU41: ไม่มี | BV41: ไม่มี | BW41: 3000 | BX41: 5000 | BY41: =SUM(BQ41:BX41) -> 41000 | BZ41: =+BJ41-BY41 -> 132550 | CA41: =+BP41+BZ41 -> 167050 | CB41: 135000 | CC41: =+CA41 -> 167050 | CD41: =+CC41-CB41 -> 32050 | CE41: =IF(CB41<CC41,"เพิ่มขึ้น","ลดลง") -> เพิ่มขึ้น | CF41: ความรู้
A42: 36 | B42: นายอำนาจ ประกอบศรี | C42: 8/9 ม.3 ต.เขาแดง อ.สะบ้าย้อย จ.สงขลา 90210 | D42: 0899764572 | F42: 51 ปีขึ้นไป | G42: มากกว่า 6 คนขึ้นไป | H42: มากกว่า 6 ไร่ | I42: เกษตรกรรม (เกษตร ประมง ปศุสัตว์) | J42: ข้าราชการ/พนักงานของรัฐ | K42: มี | L42: - | M42: - | N42: - | P42: facebook | Q42: พ่อค้าคนกลาง/มีคนมารับซื้อถึงบ้าน, ตลาดในพื้นที่, สหกรณ์การเกษตร | R42: ทำ | S42: 1500 | T42: =+S42*53.42 -> 80130 | U42: ทำ | V42: 1000 | W42: =+V42*6.29 -> 6290 | X42: ทำ | Y42: 1000 | Z42: 50000 | AA42: ไม่ทำ | AB42: - | AC42: - | AD42: ไม่ทำ | AE42: - | AF42: - | AG42: ทำ | AH42: 2000 | AI42: 5000 | AJ42: ไม่ทำ | AK42: - | AL42: - | AM42: ไม่ทำ | AN42: - | AO42: - | AP42: ไม่ทำ | AQ42: - | AR42: - | AS42: ไม่ทำ | AT42: - | AU42: - | AV42: ไม่ทำ | AW42: - | AX42: - | AY42: ทำ | AZ42: 5 รัง 5 ขวด | BA42: 3000 | BB42: ไม่ทำ | BC42: - | BD42: - | BE42: - | BF42: ไม่มี | BG42: - | BH42: - | BI42: - | BJ42: =SUM(T42,W42,Z42,AC42,AF42,AI42,AL42,AO42,AR42,AU42,AX42,BA42,BE42,BI42) -> 144420 | BK42: ไม่มี | BL42: ไม่มี | BM42: ไม่มี | BN42: =12*12000 -> 144000 | BO42: 9500 | BP42: =SUM(BK42:BO42) -> 153500 | BQ42: 4000 | BR42: 5000 | BS42: ไม่มี | BT42: 2500 | BU42: ไม่มี | BV42: 2000 | BW42: ไม่มี | BX42: ไม่มี | BY42: =SUM(BQ42:BX42) -> 13500 | BZ42: =+BJ42-BY42 -> 130920 | CA42: =+BP42+BZ42 -> 284420 | CB42: 227000 | CC42: =+CA42 -> 284420 | CD42: =+CC42-CB42 -> 57420 | CE42: =IF(CB42<CC42,"เพิ่มขึ้น","ลดลง") -> เพิ่มขึ้น | CF42: ไม่มี
A43: 37 | B43: จีรวัฒน์ นุ่นศรี | C43: 23/3 ม.6 ต.เขาแดง อ.สะบ้าย้อย จ.สงขลา | D43: 0843985689 | E43: 0843985689 | F43: 41-50 ปี | G43: 2-3 คน | H43: 4-5 ไร่ | I43: เกษตรกรรม (เกษตร ประมง ปศุสัตว์) | J43: ค้าขาย | K43: มี | L43: - | M43: - | N43: - | O43: เลี้ยงไส้เดือนเพื้อขายมูล ขายตัวไส้เดือน | P43: facebook | Q43: พ่อค้าคนกลาง/มีคนมารับซื้อถึงบ้าน, ตลาดในพื้นที่, ร้านค้า (ฝากจำหน่ายสินค้าไว้กับร้านค้า), เปิดร้านค้าขายเอง | R43: ทำ | S43: 3600 | T43: =+S43*53.42 -> 192312 | U43: ไม่ทำ | V43: - | W43: - | X43: ทำ | Y43: ยังไม่ได้รับผล | Z43: ยังไม่มีรายได้ | AA43: ทำ | AB43: 200 | AC43: 4000 | AD43: ทำ | AE43: 200 | AF43: 4000 | AG43: ไม่ทำ | AH43: - | AI43: - | AJ43: ไม่ทำ | AK43: - | AL43: - | AM43: ทำ | AN43: 3 ตัว ขี้วัว 100 กระสอบ | AO43: =75000+5000 -> 80000 | AP43: ทำ | AQ43: เพิ่งเริ่มเลี้ยง | AR43: ยังไม่สามารถจำหน่ายได้ | AS43: ไม่ทำ | AT43: - | AU43: - | AV43: ไม่ทำ | AW43: - | AX43: - | AY43: ทำ | AZ43: 4ขวด/รัง มี 4 ลัง | BA43: 8000 | BB43: ไม่ทำ | BC43: - | BD43: - | BE43: - | BF43: ไม่มี | BG43: - | BH43: - | BI43: - | BJ43: =SUM(T43,W43,Z43,AC43,AF43,AI43,AL43,AO43,AR43,AU43,AX43,BA43,BE43,BI43) -> 288312 | BK43: ไม่มี | BL43: ไม่มี | BM43: 60000 | BN43: ไม่มี | BO43: 9500 | BP43: =SUM(BK43:BO43) -> 69500 | BQ43: 5000 | BR43: 2000 | BS43: 2000 | BT43: 3000 | BU43: ไม่มี | BV43: 3000 | BW43: ไม่มี | BX43: ไม่มี | BY43: =SUM(BQ43:BX43) -> 15000 | BZ43: =+BJ43-BY43 -> 273312 | CA43: =+BP43+BZ43 -> 342812 | CB43: 274000 | CC43: =+CA43 -> 342812 | CD43: =+CC43-CB43 -> 68812 | CE43: =IF(CB43<CC43,"เพิ่มขึ้น","ลดลง") -> เพิ่มขึ้น | CF43: ต้องการส่งเสริมเครื่องผสมดินขนาด 400 กก.และเครื่องอัดเม็ดเพื่อทำปุ๋ย ทำอาหารสัตว์
A44: 38 | B44: นายสันติ หวังดำ | C44: 35/2 ม.3 ต.ขุนตัดหวาย อ.จะนะ จ.สงขลา | D44: 0872999378 | F44: 31-40 ปี | G44: 4-5 คน | H44: มากกว่า 6 ไร่ | I44: เกษตรกรรม (เกษตร ประมง ปศุสัตว์) | J44: รับจ้างทางการเกษตร/ทั่วไป | K44: ไม่มี | L44: - | M44: - | N44: - | Q44: ตลาดในพื้นที่ | R44: ทำ | S44: 8000 | T44: =+S44*53.42 -> 427360 | U44: ไม่ทำ | V44: - | W44: - | X44: ไม่ทำ | Y44: - | Z44: - | AA44: ไม่ทำ | AB44: - | AC44: - | AD44: ไม่ทำ | AE44: - | AF44: - | AG44: ไม่ทำ | AH44: - | AI44: - | AJ44: ไม่ทำ | AK44: - | AL44: - | AM44: ทำ | AN44: 1 ตัว/150กระสอบ | AO44: 35000 | AP44: ทำ | AQ44: 4ตัว และมูลแพะ 40กระสอบ | AR44: =15000+1200 -> 16200 | AS44: ไม่ทำ | AT44: - | AU44: - | AV44: ไม่ทำ | AW44: - | AX44: - | AY44: ไม่ทำ | AZ44: - | BA44: - | BB44: ไม่ทำ | BC44: - | BD44: - | BE44: - | BF44: ไม่มี | BG44: - | BH44: - | BI44: - | BJ44: =SUM(T44,W44,Z44,AC44,AF44,AI44,AL44,AO44,AR44,AU44,AX44,BA44,BE44,BI44) -> 478560 | BK44: ไม่มี | BL44: =3000*12 -> 36000 | BM44: ไม่มี | BN44: ไม่มี | BO44: ไม่มี | BP44: =SUM(BK44:BO44) -> 36000 | BQ44: ไม่มี | BR44: 12000 | BS44: 500 | BT44: 5000 | BU44: ไม่มี | BV44: 5000 | BW44: ไม่มี | BX44: ไม่มี | BY44: =SUM(BQ44:BX44) -> 22500 | BZ44: =+BJ44-BY44 -> 456060 | CA44: =+BP44+BZ44 -> 492060 | CB44: 393000 | CC44: =+CA44 -> 492060 | CD44: =+CC44-CB44 -> 99060 | CE44: =IF(CB44<CC44,"เพิ่มขึ้น","ลดลง") -> เพิ่มขึ้น | CF44: ไม่มี
A45: 39 | B45: นายเจียร ทองคง | C45: 119/1 | D45: 0810948223 | E45: 0810948223 | F45: 51 ปีขึ้นไป | G45: 2-3 คน | H45: มากกว่า 6 ไร่ | I45: เกษตรกรรม (เกษตร ประมง ปศุสัตว์) | J45: ไม่มี | K45: มี | L45: - | M45: - | N45: - | O45: ทำเกษตรผสมผสาน | Q45: ตลาดในพื้นที่ | R45: ทำ | S45: 2500 | T45: =+S45*53.42 -> 133550 | U45: ทำ | V45: 4300 | W45: =+V45*6.29 -> 27047 | X45: ไม่ทำ | Y45: - | Z45: - | AA45: ไม่ทำ | AB45: - | AC45: - | AD45: ทำ | AE45: 500 | AF45: 10000 | AG45: ทำ | AH45: บริโภคในครัวเรือน | AI45: - | AJ45: ไม่ทำ | AK45: - | AL45: - | AM45: ทำ | AN45: 3 ตัว | AO45: 75000 | AP45: ไม่ทำ | AQ45: - | AR45: - | AS45: ไม่ทำ | AT45: - | AU45: - | AV45: ไม่ทำ | AW45: - | AX45: - | AY45: ไม่ทำ | AZ45: - | BA45: - | BB45: ไม่ทำ | BC45: - | BD45: - | BE45: - | BF45: ไม่มี | BG45: - | BH45: - | BI45: - | BJ45: =SUM(T45,W45,Z45,AC45,AF45,AI45,AL45,AO45,AR45,AU45,AX45,BA45,BE45,BI45) -> 245597 | BK45: ไม่มี | BL45: 25000 | BM45: ไม่มี | BN45: =600*12 -> 7200 | BO45: ไม่มี | BP45: =SUM(BK45:BO45) -> 32200 | BQ45: ไม่มี | BR45: 30000 | BS45: ไม่มี | BT45: ไม่มี | BU45: ไม่มี | BV45: ไม่มี | BW45: ไม่มี | BX45: ไม่มี | BY45: =SUM(BQ45:BX45) -> 30000 | BZ45: =+BJ45-BY45 -> 215597 | CA45: =+BP45+BZ45 -> 247797 | CB45: 200000 | CC45: =+CA45 -> 247797 | CD45: =+CC45-CB45 -> 47797 | CE45: =IF(CB45<CC45,"เพิ่มขึ้น","ลดลง") -> เพิ่มขึ้น | CF45: ความรู้ด้านการทำสวนปาล์มน้ำมัน
A46: 40 | B46: นาย อุหมาด สีเต็ม | C46: 35/1 | D46: 0872861284 | F46: 51 ปีขึ้นไป | G46: มากกว่า 6 คนขึ้นไป | H46: 4-5 ไร่ | I46: เกษตรกรรม (เกษตร ประมง ปศุสัตว์) | J46: เกษตรกรรม (เกษตร ประมง ปศุสัตว์) | K46: มี | L46: - | M46: - | N46: - | O46: ทำปุ๋ยหมักชีวภาพใช้เอง | P46: facebook | Q46: พ่อค้าคนกลาง/มีคนมารับซื้อถึงบ้าน | R46: ทำ | S46: 5600 | T46: =+S46*53.42 -> 299152 | U46: ไม่ทำ | V46: - | W46: - | X46: ทำ | Y46: 900 | Z46: 13500 | AA46: ทำ | AB46: 400 | AC46: 8000 | AD46: ทำ | AE46: บริโภคในครัวเรือน | AF46: - | AG46: ทำ | AH46: บริโภคในครัวเรือน | AI46: - | AJ46: ไม่ทำ | AK46: - | AL46: - | AM46: ไม่ทำ | AN46: - | AO46: - | AP46: ไม่ทำ | AQ46: - | AR46: - | AS46: ไม่ทำ | AT46: - | AU46: - | AV46: ไม่ทำ | AW46: - | AX46: - | AY46: ทำ | AZ46: 3-4ขวดต่อรัง | BA46: =1200*5 -> 6000 | BB46: ไม่ทำ | BC46: - | BD46: - | BE46: - | BF46: ไม่มี | BG46: - | BH46: - | BI46: - | BJ46: =SUM(T46,W46,Z46,AC46,AF46,AI46,AL46,AO46,AR46,AU46,AX46,BA46,BE46,BI46) -> 326652 | BK46: ไม่มี | BL46: =2500*12 -> 30000 | BM46: ไม่มี | BN46: ไม่มี | BO46: ไม่มี | BP46: =SUM(BK46:BO46) -> 30000 | BQ46: ไม่มี | BR46: 8000 | BS46: ไม่มี | BT46: ไม่มี | BU46: 20000 | BV46: 5000 | BW46: 8000 | BX46: ไม่มี | BY46: =SUM(BQ46:BX46) -> 41000 | BZ46: =+BJ46-BY46 -> 285652 | CA46: =+BP46+BZ46 -> 315652 | CB46: 250000 | CC46: =+CA46 -> 315652 | CD46: =+CC46-CB46 -> 65652 | CE46: =IF(CB46<CC46,"เพิ่มขึ้น","ลดลง") -> เพิ่มขึ้น | CF46: งบประมาณในกิจกรรมด้านการเกษตรต่างๆเช่นการทำปุ๋ยหมัก เป็นต้น
A47: 41 | B47: นายนพดน นุ้ยสมัน | C47: 5/1ม.4ต.นาทับ อ.จะนะ จ.สงขลา | D47: 0813880226 | E47: 0813880226 | F47: 41-50 ปี | G47: 2-3 คน | H47: 1-3 ไร่ | I47: เกษตรกรรม (เกษตร ประมง ปศุสัตว์) | J47: ไม่มี | K47: มี | L47: - | M47: - | N47: - | O47: เลี้ยงปูทะเล | P47: ไม่มี | Q47: ตลาดในพื้นที่ | R47: ทำ | S47: 600 | T47: =+S47*53.42 -> 32052 | U47: ไม่ทำ | V47: - | W47: - | X47: ไม่ทำ | Y47: - | Z47: - | AA47: ไม่ทำ | AB47: - | AC47: - | AD47: ไม่ทำ | AE47: - | AF47: - | AG47: ไม่ทำ | AH47: - | AI47: - | AJ47: ไม่ทำ | AK47: - | AL47: - | AM47: ไม่ทำ | AN47: - | AO47: - | AP47: ทำ | AQ47: 5 | AR47: 1000 | AS47: ไม่ทำ | AT47: - | AU47: - | AV47: ไม่ทำ | AW47: - | AX47: - | AY47: ไม่ทำ | AZ47: - | BA47: - | BB47: ไม่ทำ | BC47: - | BD47: - | BE47: - | BF47: ไม่มี | BG47: - | BH47: - | BI47: - | BJ47: =SUM(T47,W47,Z47,AC47,AF47,AI47,AL47,AO47,AR47,AU47,AX47,BA47,BE47,BI47) -> 33052 | BK47: ไม่มี | BL47: ไม่มี | BM47: ไม่มี | BN47: ไม่มี | BO47: 9500 | BP47: =SUM(BK47:BO47) -> 9500 | BQ47: ไม่มี | BR47: ไม่มี | BS47: มี | BT47: มี | BU47: มี | BV47: มี | BW47: มี | BX47: ไม่มี | BY47: =SUM(BQ47:BX47) -> 0 | BZ47: =+BJ47-BY47 -> 33052 | CA47: =+BP47+BZ47 -> 42552 | CB47: 35000 | CC47: =+CA47 -> 42552 | CD47: =+CC47-CB47 -> 7552 | CE47: =IF(CB47<CC47,"เพิ่มขึ้น","ลดลง") -> เพิ่มขึ้น | CF47: ส่งเสริมความรู้
A48: 42 | B48: นางสาวกาญจนีย์ แก้วหนู | C48: 46/5ม.8ต.นาทับอ.จะนะจ.สงขลา | D48: 093-5849837 | E48: 0935849837 | F48: 31-40 ปี | G48: 2-3 คน | H48: มากกว่า 6 ไร่ | I48: ค้าขาย | J48: ข้าราชการ/พนักงานของรัฐ | K48: มี | L48: - | M48: - | N48: - | O48: สวนผสมผสาน | P48: facebook | Q48: เปิดร้านค้าขายเอง | R48: ไม่ทำ | S48: - | T48: - | U48: ไม่ทำ | V48: - | W48: - | X48: ไม่ทำ | Y48: - | Z48: - | AA48: ไม่ทำ | AB48: - | AC48: - | AD48: ทำ | AE48: 200 | AF48: 10000 | AG48: ทำ | AH48: - | AI48: - | AJ48: ไม่ทำ | AK48: - | AL48: - | AM48: ทำ | AN48: 2 ตัว | AO48: 30000 | AP48: ไม่ทำ | AQ48: - | AR48: - | AS48: ทำ | AT48: 12ตัว | AU48: 12000 | AV48: ทำ | AW48: 200ฟอง | AX48: 600 | AY48: ไม่ทำ | AZ48: - | BA48: - | BB48: ไม่ทำ | BC48: - | BD48: - | BE48: - | BF48: ไม่มี | BG48: - | BH48: - | BI48: - | BJ48: =SUM(T48,W48,Z48,AC48,AF48,AI48,AL48,AO48,AR48,AU48,AX48,BA48,BE48,BI48) -> 52600 | BK48: ไม่มี | BL48: 84000 | BM48: ไม่มี | BN48: ไม่มี | BO48: 9500 | BP48: =SUM(BK48:BO48) -> 93500 | BQ48: 10000 | BR48: 10000 | BS48: 3000 | BT48: 3000 | BU48: 200 | BV48: 2000 | BW48: ไม่มี | BX48: 3000 | BY48: =SUM(BQ48:BX48) -> 31200 | BZ48: =+BJ48-BY48 -> 21400 | CA48: =+BP48+BZ48 -> 114900 | CB48: 92000 | CC48: =+CA48 -> 114900 | CD48: =+CC48-CB48 -> 22900 | CE48: =IF(CB48<CC48,"เพิ่มขึ้น","ลดลง") -> เพิ่มขึ้น | CF48: โซล่าเซล
A49: 43 | B49: นางสุนีย์​ จันอิ | C49: 101​หมู่ที่​14​ตำบลนาทับ​อำเภอจะนะ​จังหวัดสงขลา | D49: 0810985451 | E49: 0810985451 | F49: 31-40 ปี | G49: 2-3 คน | H49: 1-3 ไร่ | I49: รับจ้างทางการเกษตร/ทั่วไป | J49: เกษตรกรรม (เกษตร ประมง ปศุสัตว์) | K49: มี | L49: - | M49: - | N49: - | O49: - | P49: ไม่มี | Q49: เปิดร้านค้าขายเอง | R49: ไม่ทำ | S49: - | T49: - | U49: ไม่ทำ | V49: - | W49: - | X49: ไม่ทำ | Y49: - | Z49: - | AA49: ไม่ทำ | AB49: - | AC49: - | AD49: ทำ | AE49: - | AF49: - | AG49: ไม่ทำ | AH49: - | AI49: - | AJ49: ไม่ทำ | AK49: - | AL49: - | AM49: ไม่ทำ | AN49: - | AO49: - | AP49: ไม่ทำ | AQ49: - | AR49: - | AS49: ไม่ทำ | AT49: - | AU49: - | AV49: ทำ | AW49: - | AX49: - | AY49: ไม่ทำ | AZ49: - | BA49: - | BB49: ไม่ทำ | BC49: - | BD49: - | BE49: - | BF49: ไม่มี | BG49: - | BH49: - | BI49: - | BJ49: =SUM(T49,W49,Z49,AC49,AF49,AI49,AL49,AO49,AR49,AU49,AX49,BA49,BE49,BI49) -> 0 | BK49: ไม่มี | BL49: =3000*12 -> 36000 | BM49: ไม่มี | BN49: ไม่มี | BO49: ไม่มี | BP49: =SUM(BK49:BO49) -> 36000 | BQ49: ไม่มี | BR49: ไม่มี | BS49: ไม่มี | BT49: ไม่มี | BU49: ไม่มี | BV49: ไม่มี | BW49: ไม่มี | BX49: ไม่มี | BY49: =SUM(BQ49:BX49) -> 0 | BZ49: =+BJ49-BY49 -> 0 | CA49: =+BP49+BZ49 -> 36000 | CB49: 28000 | CC49: =+CA49 -> 36000 | CD49: =+CC49-CB49 -> 8000 | CE49: =IF(CB49<CC49,"เพิ่มขึ้น","ลดลง") -> เพิ่มขึ้น | CF49: ไม่มี
A50: 44 | B50: อับด้นเล๊าะ. หีมยิ | C50: 30/1ม9 ตท่าหมอไทร อจะนะ จสงขลา | D50: 086 3171223 | E50: 0863171223 | F50: 41-50 ปี | G50: ข้าพเจ้า 1 คน | H50: 4-5 ไร่ | I50: เกษตรกรรม (เกษตร ประมง ปศุสัตว์) | J50: ไม่มี | K50: มี | L50: - | M50: - | N50: - | O50: - | P50: facebook | Q50: พ่อค้าคนกลาง/มีคนมารับซื้อถึงบ้าน, ร้านค้า (ฝากจำหน่ายสินค้าไว้กับร้านค้า), เปิดร้านค้าขายเอง | R50: ไม่ทำ | S50: - | T50: - | U50: ไม่ทำ | V50: - | W50: - | X50: ทำ | Y50: 500 | Z50: 5000 | AA50: ไม่ทำ | AB50: - | AC50: - | AD50: ทำ | AE50: ขายต้นพันธ์สมุนไพร | AF50: 17500 | AG50: ไม่ทำ | AH50: - | AI50: - | AJ50: ไม่ทำ | AK50: - | AL50: - | AM50: ไม่ทำ | AN50: - | AO50: - | AP50: ไม่ทำ | AQ50: - | AR50: - | AS50: ไม่ทำ | AT50: - | AU50: - | AV50: ไม่ทำ | AW50: - | AX50: - | AY50: ทำ | AZ50: รังผึ้งรุนแรง50รัง น้ำผึ้รุนแรง1200ขวด น่ำผึ้งโพรงง500กิโล | BA50: 665000 | BB50: ไม่ทำ | BC50: - | BD50: - | BE50: - | BF50: ไม่มี | BG50: - | BH50: - | BI50: - | BJ50: =SUM(T50,W50,Z50,AC50,AF50,AI50,AL50,AO50,AR50,AU50,AX50,BA50,BE50,BI50) -> 687500 | BK50: ไม่มี | BL50: ไม่มี | BM50: ไม่มี | BN50: ไม่มี | BO50: ไม่มี | BP50: =SUM(BK50:BO50) -> 0 | BQ50: ไม่มี | BR50: 10000 | BS50: 96000 | BT50: ไม่มี | BU50: ไมมี | BV50: 3900 | BW50: 96000 | BX50: ไม่มี | BY50: =SUM(BQ50:BX50) -> 205900 | BZ50: =+BJ50-BY50 -> 481600 | CA50: =+BP50+BZ50 -> 481600 | CB50: 385000 | CC50: =+CA50 -> 481600 | CD50: =+CC50-CB50 -> 96600 | CE50: =IF(CB50<CC50,"เพิ่มขึ้น","ลดลง") -> เพิ่มขึ้น | CF50: ต้องการให้เข้ามาทำการวิจัยด้านพืชสมุนไพรเช่นเจตมูลเพลิงแดง หนุมานประสานกาย ต้นปลาไกลเผือก และจัดตั้งกลุ่มวิสาหกิจชุมชน
A51: 45 | B51: นส.อานีฟราฮาน จิสา | C51: 20/13 ม.3 ต.ทุ่งพอ อ.สะบ้าย้อย จ.สงขลา 90210 | D51: 0930280996 | E51: 0653620813 | F51: 31-40 ปี | G51: 2-3 คน | H51: 4-5 ไร่ | I51: รับจ้างทางการเกษตร/ทั่วไป | J51: เกษตรกรรม (เกษตร ประมง ปศุสัตว์) | K51: ไม่มี | L51: - | M51: - | N51: - | O51: - | P51: ไม่มี | Q51: ร้านค้า (ฝากจำหน่ายสินค้าไว้กับร้านค้า) | R51: ไม่ทำ | S51: - | T51: - | U51: ไม่ทำ | V51: - | W51: - | X51: ไม่ทำ | Y51: - | Z51: - | AA51: ไม่ทำ | AB51: - | AC51: - | AD51: ไม่ทำ | AE51: - | AF51: - | AG51: ไม่ทำ | AH51: - | AI51: - | AJ51: ไม่ทำ | AK51: - | AL51: - | AM51: ไม่ทำ | AN51: - | AO51: - | AP51: ไม่ทำ | AQ51: - | AR51: - | AS51: ไม่ทำ | AT51: - | AU51: - | AV51: ไม่ทำ | AW51: - | AX51: - | AY51: ไม่ทำ | AZ51: - | BA51: - | BB51: ไม่ทำ | BC51: - | BD51: - | BE51: - | BF51: ไม่มี | BG51: - | BH51: - | BI51: - | BJ51: =SUM(T51,W51,Z51,AC51,AF51,AI51,AL51,AO51,AR51,AU51,AX51,BA51,BE51,BI51) -> 0 | BK51: ไม่มี | BL51: 84000 | BM51: ไม่มี | BN51: ไม่มี | BO51: 9500 | BP51: =SUM(BK51:BO51) -> 93500 | BQ51: ไม่มี | BR51: ไม่มี | BS51: ไม่มี | BT51: ไม่มี | BU51: ไม่มี | BV51: ไม่มี | BW51: ไม่มี | BX51: 3000 | BY51: =SUM(BQ51:BX51) -> 3000 | BZ51: =+BJ51-BY51 -> -3000 | CA51: =+BP51+BZ51 -> 90500 | CB51: 75000 | CC51: =+CA51 -> 90500 | CD51: =+CC51-CB51 -> 15500 | CE51: =IF(CB51<CC51,"เพิ่มขึ้น","ลดลง") -> เพิ่มขึ้น | CF51: ไม่มี
A52: 46 | B52: พิเชฐ ล่าบู | C52: 58 ม 7 ต นาหวัา อ จะนะ จ สงขลา | D52: 0927543980 | E52: 0927543980 | F52: 41-50 ปี | G52: 4-5 คน | H52: มากกว่า 6 ไร่ | I52: เกษตรกรรม (เกษตร ประมง ปศุสัตว์) | J52: ค้าขาย | K52: มี | L52: - | M52: - | N52: - | O52: ผลิตผัก ผลไม้ปลอดภัยเพื่อการค้า | P52: facebook | Q52: ตลาดในพื้นที่, เปิดร้านค้าขายเอง | R52: ทำ | S52: 3000 | T52: =+S52*53.42 -> 160260 | U52: ไม่ทำ | V52: - | W52: - | X52: ทำ | Y52: 600 | Z52: 7500 | AA52: ทำ | AB52: 20000 | AC52: 200000 | AD52: ทำ | AE52: 2000 | AF52: 70000 | AG52: ทำ | AH52: 500 | AI52: 25000 | AJ52: ไม่ทำ | AK52: - | AL52: - | AM52: ไม่ทำ | AN52: - | AO52: - | AP52: ไม่ทำ | AQ52: - | AR52: - | AS52: ไม่ทำ | AT52: - | AU52: - | AV52: ไม่ทำ | AW52: - | AX52: - | AY52: ทำ | AZ52: 5 | BA52: 3000 | BB52: ไม่ทำ | BC52: - | BD52: - | BE52: - | BF52: มี | BG52: มะพร้าวน้ำหอม ลองกอง | BH52: 1000 | BI52: 10000 | BJ52: =SUM(T52,W52,Z52,AC52,AF52,AI52,AL52,AO52,AR52,AU52,AX52,BA52,BE52,BI52) -> 475760 | BK52: ไม่มี | BL52: ไม่มี | BM52: =3000*12 -> 36000 | BN52: ไม่มี | BO52: ไม่มี | BP52: =SUM(BK52:BO52) -> 36000 | BQ52: ไม่มี | BR52: มี | BS52: ไม่มี | BT52: ไม่มี | BU52: ไม่มี | BV52: ไม่มี | BW52: ไมมี | BX52: ไม่มี | BY52: =SUM(BQ52:BX52) -> 0 | BZ52: =+BJ52-BY52 -> 475760 | CA52: =+BP52+BZ52 -> 511760 | CB52: 400000 | CC52: =+CA52 -> 511760 | CD52: =+CC52-CB52 -> 111760 | CE52: =IF(CB52<CC52,"เพิ่มขึ้น","ลดลง") -> เพิ่มขึ้น | CF52: ไม่มี
A53: 47 | B53: สว่าง เอกแก้ว | C53: 49ม.8ต.ทับช้างอ.นาทวีจ.สงขลา | D53: 0892938492 | E53: - | F53: 51 ปีขึ้นไป | G53: มากกว่า 6 คนขึ้นไป | H53: มากกว่า 6 ไร่ | I53: รับจ้างทางการเกษตร/ทั่วไป | J53: เกษตรกรรม (เกษตร ประมง ปศุสัตว์) | K53: ไม่มี | L53: - | M53: - | N53: - | O53: - | P53: ไม่มี | Q53: พ่อค้าคนกลาง/มีคนมารับซื้อถึงบ้าน | R53: ทำ | S53: 480 | T53: =+S53*53.42 -> 25641.6 | U53: ไม่ทำ | V53: - | W53: - | X53: ทำ | Y53: 15 | Z53: 5000 | AA53: ไม่ทำ | AB53: - | AC53: - | AD53: ไม่ทำ | AE53: - | AF53: - | AG53: ไม่ทำ | AH53: - | AI53: - | AJ53: ไม่ทำ | AK53: - | AL53: - | AM53: ไม่ทำ | AN53: - | AO53: - | AP53: ไม่ทำ | AQ53: - | AR53: - | AS53: ไม่ทำ | AT53: - | AU53: - | AV53: ไม่ทำ | AW53: - | AX53: - | AY53: ไม่ทำ | AZ53: - | BA53: - | BB53: ไม่ทำ | BC53: - | BD53: - | BE53: - | BF53: ไม่มี | BG53: - | BH53: - | BI53: - | BJ53: =SUM(T53,W53,Z53,AC53,AF53,AI53,AL53,AO53,AR53,AU53,AX53,BA53,BE53,BI53) -> 30641.6 | BK53: ไม่มี | BL53: =2000*12 -> 24000 | BM53: ไม่มี | BN53: ไม่มี | BO53: 9500 | BP53: =SUM(BK53:BO53) -> 33500 | BQ53: ไม่มี | BR53: 8000 | BS53: ไม่มี | BT53: ไม่มี | BU53: ไม่มี | BV53: ไม่มี | BW53: ไม่มี | BX53: ไม่มี | BY53: =SUM(BQ53:BX53) -> 8000 | BZ53: =+BJ53-BY53 -> 22641.6 | CA53: =+BP53+BZ53 -> 56141.6 | CB53: 44000 | CC53: =+CA53 -> 56141.6 | CD53: =+CC53-CB53 -> 12141.6 | CE53: =IF(CB53<CC53,"เพิ่มขึ้น","ลดลง") -> เพิ่มขึ้น | CF53: เรื่องราคายางพารา
A54: 48 | B54: วิทย์ จันทร์อ่อน | C54: 12/3 ม.3 ต.เขาแดง อ.สะบ้าย้อย จ.สงขลา 90210 | D54: 0981352993 | F54: 51 ปีขึ้นไป | G54: 4-5 คน | H54: มากกว่า 6 ไร่ | I54: เกษตรกรรม (เกษตร ประมง ปศุสัตว์) | J54: ไม่มี | K54: ไม่มี | L54: - | M54: - | N54: - | O54: เลี้ยงไก่บ้าน,ปลูกผัก | P54: ไม่มี | Q54: ร้านค้า (ฝากจำหน่ายสินค้าไว้กับร้านค้า) | R54: ทำ | S54: 10500 | T54: =+S54*53.42 -> 560910 | U54: ทำ | V54: 35000 | W54: =+V54*6.29 -> 220150 | X54: ไม่ทำ | Y54: - | Z54: - | AA54: ไม่ทำ | AB54: - | AC54: - | AD54: ไม่ทำ | AE54: - | AF54: - | AG54: ไม่ทำ | AH54: - | AI54: - | AJ54: ไม่ทำ | AK54: - | AL54: - | AM54: ไม่ทำ | AN54: - | AO54: - | AP54: ไม่ทำ | AQ54: - | AR54: - | AS54: ไม่ทำ | AT54: - | AU54: - | AV54: ไม่ทำ | AW54: - | AX54: - | AY54: ไม่ทำ | AZ54: - | BA54: - | BB54: ไม่ทำ | BC54: - | BD54: - | BE54: - | BF54: ไม่มี | BG54: - | BH54: - | BI54: - | BJ54: =SUM(T54,W54,Z54,AC54,AF54,AI54,AL54,AO54,AR54,AU54,AX54,BA54,BE54,BI54) -> 781060 | BK54: ไม่มี | BL54: ไม่มี | BM54: ไม่มี | BN54: ไม่มี | BO54: ไม่มี | BP54: =SUM(BK54:BO54) -> 0 | BQ54: ไม่มี | BR54: 40000 | BS54: ไม่มี | BT54: ไม่มี | BU54: 120000 | BV54: 5000 | BW54: ไม่มี | BX54: ไม่มี | BY54: =SUM(BQ54:BX54) -> 165000 | BZ54: =+BJ54-BY54 -> 616060 | CA54: =+BP54+BZ54 -> 616060 | CB54: 490000 | CC54: =+CA54 -> 616060 | CD54: =+CC54-CB54 -> 126060 | CE54: =IF(CB54<CC54,"เพิ่มขึ้น","ลดลง") -> เพิ่มขึ้น | CF54: ไม่มี
A55: 49 | B55: นายยุวรัตน์....ศรีสุวรรณ์ | C55: 87/3หมู่ที6_ตำบลนาหว้า_อำเภอจะนะ_จังหวัดสงขลา | D55: 0936198902 | F55: 51 ปีขึ้นไป | G55: 4-5 คน | H55: มากกว่า 6 ไร่ | I55: เกษตรกรรม (เกษตร ประมง ปศุสัตว์) | J55: รับจ้างทางการเกษตร/ทั่วไป | K55: มี | L55: - | M55: - | N55: - | O55: ปลูกผักเสริมรายได้ | P55: ไม่มี | Q55: ตลาดในพื้นที่ | R55: ทำ | S55: 2500 | T55: =+S55*53.42 -> 133550 | U55: ไม่ทำ | V55: - | W55: - | X55: ไม่ทำ | Y55: - | Z55: - | AA55: ทำ | AB55: 7000 | AC55: =+AB55*20 -> 140000 | AD55: ทำ | AE55: 2000 | AF55: 7500 | AG55: ทำ | AH55: บริโภคในครัวเรือน | AI55: - | AJ55: ไม่ทำ | AK55: - | AL55: - | AM55: ทำ | AN55: 4 ตัว | AO55: 27000 | AP55: ทำ | AQ55: 5 | AR55: =5*2000 -> 10000 | AS55: ไม่ทำ | AT55: - | AU55: - | AV55: ทำ | AW55: บริโภคในครัวเรือน | AX55: - | AY55: ไม่ทำ | AZ55: - | BA55: - | BB55: ไม่ทำ | BC55: - | BD55: - | BE55: - | BF55: ไม่มี | BG55: - | BH55: - | BI55: - | BJ55: =SUM(T55,W55,Z55,AC55,AF55,AI55,AL55,AO55,AR55,AU55,AX55,BA55,BE55,BI55) -> 318050 | BK55: ไม่มี | BL55: =3000*12 -> 36000 | BM55: ไม่มี | BN55: ไม่มี | BO55: ไม่มี | BP55: =SUM(BK55:BO55) -> 36000 | BQ55: 8500 | BR55: 3400 | BS55: ไม่มี | BT55: 8000 | BU55: ไม่มี | BV55: 4000 | BW55: ไม่มี | BX55: ไม่มี | BY55: =SUM(BQ55:BX55) -> 23900 | BZ55: =+BJ55-BY55 -> 294150 | CA55: =+BP55+BZ55 -> 330150 | CB55: 264000 | CC55: =+CA55 -> 330150 | CD55: =+CC55-CB55 -> 66150 | CE55: =IF(CB55<CC55,"เพิ่มขึ้น","ลดลง") -> เพิ่มขึ้น | CF55: เงินเอามาลงทุนเพิ่มเติม
A56: 50 | B56: น.ส.นุสรีซัน..เปาะมะ | C56: 102/1..ม.6.ต.เปียน.อ.สะบ้าย้อย.จ.สงขลา | D56: 089-9755611 | F56: 41-50 ปี | G56: 2-3 คน | H56: 4-5 ไร่ | I56: รับจ้างทางการเกษตร/ทั่วไป | J56: ค้าขาย | K56: ไม่มี | L56: - | M56: - | N56: - | O56: - | P56: ไม่มี | Q56: พ่อค้าคนกลาง/มีคนมารับซื้อถึงบ้าน | R56: ทำ | S56: 700 | T56: =+S56*53.42 -> 37394 | U56: ไม่ทำ | V56: - | W56: - | X56: ไม่ทำ | Y56: - | Z56: - | AA56: ไม่ทำ | AB56: - | AC56: - | AD56: ไม่ทำ | AE56: - | AF56: - | AG56: ไม่ทำ | AH56: - | AI56: - | AJ56: ไม่ทำ | AK56: - | AL56: - | AM56: ไม่ทำ | AN56: - | AO56: - | AP56: ไม่ทำ | AQ56: - | AR56: - | AS56: ไม่ทำ | AT56: - | AU56: - | AV56: ไม่ทำ | AW56: - | AX56: - | AY56: ไม่ทำ | AZ56: - | BA56: - | BB56: ไม่ทำ | BC56: - | BD56: - | BE56: - | BF56: มี | BG56: ขายต้นจำปะดะไร้เมล็ด | BH56: 100 | BI56: 7000 | BJ56: =SUM(T56,W56,Z56,AC56,AF56,AI56,AL56,AO56,AR56,AU56,AX56,BA56,BE56,BI56) -> 44394 | BK56: ไม่มี | BL56: ไม่มี | BM56: =9000*12 -> 108000 | BN56: ไม่มี | BO56: ไม่มี | BP56: =SUM(BK56:BO56) -> 108000 | BQ56: ไม่มี | BR56: ไม่มี | BS56: ไม่มี | BT56: ไม่มี | BU56: ไม่มี | BV56: ไม่มี | BW56: ไม่มี | BX56: ไม่มี | BY56: =SUM(BQ56:BX56) -> 0 | BZ56: =+BJ56-BY56 -> 44394 | CA56: =+BP56+BZ56 -> 152394 | CB56: 121000 | CC56: =+CA56 -> 152394 | CD56: =+CC56-CB56 -> 31394 | CE56: =IF(CB56<CC56,"เพิ่มขึ้น","ลดลง") -> เพิ่มขึ้น | CF56: ไม่มี
A57: 51 | B57: แวอัมเสาะ แยนา | C57: 146. ม.6. ต.เปียน อ.สะบ้าย้อย จ.สงขลา | D57: 0822612997 | E57: 0822612997 | F57: 31-40 ปี | G57: 4-5 คน | H57: 4-5 ไร่ | I57: เกษตรกรรม (เกษตร ประมง ปศุสัตว์) | J57: รับจ้างทางการเกษตร/ทั่วไป | K57: ไม่มี | L57: - | M57: - | N57: - | O57: - | P57: ไม่มี | Q57: พ่อค้าคนกลาง/มีคนมารับซื้อถึงบ้าน | R57: ทำ | S57: 3000 | T57: =+S57*53.42 -> 160260 | U57: ไม่ทำ | V57: - | W57: - | X57: ไม่ทำ | Y57: - | Z57: - | AA57: ไม่ทำ | AB57: - | AC57: - | AD57: ไม่ทำ | AE57: - | AF57: - | AG57: ไม่ทำ | AH57: - | AI57: - | AJ57: ไม่ทำ | AK57: - | AL57: - | AM57: ไม่ทำ | AN57: - | AO57: - | AP57: ไม่ทำ | AQ57: - | AR57: - | AS57: ไม่ทำ | AT57: - | AU57: - | AV57: ไม่ทำ | AW57: - | AX57: - | AY57: ไม่ทำ | AZ57: - | BA57: - | BB57: ไม่ทำ | BC57: - | BD57: - | BE57: - | BF57: ไม่มี | BG57: - | BH57: - | BI57: - | BJ57: =SUM(T57,W57,Z57,AC57,AF57,AI57,AL57,AO57,AR57,AU57,AX57,BA57,BE57,BI57) -> 160260 | BK57: ไม่มี | BL57: 36000 | BM57: ม่มี | BN57: ไม่มี | BO57: 9500 | BP57: =SUM(BK57:BO57) -> 45500 | BQ57: ไม่มี | BR57: ไม่มี | BS57: ไม่มี | BT57: ไม่มี | BU57: ไม่มี | BV57: ไม่มี | BW57: ไม่มี | BX57: ไม่มี | BY57: =SUM(BQ57:BX57) -> 0 | BZ57: =+BJ57-BY57 -> 160260 | CA57: =+BP57+BZ57 -> 205760 | CB57: 164608 | CC57: =+CA57 -> 205760 | CD57: =+CC57-CB57 -> 41152 | CE57: =IF(CB57<CC57,"เพิ่มขึ้น","ลดลง") -> เพิ่มขึ้น | CF57: เพิ่มความรู้เพิ่มเติม
A58: 52 | B58: นางสาวนูรีซัน บุญฤทธิ์ | C58: 1/8 หมู่ที่ 2 ต.เปียน อ.สะบ้าย้อย จ.สงขลา | D58: ไม่ตอบแบบสอบถาม
A59: 53 | B59: นางสาวนูรีลัน บุญฤทธิ์ | C59: 1/8 หมู่ที่ 2 ต.เปียน อ.สะบ้าย้อย จ.สงขลา | D59: ไม่ตอบแบบสอบถาม
A60: 54 | B60: นางสาวสูรอยดา และนอ | C60: 34/1 หมู่ที่ 1 ต.ทุ่งพอ อ.สะบ้าย้อย จ.สงขลา | D60: ไม่ตอบแบบสอบถาม
A61: 55 | B61: นางสาวซากีน๊ะ ใบดามัน | C61: 19 หมู่ที่ 3 ต.ทุ่งพอ อ.สะบ้าย้อย จ.สงขลา | D61: ไม่ตอบแบบสอบถาม
A62: 56 | B62: นายจิระพงษ์ จันทร์สองแก้ว | C62: 11 หมู่ที่ 6 ต.เขาแดง อ.สะบ้าย้อย จ.สงขลา | D62: ไม่ตอบแบบสอบถาม
A63: 57 | B63: นายธนากร ไพโรจน์ | C63: 82 หมู่ที่ 2 ต.สะบ้าย้อย อ.สะบ้าย้อย จ.สงขลา | D63: ไม่ตอบแบบสอบถาม
A64: 58 | B64: นายฉัตรชัย แก้วทอง | C64: 1/1 หมู่ที่ 6 ต.สะท้อน อ.นาทวี จ.สงขลา | D64: ไม่ตอบแบบสอบถาม
A65: 59 | B65: นางสาวกฤษณา ร้อยสนั่น | C65: 88/1 หมู่ที่ 8 ต.ท่าประดู่ อ.นาทวี จ.สงขลา | D65: ย้ายออกจากจังหวัดสงขลา
A66: 60 | B66: นายวีรวิทย์ ต๊ะนา | C66: 19/1 หมู่ที่ 5 ต.คลองทราย อ.นาทวี จ.สงขลา | D66: ย้ายออกจากจังหวัดสงขลา
A67: 61 | B67: นางสาวสิริกร นิมคมรัตน์ | C67: 8 หมู่ที่ 6 ต.ฉาง อ.นาทวี จ.สงขลา | D67: ไม่ตอบแบบสอบถาม
A68: 62 | B68: นายณัฐพล ชูเย็น | C68: 64 หมู่ที่ 6 ต.ฉาง อ.นาทวี จ.สงขลา | D68: ไม่ตอบแบบสอบถาม
A69: 63 | B69: นางณัฎฐา สะแลแม | C69: 5 หมู่ที่ 5 ต.ปากบาง อ.เทพา จ.สงขลา | D69: ไม่ตอบแบบสอบถาม
... A75: 69 | B75: นายนัฐพงศ์ หลียะลา | C75: 74/1 หมู่ที่ 4 ต.นาทับ อ.จะนะ จ.สงขลา | D75: ไม่ตอบแบบสอบถาม
B76: สรุป | C76: ตอบแบบสอบถาม 51 ราย ไม่ตอบแบบสอบถาม 15 ราย ย้ายออกจากพื้นที่ 3 ราย | BI76: รวม | BJ76: =SUM(BJ7:BJ75) -> 10138292 | BK76: บาท | BO76: รวม | BP76: =SUM(BP7:BP75) -> 3277800 | BQ76: บาท | BX76: รวม | BY76: =SUM(BY7:BY75) -> 1808310 | BZ76: บาท | CB76: =SUM(CB7:CB75) -> 9436608 | CC76: =SUM(CC7:CC75) -> 11607782 | CD76: เพิ่มขึ้น จำนวน (คน) | CE76: =COUNTIF(CE7:CE75,"เพิ่มขึ้น") -> 46
BI77: ค่าเฉลี่ย/คน/ปี | BJ77: =AVERAGE(BJ7:BJ57) -> 198790.04 | BK77: บาท | BO77: ค่าเฉลี่ย/คน/ปี | BP77: =AVERAGE(BP7:BP57) -> 64270.588 | BQ77: บาท | BX77: ค่าเฉลี่ย/คน/ปี | BY77: =AVERAGE(BY7:BY57) -> 35457.059 | BZ77: บาท | CD77: ลดลง จำนวน (คน) | CE77: =COUNTIF(CE7:CE75,"ลดลง") -> 5

Sheet 2563
A1: ข้อมูลการติดตามเกษตรกรกิจกรรมติดตามการพัฒนาเกษตรกรรุ่นใหม่ ปีงบประมาณ พ.ศ.2564 สำนักงานเกษตรและสหกรณ์จังหวัดสงขลา
A2: ปีที่เข้าร่วม 2563 จำนวน 32 ราย
A3: ส่วนที่ 1 | R3: ส่วนที่ 2 | CI3: ส่วนที่ 3 กิจกรรมที่ต้องการให้หน่วยงานภาครัฐ และสถาบันการศึกษาส่งเสริม/สนับสนุนเพิ่มเติม กรุณาระบุให้ชัดเจน
A4: ลำดับที่ | B4: 1.ชื่อ-สกุล | C4: 2.ที่อยู่ | F4: 3.อายุ | G4: 4.จำนวนสมาชิกในครัวเรือน | H4: 5.จำนวนพื้นที่ที่ท่านถือครองเพื่อทำการเกษตร | I4: 6.อาชีพ | K4: 7.กิจกรรมทางการเกษตรที่ดำเนินการหลังเข้าร่วมกิจกรรม | P4: 7.3 ท่านมีช่องทางการจำหน่ายสินค้าออนไลน์เป็นของตัวเองหรือไหม | Q4: 7.4 ท่านจำหน่ายสินค้าทางการเกษตรช่องทางใด | R4: ด้านพืช | AJ4: ด้านประมง | AP4: ด้านปศุสัตว์ | BB4: ด้านอื่นๆ | BM4: รวม | BN4: 2.รายได้นอกภาคการเงิน | BT4: 3.รายจ่ายเงินสดทางการเกษตร | CC4: 4.รายได้เงินสดสุทธิทางการเกษตร | CD4: 5.รายได้เงินสดสุทธิครัวเรือน | CE4: 6.รายได้เปรียบเทียบก่อนและหลังเข้าร่วมโครงการฯ
C5: ที่อยู่ | D5: เบอร์โทรศัพท์ | E5: ID Line /Facebook | I5: อาชีพหลัก | J5: อาชีพรอง | K5: 7.1 ท่านมีการวางการผลิตก่อนการทำการเกษตรของท่านหรือไหม | L5: 7.2 ดำเนินกิจกรรมทางการเกษตร | R5: ยางพารา | U5: ปาล์มน้ำมัน | X5: ไม้ผล | AA5: พืชไร่ (ข้าวโพด แตงโม ฯลฯ) | AD5: พืชผัก/สมุนไพร/ผักสวนครัว | AG5: เห็ดนางฟ้า เห็ดหลินจืด เห็ดชนิดต่างๆ | AJ5: ปลาน้ำจืด | AM5: ประมงชายฝั่ง | AP5: วัวเนื้อ/วัวนม | AS5: แพะเนื้อ/แพะนม | AV5: สุกร (หมู) | AY5: สัตว์ปีก (ไก่ไข่ ไก่เนื้อ เป็ดไข่ เป็ดเนื้อ นกกระทา ฯลฯ) | BB5: ผึ้ง/ชันโรง | BE5: การนำผลผลิตทางการเกษตรมาแปรรูปผลิตภัณฑ์ต่างๆ เช่น เครื่องแกง ปลาส้ม ปลาร้า เป็นต้น | BI5: ผลผลิตการเกษตรอื่นๆ
L6: ด้านพืช | M6: ด้านประมง | N6: ด้านปศุสัตว์ | O6: ด้านอื่นๆ | S6: ปริมาณผลผลิตยางพารา จำนวนกี่กิโกลิกรัม ต่อปี (ปี64 ปีนี้) | T6: รายได้จากการขายผลผลิตยางพารา ต่อปี (ปี64 ปีนี้) | V6: ปริมาณผลผลิตปาล์มน้ำมัน จำนวนกี่กิโกลิกรัม ต่อปี (ปี64 ปีนี้) (โปรดระบุ) | W6: รายได้จากการขายผลผลิตปาล์มน้ำมัน ต่อปี (ปี64 ปีนี้) โปรดระบุ | Y6: ปริมาณผลผลิตไม้ผล จำนวนกี่กิโกลิกรัม ต่อปี (ปี64 ปีนี้) (โปรดระบุ) | Z6: รายได้จากการขายผลผลิตไม้ผล ต่อปี (ปี64 ปีนี้) โปรดระบุ | AB6: ปริมาณผลผลิตพืชไร่ จำนวนกี่กิโกลิกรัม ต่อปี (ปี64 ปีนี้) (โปรดระบุ) | AC6: รายได้จากการขายผลผลิตพืชไร่ ต่อปี (ปี64 ปีนี้) โปรดระบุ | AE6: ปริมาณผลผลิตพืชผัก/สมุนไพร/ผักสวนครัว จำนวนกี่กิโกลิกรัม ต่อปี (ปี64 ปีนี้) (โปรดระบุ) | AF6: รายได้จากการขายผลผลิตพืชผัก/สมุนไพร/ผักสวนครัว ต่อปี (ปี64 ปีนี้) โปรดระบุ | AH6: ปริมาณผลผลิตเห็ด จำนวนกี่กิโกลิกรัม ต่อปี (ปี64 ปีนี้) (โปรดระบุ) | AI6: รายได้จากการขายผลผลิตเห็ด ต่อปี (ปี64 ปีนี้) โปรดระบุ | AK6: จำนวนปลาน้ำจืด ที่ขายในปี 64 ตัว (โปรดระบุ) | AL6: รายได้จากการขายปลาน้ำจืด ต่อปี (ปี64 ปีนี้) โปรดระบุ | AN6: จำนวนประมงชายฝั่ง ที่ขายในปี 64 ตัว (โปรดระบุ) | AO6: รายได้จากประมงชายฝั่ง ต่อปี (ปี64 ปีนี้) โปรดระบุ | AQ6: จำนวนวัวที่ขายในปี 64 ตัว / จำนวนมูลวัวขาย กระสอบ/ปี (โปรดระบุ) | AR6: รายได้จากการขายวัว/มูลวัว ต่อปี (ปี64 ปีนี้) โปรดระบุ | AT6: จำนวนแพะที่ขายในปี 64 ตัว / จำนวนมูลแพะขาย กระสอบ/ปี (โปรดระบุ) | AU6: รายได้จากการขายแพะ/มูลแพะ ต่อปี (ปี64 ปีนี้) โปรดระบุ | AW6: จำนวนสุกรที่ขายในปี 64 ตัว / จำนวนมูลสุกรขาย กระสอบ/ปี (โปรดระบุ) | AX6: รายได้จากการขายสุกร/มูลสุกร ต่อปี (ปี64 ปีนี้) โปรดระบุ | AZ6: จำนวนสัตว์ปีก ที่ขายในปี 64 ตัว / จำนวนมูลสัตว์ปีกขาย กระสอบต่อปี/จำนวนไข่ที่จำหน่าย ฟองต่อปี (โปรดระบุ) | BA6: รายได้จากการขายสัตว์ปี/มูล/ไข่ ต่อปี (ปี64 ปีนี้) โปรดระบุ | BC6: ปริมาณผลผลิตน้ำผึ้ง /รัง จำนวนกี่ขวด/รัง ต่อปี (ปี64 ปีนี้) (โปรดระบุ) | BD6: รายได้จากการขายผลผลิตน้ำผึ้ง/รัง ต่อปี (ปี64 ปีนี้) โปรดระบุ | BF6: ท่านแปรรูปเป็นสินค้าใด โปรดระบุ | BG6: ปริมาณสินค้าแปรรูปที่ท่านผลิตในปี 2564 จำนวนกี่กิโกลิกรัม/ขวด/กระปุก โปรดระบุ จำนวน และหน่วยนับ | BH6: รายได้จากการขายสินค้าแปรรูปในปี64 โปรดระบุ | BJ6: ผลผลิตการเกษตรอื่นๆ โปรดระบุชื่อผลผลิตนั้น | BK6: ปริมาณที่ท่านผลิตในปี 2564 โปรดระบุ จำนวน และหน่วยนับ | BL6: รายได้จากการขายผลผลิตการเกษตรอื่นๆ ในปี64 โปรดระบุ | BN6: ค่าเช่าที่ดิน/ทรัพย์สิน/บ้าน/อาคารพาณิชย์/รถยนต์ | BO6: การรับจ้างทั่วไป/เงินเดือน | BP6: ธุรกิจ/การค้าที่มิใช่เกษตร | BQ6: บำนาญ/บำเหน็จ/ลูกหลาน | BR6: อื่นๆ (เสี่ยงโชค/ มรดก งานพิธีต่างๆ) | BS6: รวม | BT6: ค่าจ้างแรงงาน "ด้านพืช" (เพื่อใส่ปุ๋ย เตรียมดิน ให้น้ำ เก็บเกี่ยว ฯลฯ) บาท/ปี | BU6: ค่าวัสดุอุปกรณ์ "ด้านพืช" (ค่าสารเคมี ปุ๋ย น้ำมัน ไฟฟ้า ฯลฯ ) บาท/ปี | BV6: ค่าจ้างแรงงาน "ด้านปศุสัตว์/สัตว์น้ำ" (เพื่อขุดบ่อ เตรียมอาหาร บริหารจัดการ ฯลฯ) บาท/ปี | BW6: ค่าวัสดุอุปกรณ์ "ด้านปศุสัตว์/สัตว์น้ำ" (ค่าอาหาร ยา ค่าน้ำมัน ฯลฯ ) บาท/ปี | BX6: ค่าซื้อ/ค่าเช่าที่ดิน/ค่าภาษีที่ดิน/ค่าไถ่ถอนที่ดิน/บุกเบิกที่ดินทางการเกษตร คือค่าใช้จ่ายเกี่ยวกับอสังหาริมทรัพย์ที่เกี่ยวกับการเกษตร บาท/ปี | BY6: ค่าซื้อ/ค่าเช่า/ค่าซ่อม/ค่าบำรุงรักษาทรัพย์สินทางการเกษตร (โรงเรือน เครื่องจักร อุปกรณ์ทางการเกษตร) บาท/ปี | BZ6: ค่าใช้จ่ายเกี่ยวกับการพัฒนาด้านแหล่งน้ำ (ขุดลอกบ่อ/สระ ทำคันกั้นน้ำ) บาท/ปี | CA6: ค่าใช้จ่ายอื่นๆ เกี่ยวกับการเกษตร บาท/ปี | CB6: รวม | CE6: รายได้ก่อนเข้าร่วมโครงการ | CF6: รายได้หลังเข้าร่วมโครงการ | CG6: ผลลัพท์ | CH6: เพิ่มขึ้น/ลดลง
A7: 1 | B7: นางสาวนัทยวา อนันทบริพงค์ | C7: 74/2 ม.4 ต.สะกอม อ.จะนะ จ.สงขลา 90130 | D7: 064-2040575 | E7: 064-2040575 | F7: 21-30 ปี | G7: มากกว่า 6 คนขึ้นไป | H7: 1-3 ไร่ | I7: ค้าขาย (ผู้ที่รับสินค้าจากแหล่งผลิตมาจำหน่ายในตลาดหรือช่องทางอื่นๆที่สามารถส่งถึงผู้บริโภค) | J7: เกษตรกรรม (เกษตร ประมง ปศุสัตว์) | K7: ไม่มี | L7: - | M7: - | N7: - | O7: - | P7: ไม่มี | Q7: ร้านค้า (ฝากจำหน่ายสินค้าไว้กับร้านค้า) | R7: ไม่ทำ | S7: - | T7: - | U7: ทำ | V7: 4500 | W7: =+V7*6.29 -> 28305 | X7: ไม่ทำ | Y7: - | Z7: - | AA7: ไม่ทำ | AB7: - | AC7: - | AD7: ไม่ทำ | AE7: - | AF7: - | AG7: ไม่ทำ | AH7: - | AI7: - | AJ7: ไม่ทำ | AK7: - | AL7: - | AM7: ไม่ทำ | AN7: - | AO7: - | AP7: ไม่ทำ | AQ7: - | AR7: - | AS7: ไม่ทำ | AT7: - | AU7: - | AV7: ไม่ทำ | AW7: - | AX7: - | AY7: ไม่ทำ | AZ7: - | BA7: - | BB7: ไม่ทำ | BC7: - | BD7: - | BE7: ไม่ทำ | BF7: - | BG7: - | BH7: - | BI7: ไม่มี | BJ7: - | BK7: - | BL7: - | BM7: =SUM(T7,W7,Z7,AC7,AF7,AI7,AL7,AO7,AR7,AU7,AX7,BA7,BD7,BH7,BL7) -> 28305 | BN7: - | BO7: - | BP7: =6000*12 -> 72000 | BQ7: - | BR7: 9500 | BS7: =SUM(BN7:BR7) -> 81500 | BT7: - | BU7: - | BV7: - | BW7: - | BX7: - | BY7: - | BZ7: - | CA7: 5000 | CB7: =SUM(BT7:CA7) -> 5000 | CC7: =+BM7-CB7 -> 23305 | CD7: =+BS7+CC7 -> 104805 | CE7: 95000 | CF7: =+CD7 -> 104805 | CG7: =+CF7-CE7 -> 9805 | CH7: =IF(CE7<CF7,"เพิ่มขึ้น","ลดลง") -> เพิ่มขึ้น | CI7: ไม่มี | CK7: =+CF7/12 -> 8733.75
A8: 2 | B8: นางสาวสุภาวดี ไชยเอียด | C8: 1 ม.7 ต.ฉาง อ.นาทวี จ.สงขลา | D8: 0878362735 | F8: 31-40 ปี | G8: 2-3 คน | H8: มากกว่า 6 ไร่ | I8: รับจ้างทางการเกษตร/ทั่วไป | J8: ไม่มี | K8: มี | L8: - | M8: - | N8: - | O8: - | P8: ไม่มี | Q8: ตลาดในพื้นที่ | R8: ทำ | S8: =7*272 -> 1904 | T8: =+S8*53.42 -> 101711.68 | U8: ไม่ทำ | V8: - | W8: - | X8: ทำ | Y8: ยังไม่ได้รับผลผลิต | Z8: ยังไม่ได้รับผลผลิต | AA8: ไม่ทำ | AB8: - | AC8: - | AD8: ไม่ทำ | AE8: - | AF8: - | AG8: ทำ | AH8: - | AI8: - | AJ8: ไม่ทำ | AK8: - | AL8: - | AM8: ไม่ทำ | AN8: - | AO8: - | AP8: ไม่ทำ | AQ8: - | AR8: - | AS8: ไม่ทำ | AT8: - | AU8: - | AV8: ไม่ทำ | AW8: - | AX8: - | AY8: ไม่ทำ | AZ8: - | BA8: - | BB8: ไม่ทำ | BC8: - | BD8: - | BE8: ไม่ทำ | BF8: - | BG8: - | BH8: - | BI8: ไม่มี | BJ8: - | BK8: - | BL8: - | BM8: =SUM(T8,W8,Z8,AC8,AF8,AI8,AL8,AO8,AR8,AU8,AX8,BA8,BD8,BH8,BL8) -> 101711.68 | BN8: - | BO8: =12*7400 -> 88800 | BP8: - | BQ8: - | BR8: 9500 | BS8: =SUM(BN8:BR8) -> 98300 | BT8: 5000 | BU8: 5000 | BV8: - | BW8: 1000 | BX8: - | BY8: 3000 | BZ8: - | CA8: 2000 | CB8: =SUM(BT8:CA8) -> 16000 | CC8: =+BM8-CB8 -> 85711.68 | CD8: =+BS8+CC8 -> 184011.68 | CE8: 165000 | CF8: =+CD8 -> 184011.68 | CG8: =+CF8-CE8 -> 19011.68 | CH8: =IF(CE8<CF8,"เพิ่มขึ้น","ลดลง") -> เพิ่มขึ้น | CI8: การสนับสนุนด้านพลังงานแสงอาทิตย์ในพื้นที่ที่ไฟฟ้าเข้าไปไม่ถึง / เมล็ดพันธุ์ทางการเกษตรที่ต้นทุนต่ำกว่าร้านค้าในพื้นที่ | CK8: =+CF8/12 -> 15334.307
A9: 3 | B9: วันเฉลิม สมพงษ์ | C9: 1/1 หมู่ 7 บ้านปริก ตำบลฉาง อำเภอนาทวี จังหวัดสงขลา 90160 | D9: 087-294-2393 | F9: 31-40 ปี | G9: 2-3 คน | H9: มากกว่า 6 ไร่ | I9: รับจ้างทางการเกษตร/ทั่วไป | J9: เกษตรกรรม (เกษตร ประมง ปศุสัตว์) | K9: มี | L9: พืชผัก ไม้ผล และอื่นๆ | M9: - | N9: - | O9: - | P9: facebook | Q9: ตลาดในพื้นที่ | R9: ทำ | S9: 3840 | T9: =+S9*53.42 -> 205132.8 | U9: ไม่ทำ | V9: - | W9: - | X9: ทำ | Y9: ยังไม่ได้รับผลผลิต | Z9: ยังไม่ได้รับผลผลิต | AA9: ไม่ทำ | AB9: - | AC9: - | AD9: ทำ | AE9: 1200 | AF9: =+AE9*20 -> 24000 | AG9: ไม่ทำ | AH9: - | AI9: - | AJ9: ไม่ทำ | AK9: - | AL9: - | AM9: ไม่ทำ | AN9: - | AO9: - | AP9: ไม่ทำ | AQ9: - | AR9: - | AS9: ไม่ทำ | AT9: - | AU9: - | AV9: ไม่ทำ | AW9: - | AX9: - | AY9: ทำ | AZ9: 90ตัว/ปี (คิดโดยประมาณ) | BA9: 6300 | BB9: ทำ | BC9: ยังไม่ได้ผลผลิต | BD9: ยังไม่ได้ผลผลิต | BE9: ไม่ทำ | BF9: - | BG9: - | BH9: - | BI9: ไม่มี | BJ9: - | BK9: - | BL9: - | BM9: =SUM(T9,W9,Z9,AC9,AF9,AI9,AL9,AO9,AR9,AU9,AX9,BA9,BD9,BH9,BL9) -> 235432.8 | BN9: - | BO9: 25000 | BP9: - | BQ9: - | BR9: 9500 | BS9: =SUM(BN9:BR9) -> 34500 | BT9: 6000 | BU9: =4000+1800 -> 5800 | BV9: 36000 | BW9: =2720+150+350 -> 3220 | BX9: 250 | BY9: - | BZ9: 900 | CA9: 1940 | CB9: =SUM(BT9:CA9) -> 54110 | CC9: =+BM9-CB9 -> 181322.8 | CD9: =+BS9+CC9 -> 215822.8 | CE9: 200000 | CF9: =+CD9 -> 215822.8 | CG9: =+CF9-CE9 -> 15822.8 | CH9: =IF(CE9<CF9,"เพิ่มขึ้น","ลดลง") -> เพิ่มขึ้น | CI9: จัดหาพันธุ์สัตว์น้ำ,ไม้เศรษฐกิจ | CK9: =+CF9/12 -> 17985.233
A10: 4 | B10: นาย ณัฐภัทร จันทอง | C10: 71/2 ม.2 ต.จะโหนง อ.จะนะ จ.สงขลา 90130 | D10: 094-5893430 | F10: 21-30 ปี | G10: 4-5 คน | H10: 1-3 ไร่ | I10: เกษตรกรรม (เกษตร ประมง ปศุสัตว์) | J10: ไม่มี | K10: มี | L10: ผัก | M10: - | N10: - | O10: - | P10: facebook | Q10: ตลาดในพื้นที่ | R10: ทำ | S10: 2000 | T10: 150000 | U10: ไม่ทำ | V10: - | W10: - | X10: ไม่ทำ | Y10: - | Z10: - | AA10: ไม่ทำ | AB10: - | AC10: - | AD10: ทำ | AE10: 5000 | AF10: 25000 | AG10: ไม่ทำ | AH10: - | AI10: - | AJ10: ไม่ทำ | AK10: - | AL10: - | AM10: ไม่ทำ | AN10: - | AO10: - | AP10: ไม่ทำ | AQ10: - | AR10: - | AS10: ไม่ทำ | AT10: - | AU10: - | AV10: ไม่ทำ | AW10: - | AX10: - | AY10: ไม่ทำ | AZ10: - | BA10: - | BB10: ไม่ทำ | BC10: - | BD10: - | BE10: ไม่ทำ | BF10: - | BG10: - | BH10: - | BI10: ไม่มี | BJ10: - | BK10: - | BL10: - | BM10: =SUM(T10,W10,Z10,AC10,AF10,AI10,AL10,AO10,AR10,AU10,AX10,BA10,BD10,BH10,BL10) -> 175000 | BN10: - | BO10: - | BP10: - | BQ10: - | BR10: 9500 | BS10: =SUM(BN10:BR10) -> 9500 | BT10: - | BU10: - | BV10: - | BW10: - | BX10: - | BY10: - | BZ10: - | CA10: - | CB10: =SUM(BT10:CA10) -> 0 | CC10: =+BM10-CB10 -> 175000 | CD10: =+BS10+CC10 -> 184500 | CE10: 100000 | CF10: =+CD10 -> 184500 | CG10: =+CF10-CE10 -> 84500 | CH10: =IF(CE10<CF10,"เพิ่มขึ้น","ลดลง") -> เพิ่มขึ้น | CI10: ปัจจัยการผลิต การตลาด | CK10: =+CF10/12 -> 15375
A11: 5 | B11: นางสาวกังสดาน ศรประสิทธิ์ | C11: 48 ม.1 ต.เกาะสะบ้า อ.เทพา จ.สงขลา | D11: 0847494261 | E11: กังสดาน ศรประสิทธิ์ | F11: 41-50 ปี | G11: มากกว่า 6 คนขึ้นไป | H11: มากกว่า 6 ไร่ | I11: เกษตรกรรม (เกษตร ประมง ปศุสัตว์) | J11: ค้าขาย (ผู้ที่รับสินค้าจากแหล่งผลิตมาจำหน่ายในตลาดหรือช่องทางอื่นๆที่สามารถส่งถึงผู้บริโภค) | K11: มี | L11: - | M11: - | N11: - | O11: - | P11: facebook | Q11: เปิดร้านค้าขายเอง | R11: ทำ | S11: 1900 | T11: =+S11*53.42 -> 101498 | U11: ทำ | V11: 4800 | W11: =+V11*6.29 -> 30192 | X11: ทำ | Y11: 500 | Z11: 10000 | AA11: ไม่ทำ | AB11: - | AC11: - | AD11: ทำ | AE11: 300 | AF11: 9000 | AG11: ไม่ทำ | AH11: - | AI11: - | AJ11: ไม่ทำ | AK11: - | AL11: - | AM11: ไม่ทำ | AN11: - | AO11: - | AP11: ทำ | AQ11: 6/200 | AR11: 8000 | AS11: ไม่ทำ | AT11: - | AU11: - | AV11: ไม่ทำ | AW11: - | AX11: - | AY11: ไม่ทำ | AZ11: - | BA11: - | BB11: ทำ | BC11: 20 ขวด | BD11: 10000 | BE11: ไม่ทำ | BF11: - | BG11: - | BH11: - | BI11: มี | BJ11: พันธุ์ไม้ | BK11: 1000 ต้น | BL11: 130000 | BM11: =SUM(T11,W11,Z11,AC11,AF11,AI11,AL11,AO11,AR11,AU11,AX11,BA11,BD11,BH11,BL11) -> 298690 | BN11: =1500*12 -> 18000 | BO11: =1000*12 -> 12000 | BP11: =12*10000 -> 120000 | BQ11: - | BR11: 9500 | BS11: =SUM(BN11:BR11) -> 159500 | BT11: 5000 | BU11: 20000 | BV11: - | BW11: - | BX11: - | BY11: - | BZ11: - | CA11: - | CB11: =SUM(BT11:CA11) -> 25000 | CC11: =+BM11-CB11 -> 273690 | CD11: =+BS11+CC11 -> 433190 | CE11: 400000 | CF11: =+CD11 -> 433190 | CG11: =+CF11-CE11 -> 33190 | CH11: =IF(CE11<CF11,"เพิ่มขึ้น","ลดลง") -> เพิ่มขึ้น | CI11: เงินสนับสนุน | CK11: =+CF11/12 -> 36099.167
A12: 6 | B12: นางอาภรณ์ หวานวงศ์ | C12: 49/1 หมู่ 7 ต.สะท้อน อ.นาทวี จ.สงขลา | D12: 0833997748 | E12: ID 0833997748 | F12: 41-50 ปี | G12: 4-5 คน | H12: มากกว่า 6 ไร่ | I12: เกษตรกรรม (เกษตร ประมง ปศุสัตว์) | J12: ค้าขาย (ผู้ที่รับสินค้าจากแหล่งผลิตมาจำหน่ายในตลาดหรือช่องทางอื่นๆที่สามารถส่งถึงผู้บริโภค) | K12: มี | L12: ผัก | M12: - | N12: ไก่พื้นเมือง | O12: - | P12: facebook | Q12: พ่อค้าคนกลาง/มีคนมารับซื้อถึงบ้าน, ตลาดในพื้นที่ | R12: ทำ | S12: 4500 | T12: =+S12*53.42 -> 240390 | U12: ไม่ทำ | V12: - | W12: - | X12: ไม่ทำ | Y12: - | Z12: - | AA12: ไม่ทำ | AB12: - | AC12: - | AD12: ทำ | AE12: 120 | AF12: 3000 | AG12: ไม่ทำ | AH12: - | AI12: - | AJ12: ไม่ทำ | AK12: - | AL12: - | AM12: ไม่ทำ | AN12: - | AO12: - | AP12: ไม่ทำ | AQ12: - | AR12: - | AS12: ไม่ทำ | AT12: - | AU12: - | AV12: ไม่ทำ | AW12: - | AX12: - | AY12: ทำ | AZ12: ไก่ 250 กก. | BA12: 10500 | BB12: ไม่ทำ | BC12: - | BD12: - | BE12: ไม่ทำ | BF12: - | BG12: - | BH12: - | BI12: ไม่มี | BJ12: - | BK12: - | BL12: - | BM12: =SUM(T12,W12,Z12,AC12,AF12,AI12,AL12,AO12,AR12,AU12,AX12,BA12,BD12,BH12,BL12) -> 253890 | BN12: =1500*12 -> 18000 | BO12: - | BP12: =12*3000 -> 36000 | BQ12: - | BR12: 9500 | BS12: =SUM(BN12:BR12) -> 63500 | BT12: - | BU12: 5000 | BV12: 1500 | BW12: - | BX12: - | BY12: 500 | BZ12: - | CA12: 1000 | CB12: =SUM(BT12:CA12) -> 8000 | CC12: =+BM12-CB12 -> 245890 | CD12: =+BS12+CC12 -> 309390 | CE12: 270000 | CF12: =+CD12 -> 309390 | CG12: =+CF12-CE12 -> 39390 | CH12: =IF(CE12<CF12,"เพิ่มขึ้น","ลดลง") -> เพิ่มขึ้น | CI12: ให้ความรู้ด้านเกษตรการรวมกลุ่ม | CK12: =+CF12/12 -> 25782.5
A13: 7 | B13: นางสาวณัฐพร มณีเนียม | C13: 30/1 ม.6 ต.สะท้อน อ.นาทวี จ.สงขลา | D13: 0922531740 | E13: ณัฐพร มณีเนียม | F13: 21-30 ปี | G13: 4-5 คน | H13: มากกว่า 6 ไร่ | I13: เกษตรกรรม (เกษตร ประมง ปศุสัตว์) | J13: ไม่มี | K13: มี | L13: พริก | M13: - | N13: - | O13: ปุ๋ยอินทรีย์ | P13: facebook | Q13: พ่อค้าคนกลาง/มีคนมารับซื้อถึงบ้าน | R13: ทำ | S13: 3600 | T13: =+S13*53.42 -> 192312 | U13: ไม่ทำ | V13: - | W13: - | X13: ทำ | Y13: 120 | Z13: 10000 | AA13: ไม่ทำ | AB13: - | AC13: - | AD13: ทำ | AE13: 50 | AF13: 10000 | AG13: ทำ | AH13: 4000 | AI13: 480000 | AJ13: ไม่ทำ | AK13: - | AL13: - | AM13: ไม่ทำ | AN13: - | AO13: - | AP13: ไม่ทำ | AQ13: - | AR13: - | AS13: ไม่ทำ | AT13: - | AU13: - | AV13: ไม่ทำ | AW13: - | AX13: - | AY13: ไม่ทำ | AZ13: - | BA13: - | BB13: ไม่ทำ | BC13: - | BD13: - | BE13: ไม่ทำ | BF13: - | BG13: - | BH13: - | BI13: ไม่มี | BJ13: - | BK13: - | BL13: - | BM13: =SUM(T13,W13,Z13,AC13,AF13,AI13,AL13,AO13,AR13,AU13,AX13,BA13,BD13,BH13,BL13) -> 692312 | BN13: - | BO13: - | BP13: - | BQ13: - | BR13: 9500 | BS13: =SUM(BN13:BR13) -> 9500 | BT13: - | BU13: 100000 | BV13: - | BW13: - | BX13: - | BY13: - | BZ13: - | CA13: 100000 | CB13: =SUM(BT13:CA13) -> 200000 | CC13: =+BM13-CB13 -> 492312 | CD13: =+BS13+CC13 -> 501812 | CE13: 450000 | CF13: =+CD13 -> 501812 | CG13: =+CF13-CE13 -> 51812 | CH13: =IF(CE13<CF13,"เพิ่มขึ้น","ลดลง") -> เพิ่มขึ้น | CI13: ความรู้การขอทำปุ๋ยอินทรีย์เพื่อการค้า | CK13: =+CF13/12 -> 41817.667
A14: 8 | B14: นายใสดี เลาะบาสา | C14: 62/2 ม.5 ต.จะแหน อ.สะบ้าย้อย จ.สงขลา 90210 | D14: 0622345587 | E14: saidee_023 | F14: 41-50 ปี | G14: มากกว่า 6 คนขึ้นไป | H14: 4-5 ไร่ | I14: รับจ้างทางการเกษตร/ทั่วไป | J14: เกษตรกรรม (เกษตร ประมง ปศุสัตว์) | K14: มี | L14: มะนาว,ทุเรียน | M14: - | N14: - | O14: - | P14: ไม่มี | Q14: พ่อค้าคนกลาง/มีคนมารับซื้อถึงบ้าน | R14: ทำ | S14: 2000 | T14: =+S14*53.42 -> 106840 | U14: ไม่ทำ | V14: - | W14: - | X14: ไม่ทำ | Y14: - | Z14: - | AA14: ไม่ทำ | AB14: - | AC14: - | AD14: ไม่ทำ | AE14: - | AF14: - | AG14: ไม่ทำ | AH14: - | AI14: - | AJ14: ไม่ทำ | AK14: - | AL14: - | AM14: ไม่ทำ | AN14: - | AO14: - | AP14: ไม่ทำ | AQ14: - | AR14: - | AS14: ไม่ทำ | AT14: - | AU14: - | AV14: ไม่ทำ | AW14: - | AX14: - | AY14: ไม่ทำ | AZ14: - | BA14: - | BB14: ไม่ทำ | BC14: - | BD14: - | BE14: ไม่ทำ | BF14: - | BG14: - | BH14: - | BI14: ไม่มี | BJ14: - | BK14: - | BL14: - | BM14: =SUM(T14,W14,Z14,AC14,AF14,AI14,AL14,AO14,AR14,AU14,AX14,BA14,BD14,BH14,BL14) -> 106840 | BN14: - | BO14: =5000*12 -> 60000 | BP14: - | BQ14: - | BR14: 9500 | BS14: =SUM(BN14:BR14) -> 69500 | BT14: 30000 | BU14: 30000 | BV14: - | BW14: 10000 | BX14: - | BY14: 10000 | BZ14: - | CA14: - | CB14: =SUM(BT14:CA14) -> 80000 | CC14: =+BM14-CB14 -> 26840 | CD14: =+BS14+CC14 -> 96340 | CE14: 100000 | CF14: =+CD14 -> 96340 | CG14: =+CF14-CE14 -> -3660 | CH14: =IF(CE14<CF14,"เพิ่มขึ้น","ลดลง") -> ลดลง | CI14: จัดกิจกรรมการทำปุ๋ยหมักและส่งเสริมผลผลิตให้มีคุณภาพมากขึ้น | CK14: =+CF14/12 -> 8028.3333
A15: 9 | B15: นายประวิก ถิ่นนุ้ย | C15: 110/1 ม.6 ต.นาหว้า อ.จะนะ จ.สงขลา | D15: - | E15: - | F15: 41-50 ปี | G15: มากกว่า 6 คนขึ้นไป | H15: 4-5 ไร่ | I15: รับจ้างทางการเกษตร/ทั่วไป | J15: เกษตรกรรม (เกษตร ประมง ปศุสัตว์) | K15: มี | L15: - | M15: - | N15: - | O15: - | P15: ไม่มี | Q15: พ่อค้าคนกลาง/มีคนมารับซื้อถึงบ้าน | R15: ทำ | S15: 2000 | T15: =+S15*53.42 -> 106840 | U15: ไม่ทำ | V15: - | W15: - | X15: ไม่ทำ | Y15: - | Z15: - | AA15: ไม่ทำ | AB15: - | AC15: - | AD15: ไม่ทำ | AE15: - | AF15: - | AG15: ไม่ทำ | AH15: - | AI15: - | AJ15: ไม่ทำ | AK15: - | AL15: - | AM15: ไม่ทำ | AN15: - | AO15: - | AP15: ไม่ทำ | AQ15: - | AR15: - | AS15: ไม่ทำ | AT15: - | AU15: - | AV15: ไม่ทำ | AW15: - | AX15: - | AY15: ไม่ทำ | AZ15: - | BA15: - | BB15: ไม่ทำ | BC15: - | BD15: - | BE15: ไม่ทำ | BF15: - | BG15: - | BH15: - | BI15: ไม่มี | BJ15: - | BK15: - | BL15: - | BM15: =SUM(T15,W15,Z15,AC15,AF15,AI15,AL15,AO15,AR15,AU15,AX15,BA15,BD15,BH15,BL15) -> 106840 | BN15: - | BO15: =6500*12 -> 78000 | BP15: - | BQ15: - | BR15: 9500 | BS15: =SUM(BN15:BR15) -> 87500 | BT15: 30000 | BU15: 30000 | BV15: - | BW15: 10000 | BX15: - | BY15: 10000 | BZ15: - | CA15: - | CB15: =SUM(BT15:CA15) -> 80000 | CC15: =+BM15-CB15 -> 26840 | CD15: =+BS15+CC15 -> 114340 | CE15: 100000 | CF15: =+CD15 -> 114340 | CG15: =+CF15-CE15 -> 14340 | CH15: =IF(CE15<CF15,"เพิ่มขึ้น","ลดลง") -> เพิ่มขึ้น | CI15: จัดกิจกรรมการทำปุ๋ยหมักและส่งเสริมผลผลิตให้มีคุณภาพมากขึ้น | CK15: =+CF15/12 -> 9528.3333
A16: 10 | B16: นายสมชา​ติ​ สุวรรณ​รัตน์​ | C16: 41​/1​ม.6​ต.บ้าน​โหนด​ อ.สะบ้าย้อย​จ.สงขลา​90210​ | D16: 0819636820​ | E16: y6986 | F16: 41-50 ปี | G16: 4-5 คน | H16: 4-5 ไร่ | I16: เกษตรกรรม (เกษตร ประมง ปศุสัตว์) | J16: ค้าขาย (ผู้ที่รับสินค้าจากแหล่งผลิตมาจำหน่ายในตลาดหรือช่องทางอื่นๆที่สามารถส่งถึงผู้บริโภค) | K16: มี | L16: ทุเรียน,ฝรั่ง | M16: - | N16: - | O16: - | P16: ไม่มี | Q16: ตลาดในพื้นที่, ร้านค้า (ฝากจำหน่ายสินค้าไว้กับร้านค้า) | R16: ทำ | S16: 3000 | T16: =+S16*53.42 -> 160260 | U16: ไม่ทำ | V16: - | W16: - | X16: ทำ | Y16: เงาะ​ กล้วย​ ฝรั่ง​ สับปะรด​ | Z16: 2500 | AA16: ไม่ทำ | AB16: - | AC16: - | AD16: ทำ | AE16: ตะใคร้​ พริก​ อื่นๆ | AF16: 3500​ | AG16: ไม่ทำ | AH16: - | AI16: - | AJ16: ทำ | AK16: ปลาดุ 60​ กิโลกรัม​ | AL16: 2500​ | AM16: ไม่ทำ | AN16: - | AO16: - | AP16: ทำ | AQ16: วัว10ตัว​ มูล400กระสอบ | AR16: 525000 | AS16: ไม่ทำ | AT16: - | AU16: - | AV16: ทำ | AW16: 15ตัว | AX16: 30000 | AY16: ไม่ทำ | AZ16: - | BA16: - | BB16: ไม่ทำ | BC16: - | BD16: - | BE16: ไม่ทำ | BF16: - | BG16: - | BH16: - | BI16: ไม่มี | BJ16: - | BK16: - | BL16: - | BM16: =SUM(T16,W16,Z16,AC16,AF16,AI16,AL16,AO16,AR16,AU16,AX16,BA16,BD16,BH16,BL16) -> 717760 | BN16: 36000 | BO16: - | BP16: - | BQ16: - | BR16: 9500 | BS16: =SUM(BN16:BR16) -> 45500 | BT16: - | BU16: 50000 | BV16: - | BW16: 60000 | BX16: - | BY16: 15000 | BZ16: 25000 | CA16: 5000 | CB16: =SUM(BT16:CA16) -> 155000 | CC16: =+BM16-CB16 -> 562760 | CD16: =+BS16+CC16 -> 608260 | CE16: 450000 | CF16: =+CD16 -> 608260 | CG16: =+CF16-CE16 -> 158260 | CH16: =IF(CE16<CF16,"เพิ่มขึ้น","ลดลง") -> เพิ่มขึ้น | CI16: วัสดุ​ อุปกรณ์​ ยา​ต่าง​ๆในกาเลี้ยงโคขุนเพื่อเป็นอาชีพ​เสริม​ ทำอยู่แล้ว​ มียุบ้าง​ แต่ไม่เพียงพอ​ และเสริมบางอย่างให้มีคุณภาพ​ มาตรฐาน​มากขึ้น | CK16: =+CF16/12 -> 50688.333
A17: 11 | B17: นายเกียรติภวัฒน์ จอมวิเชียร | C17: 105/2 ม.3 ต.เปียน อ.สะบ้าย้อย จ.สงขลา | D17: 0628419799 | E17: 0628419799//เกียรติภวัฒน์ จอมวิเชียร | F17: 31-40 ปี | G17: 2-3 คน | H17: 4-5 ไร่ | I17: เกษตรกรรม (เกษตร ประมง ปศุสัตว์) | J17: ไม่มี | K17: มี | L17: - | M17: - | N17: - | O17: เลี่ยงไส้เดือน | P17: facebook | Q17: ตลาดในพื้นที่, ร้านค้า (ฝากจำหน่ายสินค้าไว้กับร้านค้า), ขายผ่านช่องทางลาซาด้า shopee | R17: ทำ | S17: =5*272 -> 1360 | T17: =+S17*53.42 -> 72651.2 | U17: ไม่ทำ | V17: - | W17: - | X17: ทำ | Y17: ยังไม่ได้รับผลผลิต | Z17: ยังไม่ได้รับผลผลิต | AA17: ไม่ทำ | AB17: - | AC17: - | AD17: ทำ | AE17: ไม่ได้จดบันทึก | AF17: 5000 | AG17: ไม่ทำ | AH17: - | AI17: - | AJ17: ทำ | AK17: ปลาดุก40กก. | AL17: 2000 | AM17: ไม่ทำ | AN17: - | AO17: - | AP17: ทำ | AQ17: ขี้วัว50กระสอบ | AR17: 2500 | AS17: ไม่ทำ | AT17: - | AU17: - | AV17: ทำ | AW17: 2ตัว | AX17: ยังไม่ได้รับผลผลิต | AY17: ทำ | AZ17: จำไม่ได้ | BA17: 10000 | BB17: ไม่ทำ | BC17: - | BD17: - | BE17: ไม่ทำ | BF17: - | BG17: - | BH17: - | BI17: มี | BJ17: เลี่ยงไส้เดือนเพาะต้นไม้ | BK17: ยังไม่ได้รับผลผลิต | BL17: ยังไม่ได้รับผลผลิต | BM17: =SUM(T17,W17,Z17,AC17,AF17,AI17,AL17,AO17,AR17,AU17,AX17,BA17,BD17,BH17,BL17) -> 92151.2 | BN17: - | BO17: - | BP17: - | BQ17: - | BR17: 9500 | BS17: =SUM(BN17:BR17) -> 9500 | BT17: - | BU17: =1600 -> 1600 | BV17: - | BW17: 5000 | BX17: - | BY17: 5000 | BZ17: - | CA17: 6000 | CB17: =SUM(BT17:CA17) -> 17600 | CC17: =+BM17-CB17 -> 74551.2 | CD17: =+BS17+CC17 -> 84051.2 | CE17: 75000 | CF17: =+CD17 -> 84051.2 | CG17: =+CF17-CE17 -> 9051.2 | CH17: =IF(CE17<CF17,"เพิ่มขึ้น","ลดลง") -> เพิ่มขึ้น | CI17: ไม่เคยไม่มีมาแต่ถ่ายรุปเอาผลงาน มีสนับสนุนวัคซีนไก่เป็ดวัว | CK17: =+CF17/12 -> 7004.2667
A18: 12 | B18: นายนุรูดิน อูมาร์ | C18: 54 ม.6 ต.คูหา อ.สะบ้าย้อย จ.สงขลา | D18: 0801363398 | E18: 0801363398 | F18: 31-40 ปี | G18: มากกว่า 6 คนขึ้นไป | H18: มากกว่า 6 ไร่ | I18: เกษตรกรรม (เกษตร ประมง ปศุสัตว์) | J18: ค้าขาย (ผู้ที่รับสินค้าจากแหล่งผลิตมาจำหน่ายในตลาดหรือช่องทางอื่นๆที่สามารถส่งถึงผู้บริโภค) | K18: มี | L18: - | M18: - | N18: แพะ,แกะ | P18: facebook | Q18: ตลาดในพื้นที่ | R18: ทำ | S18: 2500 | T18: =+S18*53.42 -> 133550 | U18: ไม่ทำ | V18: - | W18: - | X18: ไม่ทำ | Y18: - | Z18: - | AA18: ทำ | AB18: 1500 | AC18: 20000 | AD18: ทำ | AE18: 200 | AF18: 5000 | AG18: ไม่ทำ | AH18: - | AI18: - | AJ18: ไม่ทำ | AK18: - | AL18: - | AM18: ไม่ทำ | AN18: - | AO18: - | AP18: ทำ | AQ18: 50 | AR18: 15000 | AS18: ทำ | AT18: 20 | AU18: 3000 | AV18: ไม่ทำ | AW18: - | AX18: - | AY18: ไม่ทำ | AZ18: - | BA18: - | BB18: ไม่ทำ | BC18: - | BD18: - | BE18: ไม่ทำ | BF18: - | BG18: - | BH18: - | BI18: ไม่มี | BJ18: - | BK18: - | BL18: - | BM18: =SUM(T18,W18,Z18,AC18,AF18,AI18,AL18,AO18,AR18,AU18,AX18,BA18,BD18,BH18,BL18) -> 176550 | BN18: - | BO18: - | BP18: =5000*12 -> 60000 | BQ18: - | BR18: 9500 | BS18: =SUM(BN18:BR18) -> 69500 | BT18: 15000 | BU18: 15000 | BV18: 15000 | BW18: 5000 | BX18: - | BY18: 5000 | BZ18: - | CA18: 10000 | CB18: =SUM(BT18:CA18) -> 65000 | CC18: =+BM18-CB18 -> 111550 | CD18: =+BS18+CC18 -> 181050 | CE18: 165000 | CF18: =+CD18 -> 181050 | CG18: =+CF18-CE18 -> 16050 | CH18: =IF(CE18<CF18,"เพิ่มขึ้น","ลดลง") -> เพิ่มขึ้น | CI18: ปัยจัยการผลิตอาหาร/ยารักษาโรค | CK18: =+CF18/12 -> 15087.5
A19: 13 | B19: นายพงษ์ศักดิ์ สีสมอ่อน | C19: 36/10 ม.3 ต.เขาแดง อ.สะบ้าย้อย จ.สงขลา 90210 | D19: 0997453360/0968252029 | E19: พงษ์ศักดิ์ สีสมอ่อน | F19: 31-40 ปี | G19: มากกว่า 6 คนขึ้นไป | H19: มากกว่า 6 ไร่ | I19: เกษตรกรรม (เกษตร ประมง ปศุสัตว์) | J19: ไม่มี | K19: มี | L19: ผัก,ผลไม้ | M19: - | N19: - | P19: ไม่มี | Q19: พ่อค้าคนกลาง/มีคนมารับซื้อถึงบ้าน | R19: ทำ | S19: =7*272 -> 1904 | T19: 150000 | U19: ไม่ทำ | V19: - | W19: - | X19: ทำ | Y19: 1500 | Z19: 15000 | AA19: ทำ | AB19: 200 | AC19: 4000 | AD19: ทำ | AE19: 100 | AF19: 2000 | AG19: ไม่ทำ | AH19: - | AI19: - | AJ19: ทำ | AK19: ปลานิล | AL19: 3000 | AM19: ไม่ทำ | AN19: - | AO19: - | AP19: ไม่ทำ | AQ19: - | AR19: - | AS19: ไม่ทำ | AT19: - | AU19: - | AV19: ไม่ทำ | AW19: - | AX19: - | AY19: ทำ | AZ19: 150 | BA19: 2000 | BB19: ไม่ทำ | BC19: - | BD19: - | BE19: ไม่ทำ | BF19: - | BG19: - | BH19: - | BI19: ไม่มี | BJ19: - | BK19: - | BL19: - | BM19: =SUM(T19,W19,Z19,AC19,AF19,AI19,AL19,AO19,AR19,AU19,AX19,BA19,BD19,BH19,BL19) -> 176000 | BN19: - | BO19: - | BP19: - | BQ19: - | BR19: 9500 | BS19: =SUM(BN19:BR19) -> 9500 | BT19: - | BU19: 15000 | BV19: - | BW19: 15000 | BX19: - | BY19: 5000 | BZ19: - | CA19: - | CB19: =SUM(BT19:CA19) -> 35000 | CC19: =+BM19-CB19 -> 141000 | CD19: =+BS19+CC19 -> 150500 | CE19: 135000 | CF19: =+CD19 -> 150500 | CG19: =+CF19-CE19 -> 15500 | CH19: =IF(CE19<CF19,"เพิ่มขึ้น","ลดลง") -> เพิ่มขึ้น | CI19: อยากให้หน่วยงานทั่เกี่ยวข่องใก้ความรู้เพิ่มเดิม | CK19: =+CF19/12 -> 12541.667
A20: 14 | B20: นางสาวกฐินน้อย ไชยสิทธิ์ | C20: 39/6 หมู่2ต.บาโหย อ.สะบ้าย้อย จ.สงขลา | D20: 0817282948 | F20: 31-40 ปี | G20: 4-5 คน | H20: มากกว่า 6 ไร่ | I20: ค้าขาย (ผู้ที่รับสินค้าจากแหล่งผลิตมาจำหน่ายในตลาดหรือช่องทางอื่นๆที่สามารถส่งถึงผู้บริโภค) | J20: เกษตรกรรม (เกษตร ประมง ปศุสัตว์) | K20: มี | L20: - | M20: - | N20: - | O20: ปุ๋ยอินทรีย์ | P20: facebook | Q20: พ่อค้าคนกลาง/มีคนมารับซื้อถึงบ้าน, เปิดร้านค้าขายเอง | R20: ทำ | S20: =10*272 -> 2720 | T20: =+S20*53.42 -> 145302.4 | U20: ไม่ทำ | V20: - | W20: - | X20: ทำ | Y20: ยังไม่ได้รับผลผลิต | Z20: ยังไม่ได้รับผลผลิต | AA20: ทำ | AB20: บริโภคในครัวเรือน | AC20: - | AD20: ทำ | AE20: บริโภคในครัวเรือน | AF20: - | AG20: ไม่ทำ | AH20: - | AI20: - | AJ20: ไม่ทำ | AK20: - | AL20: - | AM20: ไม่ทำ | AN20: - | AO20: - | AP20: ไม่ทำ | AQ20: - | AR20: - | AS20: ไม่ทำ | AT20: - | AU20: - | AV20: ไม่ทำ | AW20: - | AX20: - | AY20: ไม่ทำ | AZ20: - | BA20: - | BB20: ไม่ทำ | BC20: - | BD20: - | BE20: ไม่ทำ | BF20: - | BG20: - | BH20: - | BI20: ไม่มี | BJ20: - | BK20: - | BL20: - | BM20: =SUM(T20,W20,Z20,AC20,AF20,AI20,AL20,AO20,AR20,AU20,AX20,BA20,BD20,BH20,BL20) -> 145302.4 | BN20: - | BO20: - | BP20: =8500*12 -> 102000 | BQ20: - | BR20: 9500 | BS20: =SUM(BN20:BR20) -> 111500 | BT20: 7000 | BU20: 25000 | BV20: - | BW20: - | BX20: - | BY20: 30000 | BZ20: 15000 | CA20: - | CB20: =SUM(BT20:CA20) -> 77000 | CC20: =+BM20-CB20 -> 68302.4 | CD20: =+BS20+CC20 -> 179802.4 | CE20: 165000 | CF20: =+CD20 -> 179802.4 | CG20: =+CF20-CE20 -> 14802.4 | CH20: =IF(CE20<CF20,"เพิ่มขึ้น","ลดลง") -> เพิ่มขึ้น | CI20: ไม่มี | CK20: =+CF20/12 -> 14983.533
A21: 15 | B21: นายฆอซัลลี หวังดำ | C21: 9/2 ม.5 ต.ขุนตัดหวาย อ.จะนะ จ.สงขลา | D21: 0945928690 | E21: - | F21: 31-40 ปี | G21: 2-3 คน | H21: มากกว่า 6 ไร่ | I21: รับจ้างทางการเกษตร/ทั่วไป | J21: เกษตรกรรม (เกษตร ประมง ปศุสัตว์) | K21: ไม่มี | L21: - | M21: - | N21: - | O21: - | P21: ไม่มี | Q21: ตลาดในพื้นที่ | R21: ทำ | S21: =8*272 -> 2176 | T21: =+S21*53.42 -> 116241.92 | U21: ไม่ทำ | V21: - | W21: - | X21: ไม่ทำ | Y21: - | Z21: - | AA21: ไม่ทำ | AB21: - | AC21: - | AD21: ไม่ทำ | AE21: - | AF21: - | AG21: ไม่ทำ | AH21: - | AI21: - | AJ21: ไม่ทำ | AK21: - | AL21: - | AM21: ไม่ทำ | AN21: - | AO21: - | AP21: ไม่ทำ | AQ21: - | AR21: - | AS21: ไม่ทำ | AT21: - | AU21: - | AV21: ไม่ทำ | AW21: - | AX21: - | AY21: ไม่ทำ | AZ21: - | BA21: - | BB21: ไม่ทำ | BC21: - | BD21: - | BE21: ไม่ทำ | BF21: - | BG21: - | BH21: - | BI21: ไม่มี | BJ21: - | BK21: - | BL21: - | BM21: =SUM(T21,W21,Z21,AC21,AF21,AI21,AL21,AO21,AR21,AU21,AX21,BA21,BD21,BH21,BL21) -> 116241.92 | BN21: - | BO21: =12*12000 -> 144000 | BP21: - | BQ21: - | BR21: 9500 | BS21: =SUM(BN21:BR21) -> 153500 | BT21: 1500 | BU21: - | BV21: - | BW21: - | BX21: - | BY21: - | BZ21: - | CA21: - | CB21: =SUM(BT21:CA21) -> 1500 | CC21: =+BM21-CB21 -> 114741.92 | CD21: =+BS21+CC21 -> 268241.92 | CE21: 250000 | CF21: =+CD21 -> 268241.92 | CG21: =+CF21-CE21 -> 18241.92 | CH21: =IF(CE21<CF21,"เพิ่มขึ้น","ลดลง") -> เพิ่มขึ้น | CI21: องค์ความรู้เพิ่ม | CK21: =+CF21/12 -> 22353.493
A22: 16 | B22: นายการิม​ มา​ห​ิง​ตะ​ | C22: บ้านเลขที่ 8 หมู่ 1 ตำบลธารคีรี อำเภอสะบ้าย้อย | D22: 086 294 39 75 | E22: Suna​va | F22: 31-40 ปี | G22: 2-3 คน | H22: 4-5 ไร่ | I22: รับจ้างทางการเกษตร/ทั่วไป | J22: เกษตรกรรม (เกษตร ประมง ปศุสัตว์) | K22: มี | L22: - | M22: - | N22: - | O22: เกษตรพอเพียง | P22: ไม่มี | Q22: ตลาดในพื้นที่ | R22: ทำ | S22: ยังไม่เปิดกรีด | T22: ยังไม่ได้ผลผลิต | U22: ไม่ทำ | V22: - | W22: - | X22: ไม่ทำ | Y22: - | Z22: - | AA22: ทำ | AB22: ทำพอกินพออยู่ | AC22: 5000 | AD22: ทำ | AE22: บริโภคในครัวเรือน | AF22: - | AG22: ไม่ทำ | AH22: - | AI22: - | AJ22: ไม่ทำ | AK22: - | AL22: - | AM22: ไม่ทำ | AN22: - | AO22: - | AP22: ไม่ทำ | AQ22: - | AR22: - | AS22: ไม่ทำ | AT22: - | AU22: - | AV22: ไม่ทำ | AW22: - | AX22: - | AY22: ไม่ทำ | AZ22: - | BA22: - | BB22: ทำ | BC22: 2-3 ขวด | BD22: =800*5 -> 4000 | BE22: ไม่ทำ | BF22: - | BG22: - | BH22: - | BI22: มี | BJ22: เผาถ่าน | BK22: 50 กระสอบ | BL22: 5000 | BM22: =SUM(T22,W22,Z22,AC22,AF22,AI22,AL22,AO22,AR22,AU22,AX22,BA22,BD22,BH22,BL22) -> 14000 | BN22: - | BO22: 60000 | BP22: - | BQ22: - | BR22: 9500 | BS22: =SUM(BN22:BR22) -> 69500 | BT22: =300*12 -> 3600 | BU22: - | BV22: - | BW22: - | BX22: - | BY22: - | BZ22: 20000 | CA22: - | CB22: =SUM(BT22:CA22) -> 23600 | CC22: =+BM22-CB22 -> -9600 | CD22: =+BS22+CC22 -> 59900 | CE22: 50000 | CF22: =+CD22 -> 59900 | CG22: =+CF22-CE22 -> 9900 | CH22: =IF(CE22<CF22,"เพิ่มขึ้น","ลดลง") -> เพิ่มขึ้น | CI22: ส่งเสริมการปลูกป่า ไม้ป่า | CK22: =+CF22/12 -> 4991.6667
A23: 17 | B23: นางสาวแสงเทียน จันแก้ว | C23: 20/6 ม.7 ต.สะท้อน อ.นาทวี จ.สงขลา | D23: 0936793164 | E23: 0936793164 | F23: 31-40 ปี | G23: 2-3 คน | H23: 1-3 ไร่ | I23: รับจ้างทางการเกษตร/ทั่วไป | J23: ค้าขาย (ผู้ที่รับสินค้าจากแหล่งผลิตมาจำหน่ายในตลาดหรือช่องทางอื่นๆที่สามารถส่งถึงผู้บริโภค) | K23: มี | L23: - | M23: - | N23: - | O23: - | P23: facebook | Q23: พ่อค้าคนกลาง/มีคนมารับซื้อถึงบ้าน, เปิดร้านค้าขายเอง | R23: ทำ | S23: =3*272 -> 816 | T23: =+S23*53.42 -> 43590.72 | U23: ไม่ทำ | V23: - | W23: - | X23: ทำ | Y23: 100 กก | Z23: 2000 | AA23: ทำ | AB23: 100 | AC23: 2000 | AD23: ทำ | AE23: 100 | AF23: 2000 | AG23: ทำ | AH23: 100 | AI23: 2000 | AJ23: ไม่ทำ | AK23: - | AL23: - | AM23: ไม่ทำ | AN23: - | AO23: - | AP23: ไม่ทำ | AQ23: - | AR23: - | AS23: ไม่ทำ | AT23: - | AU23: - | AV23: ทำ | AW23: - | AX23: - | AY23: ทำ | AZ23: 1000ฟอง | BA23: 3000 | BB23: ไม่ทำ | BC23: - | BD23: - | BE23: ทำ | BF23: ทุเรียนกวน | BG23: 20 | BH23: 4000 | BI23: มี | BJ23: แก้วมังกร | BK23: 100 | BL23: 2000 | BM23: =SUM(T23,W23,Z23,AC23,AF23,AI23,AL23,AO23,AR23,AU23,AX23,BA23,BD23,BH23,BL23) -> 60590.72 | BN23: - | BO23: 100000 | BP23: - | BQ23: - | BR23: 9500 | BS23: =SUM(BN23:BR23) -> 109500 | BT23: 20000 | BU23: 5000 | BV23: 2000 | BW23: 3000 | BX23: 40000 | BY23: 10000 | BZ23: 5000 | CA23: - | CB23: =SUM(BT23:CA23) -> 85000 | CC23: =+BM23-CB23 -> -24409.28 | CD23: =+BS23+CC23 -> 85090.72 | CE23: 75000 | CF23: =+CD23 -> 85090.72 | CG23: =+CF23-CE23 -> 10090.72 | CH23: =IF(CE23<CF23,"เพิ่มขึ้น","ลดลง") -> เพิ่มขึ้น | CI23: ให้สนับสนุนด้านการตลาด คุณภาพสินค้า พัฒนาเทคโนโลยีการเกษตร | CK23: =+CF23/12 -> 7090.8933
A24: 18 | B24: นางสาวสุวรรณณา ชูเขียว | C24: 52 ม.3 ต.ตลิ่งชัน อ.จะนะ จ.สงขลา | D24: 0658040498 | E24: noo_na8 | F24: 21-30 ปี | G24: 4-5 คน | H24: มากกว่า 6 ไร่ | I24: ค้าขาย (ผู้ที่รับสินค้าจากแหล่งผลิตมาจำหน่ายในตลาดหรือช่องทางอื่นๆที่สามารถส่งถึงผู้บริโภค) | J24: เกษตรกรรม (เกษตร ประมง ปศุสัตว์) | K24: มี | L24: ผัก | M24: - | N24: - | O24: - | P24: ไม่มี | Q24: ตลาดในพื้นที่ | R24: ไม่ทำ | S24: - | T24: - | U24: ไม่ทำ | V24: - | W24: - | X24: ไม่ทำ | Y24: - | Z24: - | AA24: ไม่ทำ | AB24: - | AC24: - | AD24: ไม่ทำ | AE24: - | AF24: - | AG24: ไม่ทำ | AH24: - | AI24: - | AJ24: ไม่ทำ | AK24: - | AL24: - | AM24: ไม่ทำ | AN24: - | AO24: - | AP24: ไม่ทำ | AQ24: - | AR24: - | AS24: ไม่ทำ | AT24: - | AU24: - | AV24: ไม่ทำ | AW24: - | AX24: - | AY24: ไม่ทำ | AZ24: - | BA24: - | BB24: ไม่ทำ | BC24: - | BD24: - | BE24: ไม่ทำ | BF24: - | BG24: - | BH24: - | BI24: ไม่มี | BJ24: - | BK24: - | BL24: - | BM24: =SUM(T24,W24,Z24,AC24,AF24,AI24,AL24,AO24,AR24,AU24,AX24,BA24,BD24,BH24,BL24) -> 0 | BN24: =12*15000 -> 180000 | BO24: - | BP24: - | BQ24: - | BR24: 9500 | BS24: =SUM(BN24:BR24) -> 189500 | BT24: - | BU24: - | BV24: - | BW24: - | BX24: - | BY24: - | BZ24: - | CA24: - | CB24: =SUM(BT24:CA24) -> 0 | CC24: =+BM24-CB24 -> 0 | CD24: =+BS24+CC24 -> 189500 | CE24: 170000 | CF24: =+CD24 -> 189500 | CG24: =+CF24-CE24 -> 19500 | CH24: =IF(CE24<CF24,"เพิ่มขึ้น","ลดลง") -> เพิ่มขึ้น | CI24: ไม่มี | CK24: =+CF24/12 -> 15791.667
A25: 19 | B25: นายฮามะ บากา | C25: บากา76/1 ม.8 ต.ปากบาง อ.เทพา จ.สงขลา | D25: สงขลา0862982396 | E25: Hannah@Hotmail.com | F25: 41-50 ปี | G25: มากกว่า 6 คนขึ้นไป | H25: มากกว่า 6 ไร่ | I25: เกษตรกรรม (เกษตร ประมง ปศุสัตว์) | J25: รับจ้างทางการเกษตร/ทั่วไป | K25: มี | L25: - | M25: - | N25: - | O25: ปลูกแบบเกษตรผสมผสานเลี้ยงผึ้งชันโรง | P25: ไม่มี | Q25: พ่อค้าคนกลาง/มีคนมารับซื้อถึงบ้าน | R25: ทำ | S25: 3000 | T25: 81000 | U25: ไม่ทำ | V25: - | W25: - | X25: ทำ | Y25: 200 | Z25: 2000 | AA25: ไม่ทำ | AB25: - | AC25: - | AD25: ทำ | AE25: 50 | AF25: 500 | AG25: ไม่ทำ | AH25: - | AI25: - | AJ25: ทำ | AK25: 100 | AL25: 2000 | AM25: ทำ | AN25: 50 | AO25: 1000 | AP25: ไม่ทำ | AQ25: - | AR25: - | AS25: ไม่ทำ | AT25: - | AU25: - | AV25: ไม่ทำ | AW25: - | AX25: - | AY25: ไม่ทำ | AZ25: - | BA25: - | BB25: ทำ | BC25: 120 | BD25: 6000 | BE25: ไม่ทำ | BF25: - | BG25: - | BH25: - | BI25: ไม่มี | BJ25: - | BK25: - | BL25: - | BM25: =SUM(T25,W25,Z25,AC25,AF25,AI25,AL25,AO25,AR25,AU25,AX25,BA25,BD25,BH25,BL25) -> 92500 | BN25: - | BO25: =12*2000 -> 24000 | BP25: - | BQ25: - | BR25: 9500 | BS25: =SUM(BN25:BR25) -> 33500 | BT25: 5000 | BU25: 2000 | BV25: 2000 | BW25: 2000 | BX25: 200 | BY25: 1000 | BZ25: 1000 | CA25: 1000 | CB25: =SUM(BT25:CA25) -> 14200 | CC25: =+BM25-CB25 -> 78300 | CD25: =+BS25+CC25 -> 111800 | CE25: 100000 | CF25: =+CD25 -> 111800 | CG25: =+CF25-CE25 -> 11800 | CH25: =IF(CE25<CF25,"เพิ่มขึ้น","ลดลง") -> เพิ่มขึ้น | CI25: ไม่มี | CK25: =+CF25/12 -> 9316.6667
A26: 20 | B26: นายณัฐพงศ์ เพชรคง | C26: 35 ม.1 ต.สะพานไม้แก่น อ.จะนะ จ.สงขลา | D26: - | E26: - | F26: 21-30 ปี | G26: มากกว่า 6 คนขึ้นไป | H26: 1-3 ไร่ | I26: ค้าขาย (ผู้ที่รับสินค้าจากแหล่งผลิตมาจำหน่ายในตลาดหรือช่องทางอื่นๆที่สามารถส่งถึงผู้บริโภค) | J26: รับจ้างทางการเกษตร/ทั่วไป | K26: มี | L26: - | M26: - | N26: - | O26: - | P26: ไม่มี | Q26: พ่อค้าคนกลาง/มีคนมารับซื้อถึงบ้าน, ตลาดในพื้นที่, เปิดร้านค้าขายเอง | R26: ทำ | S26: =3*272 -> 816 | T26: =+S26*53.42 -> 43590.72 | U26: ไม่ทำ | V26: - | W26: - | X26: ทำ | Y26: ไม่แน่ใจ | Z26: 8000 | AA26: ไม่ทำ | AB26: - | AC26: - | AD26: ทำ | AE26: บริโภคในครัวเรือน | AF26: - | AG26: ทำ | AH26: ยังไม่ได้รับผลผลิต | AI26: ยังไม่ได้รับผลผลิต | AJ26: ไม่ทำ | AK26: - | AL26: - | AM26: ไม่ทำ | AN26: - | AO26: - | AP26: ทำ | AQ26: แน่ใจ | AR26: 45000 | AS26: ไม่ทำ | AT26: - | AU26: - | AV26: ไม่ทำ | AW26: - | AX26: - | AY26: ทำ | AZ26: ยังไม่ได้รับผลผลิต | BA26: ยังไม่ได้รับผลผลิต | BB26: ไม่ทำ | BC26: - | BD26: - | BE26: ไม่ทำ | BF26: - | BG26: - | BH26: - | BI26: มี | BJ26: เกษตรผสมผสาน | BK26: ยังไม่ได้รับผลผลิต | BL26: ยังไม่ได้รับผลผลิต | BM26: =SUM(T26,W26,Z26,AC26,AF26,AI26,AL26,AO26,AR26,AU26,AX26,BA26,BD26,BH26,BL26) -> 96590.72 | BN26: - | BO26: =12*6000 -> 72000 | BP26: =12*9000 -> 108000 | BQ26: - | BR26: 9500 | BS26: =SUM(BN26:BR26) -> 189500 | BT26: - | BU26: 4000 | BV26: 4000 | BW26: - | BX26: - | BY26: - | BZ26: - | CA26: - | CB26: =SUM(BT26:CA26) -> 8000 | CC26: =+BM26-CB26 -> 88590.72 | CD26: =+BS26+CC26 -> 278090.72 | CE26: 250000 | CF26: =+CD26 -> 278090.72 | CG26: =+CF26-CE26 -> 28090.72 | CH26: =IF(CE26<CF26,"เพิ่มขึ้น","ลดลง") -> เพิ่มขึ้น | CI26: ของบประมาณเพื่อซ่อมแซ่มบำรุงแหล่งผลิตเห็ดลินจืด | CK26: =+CF26/12 -> 23174.227
A27: 21 | B27: นางปรัษฐา หนูประสงค์ | C27: 35/1ม.8 ต.สะท้อน อ.นาทวี จ.สงขลา ,90160 | D27: 0917294893 | E27: Prastha Pu | F27: 41-50 ปี | G27: 4-5 คน | H27: มากกว่า 6 ไร่ | I27: เกษตรกรรม (เกษตร ประมง ปศุสัตว์) | J27: ค้าขาย (ผู้ที่รับสินค้าจากแหล่งผลิตมาจำหน่ายในตลาดหรือช่องทางอื่นๆที่สามารถส่งถึงผู้บริโภค) | K27: ไม่มี | L27: - | M27: - | N27: - | O27: - | P27: facebook | Q27: ตลาดในพื้นที่ | R27: ทำ | S27: 2720 | T27: =+S27*53.42 -> 145302.4 | U27: ไม่ทำ | V27: - | W27: - | X27: ทำ | Y27: ยังไม่ได้รับผลผลิต | Z27: ยังไม่ได้รับผลผลิต | AA27: ไม่ทำ | AB27: - | AC27: - | AD27: ไม่ทำ | AE27: - | AF27: - | AG27: ไม่ทำ | AH27: - | AI27: - | AJ27: ไม่ทำ | AK27: - | AL27: - | AM27: ไม่ทำ | AN27: - | AO27: - | AP27: ไม่ทำ | AQ27: - | AR27: - | AS27: ไม่ทำ | AT27: - | AU27: - | AV27: ไม่ทำ | AW27: - | AX27: - | AY27: ไม่ทำ | AZ27: - | BA27: - | BB27: ไม่ทำ | BC27: - | BD27: - | BE27: ไม่ทำ | BF27: - | BG27: - | BH27: - | BI27: ไม่มี | BJ27: - | BK27: - | BL27: - | BM27: =SUM(T27,W27,Z27,AC27,AF27,AI27,AL27,AO27,AR27,AU27,AX27,BA27,BD27,BH27,BL27) -> 145302.4 | BN27: - | BO27: - | BP27: =5000*12 -> 60000 | BQ27: =12*3000 -> 36000 | BR27: 9500 | BS27: =SUM(BN27:BR27) -> 105500 | BT27: - | BU27: 5000 | BV27: - | BW27: - | BX27: - | BY27: - | BZ27: - | CA27: - | CB27: =SUM(BT27:CA27) -> 5000 | CC27: =+BM27-CB27 -> 140302.4 | CD27: =+BS27+CC27 -> 245802.4 | CE27: 200000 | CF27: =+CD27 -> 245802.4 | CG27: =+CF27-CE27 -> 45802.4 | CH27: =IF(CE27<CF27,"เพิ่มขึ้น","ลดลง") -> เพิ่มขึ้น | CI27: ความรู้เรื่องการบริหารจัดการฟาร์ม | CK27: =+CF27/12 -> 20483.533
A28: 22 | B28: นายซัมชุดดีน สันหลี | C28: 73/1 ม.1 ต.ท่าหมอไทร อ.จะนะ จ.สงขลา | D28: - | E28: - | F28: 31-40 ปี | G28: มากกว่า 6 คนขึ้นไป | H28: มากกว่า 6 ไร่ | I28: เกษตรกรรม (เกษตร ประมง ปศุสัตว์) | J28: ค้าขาย (ผู้ที่รับสินค้าจากแหล่งผลิตมาจำหน่ายในตลาดหรือช่องทางอื่นๆที่สามารถส่งถึงผู้บริโภค) | K28: มี | L28: ผัก | M28: - | N28: โค | O28: - | P28: ไม่มี | Q28: พ่อค้าคนกลาง/มีคนมารับซื้อถึงบ้าน, ตลาดในพื้นที่ | R28: ทำ | S28: 2000 | T28: =+S28*53.42 -> 106840 | U28: ไม่ทำ | V28: - | W28: - | X28: ไม่ทำ | Y28: - | Z28: - | AA28: ทำ | AB28: 500 | AC28: 5000 | AD28: ทำ | AE28: 1000 | AF28: 10000 | AG28: ไม่ทำ | AH28: - | AI28: - | AJ28: ไม่ทำ | AK28: - | AL28: - | AM28: ไม่ทำ | AN28: - | AO28: - | AP28: ทำ | AQ28: ยังไม่ได้รับผลผลิต | AR28: ยังไม่ได้รับผลผลิต | AS28: ทำ | AT28: 15/50 | AU28: 2500 | AV28: ไม่ทำ | AW28: - | AX28: - | AY28: ไม่ทำ | AZ28: - | BA28: - | BB28: ทำ | BC28: ยังไม่ได้ผลผลิต | BD28: ยังไม่ได้ผลผลิต | BE28: ไม่ทำ | BF28: - | BG28: - | BH28: - | BI28: ไม่มี | BJ28: - | BK28: - | BL28: - | BM28: =SUM(T28,W28,Z28,AC28,AF28,AI28,AL28,AO28,AR28,AU28,AX28,BA28,BD28,BH28,BL28) -> 124340 | BN28: - | BO28: - | BP28: =5000*12 -> 60000 | BQ28: - | BR28: 9500 | BS28: =SUM(BN28:BR28) -> 69500 | BT28: 10000 | BU28: 15000 | BV28: 15000 | BW28: 15000 | BX28: ไม่มี | BY28: ไม่มี | BZ28: 10000 | CA28: 10000 | CB28: =SUM(BT28:CA28) -> 75000 | CC28: =+BM28-CB28 -> 49340 | CD28: =+BS28+CC28 -> 118840 | CE28: 100000 | CF28: =+CD28 -> 118840 | CG28: =+CF28-CE28 -> 18840 | CH28: =IF(CE28<CF28,"เพิ่มขึ้น","ลดลง") -> เพิ่มขึ้น | CI28: สนับสนุนแหล่งทุนเพื่อต่อยอด | CK28: =+CF28/12 -> 9903.3333
A29: 23 | B29: นายณัฐวุฒิ หัสบู | C29: 20 ม.2 ต.แค อ.จะนะ จ.สงขลา | D29: 0846321161 | E29: =+D29 -> 0846321161 | F29: 41-50 ปี | G29: มากกว่า 6 คนขึ้นไป | H29: มากกว่า 6 ไร่ | I29: เกษตรกรรม (เกษตร ประมง ปศุสัตว์) | J29: รับจ้างทางการเกษตร/ทั่วไป | K29: มี | L29: - | M29: - | N29: - | O29: เลี้ยงไส้เดือน | P29: ไม่มี | Q29: ตลาดในพื้นที่ | R29: ทำ | S29: 5000 | T29: =+S29*53.42 -> 267100 | U29: ไม่ทำ | V29: - | W29: - | X29: ทำ | Y29: 2000 | Z29: 60000 | AA29: ไม่ทำ | AB29: - | AC29: - | AD29: ไม่ทำ | AE29: - | AF29: - | AG29: ไม่ทำ | AH29: - | AI29: - | AJ29: ไม่ทำ | AK29: - | AL29: - | AM29: ไม่ทำ | AN29: - | AO29: - | AP29: ทำ | AQ29: ยังไม่ได้รับผลผลิต | AR29: ยังไม่ได้รับผลผลิต | AS29: ไม่ทำ | AT29: - | AU29: - | AV29: ไม่ทำ | AW29: - | AX29: - | AY29: ไม่ทำ | AZ29: - | BA29: - | BB29: ไม่ทำ | BC29: - | BD29: - | BE29: ไม่ทำ | BF29: - | BG29: - | BH29: - | BI29: ไม่มี | BJ29: - | BK29: - | BL29: - | BM29: =SUM(T29,W29,Z29,AC29,AF29,AI29,AL29,AO29,AR29,AU29,AX29,BA29,BD29,BH29,BL29) -> 327100 | BN29: ไม่มี | BO29: =6000*12 -> 72000 | BP29: ไม่มี | BQ29: ไม่มี | BR29: ไม่มี | BS29: =SUM(BN29:BR29) -> 72000 | BT29: 30000 | BU29: 20000 | BV29: ไม่มี | BW29: ไม่มี | BX29: 300 | BY29: ไม่มี | BZ29: ไม่มี | CA29: ไม่มี | CB29: =SUM(BT29:CA29) -> 50300 | CC29: =+BM29-CB29 -> 276800 | CD29: =+BS29+CC29 -> 348800 | CE29: 300000 | CF29: =+CD29 -> 348800 | CG29: =+CF29-CE29 -> 48800 | CH29: =IF(CE29<CF29,"เพิ่มขึ้น","ลดลง") -> เพิ่มขึ้น | CI29: ไม่มี | CK29: =+CF29/12 -> 29066.667
A30: 24 | B30: นางสาวอเมล มณี | C30: 108 ม.12 ต.นาหว้า อ.จะนะ จ.สงขลา | D30: ไม่ตอบแบบสอบถาม
A31: 25 | B31: นายอัมพร ปานเพชร | C31: 37 ม.6 ต.นาหว้า อ.จะนะ จ.สงขลา | D31: ไม่ตอบแบบสอบถาม
A32: 26 | B32: นายภูวดล ประทุมมณี | C32: 15 ม.5 ต.จะโหนง อ.จะนะ จ.สงขลา | D32: ไม่ตอบแบบสอบถาม
A33: 27 | B33: นายเดะมะ สือรี | C33: 13/7 ม.1 ต.ทุ่งพอ อ.สะบ้าย้อย จ.สงขลา | D33: ย้ายออกจากจังหวัดสงขลา
A34: 28 | B34: นางสาวชนาภา เหล็กมา | C34: 4/7 ม.8 ต.สะท้อน อ.นาทวี จ.สงขลา | D34: ไม่ตอบแบบสอบถาม
A35: 29 | B35: นางสาวทักษิณา ศรียศ | C35: 26 ม.7 ต.สะท้อน อ.นาทวี จ.สงขลา | D35: ไม่ตอบแบบสอบถาม
A36: 30 | B36: นายถวิล หวานวงค์ | C36: 49/1 ม.7 ต.สะท้อน อ.จะนะ จ.สงขลา | D36: ไม่ตอบแบบสอบถาม
A37: 31 | B37: นางสาวเสาวลี ศรียศ | C37: 86 ม.7 ต.ท่าประดู่ อ.นาทวี จ.สงขลา | D37: ไม่ตอบแบบสอบถาม
A38: 32 | B38: นายณรงค์ธิเดช แก้วยอดทอง | C38: 47 ม.3 ต.คลองเปียะ อ.จะนะ จ.สงขลา | D38: ไม่ตอบแบบสอบถาม
A39: สรุป | D39: ตอบแบบสอบถาม 23 คน ไม่ตอบแบบสอบถาม 8 คน ย้ายออกจากพื้นที่จังหวัดสงขลา 1 คน | BL39: รวม | BM39: =SUM(BM7:BM38) -> 4283450.8 | BN39: บาท | BR39: รวม | BS39: =SUM(BS7:BS29) -> 1850800 | BT39: บาท | CA39: รวม | CB39: =SUM(CB7:CB29) -> 1080310 | CC39: บาท | CE39: =SUM(CE7:CE38) -> 4365000 | CF39: =SUM(CF7:CF29) -> 5053940.8 | CG39: เพิ่มขึ้น จำนวน (คน) | CH39: =COUNTIF(CH7:CH29,"เพิ่มขึ้น") -> 22
BL40: รายได้เฉลี่ย/คน/ปี | BM40: =AVERAGE(BM7:BM29) -> 186236.99 | BN40: บาท | BR40: รายได้เฉลี่ย/คน/ปี | BS40: =AVERAGE(BS7:BS29) -> 80469.565 | BT40: บาท | CA40: รายจ่ายเฉลี่ย/คน/ปี | CB40: =AVERAGE(CB7:CB29) -> 46970 | CC40: บาท | CG40: ลดลง จำนวน (คน) | CH40: =COUNTIF(CH7:CH29,"ลดลง") -> 1
BU44: =+BS39+BM39 -> 6134250.8
CC46: =SUM(CC7:CC29) -> 3203140.8
