Workbook

Sheet แบบฟอร์มทบทวภารกิจ 1
A1: แบบฟอร์มการทบทวนภารกิจในพื้นที่ในการจัดส่วนราชการในภูมิภาคของสำนักงานปลัดกระทรวงเกษตรและสหกรณ์
A2: หน่วยงาน สำนักงานเกษตรและสหกรณ์จังหวัดสงขลา
A3: ผู้รับผิดชอบข้อมูล.
A4: ส่วนที่ 1
A5: 1.ภารกิจ/งานในพื้นที่ | D5: 2.ผู้รับบริการ | M5: 3. หน่วยงานอื่น/ภาคส่วนอื่นในพื้นที่ที่ทำภารกิจนี้ หรือภารกิจที่มีลักษณะใกล้เคียงกัน | O5: 4. การเชื่อมโยงของกระบวนงานตั้งแต่ต้นน้ำถึงปลายน้ำ | U5: 5. ความร่วมมือในพื้นที่กับภาคส่วนอื่น/หน่วยงานอื่น | W5: 6. สามารถถ่ายโอนภารกิจได้หรือไม่ | Y5: 7. กฎหมาย | AA5: 8.ระบุความจำเป็นของงาน | AC5: 9. ความเสียหายที่เกิดขึ้นหากไม่ทำภารกิจ | AE5: 10. วิธีการทำงาน | AI5: 11 ข้อเสนอของหน่วยงาน | AK5: หมายเหตุ
A6: 1.1 ชื่อภารกิจ/งาน | B6: 1.2 วัตถุประสงค์ของภารกิจ | C6: 1.3 ผลผลิตและบริการที่ส่งมอบ | D6: 2.1 การให้บริการที่ผ่านมาเฉลี่ย ความถี่ (ครั้ง)/คน ต่อปี | G6: 2.2ป ระมาณการผู้รับบริการในอนาคต เฉลี่ย ความถี่ (ครั้ง) /คน ต่อปี | L6: 2.3 ผู้รับบริการสามารถรับบริการเดียวกันจากหน่วยงานอื่นในพื้นที่ได้หรือไม่ (ระบุ) | M6: 3.1 มี/ไม่มี | N6: 3.2 หากมี โปรดระบุชื่อหน่วยงาน | O6: 4.1 ขั้นตอนก่อนเข้าสู่ภาจกิจของกรม | R6: 4.2 ขั้นตอนหลังภารกิจของกรม | U6: 5.1 หน่วยงาน | V6: 5.2 วิธีการทำงานร่วมกัน | W6: 6.1 ได้/ไม่ได้ | X6: 6.2 หน่วยงานที่รับโอน | Y6: 7.1 ชื่อกฎหมาย และมาตราที่เกี่ยวข้อง | Z6: 7.2 ชื่อกฎหมาย ที่เป็นอุปสรรคในการปฏิบัติภารกิจ/ อย่างไร | AA6: 8.1 ระดับความจำเป็นของงาน | AB6: 8.2 เหตุผล | AC6: 9.1 ระดับความเสียหาย | AD6: 9.2 กรณีเกิดความเสียหายอย่างไร | AE6: 10.1 การนำดิจิทัลมาสนับสนุนการทำงาน | AH6: 10.2 การเพิ่มประสิทธิภาพด้วยแนวทางอื่น ๆ | AI6: 11.1 การคงอยู่ของงาน | AJ6: 11.2 แนวทางการปรับปรุง เหตุผล/ผลกระทบ
D7: ปี 67 | E7: ปี 68 | F7: ปี 69 | G7: ปี 70 | H7: ปี 71 | I7: ปี 72 | J7: แนวโน้ม | K7: เหตุผล | O7: มี/ไม่มี | P7: หน่วยงานที่รับผิดชอบ | Q7: ผลผลิต/ข้อมูลส่งต่อ | R7: มี/ไม่มี | S7: หน่วยงานที่รับผิดชอบ | T7: ผลผลิต/ข้อมูลส่งต่อ | AE7: ชื่อเครื่องมือ/เทคโนโลยี | AF7: ใช้ในขั้นตอน | AG7: ผลที่เกิดขึ้น
A8: 1. ภารกิจการจัดทำยุทธศาสตร์การพัฒนาการเกษตรและสหกรณ์ของจังหวัด กลุ่มจังหวัด แผนพัฒนาการเกษตรรายสินค้า แผนบูรณาการการพัฒนาการเกษตรและสหกรณ์ของจังหวัดและการจัดทำงบประมาณด้านการเกษตรและสหกรณ์ของจังหวัด
A9: 1.1 งาน การจัดทำแผนพัฒนาการเกษตรและสหกรณ์ของจังหวัด | B9: การจัดทำแผนพัฒนาการเกษตรและสหกรณ์ของจังหวัดมีวัตถุประสงค์เพื่อให้หน่วยงานและผู้ที่เกี่ยวข้องทุกภาคส่วนในพื้นที่ เพื่อใช้เป็นกรอบแนวทางในการพัฒนา ภาคการเกษตรและสหกรณ์ของจังหวัดให้เป็นไปในทิศทางเดียวกัน สามารถแก้ปัญหา ตอบสนองความต้องการของเกษตรกรและประชาชนในพื้นที่ได้อย่างมีประสิทธิภาพ | C9: แผนพัฒนาการเกษตรและสหกรณ์ของจังหวัด ระยะ 5 ปี (พ.ศ. 2571 - 2575) | D9: 980 | E9: 236 | F9: 545 | G9: 587 | H9: 915 | I9: 1427 | J9: เพิ่มขึ้น | K9: ในอนาคตจะเข้าสู่สังคมดิจิทัล เกษตรกร/SF/YSF มีการนำเทคโนโลยีมาใช้มากขึ้น ทำให้การเกษตรกรสามารถเข้าถึงแผนพัฒนาการเกษตรฯ ได้ง่ายขึ้น | L9: ไม่มี | M9: ไม่มี | N9: ไม่มี | O9: มี | P9: 1. ที่ทำการกำนัน/ผ้ใหญ่บ้าน 2. องค์กรปกครองส่วนท้องถิ่น (องค์การบริการส่วนตำบล /เทศบาล) 3. ที่ทำการปกครองอำเภอ | Q9: 1. แผนพัฒนาหมู่บ้าน/ชุมชน (ด้านการเกษตร) 2. แผนพัฒนาตำบล (ด้านการเกษตร) 3. แผนพัฒนาอำเภอ (ด้านการเกษตร) | R9: มี | S9: 1.หน่วยงานในสังกัดกระทรวงเกษตรและสหกรณ์ในพื้นที่จังหวัด (ส่วนราชการ และรัฐวิสาหกิจ) 2. หน่วยงานนอกสังกัดกระทรวงเกษตรและสหกรณ์ในพื้นที่จังหวัด (เช่น พาณิชย์จังหวัด อุตสาหกรรมจังหวัด ท้องถิ่นจังหวัด อบจ. สำนักงานจังหวัด) 3. หน่วยงานเอกชน (เช่น หอการค้าจังหวัด สภาอุตสาหกรรมจังหวัด บริษัทประชารัฐฯ ) 4. สถาบันการศึกษา (เช่น มหาวิทยาลัยของรัฐ มหาวิทยาลัยเทคโนโลยีราชมงคล สถาบันการอาชีวะศึกษา วิทยาลัยชุมชน) 5. เกษตรกร และสถาบันเกษตรกร (เช่น กลุ่มเกษตรกร วิสาหกิจชุมชน สหกรณ์การเกษตร) | T9: 1. แผนพัฒนาจังหวัดสงขลา (ด้านการเกษตร) 2. แผนพัฒนากลุ่มจังหวัดภาคใต้ฝั่งอ่าวไทย (ด้านการเกษตร) 3. แผนพัฒนาท้องถิ่นที่เกี่ยวข้อง (ด้านการเกษตร) | U9: 1.หน่วยงานในสังกัดกระทรวงเกษตรและสหกรณ์ในพื้นที่จังหวัด (ส่วนราชการ และรัฐวิสาหกิจ) 2. หน่วยงานนอกสังกัดกระทรวงเกษตรและสหกรณ์ในพื้นที่จังหวัด (เช่น พาณิชย์จังหวัด อุตสาหกรรมจังหวัด ท้องถิ่นจังหวัด อบจ. สำนักงานจังหวัด) 3. หน่วยงานเอกชน (เช่น หอการค้าจังหวัด สภาอุตสาหกรรมจังหวัด บริษัทประชารัฐฯ ) 4. สถาบันการศึกษา (เช่น มหาวิทยาลัยของรัฐ มหาวิทยาลัยเทคโนโลยีราชมงคล สถาบันการอาชีวะศึกษา วิทยาลัยชุมชน) 5. เกษตรกร และสถาบันเกษตรกร (เช่น กลุ่มเกษตรกร วิสาหกิจชุมชน สหกรณ์การเกษตร) | V9: 1. คณะทำงานจัดทำแผนพัฒนาการเกษตรและสหกรณ์จังหวัด 2. ร่วมแสดงความคิดเห็น/ให้ข้อเสนอแนะในเวทีประชาคม /การประชุมเชิงปฏิบัติการการจัดทำแผนพัฒนาการเกษตรและสหกรณ์ของจังหวัด | W9: ไม่สามารถโอนได้ | X9: ไม่มี | Y9: 1. รัฐธรรมนูญแห่งราชอาณาจักรไทย พ.ศ. 2560 หมวด 6 มาตรา 65 มาตรา 72 (1) (3) (4) มาตรา 73 มาตรา 75 และมาตรา 76 2. กฎกระทรวงแบ่งส่วนราชการสำนักงานปลัดกระทรวงเกษตรและสหกรณ์ พ.ศ. 2552 ข้อ 21 (1) | Z9: ไม่มี | AA9: จำเป็นอย่างยิ่ง | AB9: กฎกระทรวงแบ่งส่วนราชการสำนักงานปลัดกระทรวงเกษตรและสหกรณ์ พ.ศ. 2552 ข้อ 21 (1) กำหนดให้สำนักงานเกษตรและสหกรณ์จังหวัดมีอำนาจหน้าที่ในการศึกษา วิเคราะห์ และจัดทำยุทธสาสตร์การพัฒนาการเกษตรและสหกรณ์ของจังหวัดและกลุ่มจังหวัด แผนพัฒนาการเกษตรรายสินค้า แผนบูรณาการการพัฒนาการเกษตรและสหกรณ์ของจังหวัด และการจัดทำงบประมาณด้านการเกษตรและสหกรณ์ของจังหวัด | AC9: รุนแรง | AD9: ส่งผลกระทบอย่างรุนแรงต่อระบบเศรษฐกิจ สังคม และการบริหารจัดการในระดับพื้นที่ โดยสามารถสรุปความเสียหายหลักออกเป็น 4 ด้าน ดังนี้ 1. ด้านการบริหารงานและงบประมาณ - ขาดทิศทางและเป้าหมายที่ชัดเจน: หน่วยงานในจังหวัดจะทำงานแบบต่างคนต่างทำ ขาดการบูรณาการ ทำให้เป้าหมายการพัฒนาซ้ำซ้อนหรือไม่สอดคล้องกัน - สูญเสียโอกาสในการจัดสรรงบประมาณ: โครงการสำคัญด้านการเกษตรอาจไม่ได้รับการอนุมัติงบประมาณจากส่วนกลาง หรือจากงบพัฒนาจังหวัด เนื่องจากไม่มีแผนงานที่น่าเชื่อถือรองรับ - การใช้ทรัพยากรไม่คุ้มค่า: เกิดความสิ้นเปลืองงบประมาณไปกับโครงการที่ไม่ตอบโจทย์ความต้องการแท้จริงของเกษตรกรในพื้นที่ 2. ด้านเศรษฐกิจและการตลาด - ผลผลิตล้นตลาดและราคาตกต่ำ: ขาดการวางแผนการผลิตให้สมดุลกับความต้องการของตลาด (Market-led Production) ทำให้เกิดปัญหาสินค้าเกษตรราคาตกต่ำซ้ำซาก - สูญเสียขีดความสามารถในการแข่งขัน: เกษตรกรขาดการส่งเสริมเทคโนโลยีและนวัตกรรมที่เหมาะสม ทำให้ต้นทุนการผลิตสูง และไม่สามารถแข่งขันกับจังหวัดอื่นหรือต่างประเทศได้ - ขาดการพัฒนาแปรรูปและสร้างมูลค่าเพิ่ม: สินค้าเกษตรจะถูกขายเป็นวัตถุดิบราคาถูก ขาดการส่งเสริมอุตสาหกรรมแปรรูปในท้องถิ่น 3. ด้านสังคมและคุณภาพชีวิตเกษตรกร - ปัญหาหนี้สินและความยากจนเพิ่มขึ้น: รายได้ของเกษตรกรไม่มีความมั่นคงและไม่แน่นอน ส่งผลให้ปัญหาหนี้สินภาคครัวเรือนรุนแรงขึ้น - การทิ้งถิ่นฐานของแรงงาน: ขาดการสร้างอาชีพและความมั่นคงในภาคเกษตร ทำให้แรงงานคนรุ่นใหม่ย้ายถิ่นฐานเข้าสู่เมืองใหญ่ เกิดปัญหาโครงสร้างสังคมผู้สูงอายุในชนบท - ความเหลื่อมล้ำทางเศรษฐกิจสูงขึ้น: เกษตรกรรายย่อยเข้าไม่ถึงการช่วยเหลือ ขาดโอกาสในการพัฒนาศักยภาพ ส่งผลให้ช่องว่างทางรายได้กว้างขึ้น 4. ด้านทรัพยากรธรรมชาติและสิ่งแวดล้อม - การใช้ประโยชน์ที่ดินผิดประเภท: ขาดการทำโซนนิ่ง (Zoning) หรือการจัดสรรพื้นที่เพาะปลูกที่เหมาะสมกับสภาพดินและน้ำ นำไปสู่ความเสื่อมโทรมของทรัพยากร - วิกฤตภัยแล้งและน้ำท่วมซ้ำซาก: ขาดแผนบริหารจัดการน้ำระดับจังหวัดที่เชื่อมโยงกับภาคการเกษตรอย่างเป็นระบบ - ปัญหาสิ่งแวดล้อมและสุขภาพ: ขาดการควบคุมและส่งเสริมการลดใช้สารเคมี ส่งผลกระทบต่อสิ่งแวดล้อมและสุขอนามัยของทั้งเกษตรกรและผู้บริโภค | AE9: 1. แบบสอบถามออนไลน์ (Google form) 2. เว็บไชต์ สำนักงาน 3. ระบบประชุม Zoom Meeting | AF9: 1. การรับฟังความคิดเห็น/ข้อเสนอแนะ (แบบสอบถามออนไลน์) 2. การเผยแพร่เอกสารผ่านเว็ยไชต์สำนักงาน 3. การขับเคลื่อนแผนสู่การปฏิบัติ (การประชุมชี้แจงออนไลน์ ผ่านระบบประชุม Zoom Meeting) | AG9: การเผยแพร่ข้อมูลผ่านเว็บไซต์ช่วยให้ผู้รับบริการ (เกษตรกร/ภาคีเครือข่าย แลถภาคส่วนที่เกี่ยวข้อง) เข้าถึงข้อมูลได้ตลอด 24 ชั่วโมงจากทุกที่ และช่วยสร้างความน่าเชื่อถือให้กับสำนักงานเกษตรและสหกรณ์จังหวัดได้อย่างมีประสิทธิภาพเ กิดความรวดเร็วในการสื่อสาร ประหยัดงบประมาณจากการจัดประชุมออนไลน์ เพิ่มความสามารถ/สะดวกรวดเร็วในการเข้าถึงแผนพัฒนาการเกษตรและสหกรณ์ - เข้าถึงได้ตลอดเวลา: ผู้ใช้งานสามารถเปิดดูข้อมูล ข่าวสาร หรือบริการได้ตลอด 24 ชั่วโมง โดยไม่มีวันหยุดราชการ หรือนอกเวลาทำการ - เป็นศูนย์กลางข้อมูล: ช่วยรวบรวมเนื้อหา รายละเอียดสินค้า หรือบทความไว้อย่างเป็นระบบในที่เดียว ทำให้ค้นหาและจัดการได้ง่าย - สร้างความน่าเชื่อถือ: ช่วยเสริมภาพลักษณ์ความทันสมัยและความเป็นมืออาชีพให้กับสำนักงานเกษตรและสหกรณ์จังหวัด - เพิ่มการมองเห็นผ่าน Google: ข้อมูลบนเว็บไซต์สามารถถูกค้นพบได้ง่ายผ่านเครื่องมือค้นหา ช่วยขยายฐานกลุ่มเป้าหมายในวงกว้าง - ประหยัดงบประมาณ : ลดค่าใช้จ่ายในการพิมพ์เอกสารหรือโฆษณาประชาสัมพันธ์ผ่านสื่อรูปแบบเดิม | AH9: 1. เพิ่มประสิทธิภาพการทำงานด้วยการบุรณาการทำงานอย่างจริงจังผ่านกลไกการขับเคลื่อนงานด้านการเกษตรทุกระดับ (อพก./SCP/SCD) 2. การเพิ่มช่องทางการสื่อสารผ่านสื่อ Social ต่างๆ เพื่อเพิ่มความรวดเร็วในเข้าถึงข้อมูล รับรู้ รับทราบ และนำไปใช้ประโยชน์ | AI9: คงภารกิจและรูปแบบปัจจุบัน | AJ9: การนำเทคโนโลยีดิจิทัลมาสนับสนุนการทำงาน | AK9: ผู้รับผิดชอบข้อมูล. นางสาวจิรนันท์ ยอดดำ ตำแหน่ง นักวิเคราะห์นโยบายและแผนชำนาญการ โทร. 089 655 4566
A10: 1.2 งาน การจัดทำขอตั้งงบประมาณด้านการเกษตรและสหกรณ์ของจังหวัด | B10: เพื่อขอรับการจัดสรรงบประมาณจากแหล่งงบประมาณต่าง ๆ เช่น งบพัฒนาจังหวัด/งบพัฒนากลุ่มจังหวัด | C10: แผนงาน/โครงการตามความต้องการของพื้นที่ ของหน่วยงานสังกัดกระทรวงเกษตรและสหกรณ์ในจังหวัด (ในภาพรวมกระทรวงเกษตรฯ) | D10: 1 ครั้ง | E10: 1 ครั้ง | F10: 1 ครั้ง | G10: 1 ครั้ง | H10: 1 ครั้ง | I10: 1 ครั้ง | J10: ระบุ | K10: การขอสนับสนุนงบประมาณมีโอกาสเพิ่มจำนวนครั้งขึ้น เนื่องจากปัจจุบันมีการขอรับสนันสนุนงบประมาณจากแหล่งงบประมาณต่างๆ มากเพิ่มมากขึ้น | L10: ไม่มี | M10: ไม่มี | N10: ไม่มี | O10: มี | P10: หน่วยงานสังกัดกระทรวงเกษตรฯ ในจังหวัด | Q10: แผนงาน/โครงการ ของหน่วยงานสังกัดกระทรวงเกษตรฯ ในจังหวัด | R10: มี | S10: หน่วยงานสังกัดกระทรวงเกษตรฯ ในพื้นที่ | T10: แผนงาน/โครงการ | U10: 1. สำนักงานจังหวัด 2. หน่วยงานนอกสังกัดที่เกี่ยวข้อง | V10: 1. คณะกรรมการขับเคลื่อนงานด้านการเกษตรระดับจังหวัด 2. คณะอนุกรรมการพัฒนาการเกษตรและสหกรณ์ระดับจังหวัด 3. เวทีการจัดทำ/ประชุมเชิงปฏิบัติการจัดทำแผนพัฒนาการเกษตรและสหกรณ์ของจังหวัด | W10: ไม่สามารถโอนได้ | X10: ไม่มี | AA10: จำเป็นอย่างยิ่ง | AB10: เพื่อขอรับการสนับสนุนงบประมาณในการพัฒนาและแก้ไขปัญหาการเกษตรและสหกรณ์ในพื้นที่ี่ | AC10: มาก | AD10: ส่งผลให้ไม่เกิด/ขาดโอกาศในการแก้ปัญหา หรือการพัฒนาการเกษตรและสหกรณ์ตามความต้องการของพื้นที่ | AE10: 1. แหล่งค้นหาข้อมูลทีเกี่ยวข้องกับแผนงาน/โครงการ และข้อมูลอื่น ๆ ที่เกี่ยวข้อง | AF10: การบันทึกและรวบรวมข้อมูล | AG10: แผนงาน/โครงการ | AI10: คงภารกิจแต่ปรับปรุงเพิ่ม | AJ10: การกำหนดให้หน่วยงานสังกัดกระทรวงเกษตรและสหกรณ์ในจังหวัดต้องจัดตั้งคำของบประมาณผ่าน สนง.กษ.จังหวัด
A11: 1.3 การจัดทำแผนงานบูรณาการโครงการด้านการเกษตรสำคัญของจังหวัด - การจัดทำแผนพัฒนาการเกษตรระดับหมู่บ้าน | B11: เพื่อจัดทำและทบทวนแผนพัฒนาการเกษตรในระดับพื้นที่ที่เชื่อมโยงกับแผนชุมชน จากปัญหาและความต้องการที่แท้จริงของเกษตรกรผ่านกระบวนการมีส่วนร่วม | C11: แผนพัฒนาการเกษตรระดับหมู่บ้าน ที่มีการบรรจุแผนงานโครงการของหมู่บ้านในพื้นที่เป้าหมาย | D11: 2,970 ครั้ง | E11: 655 ครั้ง | F11: 16 ครั้ง | G11: 655 ครั้ง | H11: 687.75 ครั้ง | I11: 722.14 ครั้ง | J11: เพิ่มขึ้น | K11: การพัฒนาด้านการเกษตร ที่มีประสิทธิภาพควรมาจากความต้องการ และปัญหาจากท้องถิ่น | L11: ไม่มี | M11: ไม่มี | N11: ไม่มี | O11: มี | P11: สำนักงานเกษตรอำเภอ | Q11: ข้อมูลด้านการเกษตรในพื้นที่ | R11: มี | S11: หน่วยงานสังกัดกระทรวงเกษตรฯ ในระดับกรม | T11: เป็นข้อมูลสนับสนุนการขับเคลื่อนการเกษตรเชิงพื้นที่ | U11: หน่วยงานในสังกัดและนอกสังกัดกระทรวงเกษตรและสหกรณ์ | V11: บูรณาการขับเคลื่อนงานด้านการเกษตรร่วมกัน โดยสำนักงานเกษตรและสหกรณ์จังหวัดเป็นเจ้าภาพหลักในการขับเคลื่อนการดำเนินงานดังกล่าว | W11: ไม่สามารถโอนได้ | X11: ไม่มี | AA11: จำเป็นอย่างยิ่ง | AB11: การกำหนดทิศทางการพัฒนาด้านการเกษตร จำเป็นต้องได้มาจากปัญหาประเด็นความต้องการที่เกิดขึ้นจริงในพื้นที่ และมีหน่วยงานหลักที่เป็นเจ้าภาพการบูรณาการขับเคลื่อนการดำเนินงานร่วมกับหน่วยงานที่มีภาระกิจที่เกี่ยวข้อง ให้เกิดผลเป็นรูปธรรม | AC11: มาก | AD11: การแก้ปัญหาด้านการเกษตรที่ไม่ตรงตามประเด็นปัญหาจริง ทำให้ศุญเสียทรัพยากรแบบไม่จำเป็น และพื้นที่มีปัญหาขาดโอกาสในการพัฒนา ซึ่งควรมีหน่วยงานหลักที่เป็นหน่วยงานบูรณาการการทำงานให้เป็นไปในทิศทางเดียวกัน | AE11: เวปไซต์ เพจ หรือช่องทางออนไลน์สำหรับการประชาสัมพันธ์ แหล่งรวบรวมข้อมูลที่สำคัญด้านการเกษตร | AF11: ประชาสัมพันธ์ ฐานข้อมูลด้านการเกษตร เป็นต้น | AG11: การเข้าถึงข้อมูล และการนำข้อมูลมาใช้ เป็นฐานข้อมูลเดี่ยวกัน สะดวกต่อการขับเคลื่อนให้เกิดผลอย่างเป็นรูปธรรม | AH11: รูปแบบปัจจุบัน | AI11: คงภารกิจแต่ปรับปรุงเพิ่ม | AJ11: การบูรณาการดำเนินงานโดยมีหน่วยงานเจ้าภาพหลัก(สนง.กษ.จ.) และการใช้กลไกการดำเนินงาน เช่น SCP และSCD ทำให้การดำเนินงานเกิดประสิทธิภา การต่อยอดการดำเนินงานเป็นไปในทิศทางเดี่ยวกัน และครอบคลุมปัญหาความต้องการที่แท้จริง ตรงจุด
A12: 2. การจัดทำแผนปฏิบัติการโครงการพัฒนาด้านการเกษตรและสหกรณ์ของจังหวัด กำกับการบูรณาการ และติดตามการใช้งบประมาณของส่วนราชการในสังกัดกระทรวงในจังหวัด
A13: 2.1 การจัดแผนปฏิบัติการด้านการเกษตรและสหกรณ์ของจังหวัดและติดตามการใช้งบประมาณของกระทรวงเกษตรและสหกรณ์ ในจังหวัดสงขลา ประจำปีงบประมาณ....จำนวน 1 แผน | B13: การจัดทำแผนปฏิบัติการด้านการเกษตรและสหกรณ์ของจังหวัด ส่วนราชการในสังกัดกระทรวงเกษตรและสหกรณ์ | C13: แผนปฏิบัติการด้านการเกษตรและสหกรณ์ของทุกหน่วยงานสังกัดกระทรวงเกษตรและสหกรณ์ในจังหวัดสงขลา | D13: 1 ครั้ง/50หน่วย | E13: 1 ครั้ง/50หน่วย | F13: 1 ครั้ง/50หน่วย | G13: 1 ครั้ง/50หน่วย | H13: 1 ครั้ง/50หน่วย | I13: 1 ครั้ง/50หน่วย | J13: คงที่ | K13: หน่วยงานเท่าเดิม | L13: ไม่มี | M13: ไม่มี | N13: ไม่มี | O13: มี | P13: สนง.กษ.สข./49หน่วยงานในจังหวัดสงขลา | Q13: แผนปฏิบัติการฯ จำนวน 1 ครั้ง/แผน/49 หน่วยงาน | R13: มี | S13: หน่วยงานสังกัดกระทรวงเกษตรฯ ในจังหวัด | T13: แผนปฏิบัติการด้านการเกษตรและสหกรณ์ของจังหวัดประจำปีงบประมาณ | U13: หน่วยงานสังกัดกระทรวงเกษตรและสหกรณ์ในจังหวัด | V13: 1. ประสานข้อมูลหน่วยงานในสังกัดกระทรวงเกษตรฯ | W13: ไม่สามารถโอนได้ | X13: - | Y13: - | Z13: - | AA13: จำเป็นอย่างยิ่ง | AB13: 1.เพื่อมีแผนปฏิบัติการด้านการเกษตรและสหกรณ์ของจังหวัด ให้หน่วยงานในสังกัดใช้เป็นข้อมูลในการประสาน บูรณาการขับเคลื่อนการพัฒนาด้านการเกษตรและสหกรณ์ของจังหวัด 2. เพื่อให้ผู้บริหารใช้เป็นเครื่องมือ ในการติดตามความก้าวหน้าการขับเคลื่อนการพัฒนาด้านการเกษตรและสหกรณ์ของจังหวัดตามแผนปฏิบัติการฯ | AC13: มาก | AD13: 1.ขาดข้อมูลแผนปฏิบัติการด้านการเกษตรและสหกรณ์ของจังหวัด ทำให้ไม่ทราบแผนงาน/โครงการด้านการเกษตรและสหกรณ์ของจังหวัด ทำให้ยากต่อการประสาน บูรณาการแก้ปัญหา และพัฒนาด้านการเกษตรและสหกรณ์ของจังหวัด 2. ผู้บริหารขาดเครื่องมือในการติดตามผลการปฏิบัติงานด้านการเกษตรและสหกรณ์ของหน่วยงานสังกัดกระทรวงเกษตรและสหกรณ์ในจังหวัด รวมถึงขาดข้อมูลของพื้นที่ในการประกอบการตัดสินใจเมื่อมีปัญหาอุปสรรคในการดำเนินแผนงาน/โครงการ | AE13: ระบบ Action Plan | AF13: การบันทึกข้อมูล | AG13: แผนปฏิบัติการด้านการเกษตรและสหกรณ์ของจังหวัด ประจำปีงบประมาณ | AH13: ระบบการจัดทำแผนปฏิบัติการฯ ที่หน่วยงานสังกัดกระทรวงเกษตรและสหกรณ์ในจังหวัดสามารถเข้าถึงและบันทึกข้อมูล/ปรับปรุงข้อมูลได้เอง โดย สนง.กษ. เป็นผู้ดูแลประมวลผลจัดทำแผนดังกล่าว | AI13: คงภารกิจแต่ปรับปรุงเพิ่ม | AJ13: ปรับปรุงระบบบันทึกข้อมูลแผนปฏิบัติการฯ ให้หน่วยงานสังกัดในจังหวัดสามารถบันทึก/ปรับปรุงข้อมูลได้
A14: 2.2 การกำกับติดตามผลการดำเนินงานโครงการขับเคลื่อนงานตามแผนปฏิบัติการเสนอผู้บริหารกระทรวงเกษตรและสหกรณ์ เป็นรายเดือนทุกเดือน | B14: การรายงานรายไตรมาส/รายเดือน ตามแผนปฏิบัติการด้านการเกษตรและสหกรณ์ของจังหวัด ส่วนราชการในสังกัดกระทรวงเกษตรและสหกรณ์ | C14: รายงานความก้าวหน้าผลการดำเนินงานตามแผนปฏิบัติการฯ รายไตรมาส/รายเดือน | D14: รายไตรมาส 4 ครั้ง/50 หน่วย, รายเดือน 10 เดือน/50หน่วย | E14: รายไตรมาส 4 ครั้ง/50หน่วย รายเดือน 10 เดือน/50หน่วย | F14: รายไตรมาส 4 ครั้ง/50หน่วย รายเดือน 10 เดือน/50หน่วย | G14: รายไตรมาส 4 ครั้ง/50หน่วย รายเดือน 10 เดือน/50หน่วย | H14: รายไตรมาส 4 ครั้ง/50หน่วย รายเดือน 10 เดือน/50หน่วย | I14: รายไตรมาส 4 ครั้ง/50หน่วย รายเดือน 10 เดือน/50หน่วย | J14: คงที่ | K14: หน่วยงานเท่าเดิม | L14: ไม่มี | M14: ไม่มี | N14: ไม่มี | O14: มี | P14: สนง.กษ.สข./49หน่วยงานในจังหวัดสงขลา | Q14: 1. รายงานรายเดือน 1 ครั้ง/เดือน/49 หน่วยงาน 2. รายงานไตรมาส 4 ครั้ง/ปี/49 หน่วยงาน | R14: มี | S14: สนง.กษ.สข./หน่วยงานสังกัดกระทรวงเกษตรฯ ในจังหวัด | T14: 1. รายงานความก้าวหน้าผลการดำเนินงานตามแผนปฏิบัติการฯ รายไตรมาส 2. รายงานความก้าวหน้าผลการดำเนินงานตามแผนปฏิบัติการฯ รายเดือน | U14: หน่วยงานสังกัดกระทรวงเกษตรและสหกรณ์ในจังหวัด | V14: 1. ประสานข้อมูลจากหน่วยงานในสังกัดกระทรวงเกษตรฯ 2. ประสาน บูรณาการ ติดตามการดำเนินงานตามแผนปฏิบัติการฯ ผ่านคณะอนุกรรมการพัฒนาการเกษตรและสหกรณ์ระดับจังหวัด และคณะกรรมการขับเคลื่อนงานด้านการเกษตรระดับจังหวัด | W14: ไม่สามารถโอนได้ | X14: - | Y14: - | Z14: - | AA14: จำเป็นอย่างยิ่ง | AB14: 1. เพื่อทราบความก้าวหน้าผลการดำเนินงานตามแผนปฏิบัติการด้านการเกษตรและสหกรณ์ของจังหวัดรายเดือน/รายไตรมาส เพื่อใช้เป็นข้อมูลสำหรับ้ผู้บริหารในการตัดสินใจ และขับเคลื่อนการพัฒนาด้านการเกษตรและสหกรณ์ของจังหวัดอย่างมีประสิทธิ | AC14: มาก | AD14: 1. ทำให้ไม่ทราบปัญหา และความก้าวหน้าผลการดำเนินงานตามแผนปฏิบัติการด้านการเกษตรและสหกรณ์ของจังหวัด การดำเนินแผนงาน/โครงการของหน่วยงานในสังกัดกระทรวงเกษตรฯ เป็นไปอย่างมีประสิทธิภาพ สำเร็จตามวัตถุประสงค์และเป้าหมายที่กำหนดหรือไม่ 2. ผู้บริหารขาดข้อมูล เครื่องมือในการติดตาม แผนงาน/โครงการ รวมถึงตัดสินใจแก้ปัญหาอุปสรรคการดำเนินแผนงาน/โครงการให้สำเร็จตามวัตถุประสงค์และเป้าหมายโครงการ | AE14: ระบบ Action Plan และ Excel | AF14: การบันทึกข้อมูล | AG14: รายงานความก้าวหน้าผลการดำเนินงานตามแผนปฏิบัติการฯ รายเดือน/รายไตรมาส | AH14: ระบบการรายงานผลการดำนินงานตามแผนปฏิบัติการฯ ที่หน่วยงานสังกัดกระทรวงเกษตรและสหกรณ์ในจังหวัดสามารถเข้าถึงและบันทึกข้อมูลได้เอง โดย สนง.กษ. เป็นผู้ดูแลติดตาม ประมวลผลรายงานเสนอผู้บริหาร | AI14: คงภารกิจแต่ปรับปรุงเพิ่ม | AJ14: ปรับปรุงระบบบันทึกข้อมูลรายงานผลความก้าวหน้าตามแผนปฏิบัติการฯ ให้หน่วยงานสังกัดในจังหวัดสามารถบันทึก/ปรับปรุงข้อมูลได้
A15: 2.3 การดำเนินการบูรณาการโครงการส่งเสริมและพัฒนาสินค้าเกษตรชีวภาพ (สมุนไพร) และโครงการสินค้าเกษตรและบริการมูลค่าสูง 1 ท้องถิ่น 1 สินค้าเกษตร | B15: โครงการส่งเสริมและพัฒนาสินค้าเกษตรชีวภาพ (สมุนไพร) 1. เพื่อพัฒนาศักยภาพเกษตรกรและเจ้าหน้าที่ในการพัฒนาการผลิตสมุนไพรเพื่อขับเคลื่อนเมืองสมุนไพร ภายใต้แผนปฏิบัติการด้านสมุนไพรแห่งชาติ ฉบับที่ 2 (พ.ศ. 2566 - 2570) 2. เพื่อส่งเสริมและพัฒนากลุ่มเกษตรกร วิสาหกิจชุมชนในพื้นที่ ให้ผลิตพืชสมุนไพรที่มีคุณภาพและมาตรฐาน GAP พืชสมุนไพร หรือเกษตรอินทรีย์ 3. เพื่อสร้างและขยายเครือข่ายการผลิตพืชสมุนไพรในพื้นที่จังหวัด 4. เพื่อสนับสนุนข้อมูลสมุนไพรของจังหวัด ในระบบฐานข้อมูลสมุนไพรของกระทรวงเกษตรและสหกรณ์ | C15: 1. เกษตรกรกลุ่มเป้าหมายมีการผลิตวัตถุดิบสมุนไพรที่มีคุณภาพได้มาตรฐาน 2. จำนวนพื้นที่เพาะปลูกสมุนไพรที่ได้มาตรฐาน GAP พืชสมุนไพร เพิ่มขึ้น 3. เกษตรกรกลุ่มเป้าหมายสามารถพัฒนาคุณภาพผลผลิตให้ได้มาตรฐาน และเพิ่มมูลค่าของผลผลิตได้ 4. เกษตรกรกลุ่มเป้าหมายมีรายได้เพิ่มขึ้นจากการผลิตพืชสมุนไพรที่มีคุณภาพ ส่งผลให้เกิดความมั่นคงด้านเศรษฐกิจ 5. ได้ข้อมูลสมุนไพรในพื้นที่ เพื่อจัดทำฐานข้อมูลสมุนไพรของกระทรวงเกษตรและสหกรณ์ | D15: 30 ราย | E15: 30 ราย | F15: 30 ราย | G15: 30 ราย | H15: 30 ราย | I15: 30 ราย | J15: เพิ่มขึ้น | K15: ยุทธศาสตร์ชาติ ระยะ 20 ปี (พ.ศ.2561-2568) ประเด็นยุทธศาสตร์การเกษตรสร้างมูลค่า เกี่ยวข้องในเรื่องเกษตรชีวภาพ | L15: ไม่ได้ | M15: มี | N15: ศูนย์วิจัยและพัฒนาการเกษตรสงขลา | O15: มี | P15: สำนักงานเกษตรอำเภอ | Q15: เกษตรกรผู้ผลิตพืชสมุนไพร | R15: มี | S15: กนท.สป.กษ | T15: - จำนวนเกษตรกรผู้ผลิตพืชสมุนไพรพิ่มขึ้น - ฐานข้อมูลผู้ผลิตสมุนไพร | U15: ศูนย์วิจัยและพัฒนาการเกษตรสงขลา | V15: - ประสานข้อมูล - เชิญทาง ศวพ. เป็นวิทยากร | W15: มี | X15: ศูนย์วิจัยและพัฒนาการเกษตรสงขลา | AA15: จำเป็นมาก | AB15: จำเป็นมาก | AC15: ไม่มี | AE15: https://bioherb.moac.go.th/ | AF15: บันทึกข้อมูลเกษตรกรผู้เข้าร่วมโครงการฯ | AG15: มีฐานข้อมูลสมุนไพรในพื้นที่ | AI15: คงภารกิจและรูปแบบปัจจุบัน
B16: โครงการสินค้าเกษตรและบริการมูลค่าสูง 1 ท้องถิ่น 1 สินค้าเกษตรมูลค่าสูง 1. เพื่อพัฒนาคุณภาพและเพิ่มมูลค่าสินค้าเกษตร ตลอดจนบริการมูลค่าสูงในระดับพื้นที่ (ท้องถิ่น) โดยใช้นวัตกรรมและเทคโนโลยีเข้ามาช่วย 2. ยกระดับรายได้เกษตรกร เพิ่มขึ้น 3 เท่า ใน 4 ปี | C16: 1.ขับเคลื่อนการดำเนินงาน เพื่อนำไปสู่การสนับสนุน ส่งเสริม ผลักดัน รวมกับหน่วยงานภาคีที่เกี่ยวข้อง รวมทั้งการพัฒนาศักยภาพตามความต้องการที่แท้จริง 2. แผนพัฒนารายสินค้า จำนวน 11 สินค้า 3.ข้อมูลสินค้าเกษตรและบริการมูลค่าสูงของจังหวัดบันทึกลงระบบ https://500tb.moac.go.th/ ได้ครบถ้วน | D16: 1 ท้องถิ่น 1 สินค้าเกษตร เกษตรกร จำนวน 32 คน | E16: 4 ท้องถิ่น 4 สินค้าเกษตร เกษตรกรจำนวน 69 คน | F16: 6 ท้องถิ่น 5 สินค้าเกษตร เกษตรกรจำนวน 32 คน | G16: 1 ท้องถิ่น 1 สินค้าเกษตร เกษตรกร จำนวน 32 คน | H16: 4 ท้องถิ่น 4 สินค้าเกษตร เกษตรกรจำนวน 69 คน | I16: 6 ท้องถิ่น 5 สินค้าเกษตร เกษตรกรจำนวน 32 คน | J16: คงที่ | K16: ในปี 2570 โครงการฯ มีเป้าหมายมุ่งเน้นต่อยอดในกลุ่มเดิม | M16: ไม่มี | O16: ไม่มี | P16: - | Q16: - | R16: มี | S16: หน่วยงานสังกัดกระทรวงเกษตรฯ ในระดับกรม | T16: เป็นข้อมูลสนับสนุนการทำแผนเกษตรรายสินค้า | W16: ไม่สามารถโอนได้ | AA16: จำเป็นอย่างยิ่ง | AB16: เนื่องการดำเนินงานโครงการมุ่งเน้นให้มีการพัฒนายกศักยภาพสินค้าเกษรที่เข้าร่วมโครงการฯ และมุ่งเน้นให้เกษตรกรมีรายได้เพิ่มขึ้น ซึ่งจำเป็นต้องส่งเสริมให้หลายมิติ จึงจำเป็นต้องมีหน่วยงานหลักเจ้าภาพที่จะค่อยช่วยขับเคลื่อนและบูรณาการให้การดำเนินเงินบรรลุวัตถุประสงค์ และเกิดประสิทธิภาพมากที่สุด | AC16: มาก | AD16: ทำให้การดเนินการที่ผ่านมาไม่เกิดผลสัมฤทธ์ ตามวัตถุประสงค์ ท้องถิ่นเป้าหมายไม่ได้รับการส่งเสริม เสียโอกาสด้านการตลาด เสียทรัพยากรและเวลา | AE16: เวปไซต์ ระบบบันทึกฐานข้อมูลหลัก | AF16: ฐานข้อมูล | AG16: มีชุดข้อมูลด้านการเกษตรที่สำคัญและจำเป็นต่อการพัฒนาต่อยอด | AH16: รูปแบบปัจจุบัน | AI16: คงภารกิจและรูปแบบปัจจุบัน | AJ16: ต่อยอดให้เกิดผลสัมฤทธิ์อย่างอย่างแท้จริง
A17: 3 ภารกิจกำกับ ดูแล ควบคุม ประสาน ดำเนินงาน ติดตาม และประเมินผลสัมฤทธิ์ของการปฏิบัติงานตามแผนงานและโครงการพัฒนาการเกษตรและสหกรณ์ในจังหวัด
A18: 3.1 การอำนวยการและสนับสนุนการตรวจราชการของผู้ตรวจราชการกระทรวงเกษตรและสหกรณ์ | B18: เพื่อตรวจติดตามการตรวจราชการตามแผนการตรวจราชการและการขับเคลื่อนแบบบูรณาการในระดับพื้นที่ของผู้ตรวจราชการกระทรวงเกษตรและสหกรณ์ประจำปี | C18: ผลการดำเนินงานโครงการตรวจติดตามการตรวจราชการตามแผนการตรวจราชการและการขับเคลื่อนแบบบูรณาการในระดับพื้นที่ของผู้ตรวจราชการกระทรวงเกษตรและสหกรณ์ประจำปี | D18: 2 รอบ | E18: 2 รอบ | F18: 2 รอบ | G18: 2 รอบ | H18: 2 รอบ | I18: 2 รอบ | J18: ลดลง | K18: งบประมาณแต่ละหน่วยงานลดลง ทำให้การตรวจราชการฯ ลดลง | L18: ได้ในกรณีที่ทุกหน่วยงานในจังหวัดสงขลา /หน่วยงานกรม/กระทรวงอื่นๆในจังหวัดสงขลานำไปเผยแพร่ประชาสัมพันธ์ต่อ | M18: มี | N18: ทุกหน่วยในสังกัดกรทะรวงเกษตร 52 หน่วย/หน่วยรัฐวิสหกิจ 2 หน่วย/หน่วยกระทรวงอื่น ๆ ในจังหวัด/ท้องถิ่น/อบจ. ฯลฯ | O18: มี | P18: สนง.กษ.สข./52หน่วยงานที่เกี่ยวข้อง | Q18: รายงานตามแผนตรวจฯจำนวน2ครั้ง/52หน่วย | R18: มี | S18: สนง.กษ.สข./52หน่วยงานที่นำไปเผยแพร่ | T18: - | U18: สนง.กษ.สข./52ที่เกี่ยวข้อง | V18: การดำเนินงานประสานติดตามงาน/โครงการตามแผนการตรวจราชการประจำปีงบประมาณ พ.ศ. 2569 ตามแผนการตรวจราชการและการขับเคลื่อนแบบบูรณาการในระดับพื้นที่ของผู้ตรวจราชการกระทรวงเกษตรและสหกรณ์ และการรายงานข้อมูลพื้นฐานด้านการเกษตรและสหกรณ์ของจังหวัดสงขลา เสนอผู้บริหาร รอบ1-2 ในการตรวจราชการตามประเด็นการตรวจกระทรวงเกษตรและสหกรณ์ กำกับ ติดตาม ดูแล และการขับเคลื่อนด้านการเกษตรในพื้นที่ของผู้ตรวจราชการ เขตตรวจราชการที่ 5 ตามคำสั่งกระทรวงเกษตรและสหกรณ์ และการตรวจราชการแบบบูรณาการของผู้ตรวจราชการสำนักนายกรัฐมนตรี ประจำปีงบประมาณ รอบที่ 1-2และ...รายงานผู้บริหารที่เกี่ยวข้อง | W18: - | X18: - | Y18: - | Z18: - | AA18: สนง.กษ.สข./52ที่เกี่ยวข้อง | AB18: สนง.กษ.สข./52ที่เกี่ยวข้อง | AC18: มี | AD18: เกิดความเสียหายกับสนง.กษ.สข./49หน่วยงานในจังหวัดสงขลา | AE18: ระบบประชุม ออนไลน์ | AF18: การบันทึกข้อมูล | AG18: ผลทุกรอบการตรวจราชการ | AH18: ทุกหน่วยสามารถใช้ระบบร่วมกัน | AI18: ทุกหน่วยสามารถใช้ระบบร่วมกัน | AJ18: - | AK18: -
A19: 3.2 การประเมินผลโครงการตามแผนงานและโครงการพัฒนาการเกษตรและสหกรณ์ในจังหวัด | J19: ระบุ | M19: ระบุ | O19: ระบุ | R19: ระบุ | W19: ระบุ | AA19: ระบุ | AC19: ระบุ | AI19: ระบุ
A20: 4. ภารกิจที่ดำเนินงานโครงการพิเศษ โครงการพระราชดำริ งานช่วยเหลือเกษตรกร งานภัยพิบัติ การเตือนการระบาดและเฝ้าระวัง และเตือนภัยสินค้าเกษตรในจังหวัด
A21: 4.1 การบริหารจัดการช่วยเหลือเกษตรและผู้ยากจนผ่านกองทุนหมุนเวียนเพื่อการกู้ยืมแก่เกษตรกรและผู้ยากจน และกองทุนสงเคราะห์เกษตรกร การติดตามลูกหนี้กองทุนหมุนเวียนเพื่อการกู้ยืมแก่เกษตรกรและผู้ยากจน | B21: - กองทุนหมุนเวียนเพื่อการกู้ยืมแก่เกษตรกรและผู้ยากจน 1. เพื่อไถ่ หรือไถ่ถอนที่ดินคืนจากการขายฝากหรือจำนอง เมื่อมีพฤติการณ์ว่าสิทธิหรือกรรมสิทธิ์ในที่ดินนั้นจะหลุดเป็นของเจ้าหนี้หรือบุคคลอื่นในที่สุด 2. เพื่อชำระหนี้ตามสัญญากู้ยืมเงิน ซึ่งผู้กู้ยืมได้นำที่ดินหรือหนังสือแสดงสิทธิในที่ดินให้เจ้าหนี้ยึดถือไว้เป็นประกันก่อนหรือขณะทำสัญญากู้ยืมเงิน เมื่อมีพฤติการณ์ว่าสิทธิหรือกรรมสิทธิ์ในที่ดินนั้นจะหลุดเป็นของเจ้าหนี้หรือบุคคลอื่นในที่สุด 3. เพื่อซื้อคืนที่ดินที่ได้สูญเสียสิทธิหรือกรรมสิทธิ์ไปเนื่องจากการขายฝาก จำนอง หรือการกู้ยืม 4. เพื่อซื้อที่ดินตามสิทธิแห่งกฎหมายว่าด้วยการเช่าที่ดินเพื่อเกษตรกรรม 5. เพื่อเป็นทุนในการประกอบอาชีพของผู้กู้ยืมให้มีรายได้สูงขึ้น | C21: - เกษตรกรหรือผู้ยากจน ได้รับการปลดเปลื้องหนี้สิน และไม่สูญเสียกรรมสิทธิ์ ในที่ดิน | D21: 56 | E21: 34 | F21: 64 | G21: 70 | H21: 80 | I21: 90 | J21: เพิ่มขึ้น | K21: - ประชาชนทั่วไปหรือเกษตรกรที่ประสบปัญหาเกี่ยวกับที่ดินทำกิน และต้องการความช่วยเหลือได้รับข่าวสารจากการประชาสัมพันธ์เกี่ยวกับกองทุนหมุนเวียนฯ มากยิ่งขึ้น - สภาพเศรษฐกิจไม่ดี ราคาสินค้าเกษตรตกต่ำ | L21: 1. สำนักงานเกษตรอำเภอ ตามภูมิลำเนาทะเบียนบ้านของผู้ขอความช่วยเหลือ 2. ธ.ก.ส. สาขา ตามภูมิลำเนาทะเบียนบ้านของผู้ขอความช่วยเหลือ | M21: ไม่มี | O21: มี | P21: 1. สำนักงานเกษตรและสหกรณ์จังหวัด (กรณีวงเงินกู้เกิน 300,000 บาท แต่ไม่เกิน 2,500,000 บาท) 2. สำนักงานเกษตรอำเภอ (กรณีวงเงินกู้ไม่เกิน 300,000 บาท) | Q21: ตรวจสอบหลักเกณฑ์เบื้องต้นของผู้ขอกู้เงินกองทุนหมุนเวียนฯ เป็นไปตามระเบียบว่าด้วยการบริหารกองทุนหมุนเวียนเพื่อการกู้ยืมแก่เกษตรกรและผู้ยากจน และประกาศกระทรวงเกษตรและสหกรณ์ เรื่อง หลักเกณฑ์การช่วยเหลือเกษตรกรและผู้ยากจนและแนวทางการติดตามการชำระหนี้ | R21: มี | S21: สำนักงานเกษตรและสหกรณ์จังหวัด | T21: ติดตามเยี่ยมเยียนลูกหนี้กองทุนหมุนเวียนฯ | U21: 1. สำนักงาน ธ.ก.ส. 2. สำนักงานเกษตรอำเภอ | V21: 1. ส่งเอกสารและหลักฐานการขอกู้เงินกองทุนหมุนเวียนฯ ให้ ธ.ก.ส. วิเคราะห์คำขอกู้ 2. การจัดประชุม อบก. ระดับอำเภอ (กรณีวงเงินกู้ยืมไม่เกิน 300,000 บาท) | W21: ไม่สามารถโอนได้ | X21: - | Y21: 1. ระเบียบสำนักนายกรัฐมนตรี ว่าด้วยการช่วยเหลือเกษตรกรและผู้ยากจน 2. ระเบียบสำนักนายกรัฐมนตรี ว่าด้วยกองทุนหมุนเวียนเพื่อการกู้ยืม แก่เกษตรกรและผู้ยากจน 3. ระเบียบ ว่าด้วยการบริหารกองทุนหมุนเวียนเพื่อการกู้ยืมแก่เกษตรกรและ ผู้ยากจน 4. ประกาศกระทรวงเกษตรและสหกรณ์ เรื่องหลักเกณฑ์การช่วยเหลือเกษตรกรและผู้ยากจนและแนวทางการติดตาม การชำระหนี้ 5.คำสั่งคณะกรรมการบริหารกองทุนหมุนเวียนเพื่อการกู้ยืมแก่เกษตรกรและ ผู้ยากจน ที่ 2/2562 เรื่อง แต่งตั้งคณะอนุกรรมการบริหารกองทุนหมุนเวียนเพื่อการกู้ยืมแก่เกษตรกรและผู้ยากจน | Z21: - | AA21: จำเป็นอย่างยิ่ง | AB21: ตามคำสั่งคณะกรรมการบริหารกองทุนหมุนเวียนฯ ได้แต่งตั้งเกษตรและสหกรณ์จังหวัดสงขลา เป็นอนุกรรมการและเลขานุการ และเจ้าหน้าที่สำนักงานเกษตรและสหกรณ์จังหวัด เป็นอนุกรรมการและผู้ช่วยเลขานุการ อบก.ส่วนจังหวัด โดยมอบอำนาจให้มีหน้าที่ ดังนี้ 1.พิจารณาช่วยเหลือเกษตรกรละผู้ยากจน ตามระเบียบฯ ดังนี้ -สอบข้อเท็จจริง ไกล่เกลี่ย และประนีประนอม บุคคลที่เกี่ยวข้องกับเกษตรกรและผู้ยากจนที่ได้รับความเดือดร้อน -ให้ความช่วยเหลือในการไถ่ หรือไถ่ถอน ซื้อที่ดินคืน หรือซื้อที่ดินเช่า และแก้ไขปัญหาในการประกอบอาชีพของเกษตรกร -ติดตามและรายงานผลการชำระหนี้ และส่งเสริมพัฒนาฟื้นฟูอาชีพให้เกษตรกรและผู้ยากจนที่เป็นลูกหนี้กองทุนหมุนเวียนฯ 2. พิจารณาอนุมัติคำขอกู้เงินกองทุนหมุนเวียนฯ 3. พิจารณาอนุมัติงดและลดดอกเบี้ยเงินกู้กรณีลูกหนี้กองทุนหมุนเวียนฯ ประสบภัยพิบัติ | AC21: มาก | AD21: เกษตรกรหรือผู้ยากจน อาจสูญเสียกรรมสิทธิ์ในที่ดินซึ่งใช้ในการประกอบอาชีพหรือ เป็นที่อยู่อาศัยมากขึ้น | AI21: คงภารกิจและรูปแบบปัจจุบัน
B22: - กองทุนสงเคราะห์เกษตรกร เพื่อเป็นทุนหมุนเวียน และใช้จ่ายช่วยเหลือหรือส่งเสริมองค์กรเกษตรกร หรือหน่วยงานของรัฐในเรื่องการส่งเสริมการผลิต การตรวจสอบมาตรฐานคุณภาพ การรักษาเสถียรภาพของราคาและการจำหน่าย หรือการดำเนินที่จำเป็นเร่งด่วน | D22: 5/14 | E22: 3/14 | F22: 5/14 | G22: 5/21 | H22: 5/28 | I22: 5/35 | J22: เพิ่มขึ้น | K22: กลุ่มเกษตรกรส่วนใหญ่ยังขาดเงินทุนหมุนเวียนในการประกอบอาชีพ และต้องการเพิ่มความสามารถในการแข่งขันของตลาด | L22: ไม่ได้ เนื่องจากการขอรับบริการองค์กรเกษตรกรต้องยื่นโครงการเสนอมายังสำนักงานเกษตรและสหกรณ์จังหวัด ในฐานะฝ่ายเลขานุการ คณะทำงานฯ ระดับจังหวัด เพื่อดำเนินการตรวจสอบข้อมูลประกอบการพิจารณาต่อคณะทำงานพิจารณากลั่นกรอง และติดตามผลการดำเนินโครงการที่ขอใช้เงินกองทุนสงเคราะห์เกษตรกร ระดับจังหวัด และรายงานผลการพิจารณา รวบรวมเอกสารให้กองทุนสงเคราะห์เกษตรกร ต่อไป | M22: ไม่มี | O22: ระบุ | R22: ระบุ | U22: สนง.เกษตรจังหวัด/สน.เกษตรอำเภอ/สนง.ปศุสัตว์จังหวัด/สนง.ปศุสัตว์อำเภอ/สนง.ประมงจังหวัด/สนง.ประมงอำเภอ/สนง.สหกรณ์จังหวัด/สนง.ตรวจบัญชีสหกรณ์จังหวัด/สนง.พาณิชย์จังหวัด/ประธานสภาเกษตรกรจังหวัด/หอการค้าจังหวัด/ธ.ก.ส.จังหวัด | V22: - ประชาสัมพันธ์ สร้างความรู้ ความเข้าใจ การเข้าถึงแหล่งเงินทุน - พิจารณากลั่นกรองรายละเอียดโครงการที่องค์กรเสนอ - ติดตามผลการดำเนินโครงการที่ได้รับอนุมัติ | W22: ไม่สามารถโอนได้ | Y22: พ.ร.บ.กองทุนสงเคราะห์เกษตรกร พ.ศ. 2554 | AA22: จำเป็นอย่างยิ่ง | AC22: ระบุ | AI22: คงภารกิจและรูปแบบปัจจุบัน
A23: 4.2 การดำเนินงานของศูนย์ติดตามและแก้ไขปัญหาภัยพิบัติด้านการเกษตรจังหวัด | B23: การป้องกันและแก้ไขปัญหาภัยพิบัติด้านการเกษตรและให้ความช่วยเหลือผู้ประสบภัยพิบัติด้านการเกษตร | C23: การเฝ้าระวัง แจ้งเตือนและให้ความช่วยเหลือเกษตรกรผู้ประสบภัยด้านการเกษตรอย่างเป็นระบบ รวดเร็ว และมีประสิทธิภาพ | D23: 4482 | E23: 12730 | F23: ยังไม่มีข้อมูล | G23: 12000 | H23: 12000 | I23: 12000 | J23: เพิ่มขึ้น | K23: ความรุนแรงของภัยพิบัติเพิ่มขึ้น | L23: 1. สนง.เกษตรจังหวัด 2. สนง.ปศุสัตว์จังหวัด 3. สนง.ประมงจังหวัด | M23: ไม่มี | N23: - | O23: มี | P23: 1. สนง.เกษตรจังหวัด 2. สนง.ปศุสัตว์จังหวัด 3. สนง.ประมงจังหวัด | Q23: จำนวนเกษตรกรจำนวนพืช ปศุสัตว์ ประมง และจำนวนเงินที่ได้รับการช่วยเหลือ | R23: มี | S23: สป.กษ. | T23: จำนวนเกษตรกรจำนวนพืช ปศุสัตว์ ประมง และจำนวนเงินที่ได้รับการช่วยเหลือ | W23: ไม่สามารถโอนได้ | Y23: ระเบียบกระทรวงการคลังว่าด้วยเงินทดรองราชการเพื่อช่วยเหลือผู้ประสบภัยพิบัติกรณีฉุกเฉิน พ.ศ. 2568 | AA23: จำเป็นอย่างยิ่ง | AC23: รุนแรง | AD23: ผิดระเบียบฯ | AI23: คงภารกิจและรูปแบบปัจจุบัน
A24: 4.3 การบริหารจัดการเรื่องร้องเรียนร้องทุกข์ด้านการเกษตรและสหกรณ์ | B24: เพื่อให้บริการรับเรื่องร้องทุกข์ ช่วยเหลือ สนับสนุน และบริการด้านการเกษตร | C24: เกษตรกรและประชาชนผู้ได้รับผลกระทบด้านการเกษตรได้รับการแก้ไขปัญหาและเข้าถึงบริการภาครัฐอย่างสะดวก รวดเร็ว | D24: 13 | E24: 5 | F24: 7 | G24: 10 | H24: 10 | I24: 10 | J24: เพิ่มขึ้น | K24: การบังคับใช้กฎหมาย และความซับซ้อนของปัญหา - สภาพเศรษฐกิจไม่ดี ราคาสินค้าเกษตรตกต่ำ | L24: 1. สนง.เกษตรจังหวัด 2. สนง.ปศุสัตว์จังหวัด 3. สนง.ประมงจังหวัด | M24: มี | N24: ศูนย์ดำรงธรรมจังหวัด | O24: มี | P24: 1. สนง.เกษตรจังหวัด 2. สนง.ปศุสัตว์จังหวัด 3. สนง.ประมงจังหวัด | Q24: จำนวนเกษตรกรผู้ได้รับผลกระทบ | R24: มี | U24: ศูนย์ดำรงธรรมจังหวัด | V24: ประชุม/โทรประสาน | W24: ถ่ายโอนได้ | AA24: จำเป็นอย่างยิ่ง | AB24: จำเป็นอย่างยิ่ง | AC24: รุนแรง | AI24: คงภารกิจแต่ปรับปรุงเพิ่ม
A25: 4.4 การขับเคลื่อนการดำเนินงานโครงการอันเนื่องมาจากพระราชดำริของจังหวัด | B25: รวบรวมและขับเคลื่อนการดำเนินงานโครงการอันเนื่องมาจากพระราชดำริของภาคเกษตรในจังหวัด | C25: ข้อมูลโครงการอันเนื่องมาจากพระราชดำริในพื้นที่ เช่น โครงการพัฒาพื้นที่ลุ่มน้ำปากพนังอันเนื่องมาจากพระราชดำริ | D25: 80 | E25: 30 | F25: 10 | G25: 10 | H25: 10 | I25: 10 | J25: คงที่ | L25: สำนักงานเกษตรอำเภอระโนด | M25: มี | N25: สำนักงานเกษตรอำเภอระโนด | O25: มี | R25: มี | S25: กองประสานงานโครงการพระราชดำริ | U25: - สำนักงานเกษตรอำเภอระโนด - สำนักงานปศุสัตว์จังหวัด - สถานีพัฒนาที่ดินสงขลา - ศูนย์เมล็ดพันธุ์ข้าว - สำนักงานตรวจบัญชีสหกรณ์สงขลา | V25: ส่งเสริมสนับสนุนกิจกรรม | W25: ถ่ายโอนได้ | X25: สำนักงานเกษตรอำเภอระโนด | AA25: จำเป็นมาก | AC25: เล็กน้อย | AI25: คงภารกิจและรูปแบบปัจจุบัน
A26: 4.5 การรับแจ้งการประกอบการธุรกิจทางการเกษตรในระบบเกษตรพันธสัญญาและการดำเนินงานไกล่เกลี่ยตามข้อพิพาทตาม พรบ. ส่งเสริมและพัฒนาระบบเกษตรพันธสัญญา | B26: เพื่อรับแจ้งการประกอบธุรกิจทางการเกษตร และดำเนินการไกล่เกลี่ยกรณีเกิดข้อพิพาทตาม พรบ.ส่งเสริมและพัฒนาระบบเกษตรพันธสัญญา | D26: 1/1 | E26: 2/1 | F26: 1/1 | G26: 1/1 | H26: 1/1 | I26: 1/1 | J26: คงที่ | K26: จำนวนบริษัทที่จดทะเบียนระเบบเกษตรพันธสัญญาในจังหวัดสงขลา มี จำนวน 1 บริษัท | L26: ไม่ได้ เนื่องจากการดำเนินการไกล่เกลี่ยนข้อพิพาทตาม พรบ. กำหนดให้แต่งตั้งคณะทำงานรวบรวมข้อเท็จจริง โดยมีเกษตรและสหกรณ์จังหวัดเป็นประธานคณะทำงาน เพื่อรวบรวมเอกสารข้อเท็จจริงต่างๆ เกี่ยวกับประเด็นข้อพิพาท เพื่อเข้าประชุมคณะกรรมการไกล่เกลี่ยข้อพิพาทประจำจังหวัด มี ผวจ.เป็นประธานคณะทำงาน และเกษตรและสหกรณ์จังหวัดเป็นเลขานุการ | M26: ระบุ | O26: ระบุ | R26: ระบุ | U26: ผวจ./อัยการคุ้มครองสิทธิฯ/ผู้ทรงคุณวุฒิ/นายอำเภอ/สนง.พาณิชย์จังหวัด/สนง.สภาเกษตรกรจังหวัด | V26: เพื่อพิจารณาไกล่เกลี่ยข้อพิพาทระหว่างเกษตรกร บริษัทคู่สัญญาให้สามารถตกลงยอมความกันได้ | W26: ระบุ | Y26: พรบ.ส่งเสริมและพัฒนาระบบเกษตรพันธสัญญา พ.ศ. 2560/ประกาศคณะกรรมการส่งเสริมและพัฒนาระบบเกษตรพันธสัญญา เรื่อง หลักเกณฑ์และวิธีการไกล่เกลี่ยข้อพิพาทและการจัดทำสัญญาประนีประนอมยอมความ | AA26: ระบุ | AC26: ระบุ | AI26: ระบุ
A27: 5. กำกับดูแล ควบคุม และพัฒนาข้าราชการและลูกจ้างในสังกัดกระทรวงในจังหวัด
J28: ระบุ | M28: ระบุ | O28: ระบุ | R28: ระบุ | W28: ระบุ | AA28: ระบุ | AC28: ระบุ | AI28: ระบุ
A29: 6. ภารกิจที่ประชาสัมพันธ์และเผยแพร่การพัฒนาการเกษตรและสหกรณ์ของจังหวัดให้เป็นศูนย์ข้อมูลและศูนย์แม่ข่ายด้านการเกษตรและสหกรณ์ของจังหวัด
A30: 6.1 การประชาสัมพันธ์และเผยแพร่ข้อมูลข่าวสารด้านการเกษตรและสหกรณ์ของจังหวัด | B30: เพื่อเพิ่มช่องทางและโอกาสเข้าถึงข้อมูลข่าวสารด้านการเกษตรให้กับเกษตรกร ประชาชน และผู้มีส่วนเกี่ยวข้องกับภาคเกษตรผ่านช่องทางต่าง ๆ ในระดับพื้นที่ | C30: 1.การประชาสัมพันธ์สร้างการรับรู้ผ่าน Social Media 2.ประชาสัมพันธ์ผ่านสื่อสิ่งพิมพ์ | D30: 8453 | E30: 8669 | F30: 6414 | G30: 8500 | H30: 8500 | I30: 8500 | J30: เพิ่มขึ้น | K30: เพิ่มการสื่อสารประชาสัมพันธ์ในเชิงรุกมากขึ้น | L30: ได้บางส่วน แต่ในภาพรวมของกระทรวงเกษตรและสหกรณ์ ต้องเป็นหน่วยงานผู้แทนกระทรวงเกษตรและสหกรณ์ | M30: ไม่มี | N30: 1.การประชาสัมพันธ์สร้างการรับรู้ผ่าน Social Media 2.ประชาสัมพันธ์ผ่านสื่อสิ่งพิมพ์ | O30: มี | P30: สำนักงานเกษตรและสหกรณ์จังหวัดสงขลา | Q30: - | R30: มี | S30: กองเกษตรสารนิเทศ สป.กษ. | T30: การสื่อสารนโยบายกระทรวงเกษตรและสหกรณ์กับเกษตรกรในพื้นที่ | U30: 1.หน่วยงานในสังกัดกระทรวงเกษตรและสหกรณ์ในจังหวัด 2.หน่วยงานนอกสังกัดกระทรวงเกษตรและสหกรณ์ในจังหวัดสงขลา | V30: 1.การประชุม 2.การลงพื้นที่จัดกิจกรรม ร่วมกับหน่วยงานในสังกัด กระทรวงเกษตรและสหกรณ์ในจังหวัด | W30: ไม่สามารถโอนได้ | X30: - | Y30: พ.ร.บ.เกี่ยวกับการ นำเข้าข้อมูลใน คอมพิวเตอร์ | Z30: พ.ร.บ.คุ้มครอง ข้อมูลส่วนบุคคล พ.ศ.2565 | AA30: จำเป็นมาก | AB30: จำเป็นมาก | AC30: มาก | AD30: กรณีเกิดเหตุ อุทกภัยด้าน การเกษตร | AE30: 1.คอมพิวเตอร์ 2.โน๊ตบุ๊ค 3.โทรศัพท์เคลื่อนที่ เทคโนโลยี เช่น Facebook, Line, สถานีวิทยุ, หอกระจายข่าว และ เว็บไซต์ | AF30: การเผยแพร่ ข้อมูล | AG30: เกษตรกร เข้า ถึงข้อมูลได้ รวดเร็ว | AH30: 1.Tiktok 2.การไลฟ์สด | AI30: คงภารกิจและรูปแบบปัจจุบัน | AJ30: พัฒนาการใช้ เทคโนโลยี สมัยใหม่ให้ มากขึ้น
A31: 6.2 การบริหารจัดการศูนย์ข้อมูลด้านการเกษตรและสหกรณ์จังหวัด | B31: 1.ดำเนินการจัดทำข้อมูลสารสนเทศด้านการเกษตรและสหกรณ์ของจังหวัด : รวบรวม วิเคราะห์ และจัดเก็บข้อมูลด้านการเกษตรและสหกรณ์ของจังหวัดให้เป็นปัจจุบัน 2.เป็นศูนย์แม่ข่ายข้อมูล : ทำหน้าที่เป็นแม่ข่ายเชื่อมโยงข้อมูลภาพรวมด้านการเกษตรในระดับจังหวัดเข้ากับ กระทรวงเกษตรและสหกรณ์ 3.ระบบเตือนภัยด้านการเกษตร : เฝ้าระวังและแจ้งเตือนภัยล่วงหน้า เช่น การระบาดของศัตรูพืชและสัตว์ หรือสถานการณ์ภัยพิบัติที่มีผลกระทบต่อสินค้าเกษตร 4.ปฏิบัติงานอื่นตามที่ได้รับมอบหมาย | C31: 1.ดำเนินการจัดทำข้อมูลสารสนเทศด้านการเกษตรและสหกรณ์ของจังหวัด : รวบรวม วิเคราะห์ และจัดเก็บข้อมูลด้านการเกษตรและสหกรณ์ของจังหวัดให้เป็นปัจจุบัน 2.เป็นศูนย์แม่ข่ายข้อมูล : ทำหน้าที่เป็นแม่ข่ายเชื่อมโยงข้อมูลภาพรวมด้านการเกษตรในระดับจังหวัดเข้ากับกระทรวงเกษตรและสหกรณ์ 3.ระบบเตือนภัยด้านการเกษตร : เฝ้าระวังและแจ้งเตือนภัยล่วงหน้า เช่น การระบาดของศัตรูพืชและสัตว์ หรือสถานการณ์ภัยพิบัติที่มีผลกระทบต่อสินค้าเกษตร 4.ปฏิบัติงานอื่นตามที่ได้รับมอบหมาย | D31: 100 | E31: 100 | F31: 100 | G31: 100 | H31: 100 | I31: 100 | J31: คงที่ | K31: ส่วนราชการในสังกัดกระทรวงเกษตรและสหกรณ์ในจังหวัด และส่วนราชการอื่น ๆ ภายในจังหวัด | L31: ได้บางส่วน แต่ในภาพรวมของกระทรวงเกษตรและสหกรณ์ ต้องเป็นหน่วยงานผู้แทนกระทรวงเกษตรและสหกรณ์ | M31: ไม่มี | N31: - | O31: มี | P31: สำนักงานเกษตรและสหกรณ์จังหวัดสงขลา | Q31: ชุดข้อมูลสารสนเทศด้านการเกษตรและสหกรณ์ที่เป็นปัจจุบัน | R31: มี | S31: สป.กษ. | T31: ชุดข้อมูลสารสนเทศด้านการเกษตรและสหกรณ์ ที่เป็นปัจจุบัน | U31: 1.หน่วยงานสังกัดกระทรวงเกษตรและสหกรณ์ในจังหวัดสงขลา 2.หน่วยงานนอกสังกัดกระทรวงเกษตรและสหกรณ์ในจังหวัดสงขลา | V31: 1.การประชุม 2.การบูรณาการ ข้อมูลด้านสาร สนเทศการเกษตร 3.การนำเข้าข้อมูลในระบบ https://agricenter.opsmoac.go.th/ | W31: ไม่สามารถโอนได้ | X31: - | Y31: 1.พ.ร.บ.เกี่ยวกับการ นำเข้าข้อมูลใน คอมพิวเตอร์ 2.พ.ร.บ.ข้อมูล ข่าวสารทาง ราชการ พ.ศ.2540 | Z31: - | AA31: จำเป็นมาก | AB31: จำเป็นมาก | AC31: มาก | AD31: 1.ข้อมูลไม่เป็น ปัจจุบัน 2.ขาดข้อมูล จัดทำแผน/ ยุทธศาสตร์ภาค การเกษตร | AE31: 1.คอมพิวเตอร์ 2.แอพพลิเคชั่น ที่ทันสมัย 3.โปรแกรมการ ใช้งานเทค โนโลยีทันสมัย | AF31: 1.การจัดทำ 2.การเผยแพร่ | AG31: มีชุดข้อมูลด้าน การเกษตรที่ เป็นปัจจุบัน | AH31: การพัฒนา แอพพลิเคชั่น ทันสมัย | AI31: คงภารกิจและรูปแบบปัจจุบัน | AJ31: 1.พัฒนาแอพพลิเคชั่น 2.พัฒนาเครื่องมือต่าง ๆ 3.พัฒนาบุคลากรให้รอบรับเทคโนโลยีต่าง ๆ
A32: 6.3 การบริหารจัดการสินค้าเกษตรที่สำคัญของจังหวัด | B32: 1.เพื่อติดตามความก้าวหน้าสถานการณ์การผลิตและการตลาดของจังหวัดสงขลา 2.เพื่อบริหารจัดการสินค้าเกษตรที่สำคัญของจังหวัดสงขลา | C32: การบริหารจัดการสินค้าที่สำคัญภายในจังหวัดได้ จำนวน 22 ชนิดสินค้า (ข้าวนาปี ยางพารา ปาล์มน้ำมัน พริกเขียวมัน ฟักทอง มะพร้าวน้ำหอม แตงโมเนื้อ มะม่วงเบา มังคุด เงาะ ทุเรียน ลองกอง ส้มจุกจะนะ ส้มโอหอมควนลัง ไข่ไก่ ไข่เป็ด โคเนื้อ แพะเนื้อ สุกร ไข่ครอบ กุ้งขาวแวนนาไม ปลากะพงขาว) | D32: 100 | E32: 100 | F32: 100 | G32: 100 | H32: 100 | I32: 100 | J32: คงที่ | K32: 1.หน่วยงานในสังกัดกระทรวงเกษตรและสหกรณ์ 2.ผู้บริหารกระทรวงเกษตรและสหกรณ์ในการลงพื้นที่ตรวจราชการ | L32: ได้บางส่วน แต่ในภาพรวมของกระทรวงเกษตรและสหกรณ์ต้องเป็นหน่วยงานผู้แทนกระทรวงเกษตรและสหกรณ์ | M32: ไม่มี | N32: - | O32: มี | P32: 1.สำนักงานเกษตรและสหกรณ์จังหวัดสงขลา 2.สำนักงานเกษตรจังหวัดสงขลา 3.สำนักงานปศุสัตว์จังหวัดสงขลา 4.สำนักงานประมงจังหวัดสงขลา | Q32: ข้อมูลด้านพืช ปศุสัตว์ ประมง | R32: มี | S32: สำนักแผนงานและโครงการพิเศษ สป.กษ. | T32: ชุดข้อมูลบริหารจัดการสินค้าเกษตรที่สำคัญจังหวัดสงขลา | U32: 1.สำนักงานเกษตรและสหกรณ์จังหวัดสงขลา 2.สำนักงานเกษตรจังหวัดสงขลา 3.สำนักงานปศุสัตว์จังหวัดสงขลา 4.สำนักงานประมงจังหวัดสงขลา" | V32: 1.ประชุม 2.ประสานงาน เป็นการภายใน 3.การนำเข้าข้อมูลในระบบ https://agricenter.opsmoac.go.th | W32: ไม่สามารถโอนได้ | X32: - | Y32: - | Z32: - | AA32: จำเป็นมาก | AB32: จำเป็นมาก | AC32: มาก | AD32: การวิเคราะห์ สถานการณ์และ คาดการณ์ผลผลิต ที่จะออกตามช่วง ฤดูกาลได้ | AE32: 1.คอมพิวเตอร์ 2.นำเข้าข้อมูล ผ่านเว็บไซต์ | AF32: การนำเข้าข้อมูล | AG32: คาดการณ์ ผลผลิตได้ | AH32: - | AI32: คงภารกิจและรูปแบบปัจจุบัน | AJ32: ปรับปรุงให้ข้อมูลมีความถูกต้อง และเป็นปัจจุบัน
A33: 6.4 การสรรหาปราชญ์เกษตรของแผ่นดินในระดับจังหวัด | B33: การยกย่องและเชิดชูเกียรติแก่ผู้ทรงภูมิปัญญาด้านการเกษตรที่มีความรู้ ความสามารถ และประสบการณ์ ซึ่งทำคุณประโยชน์และสร้างสรรค์ผลงานโดดเด่นสมควรเป็นแบบอย่าง | C33: 1) เข้ารับพระราชทานโล่รางวัลในพระราชพิธีพืชมงคลจรดพระนังคัลแรกนาขวัญ 2) ได้รับเงินสนับสนุนจากกระทรวงเกษตรและสหกรณ์ จำนวน 50,000 บาท 3) ได้รับการสนับสนุนให้ถ่ายทอดความรู้ ประสบการณ์ และความสามารถสู่สังคมและเกษตรกรรุ่นต่อไป | D33: 0 | E33: 1 | F33: 0 | G33: 1 | H33: 1 | I33: 1 | J33: คงที่ | K33: ผู้มีคุณสมบัติเหมาสม และส่งเข้าร่วมคัดเลือกในแต่ละปีมีน้อย | L33: ได้ เนื่องจากการรับสมัครเป็นการนำเสนอผลงานผ่านการยื่นใบสมัครด้วยตนเอง หรือจากหน่วยงานในพื้นที่เป็นผู้สมัคร | M33: ไม่มี | N33: - | O33: มี | P33: หน่วยงานที่เกี่ยวข้องในระดับจังหวัด 15 หน่วยงาน ตามคำสั่งคณะกรรมการส่งเสริมปราชญ์เกษตรของแผ่นดินที่ 1/2563 เรื่อง แต่งตั้งคณะทำงานสรรหาปราชญ์เกษตรของแผ่นดินระดับจังหวัดและกรุงเทพมหานคร และระดับเขต | Q33: 1) จัดทำแบบสรุปผลงานตามหลักเกณฑ์ที่กำหนดเสนอคณะทำงานพิจารณาคัดเลือกบุคคลแต่ละสาขาให้เหลือสาขาละ 1 รายในระดับจังหวัดให้แล้วเสร็จภายใน 31 สิงหาคม ของทุกปี 2) ส่งผลการพิจารณาระดับจังหวัดให้ กนท.ทราบ | R33: มี | S33: สำนักงานส่งเสริมและพัฒนาการเกษตรที่ 5 จังหวัดสงขลา | T33: การสรรหาปราชญ์เกษตรของแผ่นดินระดับเขต | U33: หน่วยงานที่เกี่ยวข้อง จำนวน 15 หน่วยงาน | V33: คำสั่งคณะกรรมการส่งเสริมปราชญ์เกษตรของแผ่นดินที่ 1/2563 เรื่อง แต่งตั้งคณะทำงานสรรหาปราชญ์เกษตรของแผ่นดินระดับจังหวัดและกรุงเทพมหานคร และระดับเขต | W33: ไม่สามารถโอนได้ | X33: ไม่มี | Y33: 1) ระเบียบกระทรวงเกษตรและสหกรณ์ ว่าด้วยการส่งเสริมการจัดสวัสดิการสำหรับปราชญ์เกษตรของแผ่นดิน พ.ศ. 2551 และแก้ไขเพิ่มเติม (ฉบับรวม) 2) ระเบียบคณะกรรมการส่งเสริมปราชญ์เกษตรของแผ่นดิน ว่าด้วยหลักเกณฑ์และวิธีการสรรหาปราชญ์เกษตรของแผ่นดิน พ.ศ. 2552 และแก้ไขเพิ่มเติม (ฉบับรวม) 3) คำสั่งคณะกรรมการส่งเสริมปราชญ์เกษตรของแผ่นดิน ที่ 1/2563 เรื่องแต่งตั้ง๕ระทำงานสรรหาปราชญ์เกษตรของแผ่นดินระดับจังหวัดและกรุงเทพมหานคร และระดับเขต | Z33: ไม่มี | AA33: จำเป็นมาก | AB33: จำเป็นมาก | AC33: ไม่มี | AD33: เกษตรกรในพื้นที่ไม่ได้รับความสำคัญ การยกย่องเชิดชูเกียรติ เป็นการส่งเสริมให้เกษตรกรมีคุณค่าและเป็นเยี่ยงอย่างให้คนรุ่นต่อๆไป | AE33: งานนำเสนอผลงาน | AF33: การนำเสนอผลงานของผู้เข้ารับการสรรหา | AG33: 1) กระชับลดระยะเวลาการนำเสนอ 2) ทำให้น่าสนใจมากขึ้น | AI33: คงภารกิจและรูปแบบปัจจุบัน | AJ33: ควรมีระยะเวลาการประชาสัมพันธ์และรับสมัครไม่น้อยกว่า 1 เดือน
A34: 7. กำกับดูแลหน่วยงานในสังกัดกระทรวงดำเนินการให้เป็นไปตามกฎหมาย
A35: การขับเคลื่อนงานด้านการเกษตรด้วยกลไก คณะอนุกรรมการพัฒนาการเกษตรและสหกรณ์ระดับจังหวัด คณะกรรมการขับเคลื่อนงานด้านการเกษตรระดับจังหวัด และคณะทำงานขับเคลื่อนงานด้านการเกษตรระดับอำเภอ | B35: - การขับเคลื่อนงานด้านการเกษตรด้วยกลไกคณะอนุกรรมการพัฒนาการเกษตรและสหกรณ์จังหวัด มีวัตถุประสงค์/อำนาจหน้าที่ ดังนี้ 1. กำหนดยุทธศาสตร์ แผนงาน โครงการกิจกรรมพัฒนาการเกษตรและสหกรณ์ของจังหวัด ให้สอดคล้องกับนโยบาย (Agenda) และแนวทางการดำเนินงานการพัฒนาการเกษตรของกระทรวงเกษตรและสหกรณ์ เพื่อขับเคลื่อนภาคการเกษตรของประเทศไทยให้เป็นไปตามนโยบายของรัฐบาล 2. ทำหน้าที่เป็นกลไกในการกำกับ ดูแล ขับเคลื่อนการดำเนินงานตามนโยบายและแนวทางการพัฒนาการเกษตรของกระทรวงเกษตรและสหกรณ์ รวมทั้งแผนพัฒนาจังหวัดนั้น ๆ 3. ประสานงานแก้ไขปัญหาด้านการเกษตรและสหกรณ์ในจังหวัด (Area-based) กับหน่วยงานรัฐและเอกชนที่เกี่ยวข้อง 4. ติดตามและรายงานผลการดำเนินงานโครงการตามนโยบายที่สำคัญด้านการเกษตรและสหกรณ์ในจังหวัด 5. สื่อสาร ประชาสัมพันธ์ข้อมูลข่าวสารด้านการเกษตรและสหกรณ์ เพื่อสร้างความเข้าใจที่ถูกต้องเกี่ยวกับข้อสั่งการต่าง ๆ ที่เป็นประโยชน์ต่อเกษตรกรและผู้มีส่วนได้ส่วนเสีย 6. แต่งตั้งคณะทำงาน และอื่น ๆ ที่เกี่ยวข้องตามความจำเป็นและเหมาะสม 7. ปฏิบัติงานอื่น ๆ ตามที่กระทรวงเกษตรและสหกรณ์ คณะกรรมการนโยบายและพัฒนาการเกษตรและสหกรณ์ มอบหมาย - การขับเคลื่อนงานด้านการเกษตรด้วยกลไกคณะกรรมการขับเคลื่อนงานด้านการเกษตรระดับจังหวัด และคณะทำงานขับเคลื่อนงานด้านการเกษตรระดับอำเภอ มีวัตถุประสงค์/อำนาจหน้าที่ ดังนี้ 1. ศึกษา วิเคราะห์ ทิศทางการพัฒนาการเกษตรและสหกรณ์ของจังหวัดที่เชื่อมโยงทิศทางการพัฒนาระดับประเทศ ภาค และกลุ่มจังหวัด เพื่อจัดทำแผนพัฒนาการเกษตรและสหกรณ์ของจังหวัด และแผนปฏิบัติประจำปี เสนอคณะอนุกรรมการพัฒนาการเกษตรและสหกรณ์ระดับจังหวัดพิจารณา 2. วิเคราะห์ จัดทำแนวทาง และสนับสนุนการขับเคลื่อนนโยบาย/โครงการสำคัญของกระทรวงเกษตรและสหกรณ์ในระดับจังหวัด 3. รวบรวมและจัดทำฐานข้อมูลด้านการเกษตรและสหกรณ์ของจังหวัด รวมทั้งวิเคราะห์สถานการณ์ปริมาณและราคาสินค้าเกษตรของจังหวัด 4. ติดตามปัญหาภาคการเกษตรและสหกรณ์ของจังหวัด เสนอแนวทางป้องกันและเตรียมการแก้ไขปัญหาและสนับสนุนการแก้ไขปัญหาภาคการเกษตรของจังหวัด เพื่อบรรเทาเหตุและดำเนินการช่วยเหลือ 5. บูรณาการ บริหารจัดการแผนงาน โครงการ งบประมาณ และทรัพยากรของส่วนราชการในสังกัดกระทรวงที่อยู่ในจังหวัด เพื่อสนับสนุนการปฏิบัติงานของส่วนราชการในสังกัดกระทรวงเกษตรและสหกรณ์และสร้างความร่วมมือกับภาคส่วนอื่นที่เกี่ยวข้อง 6. รายงานผลการดำเนินงาน ปัญหาและอุปสรรคในการปฏิบัติงานต่อคณะอนุกรรมการพัฒนาการเกษตรและสหกรณ์ระดับจังหวัด | C35: มติที่ประชุม/รายงานการประชุม คณะอนุกรรมการพัฒนาการเกษตรและสหกรณ์ระดับจังหวัด คณะกรรมการขับเคลื่อนงานด้านการเกษตรระดับจังหวัดและประธานคณะทำงานขับเคลื่อนงานด้านการเกษตรระดับอำเภอ | D35: 120 | E35: 120 | F35: 120 | G35: 120 | H35: 120 | I35: 120 | J35: คงที่ | K35: กลไกการขับเคลื่อนงานด้านการเกษตร ประกอบด้วย 3 คณะ ดังนี้ 1.คณะอนุกรรมการพัฒนาการเกษตรและสหกรณ์ระดับจังหวัด 2.คณะกรรมการขับเคลื่อนงานด้านการเกษตรระดับจังหวัด 3.คณะทำงานขับเคลื่อนงานด้านการเกษตรระดับอำเภอ | L35: ไม่มี | M35: ไม่มี | N35: ไม่มี | O35: มี | P35: 1.หน่วยงานในสังกัดกระทรวงเกษตรและสหกรณ์ในพื้นที่จังหวัด 2. หน่วยงานนอกสังกัดกระทรวงเกษตรและสหกรณ์ในพื้นที่จังหวัด 3. เกษตรกร และสถาบันเกษตรกร | Q35: 1.ประเด็นปัญหาความต้องการความเดือนของของเกษตรกรในพื้นที่เสนอที่ประชุมเพื่อพิจารณาหาแนวทางการแก้ไขปัญหา 2.ผลการดำเนินงานขับเคลื่อนงานด้านการเกษตรเสนอที่ประชุมเพื่อทราบ | R35: มี | S35: 1.หน่วยงานในสังกัดกระทรวงเกษตรและสหกรณ์ในพื้นที่จังหวัด (ส่วนราชการ และรัฐวิสาหกิจ) 2. หน่วยงานนอกสังกัดกระทรวงเกษตรและสหกรณ์ในพื้นที่จังหวัด (เช่น พาณิชย์จังหวัด อุตสาหกรรมจังหวัด ท้องถิ่นจังหวัด อบจ. สำนักงานจังหวัด) 3. เกษตรกร และสถาบันเกษตรกร (เช่น กลุ่มเกษตรกร วิสาหกิจชุมชน สหกรณ์การเกษตร) 4. คณะอนุกรรมการพัฒนาการเกษตรและสหกรณ์จังหวัด (อพก.) 5. ผู้ว่าราชการจังหวัด | T35: 1.กำหนดแนวทาง/มาตรการการแก้ไขปัญหาด้านการเกษตร 2. ขับเคลื่อนการดำเนินตามนโยบายด้านการเกษตรในระดับพื้นที่ | U35: 1.หน่วยงานในสังกัดกระทรวงเกษตรและสหกรณ์ในพื้นที่จังหวัด (ส่วนราชการ และรัฐวิสาหกิจ) 2. หน่วยงานนอกสังกัดกระทรวงเกษตรและสหกรณ์ในพื้นที่จังหวัด (เช่น พาณิชย์จังหวัด อุตสาหกรรมจังหวัด ท้องถิ่นจังหวัด อบจ. สำนักงานจังหวัด) 3. เกษตรกร และสถาบันเกษตรกร (เช่น กลุ่มเกษตรกร วิสาหกิจชุมชน สหกรณ์การเกษตร) 4. ภาคเครือข่าย (ภาคเอกชน สถาบันการศึกษาในพื้นที่) 5. ผู้ว่าราชการจังหวัด | V35: ประสานความร่วมมือในการแก้ไขปํญหาให้กับเกษตรกร/ขับเคลื่อนนโยบายด้านการเกษตร ทั้งในส่วนของนฌบายรัฐบาล นโยบายรัฐมนตรีกว่าการกระทรวงเกษตรและสหกรณ์ นบายผู้ว่าราชการจังหวัด และภารกิจ /พันธกิจของหน่วยงานสังกัดกระทรวงเกษตรและสหกรณ์ | W35: ไม่สามารถโอนได้ | X35: ไม่มี | Y35: กฎกระทรวงแบ่งส่วนราชการสำนักงานปลัดกระทรวงเกษตรและสหกรณ์ พ.ศ. 2552 ข้อ 21 | Z35: ไม่มี | AA35: จำเป็นอย่างยิ่ง | AB35: คณะกรรมการขับเคลื่อนงานด้านการเกษตรระดับจังหวัด และคณะทงานขับเคลื่อนงานด้านการเกษตรระดับอำเภอ เป็นกลไกการขับเคลื่อนงานด้านการเกษตรและสหกรณ์ที่มีความจำเป็นอย่างยิ่งในการเชื่อมโยงนโยบายจากส่วนกลางลงสู่การปฏิบัติในระดับพื้นที่ให้มีเอกภาพและเป็นทิศทางเดียวกัน - บูรณาการนโยบายสู่พื้นที่: ช่วยแปลงนโยบายสำคัญของรัฐบาลและกระทรวงเกษตรฯ ให้กลายเป็นการปฏิบัติงานจริงในระดับจังหวัดและอำเภอ (Area Based) - แก้ปัญหาได้รวดเร็ว: ทำให้หน่วยงานต่างๆ ประสานงานกันแก้ไขปัญหาความเดือดร้อนของเกษตรกรได้อย่างทันท่วงทีและตรงจุด - เพิ่มประสิทธิภาพการทำงาน: ขับเคลื่อนยุทธศาสตร์เกษตรสมัยใหม่ เกษตรอัจฉริยะ และการบริหารจัดการทรัพยากรให้เกิดความคุ้มค่า - สร้างความเข้มแข็งให้เกษตรกร: ส่งเสริมการพึ่งตนเอง การรวมกลุ่มสหกรณ์ และการพัฒนาทุนทางสังคมในชุมชนอย่างยั่งยืน | AC35: รุนแรง | AD35: หากไม่มีกลไกการขับเคลื่อนงานด้านการเกษตรและสหกรณ์ (เช่น คณะกรรมการ, เจ้าหน้าที่ปฏิบัติตามนโยบาย, สหกรณ์ หรือหน่วยงานประสานงานระดับพื้นที่) จะส่งผลกระทบอย่างรุนแรงเป็นลูกโซ่ต่อระบบเศรษฐกิจ สังคม และความมั่นคงทางอาหารของประเทศ โดยแบ่งออกเป็นด้านสำคัญๆ ดังนี้ 1. ด้านเศรษฐกิจและรายได้เกษตรกร -ผลผลิตล้นตลาดและราคาตกต่ำ: จะไม่มีระบบตัดวงจรหรือวางแผนการผลิต (Demand & Supply) ทำให้เกิดภาวะสินค้าเกษตรล้นตลาด ไม่มีหน่วยงานช่วยพยุงราคา หรือเข้าแทรกแซงตลาดเมื่อเกิดวิกฤต - เกษตรกรขาดอำนาจต่อรอง: หากไม่มีระบบสหกรณ์ เกษตรกรรายย่อยจะต้องต่างคนต่างขาย ทำให้โดนพ่อค้าคนกลางกดราคาได้ง่าย และไม่มีอำนาจในการต่อรองซื้อปัจจัยการผลิต (ปุ๋ย, ยา, เมล็ดพันธุ์) ในราคาถูก - ขาดการเข้าถึงแหล่งทุน: เกษตรกรจะไม่สามารถเข้าถึงสินเชื่อดอกเบี้ยต่ำ หรือทุนหมุนเวียนในการพัฒนาอาชีพ ทำให้ต้องหันไปพึ่งพาหนี้นอกระบบ 2. ด้านการบริหารจัดการและการพัฒนานโยบาย - นโยบายรัฐบาลไปไม่ถึงพื้นที่: นโยบายช่วยเหลือเร่งด่วน เช่น เงินเยียวยาภัยแล้ง/น้ำท่วม หรือโครงการประกันรายได้ จะไม่สามารถส่งตรงถึงมือเกษตรกรได้อย่างรวดเร็วและทั่วถึง - ขาดการพัฒนาเทคโนโลยีและนวัตกรรม: จะไม่มีกลไกถ่ายทอดความรู้ (เช่น เกษตรอัจฉริยะ, การลดต้นทุน) ทำให้การเกษตรไทยย่ำอยู่กับที่และสู้คู่แข่งในตลาดโลกไม่ได้ -ระบบข้อมูลเกษตรกรล้มเหลว: ข้อมูลการเพาะปลูก (Big Data) จะกระจัดกระจาย ทำให้รัฐไม่สามารถคาดการณ์ความเสียหายจากภัยธรรมชาติ หรือวางแผนการเพาะปลูกล่วงหน้าได้เลย 3. ด้านสังคมและความมั่นคงทางอาหาร - ความเหลื่อมล้ำและหนี้สินเพิ่มสูงขึ้น: เกษตรกรจำนวนมากอาจต้องละทิ้งอาชีพ ขาดทุนจนต้องขายที่ดินทำกิน และอพยพเข้าสู่เมืองหลวง เกิดปัญหาทางสังคมตามมา - กระทบความมั่นคงทางอาหาร (Food Security): การผลิตอาหารของประเทศจะขาดเสถียรภาพ ซึ่งอาจส่งผลให้สินค้าอุปโภคบริโภคขาดแคลนหรือมีราคาสูงขึ้น กระทบต่อผู้บริโภคทั้งประเทศ - ขาดการจัดการทรัพยากรอย่างยั่งยืน: ปัญหาการแย่งชิงน้ำเพื่อการเกษตร การใช้สารเคมีเกินขนาด หรือการบุกรุกพื้นที่ป่าจะรุนแรงขึ้น เนื่องจากไม่มีหน่วยงานกลางคอยบริหารจัดการและให้คำแนะนำ | AE35: 1. แบบสอบถามออนไลน์ (Google form) 2. เว็บไชต์ สำนักงาน 3. ระบบประชุม Zoom Meeting | AF35: 1. การรับฟังความคิดเห็น/ข้อเสนอแนะ (แบบสอบถามออนไลน์) 2. การเผยแพร่เอกสารประกอบการประชุม/รายงานการประชุม/มติที่ประชุม/ภาพข่าวประชาสัมพันธ์ผ่านเว็ยไชต์สำนักงาน 3. การประชุมออนไลน์ ผ่านระบบประชุม Zoom Meeting | AG35: การเผยแพร่ข้อมูลผ่านเว็บไซต์ช่วยให้ผู้รับบริการ (เกษตรกร/ภาคีเครือข่าย แลถภาคส่วนที่เกี่ยวข้อง) เข้าถึงข้อมูลได้ตลอด 24 ชั่วโมงจากทุกที่ และช่วยสร้างความน่าเชื่อถือให้กับสำนักงานเกษตรและสหกรณ์จังหวัดได้อย่างมีประสิทธิภาพเกิดความรวดเร็วในการสื่อสาร ประหยัดงบประมาณจากการจัดประชุมออนไลน์ เพิ่มความสามารถ/สะดวกรวดเร็วในการเข้าถึงแผนพัฒนาการเกษตรและสหกรณ์ - เข้าถึงได้ตลอดเวลา: ผู้ใช้งานสามารถเปิดดูข้อมูล ข่าวสาร หรือบริการได้ตลอด 24 ชั่วโมง โดยไม่มีวันหยุดราชการ หรือนอกเวลาทำการ - เป็นศูนย์กลางข้อมูล: ช่วยรวบรวมเนื้อหา รายละเอียดสินค้า หรือบทความไว้อย่างเป็นระบบในที่เดียว ทำให้ค้นหาและจัดการได้ง่าย - สร้างความน่าเชื่อถือ: ช่วยเสริมภาพลักษณ์ความทันสมัยและความเป็นมืออาชีพให้กับสำนักงานเกษตรและสหกรณ์จังหวัด - เพิ่มการมองเห็นผ่าน Google: ข้อมูลบนเว็บไซต์สามารถถูกค้นพบได้ง่ายผ่านเครื่องมือค้นหา ช่วยขยายฐานกลุ่มเป้าหมายในวงกว้าง - ประหยัดงบประมาณ : ลดค่าใช้จ่ายในการพิมพ์เอกสารหรือโฆษณาประชาสัมพันธ์ผ่านสื่อรูปแบบเดิม | AH35: 1. เพิ่มประสิทธิภาพการทำงานด้วยการบุรณาการทำงานอย่างจริงจังผ่านกลไกการขับเคลื่อนงานด้านการเกษตรทุกระดับ (SCP/SCD) | AI35: คงภารกิจและรูปแบบปัจจุบัน | AJ35: การนำเทคโนโลยีดิจิทัลมาสนับสนุนการทำงาน | AK35: ผู้รับผิดชอบข้อมูล. นางสาวจิรนันท์ ยอดดำ ตำแหน่ง นักวิเคราะห์นโยบายและแผนชำนาญการ โทร. 089 655 4566
A36: 8. ดำเนินการให้เป็นไปตามที่กฎหมายกำหนด
A37: 8.1 โครงการตรวจรับรองร้านอาหารวัตถุดิบปลอดภัยเลือกใช้สินค้า Q (Q restaurant) | B37: 1) เพื่อส่งเสริมการบริโภค และการใช้วัตถุดิบจากสินค้า Q ที่มีความปลอดภัยตามมาตรฐานสินค้าเกษตร 2) เพื่อสร้างโอกาสให้ผู้ผลิตที่รับรองตนเองว่าผลผลิตปลอดภัย เข้าสู่ร้านอาหาร และได้รับการยอมรับจากผู้บริโภค และสร้างแรงจูงใจให้เกษตรกรหรือผู้ผลิต ผลิตสินค้าที่มีความปลอดภัย ได้มาตรฐานเพิ่มมากขึ้น 3) เพื่อเพิ่มช่องทางการจำหน่ายสินค้าที่มีความปลอดภัย และสร้างความตระหนักให้ผู้บริโภค ได้เลือกซื้อและบริโภคสินค้าเกษตรและอาหารที่มีความปลอดภัย และถูกสุขลักษณะ | C37: 1) สนับสนุนร้านอาหารให้ผ่านการรับรองและรักษาระบบมาตรฐานอย่างต่อเนื่อง 2) ยกระดับร้านอาหาร Q Restaurant สู่ระดับพรีเมียม 3) สร้างแรงจูงใจให้เกษตรกรผลิตสินค้าปลอดภัยที่มีคุณภาพ | D37: 20 | E37: 21 | F37: 23 | G37: 28 | H37: 33 | I37: 38 | J37: เพิ่มขึ้น | K37: ร้านอาหารใช้วัตถุดิบที่ปลอดภัย ได้มาตรฐานเพิ่มขึ้น | L37: ได้ เพราะผู้ประกอบการสามารถประสานผ่านหน่วยงานที่เกี่ยวข้องในระดับจังหวัด เพื่อแจ้งขอเข้าร่วมโครงการฯกับสำนักงานเกษตรและสหกรณ์จังหวัด | M37: มี | N37: 1) สำนักงานเกษตรจังหวัด 2) สำนักงานประมงจังหวัด 3) สำนักงานปศุสัตว์จังหวัด 4) สำนักงานวิจัยและพัฒนาการเกษตรเขตที่ 8 5) ศูนย์วิจัยและตรวจสอบคุณภาพสินค้าประมง 6) ศูนย์วิจัยและพัฒนาคุณภาพสัตว์น้ำสงขลา 7) ศูนย์เมล็ดพันธุ์ข้าวปัตตานี 8) สำนักงานสาธารณสุขจังหวัดสงขลา | O37: มี | P37: 1) สำนักงานเกษตรจังหวัด 2) สำนักงานประมงจังหวัด 3) สำนักงานปศุสัตว์จังหวัด 4) สำนักงานวิจัยและพัฒนาการเกษตรเขตที่ 8 5) ศูนย์วิจัยและตรวจสอบคุณภาพสินค้าประมง 6) ศูนย์วิจัยและพัฒนาคุณภาพสัตว์น้ำสงขลา 7) ศูนย์เมล็ดพันธุ์ข้าวปัตตานี | Q37: แหล่งผลิตสินค้าเกษตรปลอดภัย ประเภทแปลง/ฟาร์ม/โรงงาน ที่ได้รับการรับรองจากหน่วยงานที่เกี่ยวข้อง เป็นแหล่งข้อมูลวัตถุดิบปลอดภัยในจังหวัดที่ผู้ประกอบการร้านอาหารสามารถนำวัตถุดิบมาใช้ได้ | R37: มี | S37: 1) สำนักงานมาตรฐานสินค้าเกษตรและอาหารแห่งชาติ 2) หน่วยงานที่เกี่ยวข้อง 3) สถานประกอบการที่เข้าร่วมโครงการ | T37: 1) ออกป้ายรับรองร้านอาหารเลือกใช้วัตถุดิบปลอดภัย และยกระดับเป็นร้านอาหาร Q พรีเมี่ยม จากร้านอาหารที่เข้าร่วมโครงการในระดับจังหวัดมากกว่า 1 ปี และเลือกใช้สินค้า Q มากกว่า 10 ชนิดขึ้นไป 2) เผยแพร่ประชาสัมพันธ์แหล่งผลิตและแปรรูปอาหารปลอดภัยในจังหวัด 3) สร้างความเชื่อมั่นให้ผู้บริโภค | U37: หน่วยงานที่เกี่ยวข้อง จำนวน 8 หน่วยงาน ตาม คำสั่งจังหวัดสงขลาที่ 6664/2566 เรื่องแต่งตั้งคณะทำงานบูรณาการการดำเนินงานโครงการที่เกี่ยวข้องกับมาตรฐานและความปลอดภัยของสินค้าเกษตร จังหวัดสงขลา | V37: 1) ร่วมบูรณาการ ประชาสัมพันธ์ และรับสมัครร้านอาหารที่ประสงค์เข้าร่วมโครงการฯ 2) ร่วมลงพื้นที่ตรวจประเมินและให้การรับรอง 3) ร่วมมอบป้ายรับรองร้านอาหารเลือกใช้วัตถุดิบปลอดภัย | W37: ถ่ายโอนได้ | X37: สำนักงานสาธารณสุขจังหวัด | Y37: พระราชบัญญัติมาตรฐานสินค้าเกษตรแห่งชาติ พ.ศ.2551 | Z37: ไม่มี | AA37: จำเป็นมาก | AC37: มาก | AD37: ร้านอาหารไม่ตระหนักแบะใช้วัตถุดิบที่หาได้ในท้องตลาดใกล้ตัว | AE37: ชุดทดสอบอาหารค่าสารพิษในอาหาร | AF37: การเข้าตรวจประเมินก่อนการรับรอง | AG37: มีความน่าเชื่อถือมากขึ้น | AH37: การใช้คณะทำงานแบบบูรณาการแบบมีส่วนร่วม | AI37: คงภารกิจและรูปแบบปัจจุบัน | AJ37: ควรจัดอบรมเจ้าหน้าที่ประสานงานโครงการภายในไตรมาส 1 เพื่อให้การดำเนินงานโครงการมีประสิทธิภาพมากขึ้น (ไม่ล่าช้า)
A38: 9. ภารกิจสนับสนุนการปฏิบัติงานของหน่วยงานอื่นที่เกี่ยวข้องหรือที่ได้รับมอบหมาย
A39: 9.1การขับเคลื่อนการปฏิบัติงานที่สำคัญเชิงพื้นที่ในฐานะผู้แทนกระทรวงเกษตรและสหกรณ์ตามที่ผู้ว่าราชการจังหวัดมอบหมาย | J39: ระบุ | M39: ระบุ | O39: ระบุ | R39: ระบุ | W39: ระบุ | AA39: ระบุ | AC39: ระบุ | AI39: ระบุ
A40: 9.2 การจัดงานวันพระบิดาแห่งฝนหลวงประจำปี | B40: จัดพิธีวางพานพุ่มดอกไม้สดถวายราชสักการะ พระบาทสมเด็จพระบรมชนกาธิเบศร มหาภูมิพลอดุลยเดชมหาราช บรมนาถบพิต | D40: 280 | E40: 290 | F40: 300 | G40: 320 | H40: 330 | I40: 340 | J40: เพิ่มขึ้น | K40: ส่วนราชการให้ความสำคัญกับการเข้าร่วมพิธี | L40: เป็นภารกิจที่ได้รับหมอบหมายจากกระทรวงเกษตรและสหกรณ์ เพื่อให้ดำเนินการจัดพิธีในส่วนภูมิภาคระดับจังหวัด | M40: ไม่มี | O40: ระบุ | R40: ระบุ | W40: ระบุ | AA40: ระบุ | AC40: ระบุ | AI40: ระบุ
A41: 9.3 การจัดทำปฏิทินสินค้าเกษตรประจำปี | B41: เพื่อใช้ประโยชน์เพื่อการวางแผนเรื่องความมั่นคงอาหารและส่งเสริมเศรษฐกิจในชุมชนและท้องถิ่น | C41: เล่มข้อมูลการจัดทำปฏิทินผลผลิตสินค้าเกษตรรายเดือนระดับจังหวัด จังหวัดสงขลา จำนวน 1 เล่ม | D41: 100 | E41: 100 | F41: 100 | G41: 100 | H41: 100 | I41: 100 | J41: เพิ่มขึ้น | K41: ชนิดสินค้าเพิ่มขึ้น เช่น สินค้า GI / เกษตรอัตลักษณ์/สินค้าเด่น | L41: ไม่มี | M41: ไม่มี | N41: - | O41: มี | P41: 1. สำนักงานเกษตรอำเภอ 2. สำนักงานปศุสัตว์อำเภอ 3. สำนักงานประมงอำเภอ | Q41: 1. สำนักงานเกษตรอำเภอ 2. สำนักงานปศุสัตว์อำเภอ 3. สำนักงานประมงอำเภอ 4. คณะทำงานขับเคลื่อนงานด้านการเกษตรระดับอำเภอ | R41: มี | S41: 1. สำนักงานเกษตรจังหวัด 2. สำนักงานปศุสัตว์จังหวัด 3. สำนักงานประมงจังหวัด 4. สำนักงานเกษตรและสหกรณ์จังหวัด | T41: 1. ผู้ว่าราชการจังหวัด 2. สำนักงานเศรษฐกิจการเกษตร | U41: 1. สำนักงานเกษตรอำเภอ/จังหวัด 2. สำนักงานปศุสัตว์อำเภอ/จังหวัด 3. สำนักงานประมงอำเภอ/จังหวัด 4. คณะทำงานขับเคลื่อนงานด้านการเกษตรระดับอำเภอ 5. คณะทำงาการขับเคลื่อนงานด้านการเกษตรจังหวัด | V41: 1. สำนักงานเกษตรอำเภอ/สำนักงานปศุสัตว์อำเภอ/สำนักงานประมงอำเภอ ดำเนินการบันทึกข้อมูลในระบบ https://pcc.oae.go.th/login แล้วกดส่งข้อมูลให้ สำนักงานเกษตรจังหวัด/สำนักงานปศุสัตว์จังหวัด/สำนักงานประมงจังหวัด ตรวจสอบข้อมูล 2. หลังจากหน่วยงานทั้ง 3 ด้าน ระดับจังหวัด ดำเนินการตรวจสอบข้อมูลถูกต้องเรียบร้อยแล้ว กดส่งข้อมูลให้สำนักงานเกษตรและสหกรณ์จังหวัด เพื่อกดยืนยันการส่งข้อมูลให้ สำนักงานเศรษฐกิจการเกษตร ตรวจสอบข้อมูล 3. สำนักงานเศรษฐกิจการเกษตร ตรวจสอบความถูกต้องและแจ้งสำนักงานเกษตรและสหกรณ์จังหวัด 4. สำนักงานเกษตรและสหกรณ์จังหวัด นำเข้าที่ประชุม คณะกรรมการขับเคลื่อนงานด้านการเกษตรจังหวัดสงขลา และคณะทำงานอนุกรรมการพัฒนาด้านการเกษตรและสหกรณ์ระดับจังหวัด จังหวัดสงขลา 5. สำนักงานเกษตรและสหกรณ์จังหวัด จัดทำรูปเล่มเอกสาร และทำหนังสือนำเรียนผู้ว่าราชการจังหวัด เพื่อนำส่งเอกสารให้สำนักงานเศรษฐกิจการเกษตร | W41: ระบุ | AA41: จำเป็นมาก | AC41: มาก | AD41: ขาดข้อมูลในการคาดการณ์สถานการณ์การผลิตในปีถัดไป | AI41: คงภารกิจและรูปแบบปัจจุบัน | AJ41: 1. หน่วยงานระดับอำเภอ จัดทำข้อมูลในระบบ ส่งให้หน่วงานระดับจังหวัด ตรวจสอบ 2. สำนักงานเกษตรและสหกรณ์จังหวัด ดำเนินการรวบรวมข้อมูล ทั้ง 3 ด้าน และจัดทำเป็นรูปเล่ม และนำเรียนผู้ว่าราชการจังหวัด และคณะทำงานที่เกี่ยวข้องฯ เพื่อนำข้อมูลไปใช้ในการวางแผนต่อไป | AK41: ข้อ 2 : จำนวนผู้รับบริการ - อพก. 35 คน - หน่วยงานในสังกัดกระทรวงเกษตรและสหกรณ์จังหวัดสงขลา 49 หน่วยงาน - คณะทำงานขับเคลื่อนงานด้านการเกษตรระดับอำเภอ 16 คน

Sheet อัตรากำลัง
A2: สำนักงานปลัดกระทรวงเกษตรและสหกรณ์ | D2: ที่ตั้งหน่วยงาน | F2: พื้นที่รับผิดชอบ | G2: อัตรากำลัง (กรอบ)
A3: ชื่อส่วนราชการในภูมิภาค | B3: สถานะของ ส่วนราชการ ในภูมิภาค | C3: ประเภทของ ส่วนราชการ | D3: อำเภอ/เขต | E3: จังหวัด | G3: ขรก. | H3: พรก. | I3: ลจป. | J3: ลูกจ้างเหมาบริการและลูกจ้างโครงการ
A4: สำนักงานเกษตรและสหกรณ์จังหวัดกระบี่ | B4: กอง | C4: ส่วนภูมิภาค | D4: เมืองกระบี่ | E4: กระบี่ | F4: กระบี่ | G4: =+VLOOKUP($A4,กรอบอัตรากำลังทั่วประเทศ!$A:$E,2,0) -> 8 | H4: =+VLOOKUP($A4,กรอบอัตรากำลังทั่วประเทศ!$A:$E,3,0) -> 7 | I4: =+VLOOKUP($A4,กรอบอัตรากำลังทั่วประเทศ!$A:$E,4,0) -> 0
A5: -ฝ่ายบริหารทั่วไป
A6: -กลุ่มยุทธศาสตร์พัฒนาเกษตรกร
A7: -กลุ่มช่วยเหลือเกษตรกรและโครงการพิเศษ
A8: -กลุ่มสารสนเทศการเกษตร
A9: สำนักงานเกษตรและสหกรณ์จังหวัดกาญจนบุรี | B9: กอง | C9: ส่วนภูมิภาค | D9: เมืองกาญจนบุรี | E9: กาญจนบุรี | F9: กาญจนบุรี | G9: =+VLOOKUP($A9,กรอบอัตรากำลังทั่วประเทศ!$A:$E,2,0) -> 9 | H9: =+VLOOKUP($A9,กรอบอัตรากำลังทั่วประเทศ!$A:$E,3,0) -> 6 | I9: =+VLOOKUP($A9,กรอบอัตรากำลังทั่วประเทศ!$A:$E,4,0) -> 0
A10: -ฝ่ายบริหารทั่วไป
A11: -กลุ่มยุทธศาสตร์พัฒนาเกษตรกร
A12: -กลุ่มช่วยเหลือเกษตรกรและโครงการพิเศษ
A13: -กลุ่มสารสนเทศการเกษตร
A14: สำนักงานเกษตรและสหกรณ์จังหวัดกาฬสินธุ์ | B14: กอง | C14: ส่วนภูมิภาค | D14: เมืองกาฬสินธุ์ | E14: กาฬสินธุ์ | F14: กาฬสินธุ์ | G14: =+VLOOKUP($A14,กรอบอัตรากำลังทั่วประเทศ!$A:$E,2,0) -> 10 | H14: =+VLOOKUP($A14,กรอบอัตรากำลังทั่วประเทศ!$A:$E,3,0) -> 5 | I14: =+VLOOKUP($A14,กรอบอัตรากำลังทั่วประเทศ!$A:$E,4,0) -> 0
A15: -ฝ่ายบริหารทั่วไป
A16: -กลุ่มยุทธศาสตร์พัฒนาเกษตรกร
A17: -กลุ่มช่วยเหลือเกษตรกรและโครงการพิเศษ
A18: -กลุ่มสารสนเทศการเกษตร
A19: สำนักงานเกษตรและสหกรณ์จังหวัดกำแพงเพชร | B19: กอง | C19: ส่วนภูมิภาค | D19: เมืองกำแพงเพชร | E19: กำแพงเพชร | F19: กำแพงเพชร | G19: =+VLOOKUP($A19,กรอบอัตรากำลังทั่วประเทศ!$A:$E,2,0) -> 10 | H19: =+VLOOKUP($A19,กรอบอัตรากำลังทั่วประเทศ!$A:$E,3,0) -> 6 | I19: =+VLOOKUP($A19,กรอบอัตรากำลังทั่วประเทศ!$A:$E,4,0) -> 2
A20: -ฝ่ายบริหารทั่วไป
A21: -กลุ่มยุทธศาสตร์พัฒนาเกษตรกร
A22: -กลุ่มช่วยเหลือเกษตรกรและโครงการพิเศษ
A23: -กลุ่มสารสนเทศการเกษตร
A24: สำนักงานเกษตรและสหกรณ์จังหวัดขอนแก่น | B24: กอง | C24: ส่วนภูมิภาค | D24: เมืองขอนแก่น | E24: ขอนแก่น | F24: ขอนแก่น | G24: =+VLOOKUP($A24,กรอบอัตรากำลังทั่วประเทศ!$A:$E,2,0) -> 12 | H24: =+VLOOKUP($A24,กรอบอัตรากำลังทั่วประเทศ!$A:$E,3,0) -> 11 | I24: =+VLOOKUP($A24,กรอบอัตรากำลังทั่วประเทศ!$A:$E,4,0) -> 2
A25: -ฝ่ายบริหารทั่วไป
A26: -กลุ่มยุทธศาสตร์พัฒนาเกษตรกร
A27: -กลุ่มช่วยเหลือเกษตรกรและโครงการพิเศษ
A28: -กลุ่มสารสนเทศการเกษตร
A29: สำนักงานเกษตรและสหกรณ์จังหวัดจันทบุรี | B29: กอง | C29: ส่วนภูมิภาค | D29: เมืองจันทบุรี | E29: จันทบุรี | F29: จันทบุรี | G29: =+VLOOKUP($A29,กรอบอัตรากำลังทั่วประเทศ!$A:$E,2,0) -> 9 | H29: =+VLOOKUP($A29,กรอบอัตรากำลังทั่วประเทศ!$A:$E,3,0) -> 7 | I29: =+VLOOKUP($A29,กรอบอัตรากำลังทั่วประเทศ!$A:$E,4,0) -> 1
A30: -ฝ่ายบริหารทั่วไป
A31: -กลุ่มยุทธศาสตร์พัฒนาเกษตรกร
A32: -กลุ่มช่วยเหลือเกษตรกรและโครงการพิเศษ
A33: -กลุ่มสารสนเทศการเกษตร
A34: สำนักงานเกษตรและสหกรณ์จังหวัดฉะเชิงเทรา | B34: กอง | C34: ส่วนภูมิภาค | D34: เมืองฉะเชิงเทรา | E34: ฉะเชิงเทรา | F34: ฉะเชิงเทรา | G34: =+VLOOKUP($A34,กรอบอัตรากำลังทั่วประเทศ!$A:$E,2,0) -> 10 | H34: =+VLOOKUP($A34,กรอบอัตรากำลังทั่วประเทศ!$A:$E,3,0) -> 7 | I34: =+VLOOKUP($A34,กรอบอัตรากำลังทั่วประเทศ!$A:$E,4,0) -> 1
A35: -ฝ่ายบริหารทั่วไป
A36: -กลุ่มยุทธศาสตร์พัฒนาเกษตรกร
A37: -กลุ่มช่วยเหลือเกษตรกรและโครงการพิเศษ
A38: -กลุ่มสารสนเทศการเกษตร
A39: สำนักงานเกษตรและสหกรณ์จังหวัดชลบุรี | B39: กอง | C39: ส่วนภูมิภาค | D39: เมืองชลบุรี | E39: ชลบุรี | F39: ชลบุรี | G39: =+VLOOKUP($A39,กรอบอัตรากำลังทั่วประเทศ!$A:$E,2,0) -> 9 | H39: =+VLOOKUP($A39,กรอบอัตรากำลังทั่วประเทศ!$A:$E,3,0) -> 6 | I39: =+VLOOKUP($A39,กรอบอัตรากำลังทั่วประเทศ!$A:$E,4,0) -> 2
A40: -ฝ่ายบริหารทั่วไป
A41: -กลุ่มยุทธศาสตร์พัฒนาเกษตรกร
A42: -กลุ่มช่วยเหลือเกษตรกรและโครงการพิเศษ
A43: -กลุ่มสารสนเทศการเกษตร
A44: สำนักงานเกษตรและสหกรณ์จังหวัดชัยนาท | B44: กอง | C44: ส่วนภูมิภาค | D44: เมืองชัยนาท | E44: ชัยนาท | F44: ชัยนาท | G44: =+VLOOKUP($A44,กรอบอัตรากำลังทั่วประเทศ!$A:$E,2,0) -> 10 | H44: =+VLOOKUP($A44,กรอบอัตรากำลังทั่วประเทศ!$A:$E,3,0) -> 6 | I44: =+VLOOKUP($A44,กรอบอัตรากำลังทั่วประเทศ!$A:$E,4,0) -> 1
A45: -ฝ่ายบริหารทั่วไป
A46: -กลุ่มยุทธศาสตร์พัฒนาเกษตรกร
A47: -กลุ่มช่วยเหลือเกษตรกรและโครงการพิเศษ
A48: -กลุ่มสารสนเทศการเกษตร
A49: สำนักงานเกษตรและสหกรณ์จังหวัดชัยภูมิ | B49: กอง | C49: ส่วนภูมิภาค | D49: เมืองชัยภูมิ | E49: ชัยภูมิ | F49: ชัยภูมิ | G49: =+VLOOKUP($A49,กรอบอัตรากำลังทั่วประเทศ!$A:$E,2,0) -> 11 | H49: =+VLOOKUP($A49,กรอบอัตรากำลังทั่วประเทศ!$A:$E,3,0) -> 5 | I49: =+VLOOKUP($A49,กรอบอัตรากำลังทั่วประเทศ!$A:$E,4,0) -> 0
A50: -ฝ่ายบริหารทั่วไป
A51: -กลุ่มยุทธศาสตร์พัฒนาเกษตรกร
A52: -กลุ่มช่วยเหลือเกษตรกรและโครงการพิเศษ
A53: -กลุ่มสารสนเทศการเกษตร
A54: สำนักงานเกษตรและสหกรณ์จังหวัดชุมพร | B54: กอง | C54: ส่วนภูมิภาค | D54: เมืองชุมพร | E54: ชุมพร | F54: ชุมพร | G54: =+VLOOKUP($A54,กรอบอัตรากำลังทั่วประเทศ!$A:$E,2,0) -> 8 | H54: =+VLOOKUP($A54,กรอบอัตรากำลังทั่วประเทศ!$A:$E,3,0) -> 7 | I54: =+VLOOKUP($A54,กรอบอัตรากำลังทั่วประเทศ!$A:$E,4,0) -> 0
A55: -ฝ่ายบริหารทั่วไป
A56: -กลุ่มยุทธศาสตร์พัฒนาเกษตรกร
A57: -กลุ่มช่วยเหลือเกษตรกรและโครงการพิเศษ
A58: -กลุ่มสารสนเทศการเกษตร
A59: สำนักงานเกษตรและสหกรณ์จังหวัดเชียงราย | B59: กอง | C59: ส่วนภูมิภาค | D59: เมืองเชียงราย | E59: เชียงราย | F59: เชียงราย | G59: =+VLOOKUP($A59,กรอบอัตรากำลังทั่วประเทศ!$A:$E,2,0) -> 11 | H59: =+VLOOKUP($A59,กรอบอัตรากำลังทั่วประเทศ!$A:$E,3,0) -> 5 | I59: =+VLOOKUP($A59,กรอบอัตรากำลังทั่วประเทศ!$A:$E,4,0) -> 2
A60: -ฝ่ายบริหารทั่วไป
A61: -กลุ่มยุทธศาสตร์พัฒนาเกษตรกร
A62: -กลุ่มช่วยเหลือเกษตรกรและโครงการพิเศษ
A63: -กลุ่มสารสนเทศการเกษตร
A64: สำนักงานเกษตรและสหกรณ์จังหวัดเชียงใหม่ | B64: กอง | C64: ส่วนภูมิภาค | D64: เมืองเชียงใหม่ | E64: เชียงใหม่ | F64: เชียงใหม่ | G64: =+VLOOKUP($A64,กรอบอัตรากำลังทั่วประเทศ!$A:$E,2,0) -> 11 | H64: =+VLOOKUP($A64,กรอบอัตรากำลังทั่วประเทศ!$A:$E,3,0) -> 9 | I64: =+VLOOKUP($A64,กรอบอัตรากำลังทั่วประเทศ!$A:$E,4,0) -> 0
A65: -ฝ่ายบริหารทั่วไป
A66: -กลุ่มยุทธศาสตร์พัฒนาเกษตรกร
A67: -กลุ่มช่วยเหลือเกษตรกรและโครงการพิเศษ
A68: -กลุ่มสารสนเทศการเกษตร
A69: สำนักงานเกษตรและสหกรณ์จังหวัดตรัง | B69: กอง | C69: ส่วนภูมิภาค | D69: เมืองตรัง | E69: ตรัง | F69: ตรัง | G69: =+VLOOKUP($A69,กรอบอัตรากำลังทั่วประเทศ!$A:$E,2,0) -> 10 | H69: =+VLOOKUP($A69,กรอบอัตรากำลังทั่วประเทศ!$A:$E,3,0) -> 6 | I69: =+VLOOKUP($A69,กรอบอัตรากำลังทั่วประเทศ!$A:$E,4,0) -> 2
A70: -ฝ่ายบริหารทั่วไป
A71: -กลุ่มยุทธศาสตร์พัฒนาเกษตรกร
A72: -กลุ่มช่วยเหลือเกษตรกรและโครงการพิเศษ
A73: -กลุ่มสารสนเทศการเกษตร
A74: สำนักงานเกษตรและสหกรณ์จังหวัดตราด | B74: กอง | C74: ส่วนภูมิภาค | D74: เมืองตราด | E74: ตราด | F74: ตราด | G74: =+VLOOKUP($A74,กรอบอัตรากำลังทั่วประเทศ!$A:$E,2,0) -> 9 | H74: =+VLOOKUP($A74,กรอบอัตรากำลังทั่วประเทศ!$A:$E,3,0) -> 6 | I74: =+VLOOKUP($A74,กรอบอัตรากำลังทั่วประเทศ!$A:$E,4,0) -> 1
A75: -ฝ่ายบริหารทั่วไป
A76: -กลุ่มยุทธศาสตร์พัฒนาเกษตรกร
A77: -กลุ่มช่วยเหลือเกษตรกรและโครงการพิเศษ
A78: -กลุ่มสารสนเทศการเกษตร
A79: สำนักงานเกษตรและสหกรณ์จังหวัดตาก | B79: กอง | C79: ส่วนภูมิภาค | D79: เมืองตาก | E79: ตาก | F79: ตาก | G79: =+VLOOKUP($A79,กรอบอัตรากำลังทั่วประเทศ!$A:$E,2,0) -> 10 | H79: =+VLOOKUP($A79,กรอบอัตรากำลังทั่วประเทศ!$A:$E,3,0) -> 6 | I79: =+VLOOKUP($A79,กรอบอัตรากำลังทั่วประเทศ!$A:$E,4,0) -> 0
A80: -ฝ่ายบริหารทั่วไป
A81: -กลุ่มยุทธศาสตร์พัฒนาเกษตรกร
A82: -กลุ่มช่วยเหลือเกษตรกรและโครงการพิเศษ
A83: -กลุ่มสารสนเทศการเกษตร
A84: สำนักงานเกษตรและสหกรณ์จังหวัดนครนายก | B84: กอง | C84: ส่วนภูมิภาค | D84: เมืองนครนายก | E84: นครนายก | F84: นครนายก | G84: =+VLOOKUP($A84,กรอบอัตรากำลังทั่วประเทศ!$A:$E,2,0) -> 8 | H84: =+VLOOKUP($A84,กรอบอัตรากำลังทั่วประเทศ!$A:$E,3,0) -> 6 | I84: =+VLOOKUP($A84,กรอบอัตรากำลังทั่วประเทศ!$A:$E,4,0) -> 0
A85: -ฝ่ายบริหารทั่วไป
A86: -กลุ่มยุทธศาสตร์พัฒนาเกษตรกร
A87: -กลุ่มช่วยเหลือเกษตรกรและโครงการพิเศษ
A88: -กลุ่มสารสนเทศการเกษตร
A89: สำนักงานเกษตรและสหกรณ์จังหวัดนครปฐม | B89: กอง | C89: ส่วนภูมิภาค | D89: เมืองนครปฐม | E89: นครปฐม | F89: นครปฐม | G89: =+VLOOKUP($A89,กรอบอัตรากำลังทั่วประเทศ!$A:$E,2,0) -> 9 | H89: =+VLOOKUP($A89,กรอบอัตรากำลังทั่วประเทศ!$A:$E,3,0) -> 5 | I89: =+VLOOKUP($A89,กรอบอัตรากำลังทั่วประเทศ!$A:$E,4,0) -> 1
A90: -ฝ่ายบริหารทั่วไป
A91: -กลุ่มยุทธศาสตร์พัฒนาเกษตรกร
A92: -กลุ่มช่วยเหลือเกษตรกรและโครงการพิเศษ
A93: -กลุ่มสารสนเทศการเกษตร
A94: สำนักงานเกษตรและสหกรณ์จังหวัดนครพนม | B94: กอง | C94: ส่วนภูมิภาค | D94: เมืองนครพนม | E94: นครพนม | F94: นครพนม | G94: =+VLOOKUP($A94,กรอบอัตรากำลังทั่วประเทศ!$A:$E,2,0) -> 8 | H94: =+VLOOKUP($A94,กรอบอัตรากำลังทั่วประเทศ!$A:$E,3,0) -> 6 | I94: =+VLOOKUP($A94,กรอบอัตรากำลังทั่วประเทศ!$A:$E,4,0) -> 0
A95: -ฝ่ายบริหารทั่วไป
A96: -กลุ่มยุทธศาสตร์พัฒนาเกษตรกร
A97: -กลุ่มช่วยเหลือเกษตรกรและโครงการพิเศษ
A98: -กลุ่มสารสนเทศการเกษตร
A99: สำนักงานเกษตรและสหกรณ์จังหวัดนครราชสีมา | B99: กอง | C99: ส่วนภูมิภาค | D99: เมืองนครราชสีมา | E99: นครราชสีมา | F99: นครราชสีมา | G99: =+VLOOKUP($A99,กรอบอัตรากำลังทั่วประเทศ!$A:$E,2,0) -> 10 | H99: =+VLOOKUP($A99,กรอบอัตรากำลังทั่วประเทศ!$A:$E,3,0) -> 6 | I99: =+VLOOKUP($A99,กรอบอัตรากำลังทั่วประเทศ!$A:$E,4,0) -> 0
A100: -ฝ่ายบริหารทั่วไป
A101: -กลุ่มยุทธศาสตร์พัฒนาเกษตรกร
...

Sheet แบบฟอร์มทบทวนภารกิจ 2
A1: แบบฟอร์มการทบทวนภารกิจในพื้นที่ในการจัดส่วนราชการในภูมิภาคของสำนักงานปลัดกระทรวงเกษตรและสหกรณ์
A2: หน่วยงาน สำนักงานเกษตรและสหกรณ์จังหวัด......................
A3: ส่วนที่ 2
A5: 10. การวิเคราะห์ภารกิจของส่วนราชการในอนาคต
B6: 10.1 ภารกิจใหม่ที่คาดว่าจะเกิดในอนาคต โปรดระบุชื่อภารกิจ ..................................................................................................
B7: 10.2 กฎหมายที่คาดว่าจะมีในอนาคต (ถ้ามี โปรดระบุชื่อกฎหมาย) ...........................................................................................
B8: 10.3 ผู้รับบริการในอนาคต (โปรดระบุรายละเอียด) .......................................................................................................................
B9: 10.4 ปริมาณงานที่คาดว่าจะเกิดขึ้น (โปรดระบุรายละเอียด)..........................................................................................................
B10: 10.5 ผลผลิต หรือสิ่งที่จะส่งมอบให้ผู้รับบริการ (โปรดระบุรายละเอียด) ....................................................................................
A11: 11. ข้อเสนอการปรับโครงสร้างตามหลักการ One Roof กรณีที่ยังจำเป็นต้องทำภารกิจในพื้นที่ (โปรดอธิบายพอสังเขป)
A12: พร้อมแนบไฟล์รูปภาพแสดงโครงสร้างตามข้อเสนอ One Roof ที่ชัดเจน
A13: ...................................................................................................................................................................................................................................
A14: ...................................................................................................................................................................................................................................
A15: ...................................................................................................................................................................................................................................
A16: 12. ข้อเสนอเพื่อเพิ่มประสิทธิภาพต่อหน่วยงานอื่นในพื้นที่
B17: 12.1 ระบุชื่อหน่วยงานในพื้นที่ และกรมที่สังกัด .............................................................................................................................
B18: 12.2 ระบุชื่อภารกิจ ...................................................................................................................................................................................
B19: 12.3 ข้อเสนอเพื่อปรับปรุง/เพิ่มประสิทธิภาพ (โปรดระบุรายละเอียด) ......................................................................................
A21: หมายเหตุ : แนวทางการดำเนินการจัดทำข้อเสนอของส่วนราชการ
B22: ๑) กรณีไม่มีความจำเป็นต้องมีหน่วยงานในพื้นที่ : ส่วนราชการจัดทำข้อเสนอเพื่อปรับภารกิจไปยังส่วนกลาง พร้อมข้อเสนอด้านบุคลากรอัตรากำลัง ข้อเสนอการดำเนินการโดยวิธีการอื่นตามแนวทางเพิ่มประสิทธิภาพ และข้อเสนออื่น ๆ ที่เกี่ยวข้อง พร้อมจัดทำแผนเปลี่ยนผ่าน (Transition Plan) ทั้ง ๒ ระยะ
B23: ๒) กรณียังมีความจำเป็นต้องมีหน่วยงานในพื้นที่ : ส่วนราชการจัดทำข้อเสนอการปรับเปลี่ยนจากส่วนกลางในภูมิภาคเป็นราชการส่วนภูมิภาค และหรือข้อเสนอการรวมหน่วยงานในสังกัดกระทรวงที่ตั้งอยู่ในพื้นที่ไปอยู่ภายใต้ส่วนราชการเดียว (One Roof) รวมทั้งข้อเสนออื่น ๆ ที่เกี่ยวข้อง พร้อมจัดทำแผนเปลี่ยนผ่าน (Transition Plan) ทั้ง ๒ ระยะ
B24: ๓) หากส่วนราชการมีเอกสาร / ข้อมูลเพิ่มเติมที่สำคัญที่ประกอบการวิเคราะห์ภารกิจ ผ่าน Google Forms สามารถเพิ่มเติมเอกสารประกอบผ่าน Google Forms ได้ โดยระบุในเอกสารที่แนบให้ชัดเจนว่าเป็นข้อมูลประกอบการตอบ Google Forms ในข้อใด

Sheet อัตรากำลัง กกจ 
A1: สำนักงานปลัดกระทรวงเกษตรและสหกรณ์ | D1: ที่ตั้งหน่วยงาน | F1: พื้นที่รับผิดชอบ | G1: อัตรากำลัง (กรอบ)
A2: ชื่อส่วนราชการในภูมิภาค | B2: สถานะของ ส่วนราชการ ในภูมิภาค | C2: ประเภทของ ส่วนราชการ | D2: อำเภอ/เขต | E2: จังหวัด | G2: ขรก. | H2: พรก. | I2: ลจป. | J2: ลูกจ้างเหมาบริการและลูกจ้างโครงการ
A3: สำนักงานเกษตรและสหกรณ์จังหวัดกระบี่ | B3: กอง | C3: ส่วนภูมิภาค | D3: เมืองกระบี่ | E3: กระบี่ | F3: กระบี่ | G3: 8 | H3: 7 | I3: 0
A4: -ฝ่ายบริหารทั่วไป | G4: 2 | H4: 7 | I4: 0
A5: -กลุ่มยุทธศาสตร์พัฒนาเกษตรกร | G5: 3
A6: -กลุ่มช่วยเหลือเกษตรกรและโครงการพิเศษ | G6: 1
A7: -กลุ่มสารสนเทศการเกษตร | G7: 1
A8: สำนักงานเกษตรและสหกรณ์จังหวัดกาญจนบุรี | B8: กอง | C8: ส่วนภูมิภาค | D8: เมืองกาญจนบุรี | E8: กาญจนบุรี | F8: กาญจนบุรี | G8: 9 | H8: 6 | I8: 0
A9: -ฝ่ายบริหารทั่วไป | G9: 2 | H9: 6 | I9: 0
A10: -กลุ่มยุทธศาสตร์พัฒนาเกษตรกร | G10: 4
A11: -กลุ่มช่วยเหลือเกษตรกรและโครงการพิเศษ | G11: 1
A12: -กลุ่มสารสนเทศการเกษตร | G12: 1
A13: สำนักงานเกษตรและสหกรณ์จังหวัดกาฬสินธุ์ | B13: กอง | C13: ส่วนภูมิภาค | D13: เมืองกาฬสินธุ์ | E13: กาฬสินธุ์ | F13: กาฬสินธุ์ | G13: 10 | H13: 5 | I13: 0
A14: -ฝ่ายบริหารทั่วไป | G14: 2 | H14: 5 | I14: 0
A15: -กลุ่มยุทธศาสตร์พัฒนาเกษตรกร | G15: 3
A16: -กลุ่มช่วยเหลือเกษตรกรและโครงการพิเศษ | G16: 2
A17: -กลุ่มสารสนเทศการเกษตร | G17: 2
A18: สำนักงานเกษตรและสหกรณ์จังหวัดกำแพงเพชร | B18: กอง | C18: ส่วนภูมิภาค | D18: เมืองกำแพงเพชร | E18: กำแพงเพชร | F18: กำแพงเพชร | G18: 10 | H18: 6 | I18: 2
A19: -ฝ่ายบริหารทั่วไป | G19: 2 | H19: 6 | I19: 2
A20: -กลุ่มยุทธศาสตร์พัฒนาเกษตรกร | G20: 5
A21: -กลุ่มช่วยเหลือเกษตรกรและโครงการพิเศษ | G21: 1
A22: -กลุ่มสารสนเทศการเกษตร | G22: 1
A23: สำนักงานเกษตรและสหกรณ์จังหวัดขอนแก่น | B23: กอง | C23: ส่วนภูมิภาค | D23: เมืองขอนแก่น | E23: ขอนแก่น | F23: ขอนแก่น | G23: 12 | H23: 11 | I23: 2
A24: -ฝ่ายบริหารทั่วไป | G24: 4 | H24: 11 | I24: 2
A25: -กลุ่มยุทธศาสตร์พัฒนาเกษตรกร | G25: 3
A26: -กลุ่มช่วยเหลือเกษตรกรและโครงการพิเศษ | G26: 2
A27: -กลุ่มสารสนเทศการเกษตร | G27: 2
A28: สำนักงานเกษตรและสหกรณ์จังหวัดจันทบุรี | B28: กอง | C28: ส่วนภูมิภาค | D28: เมืองจันทบุรี | E28: จันทบุรี | F28: จันทบุรี | G28: 9 | H28: 7 | I28: 1
A29: -ฝ่ายบริหารทั่วไป | G29: 2 | H29: 7 | I29: 1
A30: -กลุ่มยุทธศาสตร์พัฒนาเกษตรกร | G30: 4
A31: -กลุ่มช่วยเหลือเกษตรกรและโครงการพิเศษ | G31: 1
A32: -กลุ่มสารสนเทศการเกษตร | G32: 1
A33: สำนักงานเกษตรและสหกรณ์จังหวัดฉะเชิงเทรา | B33: กอง | C33: ส่วนภูมิภาค | D33: เมืองฉะเชิงเทรา | E33: ฉะเชิงเทรา | F33: ฉะเชิงเทรา | G33: 10 | H33: 7 | I33: 0
A34: -ฝ่ายบริหารทั่วไป | G34: 3 | H34: 7 | I34: 0
A35: -กลุ่มยุทธศาสตร์พัฒนาเกษตรกร | G35: 4
A36: -กลุ่มช่วยเหลือเกษตรกรและโครงการพิเศษ | G36: 1
A37: -กลุ่มสารสนเทศการเกษตร | G37: 1
A38: สำนักงานเกษตรและสหกรณ์จังหวัดชลบุรี | B38: กอง | C38: ส่วนภูมิภาค | D38: เมืองชลบุรี | E38: ชลบุรี | F38: ชลบุรี | G38: 9 | H38: 6 | I38: 2
A39: -ฝ่ายบริหารทั่วไป | G39: 2 | H39: 6 | I39: 2
A40: -กลุ่มยุทธศาสตร์พัฒนาเกษตรกร | G40: 2
A41: -กลุ่มช่วยเหลือเกษตรกรและโครงการพิเศษ | G41: 2
A42: -กลุ่มสารสนเทศการเกษตร | G42: 2
A43: สำนักงานเกษตรและสหกรณ์จังหวัดชัยนาท | B43: กอง | C43: ส่วนภูมิภาค | D43: เมืองชัยนาท | E43: ชัยนาท | F43: ชัยนาท | G43: 10 | H43: 6 | I43: 1
A44: -ฝ่ายบริหารทั่วไป | G44: 2 | H44: 6 | I44: 1
A45: -กลุ่มยุทธศาสตร์พัฒนาเกษตรกร | G45: 5
A46: -กลุ่มช่วยเหลือเกษตรกรและโครงการพิเศษ | G46: 1
A47: -กลุ่มสารสนเทศการเกษตร | G47: 1
A48: สำนักงานเกษตรและสหกรณ์จังหวัดชัยภูมิ | B48: กอง | C48: ส่วนภูมิภาค | D48: เมืองชัยภูมิ | E48: ชัยภูมิ | F48: ชัยภูมิ | G48: 11 | H48: 5 | I48: 0
A49: -ฝ่ายบริหารทั่วไป | G49: 3 | H49: 5 | I49: 0
A50: -กลุ่มยุทธศาสตร์พัฒนาเกษตรกร | G50: 5
A51: -กลุ่มช่วยเหลือเกษตรกรและโครงการพิเศษ | G51: 1
A52: -กลุ่มสารสนเทศการเกษตร | G52: 1
A53: สำนักงานเกษตรและสหกรณ์จังหวัดชุมพร | B53: กอง | C53: ส่วนภูมิภาค | D53: เมืองชุมพร | E53: ชุมพร | F53: ชุมพร | G53: 8 | H53: 7 | I53: 0
A54: -ฝ่ายบริหารทั่วไป | G54: 2 | H54: 7 | I54: 0
A55: -กลุ่มยุทธศาสตร์พัฒนาเกษตรกร | G55: 3
A56: -กลุ่มช่วยเหลือเกษตรกรและโครงการพิเศษ | G56: 1
A57: -กลุ่มสารสนเทศการเกษตร | G57: 1
A58: สำนักงานเกษตรและสหกรณ์จังหวัดเชียงราย | B58: กอง | C58: ส่วนภูมิภาค | D58: เมืองเชียงราย | E58: เชียงราย | F58: เชียงราย | G58: 11 | H58: 5 | I58: 2
A59: -ฝ่ายบริหารทั่วไป | G59: 3 | H59: 5 | I59: 2
A60: -กลุ่มยุทธศาสตร์พัฒนาเกษตรกร | G60: 5
A61: -กลุ่มช่วยเหลือเกษตรกรและโครงการพิเศษ | G61: 1
A62: -กลุ่มสารสนเทศการเกษตร | G62: 1
A63: สำนักงานเกษตรและสหกรณ์จังหวัดเชียงใหม่ | B63: กอง | C63: ส่วนภูมิภาค | D63: เมืองเชียงใหม่ | E63: เชียงใหม่ | F63: เชียงใหม่ | G63: 11 | H63: 9 | I63: 0
A64: -ฝ่ายบริหารทั่วไป | G64: 3 | H64: 9 | I64: 0
A65: -กลุ่มยุทธศาสตร์พัฒนาเกษตรกร | G65: 4
A66: -กลุ่มช่วยเหลือเกษตรกรและโครงการพิเศษ | G66: 2
A67: -กลุ่มสารสนเทศการเกษตร | G67: 1
A68: สำนักงานเกษตรและสหกรณ์จังหวัดตรัง | B68: กอง | C68: ส่วนภูมิภาค | D68: เมืองตรัง | E68: ตรัง | F68: ตรัง | G68: 10 | H68: 6 | I68: 2
A69: -ฝ่ายบริหารทั่วไป | G69: 2 | H69: 6 | I69: 2
A70: -กลุ่มยุทธศาสตร์พัฒนาเกษตรกร | G70: 5
A71: -กลุ่มช่วยเหลือเกษตรกรและโครงการพิเศษ | G71: 1
A72: -กลุ่มสารสนเทศการเกษตร | G72: 1
A73: สำนักงานเกษตรและสหกรณ์จังหวัดตราด | B73: กอง | C73: ส่วนภูมิภาค | D73: เมืองตราด | E73: ตราด | F73: ตราด | G73: 9 | H73: 6 | I73: 1
A74: -ฝ่ายบริหารทั่วไป | G74: 2 | H74: 6 | I74: 1
A75: -กลุ่มยุทธศาสตร์พัฒนาเกษตรกร | G75: 4
A76: -กลุ่มช่วยเหลือเกษตรกรและโครงการพิเศษ | G76: 1
A77: -กลุ่มสารสนเทศการเกษตร | G77: 1
A78: สำนักงานเกษตรและสหกรณ์จังหวัดตาก | B78: กอง | C78: ส่วนภูมิภาค | D78: เมืองตาก | E78: ตาก | F78: ตาก | G78: 10 | H78: 6 | I78: 0
A79: -ฝ่ายบริหารทั่วไป | G79: 2 | H79: 6 | I79: 0
A80: -กลุ่มยุทธศาสตร์พัฒนาเกษตรกร | G80: 3
A81: -กลุ่มช่วยเหลือเกษตรกรและโครงการพิเศษ | G81: 2
A82: -กลุ่มสารสนเทศการเกษตร | G82: 2
A83: สำนักงานเกษตรและสหกรณ์จังหวัดนครนายก | B83: กอง | C83: ส่วนภูมิภาค | D83: เมืองนครนายก | E83: นครนายก | F83: นครนายก | G83: 8 | H83: 6 | I83: 0
A84: -ฝ่ายบริหารทั่วไป | G84: 1 | H84: 6 | I84: 0
A85: -กลุ่มยุทธศาสตร์พัฒนาเกษตรกร | G85: 4
A86: -กลุ่มช่วยเหลือเกษตรกรและโครงการพิเศษ | G86: 1
A87: -กลุ่มสารสนเทศการเกษตร | G87: 1
A88: สำนักงานเกษตรและสหกรณ์จังหวัดนครปฐม | B88: กอง | C88: ส่วนภูมิภาค | D88: เมืองนครปฐม | E88: นครปฐม | F88: นครปฐม | G88: 9 | H88: 5 | I88: 1
A89: -ฝ่ายบริหารทั่วไป | G89: 2 | H89: 5 | I89: 1
A90: -กลุ่มยุทธศาสตร์พัฒนาเกษตรกร | G90: 4
A91: -กลุ่มช่วยเหลือเกษตรกรและโครงการพิเศษ | G91: 1
A92: -กลุ่มสารสนเทศการเกษตร | G92: 1
A93: สำนักงานเกษตรและสหกรณ์จังหวัดนครพนม | B93: กอง | C93: ส่วนภูมิภาค | D93: เมืองนครพนม | E93: นครพนม | F93: นครพนม | G93: 8 | H93: 6 | I93: 0
A94: -ฝ่ายบริหารทั่วไป | G94: 1 | H94: 6 | I94: 0
A95: -กลุ่มยุทธศาสตร์พัฒนาเกษตรกร | G95: 4
A96: -กลุ่มช่วยเหลือเกษตรกรและโครงการพิเศษ | G96: 1
A97: -กลุ่มสารสนเทศการเกษตร | G97: 1
A98: สำนักงานเกษตรและสหกรณ์จังหวัดนครราชสีมา | B98: กอง | C98: ส่วนภูมิภาค | D98: เมืองนครราชสีมา | E98: นครราชสีมา | F98: นครราชสีมา | G98: 10 | H98: 6 | I98: 0
A99: -ฝ่ายบริหารทั่วไป | G99: 3 | H99: 6 | I99: 0
A100: -กลุ่มยุทธศาสตร์พัฒนาเกษตรกร | G100: 3
...

Sheet กรอบอัตรากำลังทั่วประเทศ
A1: จำนวนกรอบอัตรากำลังข้าราชการ พนักงานราชการ และลูกจ้างประจำ
A3: หน่วยงาน | B3: กรอบอัตรากำลัง | E3: รวม
B4: ข้าราชการ | C4: พนักงานราชการ | D4: ลูกจ้างประจำ
A5: สำนักงานปลัดกระทรวงเกษตรและสหกรณ์
A6: ปลัดกระทรวง/รองปลัดกระทรวง/ผู้ตรวจราชการกระทรวง/ผู้ช่วยปลัด กระทรวง/ที่ปรึกษากฎหมาย/ตำแหน่งอื่นๆ ในส่วนกลาง | B6: 26 | C6: 2 | E6: =SUM(B6:D6) -> 28
A7: กองกลาง | B7: =[1]กก.!H11 -> 26 | C7: =[1]กก.!H14 -> 6 | E7: =SUM(B7:D7) -> 32
A8: กองการเจ้าหน้าที่ | B8: =[1]กกจ.!L14 -> 47 | C8: =[1]กกจ.!L23 -> 20 | E8: =SUM(B8:D8) -> 67
A9: กองเกษตรสารนิเทศ | B9: =[1]กกส.!J18 -> 21 | C9: =[1]กกส.!J28 -> 12 | D9: =[1]กกส.!J30 -> 3 | E9: =SUM(B9:D9) -> 36
A10: กองคลัง | B10: =[1]กค.!M18 -> 58 | C10: =[1]กค.!M24 -> 24 | D10: 8 | E10: =SUM(B10:D10) -> 90
A11: กองนโยบายเทคโนโลยีเพื่อการเกษตรและเกษตรกรรมยั่งยืน | B11: =[1]กนท.!J10 -> 21 | C11: =[1]กนท.!J15 -> 9 | E11: =SUM(B11:D11) -> 30
A12: ศูนย์ปฏิบัติการต่อต้านการทุจริต | B12: 5 | C12: 4 | E12: =SUM(B12:D12) -> 9
A13: ศูนย์เทคโนโลยีสารสนเทศและการสื่อสาร | B13: =[1]ศทส.!J11 -> 23 | C13: =[1]ศทส.!J15 -> 10 | E13: =SUM(B13:D13) -> 33
A14: สถาบันเกษตราธิการ | B14: =[1]สกธ.!I15 -> 27 | C14: =[1]สกธ.!I19 -> 8 | D14: =[1]สกธ.!I22 -> 3 | E14: =SUM(B14:D14) -> 38
A15: สำนักกฎหมาย | B15: =[1]สกม.!J11 -> 29 | C15: =[1]สกม.!J15 -> 7 | E15: =SUM(B15:D15) -> 36
A16: สำนักการเกษตรต่างประเทศ | B16: =[1]สกต.!K11 -> 24 | C16: =[1]สกต.!K17 -> 8 | D16: =[1]สกต.!K20 -> 2 | E16: =SUM(B16:D16) -> 34
A17: สำนักงานที่ปรึกษาการเกษตรประจำกรุงโรม | B17: =[1]สปศ.!D10 -> 3 | E17: =SUM(B17:D17) -> 3
A18: สำนักงานที่ปรึกษาการเกษตรประจำกรุงวอชิงตัน | B18: =[1]สปศ.!E10 -> 2 | E18: =SUM(B18:D18) -> 2
A19: สำนักงานที่ปรึกษาการเกษตรประจำกรุงโตเกียว | B19: =[1]สปศ.!G10 -> 2 | E19: =SUM(B19:D19) -> 2
A20: สำนักงานที่ปรึกษาการเกษตรประจำกรุงแคนเบอร์รา | B20: =[1]สปศ.!H10 -> 2 | E20: =SUM(B20:D20) -> 2
A21: สำนักงานที่ปรึกษาการเกษตรประจำกรุงปักกิ่ง | B21: =[1]สปศ.!I10 -> 2 | E21: =SUM(B21:D21) -> 2
A22: สำนักงานที่ปรึกษาการเกษตรประจำสหภาพยุโรป | B22: =[1]สปศ.!F10 -> 3 | E22: =SUM(B22:D22) -> 3
A23: สำนักตรวจราชการ | B23: =[1]สตร.!I11 -> 18 | C23: =[1]สตร.!I15 -> 15 | D23: =[1]สตร.!I17 -> 2 | E23: =SUM(B23:D23) -> 35
A24: สำนักตรวจสอบภายใน | B24: =[1]สตน.!I10 -> 21 | C24: =[1]สตน.!I14 -> 5 | E24: =SUM(B24:D24) -> 26
A25: สำนักบริหารกองทุนเพื่อช่วยเหลือเกษตรกรและรับเรื่องร้องเรียน | B25: =[1]สกร.!J9 -> 25 | C25: =[1]สกร.!J12 -> 7 | E25: =SUM(B25:D25) -> 32
A26: สำนักแผนงานและโครงการพิเศษ | B26: 59 | C26: =[1]สผง.!L19 -> 38 | E26: =SUM(B26:D26) -> 97
A27: สำนักพัฒนาระบบบริหาร | B27: =[1]สพบ.!I10 -> 13 | C27: =[1]สพบ.!I13 -> 6 | E27: =SUM(B27:D27) -> 19
A28: รวมส่วนกลาง | B28: =SUM(B6:B27) -> 457 | C28: =SUM(C6:C27) -> 181 | D28: =SUM(D6:D27) -> 18 | E28: =SUM(E6:E27) -> 656
A29: สำนักงานเกษตรและสหกรณ์จังหวัดกระบี่ | B29: =[1]ส่วนภูมิภาค!M8 -> 8 | C29: =[1]ส่วนภูมิภาค!V8 -> 7 | E29: =SUM(B29:D29) -> 15
A30: สำนักงานเกษตรและสหกรณ์จังหวัดกาญจนบุรี | B30: =[1]ส่วนภูมิภาค!M9 -> 9 | C30: =[1]ส่วนภูมิภาค!V9 -> 6 | E30: =SUM(B30:D30) -> 15
A31: สำนักงานเกษตรและสหกรณ์จังหวัดกาฬสินธุ์ | B31: =[1]ส่วนภูมิภาค!M10 -> 10 | C31: =[1]ส่วนภูมิภาค!V10 -> 5 | E31: =SUM(B31:D31) -> 15
A32: สำนักงานเกษตรและสหกรณ์จังหวัดกำแพงเพชร | B32: =[1]ส่วนภูมิภาค!M11 -> 10 | C32: =[1]ส่วนภูมิภาค!V11 -> 6 | D32: =[1]ส่วนภูมิภาค!Z11 -> 2 | E32: =SUM(B32:D32) -> 18
A33: สำนักงานเกษตรและสหกรณ์จังหวัดขอนแก่น | B33: =[1]ส่วนภูมิภาค!M12 -> 12 | C33: =[1]ส่วนภูมิภาค!V12 -> 11 | D33: =[1]ส่วนภูมิภาค!Z12 -> 2 | E33: =SUM(B33:D33) -> 25
A34: สำนักงานเกษตรและสหกรณ์จังหวัดจันทบุรี | B34: =[1]ส่วนภูมิภาค!M13 -> 9 | C34: =[1]ส่วนภูมิภาค!V13 -> 7 | D34: =[1]ส่วนภูมิภาค!Z13 -> 1 | E34: =SUM(B34:D34) -> 17
A35: สำนักงานเกษตรและสหกรณ์จังหวัดฉะเชิงเทรา | B35: =[1]ส่วนภูมิภาค!M14 -> 10 | C35: =[1]ส่วนภูมิภาค!V14 -> 7 | D35: =[1]ส่วนภูมิภาค!Z14 -> 1 | E35: =SUM(B35:D35) -> 18
A36: สำนักงานเกษตรและสหกรณ์จังหวัดชลบุรี | B36: =[1]ส่วนภูมิภาค!M15 -> 9 | C36: =[1]ส่วนภูมิภาค!V15 -> 6 | D36: =[1]ส่วนภูมิภาค!Z15 -> 2 | E36: =SUM(B36:D36) -> 17
A37: สำนักงานเกษตรและสหกรณ์จังหวัดชัยนาท | B37: =[1]ส่วนภูมิภาค!M16 -> 10 | C37: =[1]ส่วนภูมิภาค!V16 -> 6 | D37: =[1]ส่วนภูมิภาค!Z16 -> 1 | E37: =SUM(B37:D37) -> 17
A38: สำนักงานเกษตรและสหกรณ์จังหวัดชัยภูมิ | B38: =[1]ส่วนภูมิภาค!M17 -> 11 | C38: =[1]ส่วนภูมิภาค!V17 -> 5 | E38: =SUM(B38:D38) -> 16
A39: สำนักงานเกษตรและสหกรณ์จังหวัดชุมพร | B39: =[1]ส่วนภูมิภาค!M18 -> 8 | C39: =[1]ส่วนภูมิภาค!V18 -> 7 | E39: =SUM(B39:D39) -> 15
A40: สำนักงานเกษตรและสหกรณ์จังหวัดเชียงราย | B40: =[1]ส่วนภูมิภาค!M19 -> 11 | C40: =[1]ส่วนภูมิภาค!V19 -> 5 | D40: =[1]ส่วนภูมิภาค!Z19 -> 2 | E40: =SUM(B40:D40) -> 18
A41: สำนักงานเกษตรและสหกรณ์จังหวัดเชียงใหม่ | B41: =[1]ส่วนภูมิภาค!M20 -> 11 | C41: =[1]ส่วนภูมิภาค!V20 -> 9 | E41: =SUM(B41:D41) -> 20
A42: สำนักงานเกษตรและสหกรณ์จังหวัดตรัง | B42: =[1]ส่วนภูมิภาค!M21 -> 10 | C42: =[1]ส่วนภูมิภาค!V21 -> 6 | D42: =[1]ส่วนภูมิภาค!Z21 -> 2 | E42: =SUM(B42:D42) -> 18
A43: สำนักงานเกษตรและสหกรณ์จังหวัดตราด | B43: =[1]ส่วนภูมิภาค!M22 -> 9 | C43: =[1]ส่วนภูมิภาค!V22 -> 6 | D43: =[1]ส่วนภูมิภาค!Z22 -> 1 | E43: =SUM(B43:D43) -> 16
A44: สำนักงานเกษตรและสหกรณ์จังหวัดตาก | B44: =[1]ส่วนภูมิภาค!M23 -> 10 | C44: =[1]ส่วนภูมิภาค!V23 -> 6 | E44: =SUM(B44:D44) -> 16
A45: สำนักงานเกษตรและสหกรณ์จังหวัดนครนายก | B45: =[1]ส่วนภูมิภาค!M24 -> 8 | C45: =[1]ส่วนภูมิภาค!V24 -> 6 | E45: =SUM(B45:D45) -> 14
A46: สำนักงานเกษตรและสหกรณ์จังหวัดนครปฐม | B46: =[1]ส่วนภูมิภาค!M25 -> 9 | C46: =[1]ส่วนภูมิภาค!V25 -> 5 | D46: =[1]ส่วนภูมิภาค!Z25 -> 1 | E46: =SUM(B46:D46) -> 15
A47: สำนักงานเกษตรและสหกรณ์จังหวัดนครพนม | B47: =[1]ส่วนภูมิภาค!M26 -> 8 | C47: =[1]ส่วนภูมิภาค!V26 -> 6 | E47: =SUM(B47:D47) -> 14
A48: สำนักงานเกษตรและสหกรณ์จังหวัดนครราชสีมา | B48: =[1]ส่วนภูมิภาค!M27 -> 10 | C48: =[1]ส่วนภูมิภาค!V27 -> 6 | E48: =SUM(B48:D48) -> 16
A49: สำนักงานเกษตรและสหกรณ์จังหวัดนครศรีธรรมราช | B49: =[1]ส่วนภูมิภาค!M28 -> 12 | C49: =[1]ส่วนภูมิภาค!V28 -> 6 | D49: =[1]ส่วนภูมิภาค!Z28 -> 2 | E49: =SUM(B49:D49) -> 20
A50: สำนักงานเกษตรและสหกรณ์จังหวัดนครสวรรค์ | B50: =[1]ส่วนภูมิภาค!M29 -> 9 | C50: =[1]ส่วนภูมิภาค!V29 -> 5 | E50: =SUM(B50:D50) -> 14
A51: สำนักงานเกษตรและสหกรณ์จังหวัดนนทบุรี | B51: =[1]ส่วนภูมิภาค!M30 -> 9 | C51: =[1]ส่วนภูมิภาค!V30 -> 5 | E51: =SUM(B51:D51) -> 14
A52: สำนักงานเกษตรและสหกรณ์จังหวัดนราธิวาส | B52: =[1]ส่วนภูมิภาค!M31 -> 13 | C52: =[1]ส่วนภูมิภาค!V31 -> 5 | E52: =SUM(B52:D52) -> 18
A53: สำนักงานเกษตรและสหกรณ์จังหวัดน่าน | B53: =[1]ส่วนภูมิภาค!M32 -> 9 | C53: =[1]ส่วนภูมิภาค!V32 -> 6 | D53: =[1]ส่วนภูมิภาค!Z32 -> 1 | E53: =SUM(B53:D53) -> 16
A54: สำนักงานเกษตรและสหกรณ์จังหวัดบึงกาฬ | B54: 8 | C54: =[1]ส่วนภูมิภาค!V33 -> 7 | E54: =SUM(B54:D54) -> 15
A55: สำนักงานเกษตรและสหกรณ์จังหวัดบุรีรัมย์ | B55: =[1]ส่วนภูมิภาค!M34 -> 10 | C55: =[1]ส่วนภูมิภาค!V34 -> 7 | D55: =[1]ส่วนภูมิภาค!Z34 -> 1 | E55: =SUM(B55:D55) -> 18
A56: สำนักงานเกษตรและสหกรณ์จังหวัดปทุมธานี | B56: =[1]ส่วนภูมิภาค!M35 -> 8 | C56: =[1]ส่วนภูมิภาค!V35 -> 7 | E56: =SUM(B56:D56) -> 15
A57: สำนักงานเกษตรและสหกรณ์จังหวัดประจวบคีรีขันธ์ | B57: =[1]ส่วนภูมิภาค!M36 -> 8 | C57: =[1]ส่วนภูมิภาค!V36 -> 7 | E57: =SUM(B57:D57) -> 15
A58: สำนักงานเกษตรและสหกรณ์จังหวัดปราจีนบุรี | B58: =[1]ส่วนภูมิภาค!M37 -> 8 | C58: =[1]ส่วนภูมิภาค!V37 -> 7 | E58: =SUM(B58:D58) -> 15
A59: สำนักงานเกษตรและสหกรณ์จังหวัดปัตตานี | B59: =[1]ส่วนภูมิภาค!M38 -> 10 | C59: =[1]ส่วนภูมิภาค!V38 -> 6 | D59: 1 | E59: =SUM(B59:D59) -> 17
A60: สำนักงานเกษตรและสหกรณ์จังหวัดพระนครศรีอยุธยา | B60: =[1]ส่วนภูมิภาค!M39 -> 10 | C60: =[1]ส่วนภูมิภาค!V39 -> 6 | E60: =SUM(B60:D60) -> 16
A61: สำนักงานเกษตรและสหกรณ์จังหวัดพะเยา | B61: 9 | C61: =[1]ส่วนภูมิภาค!V40 -> 7 | D61: =[1]ส่วนภูมิภาค!Z40 -> 1 | E61: =SUM(B61:D61) -> 17
A62: สำนักงานเกษตรและสหกรณ์จังหวัดพังงา | B62: =[1]ส่วนภูมิภาค!M41 -> 9 | C62: =[1]ส่วนภูมิภาค!V41 -> 5 | E62: =SUM(B62:D62) -> 14
A63: สำนักงานเกษตรและสหกรณ์จังหวัดพัทลุง | B63: =[1]ส่วนภูมิภาค!M42 -> 9 | C63: =[1]ส่วนภูมิภาค!V42 -> 6 | D63: =[1]ส่วนภูมิภาค!Z42 -> 1 | E63: =SUM(B63:D63) -> 16
A64: สำนักงานเกษตรและสหกรณ์จังหวัดพิจิตร | B64: =[1]ส่วนภูมิภาค!M43 -> 8 | C64: =[1]ส่วนภูมิภาค!V43 -> 7 | D64: =[1]ส่วนภูมิภาค!Z43 -> 2 | E64: =SUM(B64:D64) -> 17
A65: สำนักงานเกษตรและสหกรณ์จังหวัดพิษณุโลก | B65: =[1]ส่วนภูมิภาค!M44 -> 11 | C65: =[1]ส่วนภูมิภาค!V44 -> 5 | E65: =SUM(B65:D65) -> 16
A66: สำนักงานเกษตรและสหกรณ์จังหวัดเพชรบุรี | B66: =[1]ส่วนภูมิภาค!M45 -> 9 | C66: =[1]ส่วนภูมิภาค!V45 -> 5 | E66: =SUM(B66:D66) -> 14
A67: สำนักงานเกษตรและสหกรณ์จังหวัดเพชรบูรณ์ | B67: =[1]ส่วนภูมิภาค!M46 -> 9 | C67: =[1]ส่วนภูมิภาค!V46 -> 6 | D67: =[1]ส่วนภูมิภาค!Z46 -> 1 | E67: =SUM(B67:D67) -> 16
A68: สำนักงานเกษตรและสหกรณ์จังหวัดแพร่ | B68: =[1]ส่วนภูมิภาค!M47 -> 8 | C68: =[1]ส่วนภูมิภาค!V47 -> 7 | E68: =SUM(B68:D68) -> 15
A69: สำนักงานเกษตรและสหกรณ์จังหวัดภูเก็ต | B69: =[1]ส่วนภูมิภาค!M48 -> 9 | C69: =[1]ส่วนภูมิภาค!V48 -> 6 | D69: =[1]ส่วนภูมิภาค!Z48 -> 1 | E69: =SUM(B69:D69) -> 16
A70: สำนักงานเกษตรและสหกรณ์จังหวัดมหาสารคาม | B70: =[1]ส่วนภูมิภาค!M49 -> 9 | C70: =[1]ส่วนภูมิภาค!V49 -> 5 | E70: =SUM(B70:D70) -> 14
A71: สำนักงานเกษตรและสหกรณ์จังหวัดมุกดาหาร | B71: =[1]ส่วนภูมิภาค!M50 -> 9 | C71: =[1]ส่วนภูมิภาค!V50 -> 5 | D71: =[1]ส่วนภูมิภาค!Z50 -> 1 | E71: =SUM(B71:D71) -> 15
A72: สำนักงานเกษตรและสหกรณ์จังหวัดแม่ฮ่องสอน | B72: =[1]ส่วนภูมิภาค!M51 -> 9 | C72: =[1]ส่วนภูมิภาค!V51 -> 6 | D72: =[1]ส่วนภูมิภาค!Z51 -> 1 | E72: =SUM(B72:D72) -> 16
A73: สำนักงานเกษตรและสหกรณ์จังหวัดยะลา | B73: =[1]ส่วนภูมิภาค!M52 -> 10 | C73: =[1]ส่วนภูมิภาค!V52 -> 7 | D73: =[1]ส่วนภูมิภาค!Z52 -> 1 | E73: =SUM(B73:D73) -> 18
A74: สำนักงานเกษตรและสหกรณ์จังหวัดยโสธร | B74: =[1]ส่วนภูมิภาค!M53 -> 9 | C74: =[1]ส่วนภูมิภาค!V53 -> 6 | E74: =SUM(B74:D74) -> 15
A75: สำนักงานเกษตรและสหกรณ์จังหวัดร้อยเอ็ด | B75: =[1]ส่วนภูมิภาค!M54 -> 11 | C75: =[1]ส่วนภูมิภาค!V54 -> 5 | E75: =SUM(B75:D75) -> 16
A76: สำนักงานเกษตรและสหกรณ์จังหวัดระนอง | B76: =[1]ส่วนภูมิภาค!M55 -> 10 | C76: =[1]ส่วนภูมิภาค!V55 -> 6 | E76: =SUM(B76:D76) -> 16
A77: สำนักงานเกษตรและสหกรณ์จังหวัดระยอง | B77: =[1]ส่วนภูมิภาค!M56 -> 9 | C77: =[1]ส่วนภูมิภาค!V56 -> 7 | D77: =[1]ส่วนภูมิภาค!Z56 -> 1 | E77: =SUM(B77:D77) -> 17
A78: สำนักงานเกษตรและสหกรณ์จังหวัดราชบุรี | B78: =[1]ส่วนภูมิภาค!M57 -> 10 | C78: =[1]ส่วนภูมิภาค!V57 -> 6 | D78: =[1]ส่วนภูมิภาค!Z57 -> 2 | E78: =SUM(B78:D78) -> 18
A79: สำนักงานเกษตรและสหกรณ์จังหวัดลพบุรี | B79: =[1]ส่วนภูมิภาค!M58 -> 10 | C79: =[1]ส่วนภูมิภาค!V58 -> 6 | E79: =SUM(B79:D79) -> 16
A80: สำนักงานเกษตรและสหกรณ์จังหวัดลำปาง | B80: =[1]ส่วนภูมิภาค!M59 -> 10 | C80: =[1]ส่วนภูมิภาค!V59 -> 6 | D80: =[1]ส่วนภูมิภาค!Z59 -> 2 | E80: =SUM(B80:D80) -> 18
A81: สำนักงานเกษตรและสหกรณ์จังหวัดลำพูน | B81: =[1]ส่วนภูมิภาค!M60 -> 9 | C81: =[1]ส่วนภูมิภาค!V60 -> 6 | D81: =[1]ส่วนภูมิภาค!Z60 -> 1 | E81: =SUM(B81:D81) -> 16
A82: สำนักงานเกษตรและสหกรณ์จังหวัดเลย | B82: =[1]ส่วนภูมิภาค!M61 -> 8 | C82: =[1]ส่วนภูมิภาค!V61 -> 6 | E82: =SUM(B82:D82) -> 14
A83: สำนักงานเกษตรและสหกรณ์จังหวัดศรีสะเกษ | B83: =[1]ส่วนภูมิภาค!M62 -> 10 | C83: =[1]ส่วนภูมิภาค!V62 -> 6 | E83: =SUM(B83:D83) -> 16
A84: สำนักงานเกษตรและสหกรณ์จังหวัดสกลนคร | B84: =[1]ส่วนภูมิภาค!M63 -> 10 | C84: =[1]ส่วนภูมิภาค!V63 -> 6 | E84: =SUM(B84:D84) -> 16
A85: สำนักงานเกษตรและสหกรณ์จังหวัดสงขลา | B85: =[1]ส่วนภูมิภาค!M64 -> 11 | C85: =[1]ส่วนภูมิภาค!V64 -> 6 | D85: =[1]ส่วนภูมิภาค!Z64 -> 1 | E85: =SUM(B85:D85) -> 18
A86: สำนักงานเกษตรและสหกรณ์จังหวัดสตูล | B86: =[1]ส่วนภูมิภาค!M65 -> 9 | C86: =[1]ส่วนภูมิภาค!V65 -> 6 | D86: =[1]ส่วนภูมิภาค!Z65 -> 2 | E86: =SUM(B86:D86) -> 17
A87: สำนักงานเกษตรและสหกรณ์จังหวัดสมุทรปราการ | B87: =[1]ส่วนภูมิภาค!M66 -> 9 | C87: =[1]ส่วนภูมิภาค!V66 -> 6 | D87: =[1]ส่วนภูมิภาค!Z66 -> 1 | E87: =SUM(B87:D87) -> 16
A88: สำนักงานเกษตรและสหกรณ์จังหวัดสมุทรสงคราม | B88: =[1]ส่วนภูมิภาค!M67 -> 8 | C88: =[1]ส่วนภูมิภาค!V67 -> 5 | E88: =SUM(B88:D88) -> 13
A89: สำนักงานเกษตรและสหกรณ์จังหวัดสมุทรสาคร | B89: =[1]ส่วนภูมิภาค!M68 -> 8 | C89: =[1]ส่วนภูมิภาค!V68 -> 6 | E89: =SUM(B89:D89) -> 14
A90: สำนักงานเกษตรและสหกรณ์จังหวัดสระแก้ว | B90: =[1]ส่วนภูมิภาค!M69 -> 8 | C90: =[1]ส่วนภูมิภาค!V69 -> 6 | E90: =SUM(B90:D90) -> 14
A91: สำนักงานเกษตรและสหกรณ์จังหวัดสระบุรี | B91: =[1]ส่วนภูมิภาค!M70 -> 9 | C91: =[1]ส่วนภูมิภาค!V70 -> 7 | E91: =SUM(B91:D91) -> 16
A92: สำนักงานเกษตรและสหกรณ์จังหวัดสิงห์บุรี | B92: =[1]ส่วนภูมิภาค!M71 -> 9 | C92: =[1]ส่วนภูมิภาค!V71 -> 6 | E92: =SUM(B92:D92) -> 15
A93: สำนักงานเกษตรและสหกรณ์จังหวัดสุโขทัย | B93: =[1]ส่วนภูมิภาค!M72 -> 9 | C93: =[1]ส่วนภูมิภาค!V72 -> 6 | D93: =[1]ส่วนภูมิภาค!Z72 -> 3 | E93: =SUM(B93:D93) -> 18
A94: สำนักงานเกษตรและสหกรณ์จังหวัดสุพรรณบุรี | B94: =[1]ส่วนภูมิภาค!M73 -> 12 | C94: =[1]ส่วนภูมิภาค!V73 -> 5 | D94: =[1]ส่วนภูมิภาค!Z73 -> 1 | E94: =SUM(B94:D94) -> 18
A95: สำนักงานเกษตรและสหกรณ์จังหวัดสุราษฎร์ธานี | B95: =[1]ส่วนภูมิภาค!M74 -> 11 | C95: =[1]ส่วนภูมิภาค!V74 -> 6 | D95: =[1]ส่วนภูมิภาค!Z74 -> 1 | E95: =SUM(B95:D95) -> 18
A96: สำนักงานเกษตรและสหกรณ์จังหวัดสุรินทร์ | B96: =[1]ส่วนภูมิภาค!M75 -> 11 | C96: =[1]ส่วนภูมิภาค!V75 -> 5 | D96: =[1]ส่วนภูมิภาค!Z75 -> 1 | E96: =SUM(B96:D96) -> 17
A97: สำนักงานเกษตรและสหกรณ์จังหวัดหนองคาย | B97: =[1]ส่วนภูมิภาค!M76 -> 10 | C97: =[1]ส่วนภูมิภาค!V76 -> 6 | D97: =[1]ส่วนภูมิภาค!Z76 -> 1 | E97: =SUM(B97:D97) -> 17
A98: สำนักงานเกษตรและสหกรณ์จังหวัดหนองบัวลำภู | B98: =[1]ส่วนภูมิภาค!M77 -> 8 | C98: =[1]ส่วนภูมิภาค!V77 -> 6 | E98: =SUM(B98:D98) -> 14
A99: สำนักงานเกษตรและสหกรณ์จังหวัดอ่างทอง | B99: =[1]ส่วนภูมิภาค!M78 -> 9 | C99: =[1]ส่วนภูมิภาค!V78 -> 6 | D99: =[1]ส่วนภูมิภาค!Z78 -> 1 | E99: =SUM(B99:D99) -> 16
A100: สำนักงานเกษตรและสหกรณ์จังหวัดอำนาจเจริญ | B100: =[1]ส่วนภูมิภาค!M79 -> 9 | C100: =[1]ส่วนภูมิภาค!V79 -> 6 | E100: =SUM(B100:D100) -> 15
A101: สำนักงานเกษตรและสหกรณ์จังหวัดอุดรธานี | B101: =[1]ส่วนภูมิภาค!M80 -> 12 | C101: =[1]ส่วนภูมิภาค!V80 -> 5 | E101: =SUM(B101:D101) -> 17
...
