Workbook

Sheet สรุป (แผน)
A1: รายงานผลการฝึกอบรมแยกจำนวนตามหน่วยงาน ปีงบประมาณ พ.ศ. 2569
A2: ที่ | B2: หน่วยงาน | C2: อุตสาหกรรม (จำนวนคน) | G2: รวม | H2: หมายเหตุ
C3: เกษตร | D3: ท่องเที่ยว | E3: วิสาหกิจชุมชน | F3: อื่น ๆ
A4: 1 | B4: สำนักงานจังหวัดอุทัยธานี | F4: =SUM('อุตสาหกรรม อื่นๆ'!D7,'อุตสาหกรรม อื่นๆ'!D9,'อุตสาหกรรม อื่นๆ'!D11,'อุตสาหกรรม อื่นๆ'!D13) -> 342 | G4: =SUM(C4:F4) -> 342
F5: (ลำดับ 1-4)
A6: 2 | B6: สำนักงานคลังจังหวัดอุทัยธานี | G6: =SUM(C6:F6) -> 0 | H6: หากมี แผนงานและผลการดำเนินงาน สามารถรายงาน
H7: ข้อมูลเพิ่มเติม โดยแยกข้อมูลตามอุตสาหกรรม
A8: 3 | B8: สำนักงานเกษตรและสหกรณ์จังหวัดอุทัยธานี | C8: =SUM('อุตสาหกรรม เกษตร'!D7,'อุตสาหกรรม เกษตร'!D9,'อุตสาหกรรม เกษตร'!D11,'อุตสาหกรรม เกษตร'!D13,'อุตสาหกรรม เกษตร'!D15,'อุตสาหกรรม เกษตร'!D17,'อุตสาหกรรม เกษตร'!D19,'อุตสาหกรรม เกษตร'!D21,'อุตสาหกรรม เกษตร'!D23,'อุตสาหกรรม เกษตร'!D25,'อุตสาหกรรม เกษตร'!D27,'อุตสาหกรรม เกษตร'!D29,'อุตสาหกรรม เกษตร'!D31,'อุตสาหกรรม เกษตร'!D33,'อุตสาหกรรม เกษตร'!D35,'อุตสาหกรรม เกษตร'!D37,'อุตสาหกรรม เกษตร'!D39,'อุตสาหกรรม เกษตร'!D41,'อุตสาหกรรม เกษตร'!D43,'อุตสาหกรรม เกษตร'!D45,'อุตสาหกรรม เกษตร'!D47,'อุตสาหกรรม เกษตร'!D49,'อุตสาหกรรม เกษตร'!D51,'อุตสาหกรรม เกษตร'!D53,'อุตสาหกรรม เกษตร'!D55,'อุตสาหกรรม เกษตร'!D57,'อุตสาหกรรม เกษตร'!D59,'อุตสาหกรรม เกษตร'!D61,'อุตสาหกรรม เกษตร'!D63,'อุตสาหกรรม เกษตร'!D65,'อุตสาหกรรม เกษตร'!D67,'อุตสาหกรรม เกษตร'!D69) -> 1178 | F8: =SUM('อุตสาหกรรม อื่นๆ'!D15,'อุตสาหกรรม อื่นๆ'!D17,'อุตสาหกรรม อื่นๆ'!D19,'อุตสาหกรรม อื่นๆ'!D21,'อุตสาหกรรม อื่นๆ'!D23,'อุตสาหกรรม อื่นๆ'!D25) -> 420 | G8: =SUM(C8:F8) -> 1598
C9: (ลำดับ 1-32) | F9: (ลำดับ 5-10)
A10: 4 | B10: สำนักงานสถิติจังหวัดอุทัยธานี | D10: =SUM('อุตสาหกรรม ท่องเที่ยว+บริการ'!D7) -> 50 | G10: =SUM(C10:F10) -> 50
D11: (ลำดับ 1)
A12: 5 | B12: สำนักงานพัฒนาสังคมและความมั่นคงของมนุษย์จังหวัดอุทัยธานี | E12: =SUM('อุตสาหกรรม วิสาหกิจชุมชน'!D7,'อุตสาหกรรม วิสาหกิจชุมชน'!D9,'อุตสาหกรรม วิสาหกิจชุมชน'!D11,'อุตสาหกรรม วิสาหกิจชุมชน'!D13) -> 125 | F12: =SUM('อุตสาหกรรม อื่นๆ'!D27,'อุตสาหกรรม อื่นๆ'!D29,'อุตสาหกรรม อื่นๆ'!D31,'อุตสาหกรรม อื่นๆ'!D33,'อุตสาหกรรม อื่นๆ'!D35) -> 252 | G12: =SUM(C12:F12) -> 377
E13: (ลำดับ 1-4) | F13: (ลำดับ 11-15)
A14: 6 | B14: สำนักงานพาณิชย์จังหวัดอุทัยธานี | F14: =SUM('อุตสาหกรรม อื่นๆ'!D37) -> 50 | G14: =SUM(C14:F14) -> 50
F15: (ลำดับ 16)
A16: 7 | B16: สำนักงานแรงงานจังหวัดอุทัยธานี | F16: =SUM('อุตสาหกรรม อื่นๆ'!D39) -> 320 | G16: =SUM(C16:F16) -> 320
F17: (ลำดับ 17)
A18: 8 | B18: สำนักงานสวัสดิการและคุ้มครองแรงงานจังหวัดอุทัยธานี | F18: =SUM('อุตสาหกรรม อื่นๆ'!D41,'อุตสาหกรรม อื่นๆ'!D43,'อุตสาหกรรม อื่นๆ'!D45,'อุตสาหกรรม อื่นๆ'!D47,'อุตสาหกรรม อื่นๆ'!D49,'อุตสาหกรรม อื่นๆ'!D51,'อุตสาหกรรม อื่นๆ'!D53,'อุตสาหกรรม อื่นๆ'!D55) -> 362 | G18: =SUM(C18:F18) -> 362
F19: (ลำดับ 18-25)
A20: 9 | B20: สำนักงานจัดหางานจังหวัดอุทัยธานี | F20: =SUM('อุตสาหกรรม อื่นๆ'!D57,'อุตสาหกรรม อื่นๆ'!D59,'อุตสาหกรรม อื่นๆ'!D61,'อุตสาหกรรม อื่นๆ'!D63) -> 100 | G20: =SUM(C20:F20) -> 100
F21: (ลำดับ 26-29)
A22: 10 | B22: สำนักงานประกันสังคมจังหวัดอุทัยธานี | F22: =SUM('อุตสาหกรรม อื่นๆ'!D65,'อุตสาหกรรม อื่นๆ'!D67,'อุตสาหกรรม อื่นๆ'!D69) -> 1740 | G22: =SUM(C22:F22) -> 1740
F23: (ลำดับ 30-32
A24: 11 | B24: สำนักงานวัฒนธรรมจังหวัดอุทัยธานี | D24: =SUM('อุตสาหกรรม ท่องเที่ยว+บริการ'!D9) -> 120 | G24: =SUM(C24:F24) -> 120
D25: (ลำดับ 2)
A26: 12 | B26: สำนักงานอุตสาหกรรมจังหวัดอุทัยธานี | C26: =SUM('อุตสาหกรรม เกษตร'!D71,'อุตสาหกรรม เกษตร'!D73) -> 40 | D26: =SUM('อุตสาหกรรม ท่องเที่ยว+บริการ'!D11,'อุตสาหกรรม ท่องเที่ยว+บริการ'!D13) -> 40 | F26: =SUM('อุตสาหกรรม อื่นๆ'!D71) -> 100 | G26: =SUM(C26:F26) -> 180
C27: (ลำดับ 33-34) | D27: (ลำดับ 3-4) | F27: (ลำดับ 33)
A28: 13 | B28: สำนักงานประชาสัมพันธ์จังหวัดอุทัยธานี | G28: =SUM(C28:F28) -> 0 | H28: หากมี แผนงานและผลการดำเนินงาน สามารถรายงาน
H29: ข้อมูลเพิ่มเติม โดยแยกข้อมูลตามอุตสาหกรรม
A30: 14 | B30: เรือนจำจังหวัดอุทัยธานี | C30: =SUM('อุตสาหกรรม เกษตร'!D75) -> 10 | D30: =SUM('อุตสาหกรรม ท่องเที่ยว+บริการ'!D15,'อุตสาหกรรม ท่องเที่ยว+บริการ'!D17,'อุตสาหกรรม ท่องเที่ยว+บริการ'!D19,'อุตสาหกรรม ท่องเที่ยว+บริการ'!D21,'อุตสาหกรรม ท่องเที่ยว+บริการ'!D23,'อุตสาหกรรม ท่องเที่ยว+บริการ'!D25,'อุตสาหกรรม ท่องเที่ยว+บริการ'!D27,'อุตสาหกรรม ท่องเที่ยว+บริการ'!D29) -> 220 | E30: =SUM('อุตสาหกรรม วิสาหกิจชุมชน'!D15,'อุตสาหกรรม วิสาหกิจชุมชน'!D17,'อุตสาหกรรม วิสาหกิจชุมชน'!D19) -> 90 | F30: =SUM('อุตสาหกรรม อื่นๆ'!D73,'อุตสาหกรรม อื่นๆ'!D75,'อุตสาหกรรม อื่นๆ'!D77,'อุตสาหกรรม อื่นๆ'!D79,'อุตสาหกรรม อื่นๆ'!D81,'อุตสาหกรรม อื่นๆ'!D83,'อุตสาหกรรม อื่นๆ'!D85) -> 210 | G30: =SUM(C30:F30) -> 530
C31: (ลำดับ 35) | D31: (ลำดับ 5-12) | E31: (ลำดับ 5-7) | F31: (ลำดับ 34-40)
A32: 15 | B32: สำนักงานพัฒนาชุมชนจังหวัดอุทัยธานี | D32: =SUM('อุตสาหกรรม ท่องเที่ยว+บริการ'!D31,'อุตสาหกรรม ท่องเที่ยว+บริการ'!D33) -> 90 | E32: =SUM('อุตสาหกรรม วิสาหกิจชุมชน'!D21) -> 25 | F32: =SUM('อุตสาหกรรม อื่นๆ'!D87,'อุตสาหกรรม อื่นๆ'!D89) -> 320 | G32: =SUM(C32:F32) -> 435
D33: (ลำดับ 13-14) | E33: (ลำดับ 8) | F33: (ลำดับ 41-42)
A34: 16 | B34: องค์การบริหารส่วนจังหวัดอุทัยธานี | C34: =SUM('อุตสาหกรรม เกษตร'!D77) -> 1700 | G34: =SUM(C34:F34) -> 1700
C35: (ลำดับ 36)
A36: 17 | B36: สภาอุตสาหกรรมจังหวัดอุทัยธานี | G36: =SUM(C36:F36) -> 0 | H36: หากมี แผนงานและผลการดำเนินงาน สามารถรายงาน
H37: ข้อมูลเพิ่มเติม โดยแยกข้อมูลตามอุตสาหกรรม
A38: 18 | B38: หอการค้าจังหวัดอุทัยธานี | G38: =SUM(C38:F38) -> 0 | H38: หากมี แผนงานและผลการดำเนินงาน สามารถรายงาน
H39: ข้อมูลเพิ่มเติม โดยแยกข้อมูลตามอุตสาหกรรม
A40: 19 | B40: สมาพันธ์ SME ไทย จังหวัดอุทัยธานี | G40: =SUM(C40:F40) -> 0 | H40: หากมี แผนงานและผลการดำเนินงาน สามารถรายงาน
...

Sheet อุตสาหกรรม เกษตร
A1: ข้อมูลผลการพัฒนากำลังคนจังหวัดอุทัยธานี พ.ศ. 2569
A2: การพัฒนาด้านประเภทอุตสาหกรรมการเกษตร ฯลฯ (เช่น ข้าว มันสำปะหลัง เป็นต้น)
A3: ที่ | B3: แผนงาน/โครงการ | C3: หน่วยนับ | D3: แผนดำเนินงาน | E3: ระยะเวลาดำเนินการ/ สถานที่ | F3: ข้อมูลวิทยากร | G3: งบประมาณที่เบิกจ่ายจริง | H3: จำนวนผู้ผ่านการพัฒนา | I3: รายได้เฉลี่ย/รุ่น | J3: หน่วยงานที่รับผิดชอบ | K3: แหล่งงบประมาณ
D4: พ.ศ. 2569
C5: คน
C6: งบประมาณ (บาท)
A7: 1 | B7: โครงการส่งเสริมและพัฒนาอาชีพเพื่อแก้ไขปัญหาที่ดินทำกินของเกษตรกร หลักสูตร เทคโนโลยีการเพิ่มประสิทธิภาพผลิตพืชที่เหมาะสมกับสภาพพื้นที่ | C7: คน | D7: 25 | E7: มีนาคม - มิถุนายน 2569 | F7: £ภาครัฐ £ ภาคเอกชน | G7: £ ด้านฝีมือ £ การสื่อสาร | J7: ศูนย์วิจัยและพัฒนาการเกษตรอุทัยธานี | K7: ต้นสังกัด
C8: งบประมาณ (บาท) | E8: อำเภอบ้านไร่ จังหวัดอุทัยธานี | F8: £ ภาคการศึกษา £ อิสระ £ ปราชญ์ชาวบ้าน | G8: £ การบริการจัดการ £ ด้านเทคโนโลยี
A9: 2 | B9: โครงการส่งเสริมและพัฒนาสินค้าเกษตรอัตลักษณ์พื้นถิ่น หลักสูตร การจดทะเบียนพันธุ์พืชพื้นเมืองเฉพาะถิ่น กิจกรรม การเพิ่มมูลค่าข้าวโพดเทียนบ้านไร่ จังหวัดอุทัยธานี เรื่อง อบรมการขึ้นทะเบียนพันธุ์พืชพื้นเมืองเฉพาะถิ่น ภายใต้ พ.ร.บ.คุ้มครองพันธุ์พืช | C9: คน | D9: 50 | E9: ธันวาคม 2568 - กรกฎาคม 2569 | F9: £ภาครัฐ £ ภาคเอกชน | G9: £ ด้านฝีมือ £ การสื่อสาร | J9: ศูนย์วิจัยและพัฒนาการเกษตรอุทัยธานี | K9: ต้นสังกัด
C10: งบประมาณ (บาท) | E10: อำเภอบ้านไร่ จังหวัดอุทัยธานี | F10: £ ภาคการศึกษา £ อิสระ £ ปราชญ์ชาวบ้าน | G10: £ การบริการจัดการ £ ด้านเทคโนโลยี
A11: 3 | B11: โครงการขับเคลื่อนผลงานวิจัยสู่การใช้ประโยชน์ กิจกรรมที่ชุมชนนวัตกรรมวิชาการเกษตร เรื่อง การเพิ่มประสิทธิภาพการผลิตข้าวโพดเลี้ยงสัตว์ | C11: คน | D11: 40 | E11: ธันวาคม 2568 - กรกฎาคม 2569 | F11: £ภาครัฐ £ ภาคเอกชน | G11: £ ด้านฝีมือ £ การสื่อสาร | J11: ศูนย์วิจัยและพัฒนาการเกษตรอุทัยธานี | K11: ต้นสังกัด
C12: งบประมาณ (บาท) | E12: อำเภอลานสัก จังหวัดอุทัยธานี | F12: £ ภาคการศึกษา £ อิสระ £ ปราชญ์ชาวบ้าน | G12: £ การบริการจัดการ £ ด้านเทคโนโลยี
A13: 4 | B13: โครงการขับเคลื่อนผลงานวิจัยสู่การใช้ประโยชน์ กิจกรรมที่ ชุมชนนวัตกรรมวิชาการเกษตร เรื่อง การเสวนาแลกเปลี่ยนเรียนรู้และสรุปบทเรียนกับเกษตรกรกรผลิตข้าวโพดเลี้ยงสัตว์ | C13: คน | D13: 40 | E13: ธันวาคม 2568-กรกฎาคม 2569 | F13: £ภาครัฐ £ ภาคเอกชน | G13: £ ด้านฝีมือ £ การสื่อสาร | J13: ศูนย์วิจัยและพัฒนาการเกษตรอุทัยธานี | K13: ต้นสังกัด
C14: งบประมาณ (บาท) | E14: อำเภอลานสัก จังหวัดอุทัยธานี | F14: £ ภาคการศึกษา £ อิสระ £ ปราชญ์ชาวบ้าน | G14: £ การบริการจัดการ £ ด้านเทคโนโลยี
A15: 5 | B15: โครงการขับเคลื่อนผลงานวิจัยสู่การใช้ประโยชน์ กิจกรรมที่ ระบบส่งเสริมเกษตรแปลงใหญ่ เรื่อง การเพิ่มประสิทธิภาพการผลิตทุเรียนในกลุ่มแปลงใหญ่ ในพื้นที่จังหวัดอุทัยธานี | C15: คน | D15: 30 | E15: ธันวาคม 2568-กรกฎาคม 2569 | F15: £ภาครัฐ £ ภาคเอกชน | G15: £ ด้านฝีมือ £ การสื่อสาร | J15: ศูนย์วิจัยและพัฒนาการเกษตรอุทัยธานี | K15: ต้นสังกัด
C16: งบประมาณ (บาท) | E16: อำเภอบ้านไร่ จังหวัดอุทัยธานี | F16: £ ภาคการศึกษา £ อิสระ £ ปราชญ์ชาวบ้าน | G16: £ การบริการจัดการ £ ด้านเทคโนโลยี
A17: 6 | B17: โครงการ ขยายผลเทคโนโลยีการเพิ่มประสิทธิภาพการผลิตพืชไร่ในเขตพื้นที่ภาคกลาง กิจกรรมที่ ขยายผลการยกระดับผลผลิตและลดต้นทุนการผลิตข้าวโพดในพื้นที่ภาคกลาง การจัดงานวันถ่ายทอดเทคโนโลยี เรื่อง "ต้นทุนลด ผลผลิตเพิ่ม ด้วยเทคโนโลยีกรมวิชาการเกษตร พันธุ์ดี ปุ๋ยดี ชีวิตสุข" | C17: คน | D17: 140 | E17: กุมภาพันธ์ - สิงหาคม 2569 | F17: £ภาครัฐ £ ภาคเอกชน | G17: £ ด้านฝีมือ £ การสื่อสาร | J17: ศูนย์วิจัยและพัฒนาการเกษตรอุทัยธานี | K17: กองทุนส่งเสริมวิทยาศาสตร์วิจัยและนวัตกรรม สำนักงานคณะกรรมการส่งเสริมวิทยาศาสตร์ วิจัยและนวัตกรรม (สกสว.)
C18: งบประมาณ (บาท) | E18: อำเภอหนองฉาง จังหวัดอุทัยธานี | F18: £ ภาคการศึกษา £ อิสระ £ ปราชญ์ชาวบ้าน | G18: £ การบริการจัดการ £ ด้านเทคโนโลยี
A19: 7 | B19: โครงการ ขยายผลเทคโนโลยีการเพิ่มประสิทธิภาพการผลิตพืชไร่ในเขตพื้นที่ภาคกลาง กิจกรรมที่ ขยายผลการยกระดับผลผลิตและลดต้นทุนการผลิตข้าวโพดในพื้นที่ภาคกลาง หลักสูตร การผลิตเมล็ดพันธ์และเทคโนโลยีการผลิตข้าวโพดเทียมพื้นเมืองเพื่อใช้ประโยชน์ในพื้นที่จังหวัดอุทัยธานี | C19: คน | D19: 20 | E19: กุมภาพันธ์ - สิงหาคม 2569 | F19: £ภาครัฐ £ ภาคเอกชน | G19: £ ด้านฝีมือ £ การสื่อสาร | J19: ศูนย์วิจัยและพัฒนาการเกษตรอุทัยธานี | K19: กองทุนส่งเสริมวิทยาศาสตร์วิจัยและนวัตกรรม สำนักงานคณะกรรมการส่งเสริมวิทยาศาสตร์ วิจัยและนวัตกรรม (สกสว.)
C20: งบประมาณ (บาท) | E20: อำเภอสว่างอารมณ์ จังหวัดอุทัยธานี | F20: £ ภาคการศึกษา £ อิสระ £ ปราชญ์ชาวบ้าน | G20: £ การบริการจัดการ £ ด้านเทคโนโลยี
A21: 8 | B21: โครงการ ขยายผลเทคโนโลยีการเพิ่มประสิทธิภาพการผลิตพืชไร่ในเขตพื้นที่ภาคกลาง กิจกรรมที่ ขยายผลการเพิ่มประสิทธิภาพการผลิตมันสำปะหลังด้วยการใช้ปุ๋ยตามค่าวิเคราะห์ดินและไถระเบิดดินดานในพื้นที่ภาคกลาง การจัดงานวันถ่ายทอดเทคโนโลยี เรื่อง "ระเบิดดินดานลดอาการมันเน่า ต้นทุนลด ผลผลิตเพิ่ม ด้วยเทคโนโลยีกรมวิชการเกษตร" | C21: คน | D21: 70 | E21: กุมภาพันธ์ - สิงหาคม 2569 | F21: £ภาครัฐ £ ภาคเอกชน | G21: £ ด้านฝีมือ £ การสื่อสาร | J21: ศูนย์วิจัยและพัฒนาการเกษตรอุทัยธานี | K21: กองทุนส่งเสริมวิทยาศาสตร์วิจัยและนวัตกรรม สำนักงานคณะกรรมการส่งเสริมวิทยาศาสตร์ วิจัยและนวัตกรรม (สกสว.)
C22: งบประมาณ (บาท) | E22: อำเภองานสัก จังหวัดอุทัยธานร | F22: £ ภาคการศึกษา £ อิสระ £ ปราชญ์ชาวบ้าน | G22: £ การบริการจัดการ £ ด้านเทคโนโลยี
A23: 9 | B23: โครงการ ขยายผลเทคโนโลยีการเพิ่มประสิทธิภาพการผลิตพืชไร่ในเขตพื้นที่ภาคกลาง กิจกรรมที่ ขยายผลการเพิ่มประสิทธิภาพการผลิตมันสำปะหลังด้วยการใช้ปุ๋ยตามค่าวิเคราะห์ดินและไถระเบิดดินดานในพื้นที่ภาคกลาง ฝุกอบรมเกษตรกร หลักสูตร การเตรียมแปลงพันธุ์สะอาดและการจัดการเพื่อลดการระบาดของโรคใบด่างมันสำปะหลังในพื้นที่จังหวัดอุทัยธานี | C23: คน | D23: 20 | E23: กุมภาพันธ์ - สิงหาคม 2569 | F23: £ภาครัฐ £ ภาคเอกชน | G23: £ ด้านฝีมือ £ การสื่อสาร | J23: ศูนย์วิจัยและพัฒนาการเกษตรอุทัยธานี | K23: กองทุนส่งเสริมวิทยาศาสตร์วิจัยและนวัตกรรม สำนักงานคณะกรรมการส่งเสริมวิทยาศาสตร์ วิจัยและนวัตกรรม (สกสว.)
C24: งบประมาณ (บาท) | E24: อำเภอบ้านไร่ จังหวัดอุทัยธานร | F24: £ ภาคการศึกษา £ อิสระ £ ปราชญ์ชาวบ้าน | G24: £ การบริการจัดการ £ ด้านเทคโนโลยี
A25: 10 | B25: โครงการ ขยายผลเทคโนโลยีการเพิ่มประสิทธิภาพการผลิตพืชไร่ในเขตพื้นที่ภาคกลาง กิจกรรม ขยายผลการเพิ่มประสิทธิภาพการผลิตอ้อยด้วยการใช้ปุ๋ยตามค่าวิเคราะห์ดินในเขตพื้นที่ภาคกลาง การจัดงานวันถ่ายทอดเทคโนโลยีกรมวิชาการเกษตร เรื่อง เพิ่มประสิทธิภาพการผลิตอ้อยโรงงาน และลดต้นทุนการผลิตด้วยปุ๋ยตามค่าวิเคราะห์ดิน | C25: คน | D25: 70 | E25: กุมภาพันธ์ - สิงหาคม 2569 | F25: £ภาครัฐ £ ภาคเอกชน | G25: £ ด้านฝีมือ £ การสื่อสาร | J25: ศูนย์วิจัยและพัฒนาการเกษตรอุทัยธานี | K25: กองทุนส่งเสริมวิทยาศาสตร์วิจัยและนวัตกรรม สำนักงานคณะกรรมการส่งเสริมวิทยาศาสตร์ วิจัยและนวัตกรรม (สกสว.)
C26: งบประมาณ (บาท) | E26: อำเภอบ้านไร่ จังหวัดอุทัยธานี | F26: £ ภาคการศึกษา £ อิสระ £ ปราชญ์ชาวบ้าน | G26: £ การบริการจัดการ £ ด้านเทคโนโลยี
A27: 11 | B27: โครงการถ่ายทอดเทคโนโลยีเพื่อการเกษตร กิจกรรม ถ่ายทอดเทคโนโลยีการลดต้นทุนการผลิตยาง หลักสูตรการใช้ปุ๋ยเพื่อปรับปรุงดินในสวนยางพารา | C27: คน | D27: 30 | E27: กุมภาพันธ์ 2569 | F27: £ภาครัฐ £ ภาคเอกชน | G27: £ ด้านฝีมือ £ การสื่อสาร | H27: 30 | J27: การยางแห่งประเทศไทยจังหวัดอุทัยธานี | K27: ต้นสังกัด
C28: งบประมาณ (บาท) | D28: 28800 | E28: ตำบลคอกควาย อำเภอบ้านไร่ จังหวัดอุทัยธานี | F28: £ ภาคการศึกษา £ อิสระ £ ปราชญ์ชาวบ้าน | G28: £ การบริการจัดการ £ ด้านเทคโนโลยี
A29: 12 | B29: โครงการถ่ายทอดเทคโนดลยีเพื่อเกษตรกร กิจกรรม ถ่ายทอดเทคโนโลยีการรปรับปรุงคุณภาพในกระบวนการผลิต หลักสูตรการปรับปรุงคุณภาพผลผลิตยางพาราตามเทคโนโลยีการจัดการสวนยางอย่างยั่งยืน | C29: คน | D29: 30 | E29: มิถุนายน 2569 | F29: £ภาครัฐ £ ภาคเอกชน | G29: £ ด้านฝีมือ £ การสื่อสาร | J29: การยางแห่งประเทศไทยจังหวัดอุทัยธานี | K29: ต้นสังกัด
C30: งบประมาณ (บาท) | D30: 20100 | E30: ตำบลคอกควาย อำเภอบ้านไร่ จังหวัดอุทัยธานี | F30: £ ภาคการศึกษา £ อิสระ £ ปราชญ์ชาวบ้าน | G30: £ การบริการจัดการ £ ด้านเทคโนโลยี | H30: 30
A31: 13 | B31: โครงการส่งเสริมและพัฒนาสินค้าเกษตรชีวภาพเพื่อเข้าสู่ห่วงโซ่อุปทานเศรษฐกิจชีวภาพ กิจกรรม จัดกระบวนการเรียนรู้เพื่อเพิ่มศักยภาพกลุ่มเกษตรกรผู้ผลิตสมุนไพร | C31: คน | D31: 30 | E31: ตุลาคม 2568 - กันยายน 2569 | F31: R ภาครัฐ £ ภาคเอกชน | G31: £ ด้านฝีมือ £ การสื่อสาร | H31: 30 | I31: 1850 | J31: สำนักงานเกษตรจังหวัดอุทัยธานี | K31: กรมส่งเสริมการเกษตร
C32: งบประมาณ (บาท) | D32: 98500 | E32: จังหวัดอุทัยธานี | F32: £ ภาคการศึกษา £ อิสระ £ ปราชญ์ชาวบ้าน | G32: R การบริการจัดการ £ ด้านเทคโนโลยี | I32: บาท/คน/เดือน
A33: 14 | B33: โครงการระบบส่งเสริมเกษตรแบบแปลงใหญ่เพื่อปรับเพิ่มผลิตภาพการผลิต กิจกรรมถ่ายทอดความรู้ให้แก่เกษตรกรเข้าสู่ระบบมาตรฐาน GAP | C33: คน | D33: 44 | E33: ตุลาคม 2568 - กันยายน 2569 | F33: R ภาครัฐ £ ภาคเอกชน | G33: £ ด้านฝีมือ £ การสื่อสาร | H33: 44 | I33: 60000 | J33: สำนักงานเกษตรจังหวัดอุทัยธานี | K33: กรมส่งเสริมการเกษตร
C34: งบประมาณ (บาท) | D34: 39160 | E34: จังหวัดอุทัยธานี | F34: £ ภาคการศึกษา £ อิสระ £ ปราชญ์ชาวบ้าน | G34: R การบริการจัดการ £ ด้านเทคโนโลยี | I34: บาท/คน/ปี
A35: 15 | B35: โครงการส่งเสริมและพัฒนาสินค้าเกษตรอัตลักษณ์พื้นถิ่นเพื่อเข้าสู่ห่วงโซ่อุปทานเศรษฐกิจสร้างสรรค์ กิจกรรม จัดอบรมถ่ายทอดเทคโนโลยีการผลิตสินค้าไม้ผลอัตลักษณ์พื้นถิ่น | C35: คน | D35: 30 | E35: ตุลาคม 2568 - กันยายน 2569 | F35: þภาครัฐ £ ภาคเอกชน | G35: £ ด้านฝีมือ £ การสื่อสาร | H35: 30 | I35: 67,385.19 บาท/ไร่/ราย | J35: สำนักงานเกษตรจังหวัดอุทัยธานี | K35: กรมส่งเสริมการเกษตร
C36: งบประมาณ (บาท) | D36: 10500 | E36: อำเภอบ้านไร่ จังหวัดอุทัยธานี | F36: £ ภาคการศึกษา þ อิสระ £ ปราชญ์ชาวบ้าน | G36: £ การบริการจัดการ þ ด้านเทคโนโลยี
A37: 16 | B37: โครงการยกระดับสินค้าเกษตรมูลค่าสูง (มันสำปะหลัง) กิจกรรมจัดเวทีถ่ายทอดความรู้เกษตรกร หลักสูตรเทคโนโลยีการเพิ่มผลผลิตมันสำปะหลังอย่างยั่งยืนและการบริหารจัดการแปลงภายใต้การเปลี่ยนแปลงของสภาพภูมิอากาศ | C37: คน | D37: 30 | E37: ตุลาคม 2568-กันยายน 2569 | F37: þภาครัฐ £ ภาคเอกชน | G37: £ ด้านฝีมือ £ การสื่อสาร | H37: 30 | I37: เกษตรกรยังไม่ได้ | J37: สำนักงานเกษตรจังหวัดอุทัยธานี | K37: กรมส่งเสริมการเกษตร
C38: งบประมาณ (บาท) | D38: 11700 | E38: อำเภอลานสัก จังหวัดอุทัยธานี | F38: £ ภาคการศึกษา £ อิสระ £ ปราชญ์ชาวบ้าน | G38: £ การบริการจัดการ þ ด้านเทคโนโลยี | I38: เก็บเกี่ยวผลผลิต
A39: 17 | B39: โครงการส่งเสริมการจัดการสุขภาพพืชเพื่อเพิ่มประสิทธิภาพการผลิตสินค้าเกษตร กิจกรรมถ่ายทอดความรู้ให้กับเกษตรกรตามกระบวนการโรงเรียนเกษตรกรตามพระราชดำริในพืชมูล่คาสูง | C39: คน | D39: 20 | E39: ตุลาคม 2568-กันยายน 2569 | F39: R ภาครัฐ £ ภาคเอกชน | G39: £ ด้านฝีมือ £ การสื่อสาร | H39: 20 | I39: 60000 | J39: สำนักงานเกษตรจังหวัดอุทัยธานี | K39: กรมส่งเสริมการเกษตร
C40: งบประมาณ (บาท) | D40: 42000 | E40: อำเภอหนองฉาง จังหวัดอุทัยธานี | F40: £ ภาคการศึกษา £ อิสระ £ ปราชญ์ชาวบ้าน | G40: R การบริการจัดการ £ ด้านเทคโนโลยี | I40: บาท/คน/ปี
...

Sheet อุตสาหกรรม ท่องเที่ยว+บริการ
A1: ผลการพัฒนากำลังคนจังหวัดอุทัยธานี พ.ศ. 2569
A2: การพัฒนาด้านประเภทอุตสาหกรรมท่องเที่ยวและบริการ (ผู้นำเที่ยว ผู้ประกอบการร้านค้า ร้านอาหาร)
A3: ที่ | B3: แผนงาน/โครงการ | C3: หน่วยนับ | D3: แผนดำเนินงาน | E3: ระยะเวลาดำเนินการ/ สถานที่ | F3: ข้อมูลวิทยากร | G3: งบประมาณที่เบิกจ่ายจริง | H3: จำนวนผู้ผ่านการพัฒนา | I3: รายได้เฉลี่ย/รุ่น | J3: หน่วยงานที่รับผิดชอบ | K3: แหล่งงบประมาณ
D4: พ.ศ. 2569
C5: คน
C6: งบประมาณ (บาท)
A7: 1 | B7: โครงการสร้างการรับรู้ด้านดิจจิทัลของประชาชนในระดับจังหวัดและอำเภอ | C7: คน | D7: 50 | E7: มกราคม - กันยายน 2569 | F7: £ภาครัฐ £ ภาคเอกชน | G7: £ ด้านฝีมือ £ การสื่อสาร | J7: สำนักงานสถิติจังหวัดอุทัยธานี | K7: ต้นสังกัด
C8: งบประมาณ (บาท) | E8: ทุกอำเภอในพื้นที่จังหวัดอุทัยธานี | F8: £ ภาคการศึกษา £ อิสระ £ ปราชญ์ชาวบ้าน | G8: £ การบริการจัดการ £ ด้านเทคโนโลยี
A9: 2 | B9: โครงการพัฒนาต่อยอดทุนทางวัฒนธรรมด้วยนวัตกรรมภูมิปัญญา "เที่ยวชุมชน ยลวิถี" จังหวัดอุทัยธานี กิจกรรมการพัฒนาศักยภาพชุมชนต้นแบบ "เที่ยวชุมชน ยลวิถี" ชุมชนคณธรรม วัดท่าโพ อำเภอหนองขาหย่าง จังหวัดอุทัยธานี 1) จัดอบรมเชิงปฏิบัติการ "ถ่ายทอดเพลงพื้นบ้านท่าโพ" 2) จัดอบรมเชิงปฏิบัติการ "การพัมนารูปแบบ รสชาติ บรรจุภัณฑ์ ของอาหารพื้นถิ่นสู่ผลิตภัณฑ์ชุมชนเพื่อการสร้างอาชีพ | C9: คน | D9: 120 | E9: 1 มกราคม - 28 กุมภาพันธ์ 2569 | F9: £ภาครัฐ £ ภาคเอกชน | G9: £ ด้านฝีมือ £ การสื่อสาร | J9: สำนักงานวัฒนธรรมจังหวัดอุทัยธานี | K9: ต้นสังกัด
C10: งบประมาณ (บาท) | E10: ชุมชนคณธรรม วัดท่าโพ อำเภอหนองขาหย่าง จังหวัดอุทัยธานี | F10: £ ภาคการศึกษา £ อิสระ £ ปราชญ์ชาวบ้าน | G10: £ การบริการจัดการ £ ด้านเทคโนโลยี
A11: 3 | B11: โครงการค่าใช้จ่ายในการปั้นผู้ประกอบการเกษตรอุตสาหกรรมสู่ชุมชน (MiNE STAR) ประจำปีงบประมาณ พ.ศ. 2569 กิจกรรม การถ่ายทอดองค์ความรู้และพัฒนาผู้ประกอบการอุตสาหกรรม | C11: คน | D11: 20 | E11: กุมภาพันธ์ 2569 | F11: £ภาครัฐ £ ภาคเอกชน | G11: £ ด้านฝีมือ £ การสื่อสาร | J11: สำนักงานอุตสาหกรรมจังหวัดอุทัยธานี | K11: ต้นสังกัด
C12: งบประมาณ (บาท) | F12: £ ภาคการศึกษา £ อิสระ £ ปราชญ์ชาวบ้าน | G12: £ การบริการจัดการ £ ด้านเทคโนโลยี
A13: 4 | B13: โครงการยกระดับผู้ประกอยการเอสเอ็มอีให้มีศักยภาพและขีดความสามารถในการแข่งขันด้วยมาตรฐานอุตสาหกรรม (มอก.เอส) ประจำปีงบประมาณ พ.ศ. 2569 | C13: คน | D13: 20 | E13: พฤษภาคม 2569 | F13: £ภาครัฐ £ ภาคเอกชน | G13: £ ด้านฝีมือ £ การสื่อสาร | K13: ต้นสังกัด
C14: งบประมาณ (บาท) | F14: £ ภาคการศึกษา £ อิสระ £ ปราชญ์ชาวบ้าน | G14: £ การบริการจัดการ £ ด้านเทคโนโลยี
A15: 5 | B15: โครงการฝึกอาชีพทำอาหารปรุงและเครื่องดื่มภายในเรือจำ | C15: คน | D15: 10 | E15: ตุลาคม 2568-กันยายน 2569 | F15: £ภาครัฐ £ ภาคเอกชน | G15: £ ด้านฝีมือ £ การสื่อสาร | J15: เรือนจำจังหวัดอุทัยธานี | K15: ต้นสังกัด
C16: งบประมาณ (บาท) | E16: เรือนจำจังหวัดอุทัยธานี | F16: £ ภาคการศึกษา £ อิสระ £ ปราชญ์ชาวบ้าน | G16: £ การบริการจัดการ £ ด้านเทคโนโลยี
A17: 6 | B17: โครงการฝึกวิชาชีพทำความสะอาดรถยนต์ | C17: คน | D17: 10 | E17: ตุลาคม 2568-กันยายน 2569 | F17: £ภาครัฐ £ ภาคเอกชน | G17: £ ด้านฝีมือ £ การสื่อสาร | K17: ต้นสังกัด
C18: งบประมาณ (บาท) | E18: เรือนจำจังหวัดอุทัยธานี | F18: £ ภาคการศึกษา £ อิสระ £ ปราชญ์ชาวบ้าน | G18: £ การบริการจัดการ £ ด้านเทคโนโลยี
A19: 7 | B19: โครงการฝึกวิชาชีพทำเบอเกรี่ | C19: คน | D19: 20 | E19: ตุลาคม 2568-กันยายน 2569 | F19: £ภาครัฐ £ ภาคเอกชน | G19: £ ด้านฝีมือ £ การสื่อสาร | K19: ต้นสังกัด
C20: งบประมาณ (บาท) | D20: 2500 | E20: เรือนจำจังหวัดอุทัยธานี | F20: £ ภาคการศึกษา £ อิสระ £ ปราชญ์ชาวบ้าน | G20: £ การบริการจัดการ £ ด้านเทคโนโลยี
A21: 8 | B21: โครงการฝึกวิชาชีพทำอาหารไทย | C21: คน | D21: 20 | E21: ตุลาคม 2568-กันยายน 2569 | F21: £ภาครัฐ £ ภาคเอกชน | G21: £ ด้านฝีมือ £ การสื่อสาร | K21: ต้นสังกัด
C22: งบประมาณ (บาท) | D22: 2000 | E22: เรือนจำจังหวัดอุทัยธานี | F22: £ ภาคการศึกษา £ อิสระ £ ปราชญ์ชาวบ้าน | G22: £ การบริการจัดการ £ ด้านเทคโนโลยี
A23: 9 | B23: โครงการฝึกวิชาชีพช่างเสริมสวย | C23: คน | D23: 30 | E23: ตุลาคม 2568-กันยายน 2569 | F23: £ภาครัฐ £ ภาคเอกชน | G23: £ ด้านฝีมือ £ การสื่อสาร | K23: ต้นสังกัด
C24: งบประมาณ (บาท) | D24: 2000 | E24: เรือนจำจังหวัดอุทัยธานี | F24: £ ภาคการศึกษา £ อิสระ £ ปราชญ์ชาวบ้าน | G24: £ การบริการจัดการ £ ด้านเทคโนโลยี
A25: 10 | B25: โครงการพัฒนาทักษะภาษาอังกฤษสำหรับผู้เรียน | C25: คน | D25: 50 | E25: ตุลาคม 2568-กันยายน 2569 | F25: £ภาครัฐ £ ภาคเอกชน | G25: £ ด้านฝีมือ £ การสื่อสาร | K25: ต้นสังกัด
C26: งบประมาณ (บาท) | E26: เรือนจำจังหวัดอุทัยธานี | F26: £ ภาคการศึกษา £ อิสระ £ ปราชญ์ชาวบ้าน | G26: £ การบริการจัดการ £ ด้านเทคโนโลยี
A27: 11 | B27: โครงการพัฒนาทักษะการใช้โปรแกรมสำเร็จรูปในสำนักงาน | C27: คน | D27: 50 | E27: ตุลาคม 2568-กันยายน 2569 | F27: £ภาครัฐ £ ภาคเอกชน | G27: £ ด้านฝีมือ £ การสื่อสาร | K27: ต้นสังกัด
C28: งบประมาณ (บาท) | E28: เรือนจำจังหวัดอุทัยธานี | F28: £ ภาคการศึกษา £ อิสระ £ ปราชญ์ชาวบ้าน | G28: £ การบริการจัดการ £ ด้านเทคโนโลยี
A29: 12 | B29: โครงการฝึกวิชาชรพทำขนมไทยชาววัง | C29: คน | D29: 30 | E29: ตุลาคม 2568-กันยายน 2569 | F29: £ภาครัฐ £ ภาคเอกชน | G29: £ ด้านฝีมือ £ การสื่อสาร | K29: ต้นสังกัด
C30: งบประมาณ (บาท) | D30: 3000 | E30: เรือนจำจังหวัดอุทัยธานี | F30: £ ภาคการศึกษา £ อิสระ £ ปราชญ์ชาวบ้าน | G30: £ การบริการจัดการ £ ด้านเทคโนโลยี
A31: 13 | B31: โครวการพัมนาศักยภาพผู้ประกอบการสู่ยุคดิจิตอล | C31: คน | D31: 50 | E31: เดือนพฤศจากยน 2568 | F31: £ภาครัฐ £ ภาคเอกชน | G31: £ ด้านฝีมือ £ การสื่อสาร | J31: สำนักงานพัฒนาชุมชนจังหวัดอุทัยธานี | K31: ต้นสังกัด
C32: งบประมาณ (บาท) | E32: โรงแรมธาราฮิลล์ อำเภอเมืองอุทัยธานี จังหวัดอุทัยธานี | F32: £ ภาคการศึกษา £ อิสระ £ ปราชญ์ชาวบ้าน | G32: £ การบริการจัดการ £ ด้านเทคโนโลยี
A33: 14 | B33: โครงการค้นหาผู้จัดโปรแกรมท่องเที่ยวเชิงสร้างสรรค์ (Champ) ผลิตภัณฑ์เด่นและการทดสอบโปรแกรมท่องเที่ยวเชิงสร้างสรรค์ | C33: คน | D33: 40 | E33: เดือนมกราคม - มีนคาม 2569 | F33: £ภาครัฐ £ ภาคเอกชน | G33: £ ด้านฝีมือ £ การสื่อสาร | K33: ต้นสังกัด
C34: งบประมาณ (บาท) | E34: บ้านเนินม่วงพัมนา หมู่ที่ 11 ต.ป่าอ้อ อ.ลานสัก และบ้านท่าชะอม หมู่ที่ 6 ต.เขากวางทอง อ.หนองฉาง | F34: £ ภาคการศึกษา £ อิสระ £ ปราชญ์ชาวบ้าน | G34: £ การบริการจัดการ £ ด้านเทคโนโลยี
A35: 15 | B35: กิจกรรม ฝึกอบรมแรงงานกลุ่มเป้าหมายเฉพาะเพื่อเพิ่มอากาสในการประกอบอาชีพวิถีใหม่ หลักสูตร ชีววิถีเพื่อการพัฒนาอย่างยั่งยืน | C35: คน | D35: 100 | E35: พฤศจิกายน 2568 - กุมภาพันธ์ 2569 | F35: £ภาครัฐ £ ภาคเอกชน | G35: £ ด้านฝีมือ £ การสื่อสาร | J35: วิทยาลัยเกษตรและเทคโนโลยีอุทัยธานี | K35: ต้นสังกัด
C36: งบประมาณ (บาท) | E36: วิทยาลัยเกษตรและเทคโนโลยีอุทัยธานี อำเภอเมือง จังหวัดอุทัยธานี | F36: £ ภาคการศึกษา £ อิสระ £ ปราชญ์ชาวบ้าน | G36: £ การบริการจัดการ £ ด้านเทคโนโลยี
A37: 16 | B37: กิจกรรม ฝึกอบรมแรงงานกลุ่มเป้าหมายเฉพาะเพื่อเพิ่มโอกสในการประกอบอาชีพวิถีใหม่ หลักสูตร จัดดอกไม้แบบสากล | C37: คน | D37: 20 | E37: พฤศจิกายน 2568 - กุมภาพันธ์ 2569 | F37: £ภาครัฐ £ ภาคเอกชน | G37: £ ด้านฝีมือ £ การสื่อสาร | K37: ต้นสังกัด
C38: งบประมาณ (บาท) | E38: วิทยาลัยเกษตรและเทคโนโลยีอุทัยธานี อำเภอเมือง จังหวัดอุทัยธานี | F38: £ ภาคการศึกษา £ อิสระ £ ปราชญ์ชาวบ้าน | G38: £ การบริการจัดการ £ ด้านเทคโนโลยี
A39: 17 | B39: กิจกรรม ฝึกอบรมแรงงานกลุ่มเป้าหมายเฉพาะเพื่อเพิ่มโอกสในการประกอบอาชีพวิถีใหม่ หลักสูตร งานตกแต่งสถานที่ | C39: คน | D39: 20 | E39: พฤศจิกายน 2568 - กุมภาพันธ์ 2569 | F39: £ภาครัฐ £ ภาคเอกชน | G39: £ ด้านฝีมือ £ การสื่อสาร | K39: ต้นสังกัด
C40: งบประมาณ (บาท) | E40: วิทยาลัยเกษตรและเทคโนโลยีอุทัยธานี อำเภอเมือง จังหวัดอุทัยธานี | F40: £ ภาคการศึกษา £ อิสระ £ ปราชญ์ชาวบ้าน | G40: £ การบริการจัดการ £ ด้านเทคโนโลยี
...

Sheet อุตสาหกรรม วิสาหกิจชุมชน
A1: ผลการพัฒนากำลังคนจังหวัดอุทัยธานี พ.ศ. 2569
A2: การพัฒนาด้านประเภทอุตสาหกรรมวิสาหกิจชุมชน (ทอผ้า แปรรูปสินค้า)
A3: ที่ | B3: แผนงาน/โครงการ | C3: หน่วยนับ | D3: แผนดำเนินงาน | E3: ระยะเวลาดำเนินการ/ สถานที่ | F3: ข้อมูลวิทยากร | G3: งบประมาณที่เบิกจ่ายจริง | H3: จำนวนผู้ผ่านการพัฒนา | I3: รายได้เฉลี่ย/รุ่น | J3: หน่วยงานที่รับผิดชอบ | K3: แหล่งงบประมาณ
D4: พ.ศ. 2569
C5: คน
C6: งบประมาณ (บาท)
A7: 1 | B7: โครงการฝึกอบรมและส่งเสริมทักษะอาชีพการทำซุ้มไม่ไผ่ | C7: คน | D7: 25 | E7: ตุลาคม 2568-กันยายน 2569 | F7: £ภาครัฐ £ ภาคเอกชน | G7: £ ด้านฝีมือ £ การสื่อสาร | J7: สำนักงานพัฒนาสังคมและความมั่นคงของมนุษย์จังหวัดอุทัยธานี | K7: ต้นสังกัด
C8: งบประมาณ (บาท) | E8: อาคารวิสาหกิจชุมชนกลุ่มจักรสานบ้านเกาะอีเพลิน | F8: £ ภาคการศึกษา £ อิสระ £ ปราชญ์ชาวบ้าน | G8: £ การบริการจัดการ £ ด้านเทคโนโลยี
A9: 2 | B9: โครงการฝึกอบรมส่งเสริมอาชีพถักกระเป๋าจากเชือกร่ม | C9: คน | D9: 35 | E9: ตุลาคม 2568-กันยายน 2569 | F9: £ภาครัฐ £ ภาคเอกชน | G9: £ ด้านฝีมือ £ การสื่อสาร | K9: ต้นสังกัด
C10: งบประมาณ (บาท) | E10: ชมรมผู้สูงอายุเขาบางแกรก | F10: £ ภาคการศึกษา £ อิสระ £ ปราชญ์ชาวบ้าน | G10: £ การบริการจัดการ £ ด้านเทคโนโลยี
A11: 3 | B11: โครงการฝึกอบรมและส่งเสริมอาชีพผลิตภัณฑ์จักสาน (โตกหวานเทียมและฝาชีหวายเทียม) | C11: คน | D11: 35 | E11: ตุลาคม 2568-กันยายน 2569 | F11: £ภาครัฐ £ ภาคเอกชน | G11: £ ด้านฝีมือ £ การสื่อสาร | K11: ต้นสังกัด
C12: งบประมาณ (บาท) | E12: องค์การบริหารส่วนตำบลเขากวางทอง | F12: £ ภาคการศึกษา £ อิสระ £ ปราชญ์ชาวบ้าน | G12: £ การบริการจัดการ £ ด้านเทคโนโลยี
A13: 4 | B13: โครงการฝึกอบรมส่งเสริมและพัฒนาอาชีพผลิตภัณฑ์จักสาน (ฝาชีหวายเทียม) | C13: คน | D13: 30 | E13: ตุลาคม 2568-กันยายน 2569 | F13: £ภาครัฐ £ ภาคเอกชน | G13: £ ด้านฝีมือ £ การสื่อสาร | K13: ต้นสังกัด
C14: งบประมาณ (บาท) | E14: ห้องประชุม องค์การบริหารส่วนตำบลประดู่ยืน | F14: £ ภาคการศึกษา £ อิสระ £ ปราชญ์ชาวบ้าน | G14: £ การบริการจัดการ £ ด้านเทคโนโลยี
A15: 5 | B15: โครงการฝึกวิชาชีพงานปักและประดิษฐ์ของใช้ | C15: คน | D15: 30 | E15: ตุลาคม 2568-กันยายน 2569 | F15: £ภาครัฐ £ ภาคเอกชน | G15: £ ด้านฝีมือ £ การสื่อสาร | J15: เรือนจำจังหวัดอุทัยธานี | K15: ต้นสังกัด
C16: งบประมาณ (บาท) | E16: เรือนจำจังหวัดอุทัยธานี | F16: £ ภาคการศึกษา £ อิสระ £ ปราชญ์ชาวบ้าน | G16: £ การบริการจัดการ £ ด้านเทคโนโลยี
A17: 6 | B17: โครงการฝึกวิชาชีพงานปะดิษฐ์ของชำร่วยและของที่ระลึก (เพ้นท์) | C17: คน | D17: 30 | E17: ตุลาคม 2568-กันยายน 2569 | F17: £ภาครัฐ £ ภาคเอกชน | G17: £ ด้านฝีมือ £ การสื่อสาร | K17: ต้นสังกัด
C18: งบประมาณ (บาท) | E18: เรือนจำจังหวัดอุทัยธานี | F18: £ ภาคการศึกษา £ อิสระ £ ปราชญ์ชาวบ้าน | G18: £ การบริการจัดการ £ ด้านเทคโนโลยี
A19: 7 | B19: โครงการฝึกวิชาชีพประดิษฐ์กระเป๋าสตางค์ทำมือ | C19: คน | D19: 30 | E19: ตุลาคม 2568-กันยายน 2569 | F19: £ภาครัฐ £ ภาคเอกชน | G19: £ ด้านฝีมือ £ การสื่อสาร | K19: ต้นสังกัด
C20: งบประมาณ (บาท) | E20: เรือนจำจังหวัดอุทัยธานี | F20: £ ภาคการศึกษา £ อิสระ £ ปราชญ์ชาวบ้าน | G20: £ การบริการจัดการ £ ด้านเทคโนโลยี
A21: 8 | B21: โครงการพัฒนาผลิตภัณฑ์ OTOP กลุ่มปรับตัวสู่การพัมนา (Quadrant D) | C21: คน | D21: 25 | E21: เดือนมกราคม - มีนาคม 2569 | F21: £ภาครัฐ £ ภาคเอกชน | G21: £ ด้านฝีมือ £ การสื่อสาร | J21: สำนักงานพัฒนาชุมชนจังหวัดอุทัยธานี | K21: ต้นสังกัด
C22: งบประมาณ (บาท) | E22: สถานที่เอกชนในพื้นที่จังหวัดอุทัยธานี | F22: £ ภาคการศึกษา £ อิสระ £ ปราชญ์ชาวบ้าน | G22: £ การบริการจัดการ £ ด้านเทคโนโลยี
A23: 9 | B23: กิจกรรม ฝึกอบรมแรงงานกลุ่มเป้าหมายเฉพาะเพื่อเพิ่มโอกาสในการประกอบอาชีพวิถีใหม่ หลักสูตร การถนอมอาหาร | C23: คน | D23: 0 | E23: พฤศจิกายน 2568 - กุมภาพันธ์ 2569 | F23: £ภาครัฐ £ ภาคเอกชน | G23: £ ด้านฝีมือ £ การสื่อสาร | J23: วิทยาลัยเกษตรและเทคโนโลยีอุทัยธานี | K23: ต้นสังกัด
C24: งบประมาณ (บาท) | E24: วิทยาลัยเกษตรและเทคโนโลยีอุทัยธานี อำเภอเมือง จังหวัดอุทัยธานี | F24: £ ภาคการศึกษา £ อิสระ £ ปราชญ์ชาวบ้าน | G24: £ การบริการจัดการ £ ด้านเทคโนโลยี
A25: 10 | B25: กิจกรรม ฝึกอบรมแรงงานกลุ่มเป้าหมายเฉพาะเพื่อเพิ่มโอกาสในการประกอบอาชีพวิถีใหม่ หลักสูตร อาหารว่างยอดนิยม | C25: คน | D25: 60 | E25: พฤศจิกายน 2568 - กุมภาพันธ์ 2569 | F25: £ภาครัฐ £ ภาคเอกชน | G25: £ ด้านฝีมือ £ การสื่อสาร | K25: ต้นสังกัด
C26: งบประมาณ (บาท) | E26: วิทยาลัยเกษตรและเทคโนโลยีอุทัยธานี อำเภอเมือง จังหวัดอุทัยธานี | F26: £ ภาคการศึกษา £ อิสระ £ ปราชญ์ชาวบ้าน | G26: £ การบริการจัดการ £ ด้านเทคโนโลยี
A27: 11 | B27: กิจกรรม ฝึกอบรมแรงงานกลุ่มเป้าหมายเฉพาะเพื่อเพิ่มโอกาสในการประกอบอาชีพวิถีใหม่ หลักสูตร การแปรรูปอาหาร | C27: คน | D27: 20 | E27: พฤศจิกายน 2568 - กุมภาพันธ์ 2569 | F27: £ภาครัฐ £ ภาคเอกชน | G27: £ ด้านฝีมือ £ การสื่อสาร | K27: ต้นสังกัด
C28: งบประมาณ (บาท) | E28: วิทยาลัยเกษตรและเทคโนโลยีอุทัยธานี อำเภอเมือง จังหวัดอุทัยธานี | F28: £ ภาคการศึกษา £ อิสระ £ ปราชญ์ชาวบ้าน | G28: £ การบริการจัดการ £ ด้านเทคโนโลยี
A29: 12 | B29: กิจกรรม ฝึกอบรมแรงงานกลุ่มเป้าหมายเฉพาะเพื่อเพิ่มโอกาสในการประกอบอาชีพวิถีใหม่ หลักสูตร อาหารไทยชาววัง | C29: คน | D29: 20 | E29: พฤศจิกายน 2568 - กุมภาพันธ์ 2569 | F29: £ภาครัฐ £ ภาคเอกชน | G29: £ ด้านฝีมือ £ การสื่อสาร | K29: ต้นสังกัด
C30: งบประมาณ (บาท) | E30: วิทยาลัยเกษตรและเทคโนโลยีอุทัยธานี อำเภอเมือง จังหวัดอุทัยธานี | F30: £ ภาคการศึกษา £ อิสระ £ ปราชญ์ชาวบ้าน | G30: £ การบริการจัดการ £ ด้านเทคโนโลยี
A31: 13 | B31: กิจกรรม ฝึกอบรมแรงงานกลุ่มเป้าหมายเฉพาะเพื่อเพิ่มโอกาสในการประกอบอาชีพวิถีใหม่ หลักสูตร การแปรรูปผลิตภัณฑ์เนื้อสัตว์ (ลูกชิ้นหมู/ไก่) | C31: คน | D31: 40 | E31: พฤศจิกายน 2568 - กุมภาพันธ์ 2569 | F31: £ภาครัฐ £ ภาคเอกชน | G31: £ ด้านฝีมือ £ การสื่อสาร | K31: ต้นสังกัด
C32: งบประมาณ (บาท) | E32: วิทยาลัยเกษตรและเทคโนโลยีอุทัยธานี อำเภอเมือง จังหวัดอุทัยธานี | F32: £ ภาคการศึกษา £ อิสระ £ ปราชญ์ชาวบ้าน | G32: £ การบริการจัดการ £ ด้านเทคโนโลยี
A33: 14 | B33: การแปรรูปผลิตภัณฑ์จากไม้ไผ่ | C33: คน | D33: 25 | E33: ตุลาคม 68-กันยายน 69 | F33: £ภาครัฐ £ ภาคเอกชน | G33: £ ด้านฝีมือ £ การสื่อสาร | J33: วิทยาลัยชุมชนอุทัยธานี | K33: ต้นสังกัด
C34: งบประมาณ (บาท) | E34: จังหวัดอุทัยธานี | F34: £ ภาคการศึกษา £ อิสระ £ ปราชญ์ชาวบ้าน | G34: £ การบริการจัดการ £ ด้านเทคโนโลยี
A35: 15 | B35: การทอผ้าฝ้ายจกลายโบราณ | C35: คน | D35: 25 | E35: ตุลาคม 68-กันยายน 69 | F35: £ภาครัฐ £ ภาคเอกชน | G35: £ ด้านฝีมือ £ การสื่อสาร | K35: ต้นสังกัด
C36: งบประมาณ (บาท) | E36: จังหวัดอุทัยธานี | F36: £ ภาคการศึกษา £ อิสระ £ ปราชญ์ชาวบ้าน | G36: £ การบริการจัดการ £ ด้านเทคโนโลยี
A37: 16 | B37: การแปรรูปผ้าทอพื้นเมือง | C37: คน | D37: 30 | E37: ตุลาคม 68-กันยายน 69 | F37: £ภาครัฐ £ ภาคเอกชน | G37: £ ด้านฝีมือ £ การสื่อสาร | K37: ต้นสังกัด
C38: งบประมาณ (บาท) | E38: จังหวัดอุทัยธานี | F38: £ ภาคการศึกษา £ อิสระ £ ปราชญ์ชาวบ้าน | G38: £ การบริการจัดการ £ ด้านเทคโนโลยี
C39: คน | E39: มกราคม - ธันวาคม 2569 | F39: £ภาครัฐ £ ภาคเอกชน | G39: £ ด้านฝีมือ £ การสื่อสาร
C40: งบประมาณ (บาท) | F40: £ ภาคการศึกษา £ อิสระ £ ปราชญ์ชาวบ้าน | G40: £ การบริการจัดการ £ ด้านเทคโนโลยี
...

Sheet อุตสาหกรรม อื่นๆ
A1: ผลการพัฒนากำลังคนจังหวัดอุทัยธานี พ.ศ. 2569
A2: การพัฒนาด้านประเภทอุตสาหกรรมด้านอื่น ๆ
A3: ที่ | B3: แผนงาน/โครงการ | C3: หน่วยนับ | D3: แผนดำเนินงาน | E3: ระยะเวลาดำเนินการ/ สถานที่ | F3: ข้อมูลวิทยากร | G3: งบประมาณที่เบิกจ่ายจริง | H3: จำนวนผู้ผ่านการพัฒนา | I3: รายได้เฉลี่ย/รุ่น | J3: หน่วยงานที่รับผิดชอบ | K3: แหล่งงบประมาณ
D4: พ.ศ. 2569
C5: คน
C6: งบประมาณ (บาท)
A7: 1 | B7: กิจกรรมพัฒนาคุณภาพการบริหารจัดการภาครัฐสู่ระบบราชการ 4.0 (PMQA) จังหวัดอุทัยธานี ประจำปีงบประมาณ พ.ศ. 2569 | C7: คน | D7: 80 | E7: เมษายน - พฤษภาคม 2569 | F7: £ภาครัฐ £ ภาคเอกชน | G7: £ ด้านฝีมือ £ การสื่อสาร | J7: สำนักงานจังหวัดอุทัยธานี | K7: ต้นสังกัด
C8: งบประมาณ (บาท) | E8: จังหวัดอุทัยธานี | F8: £ ภาคการศึกษา £ อิสระ £ ปราชญ์ชาวบ้าน | G8: £ การบริการจัดการ £ ด้านเทคโนโลยี
A9: 2 | B9: โครงการประชุมเชิงปฏิบัติการเสริมสร้างความรู้ ความเข้าใจ ในการพัฒนาศักยภาพการจัดทำแผนพัฒนาจังหวัดอุทัยธานี และแผนปฏิบึติราชการประจำปีของจังหวัดอุทัยธานี เชื่อมโยงระดับพื้นที่ ประจำปีงบประมาณ พ.ศ. 2571 | C9: คน | D9: 80 | E9: มกราคม 2569 | F9: £ภาครัฐ £ ภาคเอกชน | G9: £ ด้านฝีมือ £ การสื่อสาร | K9: ต้นสังกัด
C10: งบประมาณ (บาท) | E10: จังหวัดอุทัยธานี | F10: £ ภาคการศึกษา £ อิสระ £ ปราชญ์ชาวบ้าน | G10: £ การบริการจัดการ £ ด้านเทคโนโลยี
A11: 3 | B11: โครงการประชุมถอดบทเรียนสู่การพัฒนาเพื่อยกระดับการประเมินคุณธรรมและความโปร่งใสในการดำเนินงานของหน่วยงานภาครัฐ ประจำปีงบประมาณ พ.ศ. 2569 ของจังหวัดอุทัยธานี | C11: คน | D11: 150 | E11: เดือนมกราคม 2569 | F11: £ภาครัฐ £ ภาคเอกชน | G11: £ ด้านฝีมือ £ การสื่อสาร | K11: ต้นสังกัด
C12: งบประมาณ (บาท) | E12: จังหวัดอุทัยธานี | F12: £ ภาคการศึกษา £ อิสระ £ ปราชญ์ชาวบ้าน | G12: £ การบริการจัดการ £ ด้านเทคโนโลยี
A13: 4 | B13: กิจกรรมการเรียนรู้ด้วยตนเองผ่านระบบอิเล็กทรอนิกส์ (e-Leaning) เพื่อเสริมสร้างศักยภาพในการปฏิบัติราชการ | C13: คน | D13: 32 | E13: กุมภาพันธ์ - กันยายน 2569 | F13: £ภาครัฐ £ ภาคเอกชน | G13: £ ด้านฝีมือ £ การสื่อสาร | K13: ต้นสังกัด
C14: งบประมาณ (บาท) | D14: 0 | F14: £ ภาคการศึกษา £ อิสระ £ ปราชญ์ชาวบ้าน | G14: £ การบริการจัดการ £ ด้านเทคโนโลยี
A15: 5 | B15: โครงการพัฒนาธุรกิจชฃุมชน กิจกรรม พัฒนาธุรกิจชุมชนในเขตปฏิรูปที่ดิน จังหวัดอุทัยธานี ปีงบประมาณ พ.ศ. 2569 | C15: คน | D15: 45 | E15: ตุลาคม 2568 - กันยายน 2569 | F15: £ภาครัฐ £ ภาคเอกชน | G15: £ ด้านฝีมือ £ การสื่อสาร | J15: สำนักงานการปฏิรูปที่ดินจังหวัดอุทัยธานี | K15: ต้นสังกัด
C16: งบประมาณ (บาท) | E16: เขตปฏิรูปที่ดินตำบลป่าอ้อ อำเภอลานสัก จังหวัดอุทัยธานี | F16: £ ภาคการศึกษา £ อิสระ £ ปราชญ์ชาวบ้าน | G16: £ การบริการจัดการ £ ด้านเทคโนโลยี
A17: 6 | B17: โครงการตลาดเกษตรกร กิจกรรมพัฒนาเกษตรกรเพื่อบริหารจัดการตลาดเกษตรกร Offline และ Online เพื่อยกระดับตลาดสินค้าเกษตร | C17: คน | D17: 10 | E17: ตุลาคม 2568-กันยายน 2569 | F17: £ภาครัฐ £ ภาคเอกชน | G17: £ ด้านฝีมือ £ การสื่อสาร | J17: สำนักงานการปฏิรูปที่ดินจังหวัดอุทัยธานี | K17: ต้นสังกัด
C18: งบประมาณ (บาท) | E18: จังหวัดอุทัยธานี | F18: £ ภาคการศึกษา £ อิสระ £ ปราชญ์ชาวบ้าน | G18: £ การบริการจัดการ £ ด้านเทคโนโลยี
A19: 7 | B19: โครงการส่งเสริมและพัฒนาเกษตรกรและองค์กรเกษตรกร กิจกรรม จัดกระบวนการเรียนรู้ เพื่อวิเคราะห์สถานการณ์และจัดทำแผนสร้างความมั่นคงด้านอาหารเพื่อการบริโภคในครัวเรือนเกษตรกรและชุมชน | C19: คน | D19: 15 | E19: ตุลาคม2568-กันยายน 2569 | F19: £ภาครัฐ £ ภาคเอกชน | G19: £ ด้านฝีมือ £ การสื่อสาร | J19: สำนักงานเกษตรจังหวัดอุทัยธานี | K19: กรมส่งเสริมการเกษตร
C20: งบประมาณ (บาท) | E20: อำเภอลานสัก จังหวัดอุทัยธานี | F20: £ ภาคการศึกษา £ อิสระ £ ปราชญ์ชาวบ้าน | G20: £ การบริการจัดการ £ ด้านเทคโนโลยี
A21: 8 | B21: โครงการเสริมสร้างศักยภาพด้านการจัดทำบัญชีต้นทุนอาชีพแก่เกษตรกร | C21: คน | D21: 79 | E21: มกราคม 2569 | F21: £ภาครัฐ £ ภาคเอกชน | G21: £ ด้านฝีมือ £ การสื่อสาร | H21: 79 | J21: สำนักงานตรวจบัญชีสหกรณ์อุทัยธานี | K21: ต้นสังกัด
C22: งบประมาณ (บาท) | D22: 22200 | E22: จังหวัดอุทัยธานี | F22: £ ภาคการศึกษา £ อิสระ £ ปราชญ์ชาวบ้าน | G22: £ การบริการจัดการ £ ด้านเทคโนโลยี | H22: 22200
A23: 9 | B23: โครงการแก้ไขปัญหาหนี้ครัวเรือยและพัฒนาคุณภาพชีวิตสมาชิกสหกรณ์ | C23: คน | D23: 130 | E23: กันยายน 2568-มกราคม 2569 | F23: £ภาครัฐ £ ภาคเอกชน | G23: £ ด้านฝีมือ £ การสื่อสาร | H23: 130 | J23: สำนักงานตรวจบัญชีสหกรณ์อุทัยธานี | K23: ต้นสังกัด
C24: งบประมาณ (บาท) | D24: 28400 | E24: สหกรณ์ในพื้นที่จังหวัดอุทัยธานี | F24: £ ภาคการศึกษา £ อิสระ £ ปราชญ์ชาวบ้าน | G24: £ การบริการจัดการ £ ด้านเทคโนโลยี | H24: 28400
A25: 10 | B25: โครงการอบรมเชิงปฏิบัติการ หลักสูตร อบรมการจัดทำบัญชีรายบุคคลภายใต้โครงการเสริมสร้างการจัดทำบัญชีครัวเรือน เพื่อการจัดการเศรษฐกิจระดับครัวเรือน | C25: คน | D25: 141 | E25: มกราคม 2569 | F25: £ภาครัฐ £ ภาคเอกชน | G25: £ ด้านฝีมือ £ การสื่อสาร | H25: 141 | J25: สำนักงานตรวจบัญชีสหกรณ์อุทัยธานี | K25: ต้นสังกัด
C26: งบประมาณ (บาท) | D26: 24730 | E26: สหกรณ์ในพื้นที่จังหวัดอุทัยธานี | F26: £ ภาคการศึกษา £ อิสระ £ ปราชญ์ชาวบ้าน | G26: £ การบริการจัดการ £ ด้านเทคโนโลยี | H26: 24730
A27: 11 | B27: โครงการพัฒนาศักยภาพและส่งเสริมการเรียนรู้ผู้สูงอายุในชุมชน | C27: คน | D27: 100 | E27: ตุลาคม 2568-กันยายน 2569 | F27: £ภาครัฐ £ ภาคเอกชน | G27: £ ด้านฝีมือ £ การสื่อสาร | J27: สำนักงานพัฒนาสังคมและความมั่นคงของมนุษย์จังหวัดอุทัยธานี | K27: ต้นสังกัด
C28: งบประมาณ (บาท) | E28: สนง.พัฒนาสังคมและความมั่นคงของมนุษย์จังหวัดอุทัยธานี | F28: £ ภาคการศึกษา £ อิสระ £ ปราชญ์ชาวบ้าน | G28: £ การบริการจัดการ £ ด้านเทคโนโลยี
A29: 12 | B29: โครงดารพื้นที่เรียนรู้ส่งเสริมสัมพันธภาพครอบครัวทุกช่วงวัย กิจกรรมสร้างพื้นที่สร้างสรรค์สำหรับครอบครัวในชุมชน | C29: คน | D29: 40 | E29: ตุลาคม 2568-กันยายน 2569 | F29: £ภาครัฐ £ ภาคเอกชน | G29: £ ด้านฝีมือ £ การสื่อสาร | K29: ต้นสังกัด
C30: งบประมาณ (บาท) | E30: สนง.พัฒนาสังคมและความมั่นคงของมนุษย์จังหวัดอุทัยธานี | F30: £ ภาคการศึกษา £ อิสระ £ ปราชญ์ชาวบ้าน | G30: £ การบริการจัดการ £ ด้านเทคโนโลยี
A31: 13 | B31: โครงการประดิษฐ์เครื่องแขวนไทยชั้นสูงเพื่อการอนุรักษ์ สืบสาน และสร้างอาชีพ (เครื่องแขวนพวงกลาง) | C31: คน | D31: 32 | E31: ตุลาคม 2568-กันยายน 2569 | F31: £ภาครัฐ £ ภาคเอกชน | G31: £ ด้านฝีมือ £ การสื่อสาร | K31: ต้นสังกัด
C32: งบประมาณ (บาท) | E32: ศูนย์วงเดือน อาคมสุฑัณฑ์ | F32: £ ภาคการศึกษา £ อิสระ £ ปราชญ์ชาวบ้าน | G32: £ การบริการจัดการ £ ด้านเทคโนโลยี
A33: 14 | B33: โครงการฝึกอบรมและส่งเสริมทักษะอาชีพในการทำธูปและทำสเปรย์สมุนไพรไล่ยุง | C33: คน | D33: 40 | E33: ตุลาคม 2568-กันยายน 2569 | F33: £ภาครัฐ £ ภาคเอกชน | G33: £ ด้านฝีมือ £ การสื่อสาร | K33: ต้นสังกัด
C34: งบประมาณ (บาท) | E34: อาคารภักดีเทศบาล ต.ส่วางอารมณ์ | F34: £ ภาคการศึกษา £ อิสระ £ ปราชญ์ชาวบ้าน | G34: £ การบริการจัดการ £ ด้านเทคโนโลยี
A35: 15 | B35: โครงการเสริมสร้างทักษะความรู้ให้กับจิตอาสาในการเยี่ยมบ้านผู้ป่วยติดบ้าน ติดเตียง และผู้พิการ | C35: คน | D35: 40 | E35: ตุลาคม 2568-กันยายน 2569 | F35: £ภาครัฐ £ ภาคเอกชน | G35: £ ด้านฝีมือ £ การสื่อสาร | K35: ต้นสังกัด
C36: งบประมาณ (บาท) | E36: ศูนย์พัฒนาคุณภาพชีวิตและส่งเสริมอาชีพผู้สูงอายุทุ่งนาไทย | F36: £ ภาคการศึกษา £ อิสระ £ ปราชญ์ชาวบ้าน | G36: £ การบริการจัดการ £ ด้านเทคโนโลยี
A37: 16 | B37: กิจกรรมการฝึกอบรมเชิงปฏิบัติการ "การพัฒนาองค์ความรู้ด้านการตลาดด้วย Marketing Innovation Concept" | C37: คน | D37: 50 | E37: ธันวาคม 2568 - มกราคม 2569 | F37: £ภาครัฐ £ ภาคเอกชน | G37: £ ด้านฝีมือ £ การสื่อสาร | J37: สำนักงานพาณิชย์จังหวัดอุทัยธานี | K37: ต้นสังกัด
C38: งบประมาณ (บาท) | E38: จังหวัดอุทัยธานี | F38: £ ภาคการศึกษา £ อิสระ £ ปราชญ์ชาวบ้าน | G38: £ การบริการจัดการ £ ด้านเทคโนโลยี
A39: 17 | B39: โครงการส่งเสริมและพัฒนาคุณภาพชีวิตของประชาชนจังหวัดอุทัยธานี | C39: คน | D39: 320 | E39: ตุลาคม 2568 - มีนาคม 2569 | F39: £ภาครัฐ £ ภาคเอกชน | G39: £ ด้านฝีมือ £ การสื่อสาร | J39: สำนักงานแรงงานจังหวัดอุทัยธานี | K39: งบประมาณรายจ่ายตามแผนปฏิบัติราชการ ประจำปีงบประมาณ พ.ศ. 2569 ของจังหวัดอุทัยธานี
C40: งบประมาณ (บาท) | E40: พื้นที่ 8 อำเภอในจังหวัดอุทัยธานี | F40: £ ภาคการศึกษา £ อิสระ £ ปราชญ์ชาวบ้าน | G40: £ การบริการจัดการ £ ด้านเทคโนโลยี
...
