Workbook

Sheet สรุป (แผน)
A1: รายงานผลการฝึกอบรมแยกจำนวนตามหน่วยงาน ปีงบประมาณ พ.ศ. 2569
A2: ที่ | B2: หน่วยงาน | C2: อุตสาหกรรม (จำนวนคน) | G2: รวม | H2: หมายเหตุ
C3: เกษตร | D3: ท่องเที่ยว | E3: วิสาหกิจชุมชน | F3: อื่น ๆ
A4: 1 | B4: สำนักงานจังหวัดอุทัยธานี | F4: =SUM('อุตสาหกรรม อื่นๆ'!D7,'อุตสาหกรรม อื่นๆ'!D9,'อุตสาหกรรม อื่นๆ'!D11,'อุตสาหกรรม อื่นๆ'!D13) -> 342 | G4: =SUM(C4:F4) -> 342
F5: (ลำดับ 1-4)
A6: 2 | B6: สำนักงานคลังจังหวัดอุทัยธานี | G6: =SUM(C6:F6) -> 0 | H6: หากมี แผนงานและผลการดำเนินงาน สามารถรายงาน
H7: ข้อมูลเพิ่มเติม โดยแยกข้อมูลตามอุตสาหกรรม
A8: 3 | B8: สำนักงานเกษตรและสหกรณ์จังหวัดอุทัยธานี | C8: =SUM('อุตสาหกรรม เกษตร'!D7,'อุตสาหกรรม เกษตร'!D9,'อุตสาหกรรม เกษตร'!D11,'อุตสาหกรรม เกษตร'!D13,'อุตสาหกรรม เกษตร'!D15,'อุตสาหกรรม เกษตร'!D17,'อุตสาหกรรม เกษตร'!D19,'อุตสาหกรรม เกษตร'!D21,'อุตสาหกรรม เกษตร'!D23,'อุตสาหกรรม เกษตร'!D25,'อุตสาหกรรม เกษตร'!D27,'อุตสาหกรรม เกษตร'!D29,'อุตสาหกรรม เกษตร'!D31,'อุตสาหกรรม เกษตร'!D33,'อุตสาหกรรม เกษตร'!D35,'อุตสาหกรรม เกษตร'!D37,'อุตสาหกรรม เกษตร'!D39,'อุตสาหกรรม เกษตร'!D41,'อุตสาหกรรม เกษตร'!D43,'อุตสาหกรรม เกษตร'!D45,'อุตสาหกรรม เกษตร'!D47,'อุตสาหกรรม เกษตร'!D49,'อุตสาหกรรม เกษตร'!D51,'อุตสาหกรรม เกษตร'!D53,'อุตสาหกรรม เกษตร'!D55,'อุตสาหกรรม เกษตร'!D57,'อุตสาหกรรม เกษตร'!D59,'อุตสาหกรรม เกษตร'!D61,'อุตสาหกรรม เกษตร'!D63,'อุตสาหกรรม เกษตร'!D65,'อุตสาหกรรม เกษตร'!D67,'อุตสาหกรรม เกษตร'!D69) -> 1178 | F8: =SUM('อุตสาหกรรม อื่นๆ'!D15,'อุตสาหกรรม อื่นๆ'!D17,'อุตสาหกรรม อื่นๆ'!D19,'อุตสาหกรรม อื่นๆ'!D21,'อุตสาหกรรม อื่นๆ'!D23,'อุตสาหกรรม อื่นๆ'!D25) -> 420 | G8: =SUM(C8:F8) -> 1598
C9: (ลำดับ 1-32) | F9: (ลำดับ 5-10)
A10: 4 | B10: สำนักงานสถิติจังหวัดอุทัยธานี | D10: =SUM('อุตสาหกรรม ท่องเที่ยว+บริการ'!D7) -> 50 | G10: =SUM(C10:F10) -> 50
D11: (ลำดับ 1)
A12: 5 | B12: สำนักงานพัฒนาสังคมและความมั่นคงของมนุษย์จังหวัดอุทัยธานี | E12: =SUM('อุตสาหกรรม วิสาหกิจชุมชน'!D7,'อุตสาหกรรม วิสาหกิจชุมชน'!D9,'อุตสาหกรรม วิสาหกิจชุมชน'!D11,'อุตสาหกรรม วิสาหกิจชุมชน'!D13) -> 125 | F12: =SUM('อุตสาหกรรม อื่นๆ'!D27,'อุตสาหกรรม อื่นๆ'!D29,'อุตสาหกรรม อื่นๆ'!D31,'อุตสาหกรรม อื่นๆ'!D33,'อุตสาหกรรม อื่นๆ'!D35) -> 252 | G12: =SUM(C12:F12) -> 377
E13: (ลำดับ 1-4) | F13: (ลำดับ 11-15)
A14: 6 | B14: สำนักงานพาณิชย์จังหวัดอุทัยธานี | F14: =SUM('อุตสาหกรรม อื่นๆ'!D37) -> 50 | G14: =SUM(C14:F14) -> 50
F15: (ลำดับ 16)
A16: 7 | B16: สำนักงานแรงงานจังหวัดอุทัยธานี | F16: =SUM('อุตสาหกรรม อื่นๆ'!D39) -> 320 | G16: =SUM(C16:F16) -> 320
F17: (ลำดับ 17)
A18: 8 | B18: สำนักงานสวัสดิการและคุ้มครองแรงงานจังหวัดอุทัยธานี | F18: =SUM('อุตสาหกรรม อื่นๆ'!D41,'อุตสาหกรรม อื่นๆ'!D43,'อุตสาหกรรม อื่นๆ'!D45,'อุตสาหกรรม อื่นๆ'!D47,'อุตสาหกรรม อื่นๆ'!D49,'อุตสาหกรรม อื่นๆ'!D51,'อุตสาหกรรม อื่นๆ'!D53,'อุตสาหกรรม อื่นๆ'!D55) -> 362 | G18: =SUM(C18:F18) -> 362
F19: (ลำดับ 18-25)
A20: 9 | B20: สำนักงานจัดหางานจังหวัดอุทัยธานี | F20: =SUM('อุตสาหกรรม อื่นๆ'!D57,'อุตสาหกรรม อื่นๆ'!D59,'อุตสาหกรรม อื่นๆ'!D61,'อุตสาหกรรม อื่นๆ'!D63) -> 100 | G20: =SUM(C20:F20) -> 100
F21: (ลำดับ 26-29)
A22: 10 | B22: สำนักงานประกันสังคมจังหวัดอุทัยธานี | F22: =SUM('อุตสาหกรรม อื่นๆ'!D65,'อุตสาหกรรม อื่นๆ'!D67,'อุตสาหกรรม อื่นๆ'!D69) -> 1740 | G22: =SUM(C22:F22) -> 1740
F23: (ลำดับ 30-32
A24: 11 | B24: สำนักงานวัฒนธรรมจังหวัดอุทัยธานี | D24: =SUM('อุตสาหกรรม ท่องเที่ยว+บริการ'!D9) -> 120 | G24: =SUM(C24:F24) -> 120
D25: (ลำดับ 2)
A26: 12 | B26: สำนักงานอุตสาหกรรมจังหวัดอุทัยธานี | C26: =SUM('อุตสาหกรรม เกษตร'!D71,'อุตสาหกรรม เกษตร'!D73) -> 40 | D26: =SUM('อุตสาหกรรม ท่องเที่ยว+บริการ'!D11,'อุตสาหกรรม ท่องเที่ยว+บริการ'!D13) -> 40 | F26: =SUM('อุตสาหกรรม อื่นๆ'!D71) -> 100 | G26: =SUM(C26:F26) -> 180
C27: (ลำดับ 33-34) | D27: (ลำดับ 3-4) | F27: (ลำดับ 33)
A28: 13 | B28: สำนักงานประชาสัมพันธ์จังหวัดอุทัยธานี | G28: =SUM(C28:F28) -> 0 | H28: หากมี แผนงานและผลการดำเนินงาน สามารถรายงาน
H29: ข้อมูลเพิ่มเติม โดยแยกข้อมูลตามอุตสาหกรรม
A30: 14 | B30: เรือนจำจังหวัดอุทัยธานี | C30: =SUM('อุตสาหกรรม เกษตร'!D75) -> 10 | D30: =SUM('อุตสาหกรรม ท่องเที่ยว+บริการ'!D15,'อุตสาหกรรม ท่องเที่ยว+บริการ'!D17,'อุตสาหกรรม ท่องเที่ยว+บริการ'!D19,'อุตสาหกรรม ท่องเที่ยว+บริการ'!D21,'อุตสาหกรรม ท่องเที่ยว+บริการ'!D23,'อุตสาหกรรม ท่องเที่ยว+บริการ'!D25,'อุตสาหกรรม ท่องเที่ยว+บริการ'!D27,'อุตสาหกรรม ท่องเที่ยว+บริการ'!D29) -> 220 | E30: =SUM('อุตสาหกรรม วิสาหกิจชุมชน'!D15,'อุตสาหกรรม วิสาหกิจชุมชน'!D17,'อุตสาหกรรม วิสาหกิจชุมชน'!D19) -> 90 | F30: =SUM('อุตสาหกรรม อื่นๆ'!D73,'อุตสาหกรรม อื่นๆ'!D75,'อุตสาหกรรม อื่นๆ'!D77,'อุตสาหกรรม อื่นๆ'!D79,'อุตสาหกรรม อื่นๆ'!D81,'อุตสาหกรรม อื่นๆ'!D83,'อุตสาหกรรม อื่นๆ'!D85) -> 210 | G30: =SUM(C30:F30) -> 530
C31: (ลำดับ 35) | D31: (ลำดับ 5-12) | E31: (ลำดับ 5-7) | F31: (ลำดับ 34-40)
A32: 15 | B32: สำนักงานพัฒนาชุมชนจังหวัดอุทัยธานี | D32: =SUM('อุตสาหกรรม ท่องเที่ยว+บริการ'!D31,'อุตสาหกรรม ท่องเที่ยว+บริการ'!D33) -> 90 | E32: =SUM('อุตสาหกรรม วิสาหกิจชุมชน'!D21) -> 25 | F32: =SUM('อุตสาหกรรม อื่นๆ'!D87,'อุตสาหกรรม อื่นๆ'!D89) -> 320 | G32: =SUM(C32:F32) -> 435
D33: (ลำดับ 13-14) | E33: (ลำดับ 8) | F33: (ลำดับ 41-42)
A34: 16 | B34: องค์การบริหารส่วนจังหวัดอุทัยธานี | C34: =SUM('อุตสาหกรรม เกษตร'!D77) -> 1700 | G34: =SUM(C34:F34) -> 1700
C35: (ลำดับ 36)
A36: 17 | B36: สภาอุตสาหกรรมจังหวัดอุทัยธานี | G36: =SUM(C36:F36) -> 0 | H36: หากมี แผนงานและผลการดำเนินงาน สามารถรายงาน
H37: ข้อมูลเพิ่มเติม โดยแยกข้อมูลตามอุตสาหกรรม
A38: 18 | B38: หอการค้าจังหวัดอุทัยธานี | G38: =SUM(C38:F38) -> 0 | H38: หากมี แผนงานและผลการดำเนินงาน สามารถรายงาน
H39: ข้อมูลเพิ่มเติม โดยแยกข้อมูลตามอุตสาหกรรม
A40: 19 | B40: สมาพันธ์ SME ไทย จังหวัดอุทัยธานี | G40: =SUM(C40:F40) -> 0 | H40: หากมี แผนงานและผลการดำเนินงาน สามารถรายงาน
H41: ข้อมูลเพิ่มเติม โดยแยกข้อมูลตามอุตสาหกรรม
A42: 20 | B42: สภาอุตสาหกรรมท่องเที่ยวและบริการจังหวัดอุทัยธานี | G42: =SUM(C42:F42) -> 0 | H42: หากมี แผนงานและผลการดำเนินงาน สามารถรายงาน
H43: ข้อมูลเพิ่มเติม โดยแยกข้อมูลตามอุตสาหกรรม
A44: 21 | B44: สำนักงานเขตพื้นที่การศึกษาประถมศึกษาอุทัยธานี เขต 1 | G44: =SUM(C44:F44) -> 0 | H44: หากมี แผนงานและผลการดำเนินงาน สามารถรายงาน
H45: ข้อมูลเพิ่มเติม โดยแยกข้อมูลตามอุตสาหกรรม
A46: 22 | B46: สำนักงานเขตพื้นที่การศึกษาประถมศึกษาอุทัยธานี เขต 2 | G46: =SUM(C46:F46) -> 0 | H46: หากมี แผนงานและผลการดำเนินงาน สามารถรายงาน
H47: ข้อมูลเพิ่มเติม โดยแยกข้อมูลตามอุตสาหกรรม
A48: 23 | B48: สำนักงานเขตพื้นที่การศึกษามัธยมศึกษาอุทัยธานี ชัยนาท | G48: =SUM(C48:F48) -> 0 | H48: หากมี แผนงานและผลการดำเนินงาน สามารถรายงาน
H49: ข้อมูลเพิ่มเติม โดยแยกข้อมูลตามอุตสาหกรรม
A50: 24 | B50: สำนักงานส่งเสริมการเรียนรู้จังหวัดอุทัยธานี | F50: =SUM('อุตสาหกรรม อื่นๆ'!D91) -> 120 | G50: =SUM(C50:F50) -> 120
F51: (ลำดับ 43)
A52: 25 | B52: ศูนย์วงเดือน อาคมสุรทัณฑ์ | F52: =SUM('อุตสาหกรรม อื่นๆ'!D93) -> 600 | G52: =SUM(C52:F52) -> 600
F53: (ลำดับ 44)
A54: 26 | B54: วิทยาลัยเทคนิคอุทัยธานี | G54: =SUM(C54:F54) -> 0 | H54: หากมี แผนงานและผลการดำเนินงาน สามารถรายงาน
H55: ข้อมูลเพิ่มเติม โดยแยกข้อมูลตามอุตสาหกรรม
A56: 27 | B56: วิทยาลัยเกษตรและเทคโนโลยีอุทัยธานี | C56: =SUM('อุตสาหกรรม เกษตร'!D79,'อุตสาหกรรม เกษตร'!D81,'อุตสาหกรรม เกษตร'!D83) -> 160 | D56: =SUM('อุตสาหกรรม ท่องเที่ยว+บริการ'!D35,'อุตสาหกรรม ท่องเที่ยว+บริการ'!D37,'อุตสาหกรรม ท่องเที่ยว+บริการ'!D39) -> 140 | E56: =SUM('อุตสาหกรรม วิสาหกิจชุมชน'!D23,'อุตสาหกรรม วิสาหกิจชุมชน'!D25,'อุตสาหกรรม วิสาหกิจชุมชน'!D27,'อุตสาหกรรม วิสาหกิจชุมชน'!D29,'อุตสาหกรรม วิสาหกิจชุมชน'!D31) -> 140 | G56: =SUM(C56:F56) -> 440
C57: (ลำดับ 37-39) | D57: (ลำดับ 15-17) | E57: (ลำดับ 9-13)
A58: 28 | B58: วิทยาลัยสารพัดช่างอุทัยธานี | D58: =SUM('อุตสาหกรรม ท่องเที่ยว+บริการ'!D41,'อุตสาหกรรม ท่องเที่ยว+บริการ'!D43,'อุตสาหกรรม ท่องเที่ยว+บริการ'!D45,'อุตสาหกรรม ท่องเที่ยว+บริการ'!D47,'อุตสาหกรรม ท่องเที่ยว+บริการ'!D49) -> 160 | G58: =SUM(C58:F58) -> 160
D59: (ลำดับ 18-22)
A60: 29 | B60: วิทยาลัยชุมชนอุทัยธานี | D60: =SUM('อุตสาหกรรม ท่องเที่ยว+บริการ'!D51,'อุตสาหกรรม ท่องเที่ยว+บริการ'!D53,'อุตสาหกรรม ท่องเที่ยว+บริการ'!D55,'อุตสาหกรรม ท่องเที่ยว+บริการ'!D57,'อุตสาหกรรม ท่องเที่ยว+บริการ'!D59,'อุตสาหกรรม ท่องเที่ยว+บริการ'!D61,'อุตสาหกรรม ท่องเที่ยว+บริการ'!D63) -> 175 | E60: =SUM('อุตสาหกรรม วิสาหกิจชุมชน'!D33,'อุตสาหกรรม วิสาหกิจชุมชน'!D35,'อุตสาหกรรม วิสาหกิจชุมชน'!D37) -> 80 | F60: =SUM('อุตสาหกรรม อื่นๆ'!D95) -> 25 | G60: =SUM(C60:F60) -> 280
D61: (ลำดับ 23-29) | E61: (ลำดับ 14-16) | F61: (ลำดับ 45)
A62: 30 | B62: มหาวิทยาลัยรามคำแหง สาขาวิทยบริการเฉลิมพระเกียรติจังหวัดอุทัยธานี | G62: =SUM(C62:F62) -> 0 | H62: หากมี แผนงานและผลการดำเนินงาน สามารถรายงาน
H63: ข้อมูลเพิ่มเติม โดยแยกข้อมูลตามอุตสาหกรรม
A64: 31 | B64: สำนักงานการท่องเที่ยวและกีฬาจังหวัดอุทัยานี | D64: =SUM('อุตสาหกรรม ท่องเที่ยว+บริการ'!D65,'อุตสาหกรรม ท่องเที่ยว+บริการ'!D67) -> 90 | G64: =SUM(C64:F64) -> 90
D65: (ลำดับ 30-31)
A66: 32 | B66: บริษัท มิตรเกษตรอุทัยธานี จำกัด | C66: =SUM('อุตสาหกรรม เกษตร'!D85,'อุตสาหกรรม เกษตร'!D87,'อุตสาหกรรม เกษตร'!D89) -> 1600 | G66: =SUM(C66:F66) -> 1600
C67: (ลำดับ 40-42)
A68: 33 | B68: บริษัท ไทยรุ่งเรือง คอร์ปอเรชั่น จำกัด | C68: =SUM('อุตสาหกรรม เกษตร'!D91) -> 1000 | F68: =SUM('อุตสาหกรรม อื่นๆ'!D97) -> 1400 | G68: =SUM(C68:F68) -> 2400
C69: (ลำดับ 43) | F69: (ลำดับ 46)
A70: 34 | B70: สำนักงานขนส่งจังหวัดอุทัยธานี | F70: =SUM('อุตสาหกรรม อื่นๆ'!D99,'อุตสาหกรรม อื่นๆ'!D101,'อุตสาหกรรม อื่นๆ'!D103,'อุตสาหกรรม อื่นๆ'!D105,'อุตสาหกรรม อื่นๆ'!D107,'อุตสาหกรรม อื่นๆ'!D109,'อุตสาหกรรม อื่นๆ'!D111,'อุตสาหกรรม อื่นๆ'!D113,'อุตสาหกรรม อื่นๆ'!D115,'อุตสาหกรรม อื่นๆ'!D117,'อุตสาหกรรม อื่นๆ'!D119,'อุตสาหกรรม อื่นๆ'!D121,'อุตสาหกรรม อื่นๆ'!D123) -> 5883 | G70: =SUM(C70:F70) -> 5883
F71: (ลำดับ 47-59)
A72: รวม | C72: =SUM(C4:C70) -> 5688 | D72: =SUM(D4:D70) -> 1085 | E72: =SUM(E4:E70) -> 460 | F72: =SUM(F4:F70) -> 12244 | G72: =SUM(G4:G70) -> 19477

Sheet อุตสาหกรรม เกษตร
A1: ข้อมูลผลการพัฒนากำลังคนจังหวัดอุทัยธานี พ.ศ. 2569
A2: การพัฒนาด้านประเภทอุตสาหกรรมการเกษตร ฯลฯ (เช่น ข้าว มันสำปะหลัง เป็นต้น)
A3: ที่ | B3: แผนงาน/โครงการ | C3: หน่วยนับ | D3: แผนดำเนินงาน | E3: ระยะเวลาดำเนินการ/ สถานที่ | F3: ข้อมูลวิทยากร | G3: งบประมาณที่เบิกจ่ายจริง | H3: จำนวนผู้ผ่านการพัฒนา | I3: รายได้เฉลี่ย/รุ่น | J3: หน่วยงานที่รับผิดชอบ | K3: แหล่งงบประมาณ
D4: พ.ศ. 2569
C5: คน
C6: งบประมาณ (บาท)
A7: 1 | B7: โครงการส่งเสริมและพัฒนาอาชีพเพื่อแก้ไขปัญหาที่ดินทำกินของเกษตรกร หลักสูตร เทคโนโลยีการเพิ่มประสิทธิภาพผลิตพืชที่เหมาะสมกับสภาพพื้นที่ | C7: คน | D7: 25 | E7: มีนาคม - มิถุนายน 2569 | F7: £ภาครัฐ £ ภาคเอกชน | G7: £ ด้านฝีมือ £ การสื่อสาร | J7: ศูนย์วิจัยและพัฒนาการเกษตรอุทัยธานี | K7: ต้นสังกัด
C8: งบประมาณ (บาท) | E8: อำเภอบ้านไร่ จังหวัดอุทัยธานี | F8: £ ภาคการศึกษา £ อิสระ £ ปราชญ์ชาวบ้าน | G8: £ การบริการจัดการ £ ด้านเทคโนโลยี
A9: 2 | B9: โครงการส่งเสริมและพัฒนาสินค้าเกษตรอัตลักษณ์พื้นถิ่น หลักสูตร การจดทะเบียนพันธุ์พืชพื้นเมืองเฉพาะถิ่น กิจกรรม การเพิ่มมูลค่าข้าวโพดเทียนบ้านไร่ จังหวัดอุทัยธานี เรื่อง อบรมการขึ้นทะเบียนพันธุ์พืชพื้นเมืองเฉพาะถิ่น ภายใต้ พ.ร.บ.คุ้มครองพันธุ์พืช | C9: คน | D9: 50 | E9: ธันวาคม 2568 - กรกฎาคม 2569 | F9: £ภาครัฐ £ ภาคเอกชน | G9: £ ด้านฝีมือ £ การสื่อสาร | J9: ศูนย์วิจัยและพัฒนาการเกษตรอุทัยธานี | K9: ต้นสังกัด
C10: งบประมาณ (บาท) | E10: อำเภอบ้านไร่ จังหวัดอุทัยธานี | F10: £ ภาคการศึกษา £ อิสระ £ ปราชญ์ชาวบ้าน | G10: £ การบริการจัดการ £ ด้านเทคโนโลยี
A11: 3 | B11: โครงการขับเคลื่อนผลงานวิจัยสู่การใช้ประโยชน์ กิจกรรมที่ชุมชนนวัตกรรมวิชาการเกษตร เรื่อง การเพิ่มประสิทธิภาพการผลิตข้าวโพดเลี้ยงสัตว์ | C11: คน | D11: 40 | E11: ธันวาคม 2568 - กรกฎาคม 2569 | F11: £ภาครัฐ £ ภาคเอกชน | G11: £ ด้านฝีมือ £ การสื่อสาร | J11: ศูนย์วิจัยและพัฒนาการเกษตรอุทัยธานี | K11: ต้นสังกัด
C12: งบประมาณ (บาท) | E12: อำเภอลานสัก จังหวัดอุทัยธานี | F12: £ ภาคการศึกษา £ อิสระ £ ปราชญ์ชาวบ้าน | G12: £ การบริการจัดการ £ ด้านเทคโนโลยี
A13: 4 | B13: โครงการขับเคลื่อนผลงานวิจัยสู่การใช้ประโยชน์ กิจกรรมที่ ชุมชนนวัตกรรมวิชาการเกษตร เรื่อง การเสวนาแลกเปลี่ยนเรียนรู้และสรุปบทเรียนกับเกษตรกรกรผลิตข้าวโพดเลี้ยงสัตว์ | C13: คน | D13: 40 | E13: ธันวาคม 2568-กรกฎาคม 2569 | F13: £ภาครัฐ £ ภาคเอกชน | G13: £ ด้านฝีมือ £ การสื่อสาร | J13: ศูนย์วิจัยและพัฒนาการเกษตรอุทัยธานี | K13: ต้นสังกัด
C14: งบประมาณ (บาท) | E14: อำเภอลานสัก จังหวัดอุทัยธานี | F14: £ ภาคการศึกษา £ อิสระ £ ปราชญ์ชาวบ้าน | G14: £ การบริการจัดการ £ ด้านเทคโนโลยี
A15: 5 | B15: โครงการขับเคลื่อนผลงานวิจัยสู่การใช้ประโยชน์ กิจกรรมที่ ระบบส่งเสริมเกษตรแปลงใหญ่ เรื่อง การเพิ่มประสิทธิภาพการผลิตทุเรียนในกลุ่มแปลงใหญ่ ในพื้นที่จังหวัดอุทัยธานี | C15: คน | D15: 30 | E15: ธันวาคม 2568-กรกฎาคม 2569 | F15: £ภาครัฐ £ ภาคเอกชน | G15: £ ด้านฝีมือ £ การสื่อสาร | J15: ศูนย์วิจัยและพัฒนาการเกษตรอุทัยธานี | K15: ต้นสังกัด
C16: งบประมาณ (บาท) | E16: อำเภอบ้านไร่ จังหวัดอุทัยธานี | F16: £ ภาคการศึกษา £ อิสระ £ ปราชญ์ชาวบ้าน | G16: £ การบริการจัดการ £ ด้านเทคโนโลยี
A17: 6 | B17: โครงการ ขยายผลเทคโนโลยีการเพิ่มประสิทธิภาพการผลิตพืชไร่ในเขตพื้นที่ภาคกลาง กิจกรรมที่ ขยายผลการยกระดับผลผลิตและลดต้นทุนการผลิตข้าวโพดในพื้นที่ภาคกลาง การจัดงานวันถ่ายทอดเทคโนโลยี เรื่อง "ต้นทุนลด ผลผลิตเพิ่ม ด้วยเทคโนโลยีกรมวิชาการเกษตร พันธุ์ดี ปุ๋ยดี ชีวิตสุข" | C17: คน | D17: 140 | E17: กุมภาพันธ์ - สิงหาคม 2569 | F17: £ภาครัฐ £ ภาคเอกชน | G17: £ ด้านฝีมือ £ การสื่อสาร | J17: ศูนย์วิจัยและพัฒนาการเกษตรอุทัยธานี | K17: กองทุนส่งเสริมวิทยาศาสตร์วิจัยและนวัตกรรม สำนักงานคณะกรรมการส่งเสริมวิทยาศาสตร์ วิจัยและนวัตกรรม (สกสว.)
C18: งบประมาณ (บาท) | E18: อำเภอหนองฉาง จังหวัดอุทัยธานี | F18: £ ภาคการศึกษา £ อิสระ £ ปราชญ์ชาวบ้าน | G18: £ การบริการจัดการ £ ด้านเทคโนโลยี
A19: 7 | B19: โครงการ ขยายผลเทคโนโลยีการเพิ่มประสิทธิภาพการผลิตพืชไร่ในเขตพื้นที่ภาคกลาง กิจกรรมที่ ขยายผลการยกระดับผลผลิตและลดต้นทุนการผลิตข้าวโพดในพื้นที่ภาคกลาง หลักสูตร การผลิตเมล็ดพันธ์และเทคโนโลยีการผลิตข้าวโพดเทียมพื้นเมืองเพื่อใช้ประโยชน์ในพื้นที่จังหวัดอุทัยธานี | C19: คน | D19: 20 | E19: กุมภาพันธ์ - สิงหาคม 2569 | F19: £ภาครัฐ £ ภาคเอกชน | G19: £ ด้านฝีมือ £ การสื่อสาร | J19: ศูนย์วิจัยและพัฒนาการเกษตรอุทัยธานี | K19: กองทุนส่งเสริมวิทยาศาสตร์วิจัยและนวัตกรรม สำนักงานคณะกรรมการส่งเสริมวิทยาศาสตร์ วิจัยและนวัตกรรม (สกสว.)
C20: งบประมาณ (บาท) | E20: อำเภอสว่างอารมณ์ จังหวัดอุทัยธานี | F20: £ ภาคการศึกษา £ อิสระ £ ปราชญ์ชาวบ้าน | G20: £ การบริการจัดการ £ ด้านเทคโนโลยี
A21: 8 | B21: โครงการ ขยายผลเทคโนโลยีการเพิ่มประสิทธิภาพการผลิตพืชไร่ในเขตพื้นที่ภาคกลาง กิจกรรมที่ ขยายผลการเพิ่มประสิทธิภาพการผลิตมันสำปะหลังด้วยการใช้ปุ๋ยตามค่าวิเคราะห์ดินและไถระเบิดดินดานในพื้นที่ภาคกลาง การจัดงานวันถ่ายทอดเทคโนโลยี เรื่อง "ระเบิดดินดานลดอาการมันเน่า ต้นทุนลด ผลผลิตเพิ่ม ด้วยเทคโนโลยีกรมวิชการเกษตร" | C21: คน | D21: 70 | E21: กุมภาพันธ์ - สิงหาคม 2569 | F21: £ภาครัฐ £ ภาคเอกชน | G21: £ ด้านฝีมือ £ การสื่อสาร | J21: ศูนย์วิจัยและพัฒนาการเกษตรอุทัยธานี | K21: กองทุนส่งเสริมวิทยาศาสตร์วิจัยและนวัตกรรม สำนักงานคณะกรรมการส่งเสริมวิทยาศาสตร์ วิจัยและนวัตกรรม (สกสว.)
C22: งบประมาณ (บาท) | E22: อำเภองานสัก จังหวัดอุทัยธานร | F22: £ ภาคการศึกษา £ อิสระ £ ปราชญ์ชาวบ้าน | G22: £ การบริการจัดการ £ ด้านเทคโนโลยี
A23: 9 | B23: โครงการ ขยายผลเทคโนโลยีการเพิ่มประสิทธิภาพการผลิตพืชไร่ในเขตพื้นที่ภาคกลาง กิจกรรมที่ ขยายผลการเพิ่มประสิทธิภาพการผลิตมันสำปะหลังด้วยการใช้ปุ๋ยตามค่าวิเคราะห์ดินและไถระเบิดดินดานในพื้นที่ภาคกลาง ฝุกอบรมเกษตรกร หลักสูตร การเตรียมแปลงพันธุ์สะอาดและการจัดการเพื่อลดการระบาดของโรคใบด่างมันสำปะหลังในพื้นที่จังหวัดอุทัยธานี | C23: คน | D23: 20 | E23: กุมภาพันธ์ - สิงหาคม 2569 | F23: £ภาครัฐ £ ภาคเอกชน | G23: £ ด้านฝีมือ £ การสื่อสาร | J23: ศูนย์วิจัยและพัฒนาการเกษตรอุทัยธานี | K23: กองทุนส่งเสริมวิทยาศาสตร์วิจัยและนวัตกรรม สำนักงานคณะกรรมการส่งเสริมวิทยาศาสตร์ วิจัยและนวัตกรรม (สกสว.)
C24: งบประมาณ (บาท) | E24: อำเภอบ้านไร่ จังหวัดอุทัยธานร | F24: £ ภาคการศึกษา £ อิสระ £ ปราชญ์ชาวบ้าน | G24: £ การบริการจัดการ £ ด้านเทคโนโลยี
A25: 10 | B25: โครงการ ขยายผลเทคโนโลยีการเพิ่มประสิทธิภาพการผลิตพืชไร่ในเขตพื้นที่ภาคกลาง กิจกรรม ขยายผลการเพิ่มประสิทธิภาพการผลิตอ้อยด้วยการใช้ปุ๋ยตามค่าวิเคราะห์ดินในเขตพื้นที่ภาคกลาง การจัดงานวันถ่ายทอดเทคโนโลยีกรมวิชาการเกษตร เรื่อง เพิ่มประสิทธิภาพการผลิตอ้อยโรงงาน และลดต้นทุนการผลิตด้วยปุ๋ยตามค่าวิเคราะห์ดิน | C25: คน | D25: 70 | E25: กุมภาพันธ์ - สิงหาคม 2569 | F25: £ภาครัฐ £ ภาคเอกชน | G25: £ ด้านฝีมือ £ การสื่อสาร | J25: ศูนย์วิจัยและพัฒนาการเกษตรอุทัยธานี | K25: กองทุนส่งเสริมวิทยาศาสตร์วิจัยและนวัตกรรม สำนักงานคณะกรรมการส่งเสริมวิทยาศาสตร์ วิจัยและนวัตกรรม (สกสว.)
C26: งบประมาณ (บาท) | E26: อำเภอบ้านไร่ จังหวัดอุทัยธานี | F26: £ ภาคการศึกษา £ อิสระ £ ปราชญ์ชาวบ้าน | G26: £ การบริการจัดการ £ ด้านเทคโนโลยี
A27: 11 | B27: โครงการถ่ายทอดเทคโนโลยีเพื่อการเกษตร กิจกรรม ถ่ายทอดเทคโนโลยีการลดต้นทุนการผลิตยาง หลักสูตรการใช้ปุ๋ยเพื่อปรับปรุงดินในสวนยางพารา | C27: คน | D27: 30 | E27: กุมภาพันธ์ 2569 | F27: £ภาครัฐ £ ภาคเอกชน | G27: £ ด้านฝีมือ £ การสื่อสาร | H27: 30 | J27: การยางแห่งประเทศไทยจังหวัดอุทัยธานี | K27: ต้นสังกัด
C28: งบประมาณ (บาท) | D28: 28800 | E28: ตำบลคอกควาย อำเภอบ้านไร่ จังหวัดอุทัยธานี | F28: £ ภาคการศึกษา £ อิสระ £ ปราชญ์ชาวบ้าน | G28: £ การบริการจัดการ £ ด้านเทคโนโลยี
A29: 12 | B29: โครงการถ่ายทอดเทคโนดลยีเพื่อเกษตรกร กิจกรรม ถ่ายทอดเทคโนโลยีการรปรับปรุงคุณภาพในกระบวนการผลิต หลักสูตรการปรับปรุงคุณภาพผลผลิตยางพาราตามเทคโนโลยีการจัดการสวนยางอย่างยั่งยืน | C29: คน | D29: 30 | E29: มิถุนายน 2569 | F29: £ภาครัฐ £ ภาคเอกชน | G29: £ ด้านฝีมือ £ การสื่อสาร | J29: การยางแห่งประเทศไทยจังหวัดอุทัยธานี | K29: ต้นสังกัด
C30: งบประมาณ (บาท) | D30: 20100 | E30: ตำบลคอกควาย อำเภอบ้านไร่ จังหวัดอุทัยธานี | F30: £ ภาคการศึกษา £ อิสระ £ ปราชญ์ชาวบ้าน | G30: £ การบริการจัดการ £ ด้านเทคโนโลยี | H30: 30
A31: 13 | B31: โครงการส่งเสริมและพัฒนาสินค้าเกษตรชีวภาพเพื่อเข้าสู่ห่วงโซ่อุปทานเศรษฐกิจชีวภาพ กิจกรรม จัดกระบวนการเรียนรู้เพื่อเพิ่มศักยภาพกลุ่มเกษตรกรผู้ผลิตสมุนไพร | C31: คน | D31: 30 | E31: ตุลาคม 2568 - กันยายน 2569 | F31: R ภาครัฐ £ ภาคเอกชน | G31: £ ด้านฝีมือ £ การสื่อสาร | H31: 30 | I31: 1850 | J31: สำนักงานเกษตรจังหวัดอุทัยธานี | K31: กรมส่งเสริมการเกษตร
C32: งบประมาณ (บาท) | D32: 98500 | E32: จังหวัดอุทัยธานี | F32: £ ภาคการศึกษา £ อิสระ £ ปราชญ์ชาวบ้าน | G32: R การบริการจัดการ £ ด้านเทคโนโลยี | I32: บาท/คน/เดือน
A33: 14 | B33: โครงการระบบส่งเสริมเกษตรแบบแปลงใหญ่เพื่อปรับเพิ่มผลิตภาพการผลิต กิจกรรมถ่ายทอดความรู้ให้แก่เกษตรกรเข้าสู่ระบบมาตรฐาน GAP | C33: คน | D33: 44 | E33: ตุลาคม 2568 - กันยายน 2569 | F33: R ภาครัฐ £ ภาคเอกชน | G33: £ ด้านฝีมือ £ การสื่อสาร | H33: 44 | I33: 60000 | J33: สำนักงานเกษตรจังหวัดอุทัยธานี | K33: กรมส่งเสริมการเกษตร
C34: งบประมาณ (บาท) | D34: 39160 | E34: จังหวัดอุทัยธานี | F34: £ ภาคการศึกษา £ อิสระ £ ปราชญ์ชาวบ้าน | G34: R การบริการจัดการ £ ด้านเทคโนโลยี | I34: บาท/คน/ปี
A35: 15 | B35: โครงการส่งเสริมและพัฒนาสินค้าเกษตรอัตลักษณ์พื้นถิ่นเพื่อเข้าสู่ห่วงโซ่อุปทานเศรษฐกิจสร้างสรรค์ กิจกรรม จัดอบรมถ่ายทอดเทคโนโลยีการผลิตสินค้าไม้ผลอัตลักษณ์พื้นถิ่น | C35: คน | D35: 30 | E35: ตุลาคม 2568 - กันยายน 2569 | F35: þภาครัฐ £ ภาคเอกชน | G35: £ ด้านฝีมือ £ การสื่อสาร | H35: 30 | I35: 67,385.19 บาท/ไร่/ราย | J35: สำนักงานเกษตรจังหวัดอุทัยธานี | K35: กรมส่งเสริมการเกษตร
C36: งบประมาณ (บาท) | D36: 10500 | E36: อำเภอบ้านไร่ จังหวัดอุทัยธานี | F36: £ ภาคการศึกษา þ อิสระ £ ปราชญ์ชาวบ้าน | G36: £ การบริการจัดการ þ ด้านเทคโนโลยี
A37: 16 | B37: โครงการยกระดับสินค้าเกษตรมูลค่าสูง (มันสำปะหลัง) กิจกรรมจัดเวทีถ่ายทอดความรู้เกษตรกร หลักสูตรเทคโนโลยีการเพิ่มผลผลิตมันสำปะหลังอย่างยั่งยืนและการบริหารจัดการแปลงภายใต้การเปลี่ยนแปลงของสภาพภูมิอากาศ | C37: คน | D37: 30 | E37: ตุลาคม 2568-กันยายน 2569 | F37: þภาครัฐ £ ภาคเอกชน | G37: £ ด้านฝีมือ £ การสื่อสาร | H37: 30 | I37: เกษตรกรยังไม่ได้ | J37: สำนักงานเกษตรจังหวัดอุทัยธานี | K37: กรมส่งเสริมการเกษตร
C38: งบประมาณ (บาท) | D38: 11700 | E38: อำเภอลานสัก จังหวัดอุทัยธานี | F38: £ ภาคการศึกษา £ อิสระ £ ปราชญ์ชาวบ้าน | G38: £ การบริการจัดการ þ ด้านเทคโนโลยี | I38: เก็บเกี่ยวผลผลิต
A39: 17 | B39: โครงการส่งเสริมการจัดการสุขภาพพืชเพื่อเพิ่มประสิทธิภาพการผลิตสินค้าเกษตร กิจกรรมถ่ายทอดความรู้ให้กับเกษตรกรตามกระบวนการโรงเรียนเกษตรกรตามพระราชดำริในพืชมูล่คาสูง | C39: คน | D39: 20 | E39: ตุลาคม 2568-กันยายน 2569 | F39: R ภาครัฐ £ ภาคเอกชน | G39: £ ด้านฝีมือ £ การสื่อสาร | H39: 20 | I39: 60000 | J39: สำนักงานเกษตรจังหวัดอุทัยธานี | K39: กรมส่งเสริมการเกษตร
C40: งบประมาณ (บาท) | D40: 42000 | E40: อำเภอหนองฉาง จังหวัดอุทัยธานี | F40: £ ภาคการศึกษา £ อิสระ £ ปราชญ์ชาวบ้าน | G40: R การบริการจัดการ £ ด้านเทคโนโลยี | I40: บาท/คน/ปี
A41: 18 | B41: โครงการปรับเพิ่มผลิตภาพการใช้ประโยชน์ที่ดินและทรัพยากรตามแผนที่เกษตรกรเพื่อการบริหารจัดการเชิงรุก กิจกรรมอบรมให้ความรู้การปลูกพืชทางเลือกใหม่ | C41: คน | D41: 15 | E41: ตุลาคม 2568-กันยายน 2569 | F41: þภาครัฐ £ ภาคเอกชน | G41: £ ด้านฝีมือ £ การสื่อสาร | I41: พืชที่ได้รับการสนับสนุนภายใต้โครงการฯยังไม่ให้ผลผลิต | J41: สำนักงานเกษตรจังหวัดอุทัยธานี | K41: กรมส่งเสริมการเกษตร
C42: งบประมาณ (บาท) | D42: 23400 | E42: อำเภอบ้านไร่ จังหวัดอุทัยธานี | F42: £ ภาคการศึกษา £ อิสระ £ ปราชญ์ชาวบ้าน | G42: £ การบริการจัดการ þ ด้านเทคโนโลยี | H42: 15
A43: 19 | B43: โครงการส่งเสริมการดำเนินงานโครงการอันเนื่องมาจากพระราชดำริ กิจกรรมฝึกอบรมระยะสั้นเพื่อป้องกันและแก้ไขปัญหาด้านการเกษตรที่สำคัญในพื้นที่ (ไตมาส 1) | C43: คน | D43: 50 | E43: ตุลาคม 2568-กันยายน 2569 | F43: þภาครัฐ £ ภาคเอกชน | G43: £ ด้านฝีมือ £ การสื่อสาร | H43: 50 | I43: 82,762 บาท/คน/ปี | J43: สำนักงานเกษตรจังหวัดอุทัยธานี | K43: กรมส่งเสริมการเกษตร
C44: งบประมาณ (บาท) | E44: อำเภอทัพทัน จังหวัดอุทัยธานี | F44: £ ภาคการศึกษา £ อิสระ £ ปราชญ์ชาวบ้าน | G44: þ การบริการจัดการ £ ด้านเทคโนโลยี
A45: 20 | B45: โครงการส่งเสริมและพัฒนาเกษตกรกและองค์กรเกษตรกร กิจกรรม จัดกระบวนการถ่ายทอดความรู้และฝึกปฏิบัติ เพื่อพัฒนาศักยภาพกลุ่มส่งเสริมอาชีพการเกษตรสู่ Smart Group | C45: คน | D45: 15 | E45: ตุลาคม 2568-กันยายน 2569 | F45: £ภาครัฐ £ ภาคเอกชน | G45: £ ด้านฝีมือ £ การสื่อสาร | H45: 15 | I45: 108,000 บ./ปี | J45: สำนักงานเกษตรจังหวัดอุทัยธานี | K45: กรมส่งเสริมการเกษตร
C46: งบประมาณ (บาท) | E46: อำเภอเมืองอุทัยธานี จังหวัดอุทัยานี | F46: £ ภาคการศึกษา £ อิสระ £ ปราชญ์ชาวบ้าน | G46: £ การบริการจัดการ £ ด้านเทคโนโลยี
A47: 21 | B47: โครงการส่งเสริมและพัฒนาเกษตรกรและองค์กรเกษตรกร กิจกรรมจัดกระบวนการถ่ายทอดความรู้และฝึกปฏิบัติ เพื่อพัฒนาศักยภาพกลุ่มส่งเสริมอาชีพการเกษตรสู่ผู้ประกอบการด้านเกษตร | C47: คน | D47: 15 | E47: ตุลาคม 2568-กันยายน 2569 | F47: £ภาครัฐ £ ภาคเอกชน | G47: £ ด้านฝีมือ £ การสื่อสาร | H47: 15 | I47: 104,466 บ./ปี | J47: สำนักงานเกษตรจังหวัดอุทัยธานี | K47: กรมส่งเสริมการเกษตร
C48: งบประมาณ (บาท) | E48: อำเภอทัพทัน จังหวัดอุทัยธานี | F48: £ ภาคการศึกษา £ อิสระ £ ปราชญ์ชาวบ้าน | G48: £ การบริการจัดการ £ ด้านเทคโนโลยี
A49: 22 | B49: โครงการส่งเสริมและพัฒนาเกษตรกรและองค์กรเกษตรกร กิจกรรม จัดกระบวนการถ่ายทอดความรู้และปฏิบัติ เพื่อพัฒนาศักยภาพกลุ่มแม่บ้านเกษตรกรสู่ Smart Group | C49: คน | D49: 15 | E49: ตุลาคม 2568-กันยายน 2569 | F49: £ภาครัฐ £ ภาคเอกชน | G49: £ ด้านฝีมือ £ การสื่อสาร | H49: 15 | I49: 62,205 บ./ปี | J49: สำนักงานเกษตรจังหวัดอุทัยธานี | K49: กรมส่งเสริมการเกษตร
C50: งบประมาณ (บาท) | E50: อำเภอบ้านไร่ จังหวัดอุทัยธานี | F50: £ ภาคการศึกษา £ อิสระ £ ปราชญ์ชาวบ้าน | G50: £ การบริการจัดการ £ ด้านเทคโนโลยี
A51: 23 | B51: โครงการส่งเสริมและพัฒนาเกษตรกรลิองค์กรเกษตรกร กิจกรรม จัดกระบวนการถ่ายทอดความรู้และฝึกปฏิบัติ เพื่อพัฒนาศักยภาพกลุ่มแม่บ้านเกษตรกรสู่ผู้ประกอบการด้านการเกษตร | C51: คน | D51: 15 | E51: ตุลาคม 2568-กันยายน 2569 | F51: £ภาครัฐ £ ภาคเอกชน | G51: £ ด้านฝีมือ £ การสื่อสาร | H51: 15 | I51: 315,000 บ./ปี | J51: สำนักงานเกษตรจังหวัดอุทัยธานี | K51: กรมส่งเสริมการเกษตร
C52: งบประมาณ (บาท) | E52: อำเภอหนองขาหย่าง่ จังหวัดอุทัยธานี | F52: £ ภาคการศึกษา £ อิสระ £ ปราชญ์ชาวบ้าน | G52: £ การบริการจัดการ £ ด้านเทคโนโลยี
A53: 24 | B53: โครงการส่งเสริมและพัฒนาเกษตรกรและองค์กรเกษตรกร กิจกรรม จัดกระบวนการเรียนรู้ เพื่อวิเคราะห์สถานการณ์และจัดทำแผนสร้างความมั่นคงด้านอาหารเพื่อการบริโภคในครัวเรือนเกษตรกรและชุมชน | C53: คน | D53: 15 | E53: ตุลาคม 2568-กันยายน 2569 | F53: £ภาครัฐ £ ภาคเอกชน | G53: £ ด้านฝีมือ £ การสื่อสาร | H53: 15 | I53: 150,000 บ./ปี | J53: สำนักงานเกษตรจังหวัดอุทัยธานี | K53: กรมส่งเสริมการเกษตร
C54: งบประมาณ (บาท) | E54: อำเภอลานสัก จังหวัดอุทัยธานี | F54: £ ภาคการศึกษา £ อิสระ £ ปราชญ์ชาวบ้าน | G54: £ การบริการจัดการ £ ด้านเทคโนโลยี
A55: 25 | B55: โครงการส่งเสริมและพัฒนาเกษตรกรและองค์กรเกษตรกร กิจกรรมอบรมถ่ายทอดความรู้และฝึกทักษะกระบวนการกลุ่มยุวเกษตรกร | C55: คน | D55: 30 | E55: ตุลาคม 2568-กันยายน 2569 | F55: £ภาครัฐ £ ภาคเอกชน | G55: £ ด้านฝีมือ £ การสื่อสาร | H55: 30 | I55: 0 | J55: สำนักงานเกษตรจังหวัดอุทัยธานี | K55: กรมส่งเสริมการเกษตร
C56: งบประมาณ (บาท) | E56: อำเภอลานสัก จังหวัดอุทัยธานี | F56: £ ภาคการศึกษา £ อิสระ £ ปราชญ์ชาวบ้าน | G56: £ การบริการจัดการ £ ด้านเทคโนโลยี
A57: 26 | B57: โครงการส่งเสริมและพัฒนาเกษตรกรและองค์กรเกษตรกร กิจกรรมจัดการกระบวนการเรียนรู้เพื่อพัฒนาศักยภาพกลุ่มยุวเกาตรกรต้นแบบ Group Model | C57: คน | D57: 15 | E57: ตุลาคม 2568-กันยายน 2569 | F57: £ภาครัฐ £ ภาคเอกชน | G57: £ ด้านฝีมือ £ การสื่อสาร | H57: 15 | I57: 0 | J57: สำนักงานเกษตรจังหวัดอุทัยธานี | K57: กรมส่งเสริมการเกษตร
C58: งบประมาณ (บาท) | E58: อำเภอห้วยคต จังหวัดอุทัยธานี | F58: £ ภาคการศึกษา £ อิสระ £ ปราชญ์ชาวบ้าน | G58: £ การบริการจัดการ £ ด้านเทคโนโลยี
A59: 27 | B59: โครงการส่งเสริมและพัฒนาเกษตรกรและองค์กรเกษตรกร กิจกรรมจัดกระบวนการเรียนรู้เพื่อเตรียมความพร้อมเข้าสู่สังคมเกษตรสูงวัย ส่งเสริมการรวมกลุ่มและจัดทำแผนการพัฒนาทักษะเพื่อสร้างรายได้ | C59: คน | D59: 15 | E59: ตุลาคม 2568-กันยายน 2569 | F59: £ภาครัฐ £ ภาคเอกชน | G59: £ ด้านฝีมือ £ การสื่อสาร | H59: 15 | I59: 42,000 บ./ปี | J59: สำนักงานเกษตรจังหวัดอุทัยธานี | K59: กรมส่งเสริมการเกษตร
C60: งบประมาณ (บาท) | E60: อำเภอหนองฉาง จังหวัดอุทัยธานี | F60: £ ภาคการศึกษา £ อิสระ £ ปราชญ์ชาวบ้าน | G60: £ การบริการจัดการ £ ด้านเทคโนโลยี
A61: 28 | B61: โครงการส่งเสริมและพัฒนาเกษตรกรและองค์กรเกษตรกร กิจกรรมพัฒนาทักษะเกษตรสูงวัยเพื่อยกระดับคุณภาพชีวิตและสร้างรายได้ | C61: คน | D61: 15 | E61: ตุลาคม 2568-กันยายน 2569 | F61: £ภาครัฐ £ ภาคเอกชน | G61: £ ด้านฝีมือ £ การสื่อสาร | H61: 15 | I61: 42,000 บ./ปี | J61: สำนักงานเกษตรจังหวัดอุทัยธานี | K61: กรมส่งเสริมการเกษตร
C62: งบประมาณ (บาท) | E62: อำเภอหนองฉาง จังหวัดอุทัยธานี | F62: £ ภาคการศึกษา £ อิสระ £ ปราชญ์ชาวบ้าน | G62: £ การบริการจัดการ £ ด้านเทคโนโลยี
A63: 29 | B63: โครงการพัฒนาทักษะและแนวคิดผู้ประกอบการธุรกิจเกษตร (เกษตรกรปราดเปรื่อง (Smart Farmer) กิจกรรมการถ่ายทอดความรู้เพื่อพัฒนาสมรรถนะเกษตรกรให้เป็น Smart Farmer | C63: คน | D63: 80 | E63: ตุลาคม 2568-กันยายน 2569 | F63: Rภาครัฐ £ ภาคเอกชน | G63: £ ด้านฝีมือ £ การสื่อสาร | H63: 80 | I63: 35,000 บ./คน/เดือน | J63: สำนักงานเกษตรจังหวัดอุทัยธานี | K63: กรมส่งเสริมการเกษตร
C64: งบประมาณ (บาท) | D64: 32000 | E64: 8 อำเภอ ในจังหวัดอุทัยธานี | F64: £ ภาคการศึกษา £ อิสระ £ ปราชญ์ชาวบ้าน | G64: R การบริการจัดการ R ด้านเทคโนโลยี
A65: 30 | B65: โครงการพัฒนาทักษะและแนวคิดผู้ประกอบการธุรกิจเกษตร (เกษตรปราดเปรื่อง (Smart Farmer) กิจกรรมอบรมหลักสูตรพัฒนาเกษตรกรรุ่นใหม่ให้เป็น Young Smart Farmer | C65: คน | D65: 20 | E65: ตุลาคม 2568-กันยายน 2569 | F65: Rภาครัฐ £ ภาคเอกชน | G65: £ ด้านฝีมือ £ การสื่อสาร | H65: 19 | I65: 25,000 บ./คน/เดือน | J65: สำนักงานเกษตรจังหวัดอุทัยธานี | K65: กรมส่งเสริมการเกษตร
C66: งบประมาณ (บาท) | D66: 32000 | E66: จังหวัดอุทัยธานี | F66: £ ภาคการศึกษา £ อิสระ £ ปราชญ์ชาวบ้าน | G66: R การบริการจัดการ R ด้านเทคโนโลยี
A67: 31 | B67: โครงการศูนย์เรียนรู้การเพื่มประสิทธิภาพการผลิตสินค้าเกษตร กิจกรรมเสริมสร้างศักยภาพเกษตรกรผู้นำ | C67: คน | D67: 80 | E67: ตุลาคม 2568-กันยายน 2569 | F67: Rภาครัฐ £ ภาคเอกชน | G67: £ ด้านฝีมือ £ การสื่อสาร | H67: 80 | I67: 120000 | J67: สำนักงานเกษตรจังหวัดอุทัยธานี | K67: กรมส่งเสริมการเกษตร
C68: งบประมาณ (บาท) | D68: 60000 | E68: 8 อำเภอ ในจังหวัดอุทัยธานี | F68: £ ภาคการศึกษา £ อิสระ R ปราชญ์ชาวบ้าน | G68: R การบริการจัดการ £ ด้านเทคโนโลยี | I68: บาท/คน/ปี
A69: 32 | B69: โครงการพัฒนาประสิทธิภาพการผลิตหม่อนไหมระบบแปลงใหญ่ หลักสูตร วางแผนทบทวนการดำเนินงานเกษตรกรแปลงใหญ่ | C69: คน | D69: 64 | E69: มกราคม-กุมภาพันธ์ 2569 | F69: £ภาครัฐ £ ภาคเอกชน | G69: £ ด้านฝีมือ £ การสื่อสาร | H69: 64 | I69: 10000 | J69: ศูนย์หม่อนไหมเฉลิมพระเกียรติฯ กาญจนบุรี | K69: กรมหม่อนไหม
C70: งบประมาณ (บาท) | D70: 23220 | E70: 27 มกราคม 2569 กลุ่มแปลงใหญ่หม่อนไหมลานสัก ต.ลานสัก อ.ลานสัก จ.อุทัยธานี | F70: £ ภาคการศึกษา £ อิสระ £ ปราชญ์ชาวบ้าน | G70: £ การบริการจัดการ £ ด้านเทคโนโลยี
A71: 33 | B71: การอบรมเชิงปฏิบัติการ "การพัฒนาผลิตภัณฑ์และบรรจุภัณฑ์เพื่อสร้างมูลค่าให้กับปลิตภัณฑ์ในตลาดยุคใหม่" ภายใต้โครงการยกระดับและเพิ่มมูล่คาสินค้าเกษตรกรแปรรูป ตามแผนปฏิบัติราชการประจำปีของจังหวัดอุทัยธานี ประจำปีงบประมาณ พ.ศ. 2569 | C71: คน | D71: 20 | E71: 19 พฤศจิกายน 2569 | F71: £ภาครัฐ £ ภาคเอกชน | G71: £ ด้านฝีมือ £ การสื่อสาร | J71: สำนักงานอุตสาหกรรมจังหวัดอุทัยธานี | K71: งบจังหวัด
C72: งบประมาณ (บาท) | E72: โรงแรมธาราฮิลล์ อำเภอเมืองอุทัยธานี จังหวัดอุทัยธานี | F72: £ ภาคการศึกษา £ อิสระ £ ปราชญ์ชาวบ้าน | G72: £ การบริการจัดการ £ ด้านเทคโนโลยี
A73: 34 | B73: โครงการค่าใช้จ่ายการยกระดับผลิตภัณฑ์สินค้าเกษตรอุตสาหกรรมสู่ธุรกิจตลาดสมัยใหม่ (OPOAI-C-NEXT STEPs) กิจกรรม ส่งเสริมและพัฒนาเกษตรกรอุตสาหกรรมสู่ชุมชน | C73: คน | D73: 20 | E73: เดือนมกราคม 2569 | F73: £ภาครัฐ £ ภาคเอกชน | G73: £ ด้านฝีมือ £ การสื่อสาร | K73: ต้นสังกัด
C74: งบประมาณ (บาท) | E74: โรงแรมสุขทวีรีสอร์ท อำเภอหนองฉาง จังหวัดอุทัยธานี | F74: £ ภาคการศึกษา £ อิสระ £ ปราชญ์ชาวบ้าน | G74: £ การบริการจัดการ £ ด้านเทคโนโลยี
A75: 35 | B75: โครงการฝึกวิชาชีพเกษตรกรรมและปศุสัตว์ | C75: คน | D75: 10 | E75: ตุลาคม 2568-กันยายน 2569 | F75: £ภาครัฐ £ ภาคเอกชน | G75: £ ด้านฝีมือ £ การสื่อสาร | J75: เรือนจำจังหวัดอุทัยธานี | K75: ต้นสังกัด
C76: งบประมาณ (บาท) | E76: เรือนจำจังหวัดอุทัยธานี | F76: £ ภาคการศึกษา £ อิสระ £ ปราชญ์ชาวบ้าน | G76: £ การบริการจัดการ £ ด้านเทคโนโลยี
A77: 36 | B77: โครงการส่งเสริมการเรียนรู้เศรษฐกิจพอเพียงและเกษตรทฤษฎีใหม่ ตามแนวพระราชดำริพระบาทสมเด็จพระบรมชนกาธิเบศร มหาภูมิพลอดุลยเดชมหาราช บรมนาถบพิตร ประจำปีงบประมาณ พ.ศ. 2569 | C77: คน | D77: 1700 | E77: เดือนพฤษภาคม - กันยายน 69 | F77: £ภาครัฐ £ ภาคเอกชน | G77: £ ด้านฝีมือ £ การสื่อสาร | J77: องค์การบริหารส่วนจังหวัดอุทัยธานี | K77: ต้นสังกัด
C78: งบประมาณ (บาท) | E78: พื้นที่ 8 อำเภอ ในจังหวัดอุทัยธานี | F78: £ ภาคการศึกษา £ อิสระ £ ปราชญ์ชาวบ้าน | G78: £ การบริการจัดการ £ ด้านเทคโนโลยี
A79: 37 | B79: กิจกรรมฝึกอบรมแรงงานกลุ่มเป้าหมายเฉพาะเพื่อเพิ่มโอกาสในการประกอบอาชีพวิถีใหม่ หลักสูตร การผลิตไม้กระถางเพื่อการค้า | C79: คน | D79: 65 | E79: พฤศจิกายน 2568 | F79: £ภาครัฐ £ ภาคเอกชน | G79: £ ด้านฝีมือ £ การสื่อสาร | J79: วิทยาลัยเกษตรและเทคโนโลยีอุทัยธานี
C80: งบประมาณ (บาท) | E80: วิทยาลัยเกษตรและเทคโนโลยีอุทัยธานี อำเภอเมือง จังหวัดอุทัยธานี | F80: £ ภาคการศึกษา £ อิสระ £ ปราชญ์ชาวบ้าน | G80: £ การบริการจัดการ £ ด้านเทคโนโลยี
A81: 38 | B81: กิจกรรม ฝึกอบรมแรงงานกลุ่มเป้าหมายเฉพาะเพื่อเพิ่มโอกาสในการประกอบอาชีพวิถีใหม่ หลักสูตร การเลี้ยงไก่ลูกผสมพันธุ์พื้นเมือง | C81: คน | D81: 55 | E81: พฤศจิกายน 2568 | F81: £ภาครัฐ £ ภาคเอกชน | G81: £ ด้านฝีมือ £ การสื่อสาร
C82: งบประมาณ (บาท) | E82: วิทยาลัยเกษตรและเทคโนโลยีอุทัยธานี อำเภอเมือง จังหวัดอุทัยธานี | F82: £ ภาคการศึกษา £ อิสระ £ ปราชญ์ชาวบ้าน | G82: £ การบริการจัดการ £ ด้านเทคโนโลยี
A83: 39 | B83: กิจกรรม ฝึกอบรมแรงงานกลุ่มเป้าหมายเฉพาะเพื่อเพิ่มโอกาสในการประกอบอาชีพวิถีใหม่ หลักสูตร การจัดการคุณภาพน้ำเพื่อการเพาะเลี้ยงสัตว์น้ำ | C83: คน | D83: 40 | E83: พฤศจิกายน 2569 | F83: £ภาครัฐ £ ภาคเอกชน | G83: £ ด้านฝีมือ £ การสื่อสาร
C84: งบประมาณ (บาท) | E84: วิทยาลัยเกษตรและเทคโนโลยีอุทัยธานี อำเภอเมือง จังหวัดอุทัยธานี | F84: £ ภาคการศึกษา £ อิสระ £ ปราชญ์ชาวบ้าน | G84: £ การบริการจัดการ £ ด้านเทคโนโลยี
A85: 40 | B85: อบรมส่งเสริมปลูกอ้อยให้มีคุณภาพ | C85: คน | D85: 150 | E85: 1 สิงหาคม - 31 ตุลาคม | F85: £ภาครัฐ £ ภาคเอกชน | G85: £ ด้านฝีมือ £ การสื่อสาร | J85: บริษัท มิตรเกษตร อุทัยธานี จำกัด | K85: ต้นสังกัด
C86: งบประมาณ (บาท) | E86: โรงงานน้ำตาลมิตรเกษตรอุทัยธานี | F86: £ ภาคการศึกษา £ อิสระ £ ปราชญ์ชาวบ้าน | G86: £ การบริการจัดการ £ ด้านเทคโนโลยี
A87: 41 | B87: อบรมการบำรุงรักษาอ้อยให้มีคุณภาพ | C87: คน | D87: 1200 | E87: 1 ตุลาคม - 31 มกราคม | F87: £ภาครัฐ £ ภาคเอกชน | G87: £ ด้านฝีมือ £ การสื่อสาร | K87: ต้นสังกัด
C88: งบประมาณ (บาท) | E88: โรงงานน้ำตาลมิตรเกษตรอุทัยธานี | F88: £ ภาคการศึกษา £ อิสระ £ ปราชญ์ชาวบ้าน | G88: £ การบริการจัดการ £ ด้านเทคโนโลยี
A89: 42 | B89: อบรมการเก็บเกี่ยวอ้อยให้มีคุณภาพ | C89: คน | D89: 250 | E89: 1 -30 พฤศจิกายน | F89: £ภาครัฐ £ ภาคเอกชน | G89: £ ด้านฝีมือ £ การสื่อสาร | K89: ต้นสังกัด
C90: งบประมาณ (บาท) | E90: โรงงานน้ำตาลมิตรเกษตรอุทัยธานี | F90: £ ภาคการศึกษา £ อิสระ £ ปราชญ์ชาวบ้าน | G90: £ การบริการจัดการ £ ด้านเทคโนโลยี
A91: 43 | B91: มาตรฐานการผลิตอ้อยและน้ำตาลอย่างยั่งยืน | C91: คน | D91: 1000 | E91: มกราคม - ธันวาคม 2569 | F91: £ภาครัฐ £ ภาคเอกชน | G91: £ ด้านฝีมือ £ การสื่อสาร | J91: บริษัท ไทยรุ่งเรือง คอร์ปอเรชั่น จำกัด | K91: ต้นสังกัด
C92: งบประมาณ (บาท) | E92: บริษัท ไทยรุ่งเรือง คอร์ปอเรชั่น จำกัด | F92: £ ภาคการศึกษา £ อิสระ £ ปราชญ์ชาวบ้าน | G92: £ การบริการจัดการ £ ด้านเทคโนโลยี
C93: คน | E93: มกราคม - ธันวาคม 2569 | F93: £ภาครัฐ £ ภาคเอกชน | G93: £ ด้านฝีมือ £ การสื่อสาร
C94: งบประมาณ (บาท) | F94: £ ภาคการศึกษา £ อิสระ £ ปราชญ์ชาวบ้าน | G94: £ การบริการจัดการ £ ด้านเทคโนโลยี
C95: คน | E95: มกราคม - ธันวาคม 2569 | F95: £ภาครัฐ £ ภาคเอกชน | G95: £ ด้านฝีมือ £ การสื่อสาร
C96: งบประมาณ (บาท) | F96: £ ภาคการศึกษา £ อิสระ £ ปราชญ์ชาวบ้าน | G96: £ การบริการจัดการ £ ด้านเทคโนโลยี
C97: คน | E97: มกราคม - ธันวาคม 2569 | F97: £ภาครัฐ £ ภาคเอกชน | G97: £ ด้านฝีมือ £ การสื่อสาร
C98: งบประมาณ (บาท) | F98: £ ภาคการศึกษา £ อิสระ £ ปราชญ์ชาวบ้าน | G98: £ การบริการจัดการ £ ด้านเทคโนโลยี
C99: คน | E99: มกราคม - ธันวาคม 2569 | F99: £ภาครัฐ £ ภาคเอกชน | G99: £ ด้านฝีมือ £ การสื่อสาร
C100: งบประมาณ (บาท) | F100: £ ภาคการศึกษา £ อิสระ £ ปราชญ์ชาวบ้าน | G100: £ การบริการจัดการ £ ด้านเทคโนโลยี
...

Sheet อุตสาหกรรม ท่องเที่ยว+บริการ
A1: ผลการพัฒนากำลังคนจังหวัดอุทัยธานี พ.ศ. 2569
A2: การพัฒนาด้านประเภทอุตสาหกรรมท่องเที่ยวและบริการ (ผู้นำเที่ยว ผู้ประกอบการร้านค้า ร้านอาหาร)
A3: ที่ | B3: แผนงาน/โครงการ | C3: หน่วยนับ | D3: แผนดำเนินงาน | E3: ระยะเวลาดำเนินการ/ สถานที่ | F3: ข้อมูลวิทยากร | G3: งบประมาณที่เบิกจ่ายจริง | H3: จำนวนผู้ผ่านการพัฒนา | I3: รายได้เฉลี่ย/รุ่น | J3: หน่วยงานที่รับผิดชอบ | K3: แหล่งงบประมาณ
D4: พ.ศ. 2569
C5: คน
C6: งบประมาณ (บาท)
A7: 1 | B7: โครงการสร้างการรับรู้ด้านดิจจิทัลของประชาชนในระดับจังหวัดและอำเภอ | C7: คน | D7: 50 | E7: มกราคม - กันยายน 2569 | F7: £ภาครัฐ £ ภาคเอกชน | G7: £ ด้านฝีมือ £ การสื่อสาร | J7: สำนักงานสถิติจังหวัดอุทัยธานี | K7: ต้นสังกัด
C8: งบประมาณ (บาท) | E8: ทุกอำเภอในพื้นที่จังหวัดอุทัยธานี | F8: £ ภาคการศึกษา £ อิสระ £ ปราชญ์ชาวบ้าน | G8: £ การบริการจัดการ £ ด้านเทคโนโลยี
A9: 2 | B9: โครงการพัฒนาต่อยอดทุนทางวัฒนธรรมด้วยนวัตกรรมภูมิปัญญา "เที่ยวชุมชน ยลวิถี" จังหวัดอุทัยธานี กิจกรรมการพัฒนาศักยภาพชุมชนต้นแบบ "เที่ยวชุมชน ยลวิถี" ชุมชนคณธรรม วัดท่าโพ อำเภอหนองขาหย่าง จังหวัดอุทัยธานี 1) จัดอบรมเชิงปฏิบัติการ "ถ่ายทอดเพลงพื้นบ้านท่าโพ" 2) จัดอบรมเชิงปฏิบัติการ "การพัมนารูปแบบ รสชาติ บรรจุภัณฑ์ ของอาหารพื้นถิ่นสู่ผลิตภัณฑ์ชุมชนเพื่อการสร้างอาชีพ | C9: คน | D9: 120 | E9: 1 มกราคม - 28 กุมภาพันธ์ 2569 | F9: £ภาครัฐ £ ภาคเอกชน | G9: £ ด้านฝีมือ £ การสื่อสาร | J9: สำนักงานวัฒนธรรมจังหวัดอุทัยธานี | K9: ต้นสังกัด
C10: งบประมาณ (บาท) | E10: ชุมชนคณธรรม วัดท่าโพ อำเภอหนองขาหย่าง จังหวัดอุทัยธานี | F10: £ ภาคการศึกษา £ อิสระ £ ปราชญ์ชาวบ้าน | G10: £ การบริการจัดการ £ ด้านเทคโนโลยี
A11: 3 | B11: โครงการค่าใช้จ่ายในการปั้นผู้ประกอบการเกษตรอุตสาหกรรมสู่ชุมชน (MiNE STAR) ประจำปีงบประมาณ พ.ศ. 2569 กิจกรรม การถ่ายทอดองค์ความรู้และพัฒนาผู้ประกอบการอุตสาหกรรม | C11: คน | D11: 20 | E11: กุมภาพันธ์ 2569 | F11: £ภาครัฐ £ ภาคเอกชน | G11: £ ด้านฝีมือ £ การสื่อสาร | J11: สำนักงานอุตสาหกรรมจังหวัดอุทัยธานี | K11: ต้นสังกัด
C12: งบประมาณ (บาท) | F12: £ ภาคการศึกษา £ อิสระ £ ปราชญ์ชาวบ้าน | G12: £ การบริการจัดการ £ ด้านเทคโนโลยี
A13: 4 | B13: โครงการยกระดับผู้ประกอยการเอสเอ็มอีให้มีศักยภาพและขีดความสามารถในการแข่งขันด้วยมาตรฐานอุตสาหกรรม (มอก.เอส) ประจำปีงบประมาณ พ.ศ. 2569 | C13: คน | D13: 20 | E13: พฤษภาคม 2569 | F13: £ภาครัฐ £ ภาคเอกชน | G13: £ ด้านฝีมือ £ การสื่อสาร | K13: ต้นสังกัด
C14: งบประมาณ (บาท) | F14: £ ภาคการศึกษา £ อิสระ £ ปราชญ์ชาวบ้าน | G14: £ การบริการจัดการ £ ด้านเทคโนโลยี
A15: 5 | B15: โครงการฝึกอาชีพทำอาหารปรุงและเครื่องดื่มภายในเรือจำ | C15: คน | D15: 10 | E15: ตุลาคม 2568-กันยายน 2569 | F15: £ภาครัฐ £ ภาคเอกชน | G15: £ ด้านฝีมือ £ การสื่อสาร | J15: เรือนจำจังหวัดอุทัยธานี | K15: ต้นสังกัด
C16: งบประมาณ (บาท) | E16: เรือนจำจังหวัดอุทัยธานี | F16: £ ภาคการศึกษา £ อิสระ £ ปราชญ์ชาวบ้าน | G16: £ การบริการจัดการ £ ด้านเทคโนโลยี
A17: 6 | B17: โครงการฝึกวิชาชีพทำความสะอาดรถยนต์ | C17: คน | D17: 10 | E17: ตุลาคม 2568-กันยายน 2569 | F17: £ภาครัฐ £ ภาคเอกชน | G17: £ ด้านฝีมือ £ การสื่อสาร | K17: ต้นสังกัด
C18: งบประมาณ (บาท) | E18: เรือนจำจังหวัดอุทัยธานี | F18: £ ภาคการศึกษา £ อิสระ £ ปราชญ์ชาวบ้าน | G18: £ การบริการจัดการ £ ด้านเทคโนโลยี
A19: 7 | B19: โครงการฝึกวิชาชีพทำเบอเกรี่ | C19: คน | D19: 20 | E19: ตุลาคม 2568-กันยายน 2569 | F19: £ภาครัฐ £ ภาคเอกชน | G19: £ ด้านฝีมือ £ การสื่อสาร | K19: ต้นสังกัด
C20: งบประมาณ (บาท) | D20: 2500 | E20: เรือนจำจังหวัดอุทัยธานี | F20: £ ภาคการศึกษา £ อิสระ £ ปราชญ์ชาวบ้าน | G20: £ การบริการจัดการ £ ด้านเทคโนโลยี
A21: 8 | B21: โครงการฝึกวิชาชีพทำอาหารไทย | C21: คน | D21: 20 | E21: ตุลาคม 2568-กันยายน 2569 | F21: £ภาครัฐ £ ภาคเอกชน | G21: £ ด้านฝีมือ £ การสื่อสาร | K21: ต้นสังกัด
C22: งบประมาณ (บาท) | D22: 2000 | E22: เรือนจำจังหวัดอุทัยธานี | F22: £ ภาคการศึกษา £ อิสระ £ ปราชญ์ชาวบ้าน | G22: £ การบริการจัดการ £ ด้านเทคโนโลยี
A23: 9 | B23: โครงการฝึกวิชาชีพช่างเสริมสวย | C23: คน | D23: 30 | E23: ตุลาคม 2568-กันยายน 2569 | F23: £ภาครัฐ £ ภาคเอกชน | G23: £ ด้านฝีมือ £ การสื่อสาร | K23: ต้นสังกัด
C24: งบประมาณ (บาท) | D24: 2000 | E24: เรือนจำจังหวัดอุทัยธานี | F24: £ ภาคการศึกษา £ อิสระ £ ปราชญ์ชาวบ้าน | G24: £ การบริการจัดการ £ ด้านเทคโนโลยี
A25: 10 | B25: โครงการพัฒนาทักษะภาษาอังกฤษสำหรับผู้เรียน | C25: คน | D25: 50 | E25: ตุลาคม 2568-กันยายน 2569 | F25: £ภาครัฐ £ ภาคเอกชน | G25: £ ด้านฝีมือ £ การสื่อสาร | K25: ต้นสังกัด
C26: งบประมาณ (บาท) | E26: เรือนจำจังหวัดอุทัยธานี | F26: £ ภาคการศึกษา £ อิสระ £ ปราชญ์ชาวบ้าน | G26: £ การบริการจัดการ £ ด้านเทคโนโลยี
A27: 11 | B27: โครงการพัฒนาทักษะการใช้โปรแกรมสำเร็จรูปในสำนักงาน | C27: คน | D27: 50 | E27: ตุลาคม 2568-กันยายน 2569 | F27: £ภาครัฐ £ ภาคเอกชน | G27: £ ด้านฝีมือ £ การสื่อสาร | K27: ต้นสังกัด
C28: งบประมาณ (บาท) | E28: เรือนจำจังหวัดอุทัยธานี | F28: £ ภาคการศึกษา £ อิสระ £ ปราชญ์ชาวบ้าน | G28: £ การบริการจัดการ £ ด้านเทคโนโลยี
A29: 12 | B29: โครงการฝึกวิชาชรพทำขนมไทยชาววัง | C29: คน | D29: 30 | E29: ตุลาคม 2568-กันยายน 2569 | F29: £ภาครัฐ £ ภาคเอกชน | G29: £ ด้านฝีมือ £ การสื่อสาร | K29: ต้นสังกัด
C30: งบประมาณ (บาท) | D30: 3000 | E30: เรือนจำจังหวัดอุทัยธานี | F30: £ ภาคการศึกษา £ อิสระ £ ปราชญ์ชาวบ้าน | G30: £ การบริการจัดการ £ ด้านเทคโนโลยี
A31: 13 | B31: โครวการพัมนาศักยภาพผู้ประกอบการสู่ยุคดิจิตอล | C31: คน | D31: 50 | E31: เดือนพฤศจากยน 2568 | F31: £ภาครัฐ £ ภาคเอกชน | G31: £ ด้านฝีมือ £ การสื่อสาร | J31: สำนักงานพัฒนาชุมชนจังหวัดอุทัยธานี | K31: ต้นสังกัด
C32: งบประมาณ (บาท) | E32: โรงแรมธาราฮิลล์ อำเภอเมืองอุทัยธานี จังหวัดอุทัยธานี | F32: £ ภาคการศึกษา £ อิสระ £ ปราชญ์ชาวบ้าน | G32: £ การบริการจัดการ £ ด้านเทคโนโลยี
A33: 14 | B33: โครงการค้นหาผู้จัดโปรแกรมท่องเที่ยวเชิงสร้างสรรค์ (Champ) ผลิตภัณฑ์เด่นและการทดสอบโปรแกรมท่องเที่ยวเชิงสร้างสรรค์ | C33: คน | D33: 40 | E33: เดือนมกราคม - มีนคาม 2569 | F33: £ภาครัฐ £ ภาคเอกชน | G33: £ ด้านฝีมือ £ การสื่อสาร | K33: ต้นสังกัด
C34: งบประมาณ (บาท) | E34: บ้านเนินม่วงพัมนา หมู่ที่ 11 ต.ป่าอ้อ อ.ลานสัก และบ้านท่าชะอม หมู่ที่ 6 ต.เขากวางทอง อ.หนองฉาง | F34: £ ภาคการศึกษา £ อิสระ £ ปราชญ์ชาวบ้าน | G34: £ การบริการจัดการ £ ด้านเทคโนโลยี
A35: 15 | B35: กิจกรรม ฝึกอบรมแรงงานกลุ่มเป้าหมายเฉพาะเพื่อเพิ่มอากาสในการประกอบอาชีพวิถีใหม่ หลักสูตร ชีววิถีเพื่อการพัฒนาอย่างยั่งยืน | C35: คน | D35: 100 | E35: พฤศจิกายน 2568 - กุมภาพันธ์ 2569 | F35: £ภาครัฐ £ ภาคเอกชน | G35: £ ด้านฝีมือ £ การสื่อสาร | J35: วิทยาลัยเกษตรและเทคโนโลยีอุทัยธานี | K35: ต้นสังกัด
C36: งบประมาณ (บาท) | E36: วิทยาลัยเกษตรและเทคโนโลยีอุทัยธานี อำเภอเมือง จังหวัดอุทัยธานี | F36: £ ภาคการศึกษา £ อิสระ £ ปราชญ์ชาวบ้าน | G36: £ การบริการจัดการ £ ด้านเทคโนโลยี
A37: 16 | B37: กิจกรรม ฝึกอบรมแรงงานกลุ่มเป้าหมายเฉพาะเพื่อเพิ่มโอกสในการประกอบอาชีพวิถีใหม่ หลักสูตร จัดดอกไม้แบบสากล | C37: คน | D37: 20 | E37: พฤศจิกายน 2568 - กุมภาพันธ์ 2569 | F37: £ภาครัฐ £ ภาคเอกชน | G37: £ ด้านฝีมือ £ การสื่อสาร | K37: ต้นสังกัด
C38: งบประมาณ (บาท) | E38: วิทยาลัยเกษตรและเทคโนโลยีอุทัยธานี อำเภอเมือง จังหวัดอุทัยธานี | F38: £ ภาคการศึกษา £ อิสระ £ ปราชญ์ชาวบ้าน | G38: £ การบริการจัดการ £ ด้านเทคโนโลยี
A39: 17 | B39: กิจกรรม ฝึกอบรมแรงงานกลุ่มเป้าหมายเฉพาะเพื่อเพิ่มโอกสในการประกอบอาชีพวิถีใหม่ หลักสูตร งานตกแต่งสถานที่ | C39: คน | D39: 20 | E39: พฤศจิกายน 2568 - กุมภาพันธ์ 2569 | F39: £ภาครัฐ £ ภาคเอกชน | G39: £ ด้านฝีมือ £ การสื่อสาร | K39: ต้นสังกัด
C40: งบประมาณ (บาท) | E40: วิทยาลัยเกษตรและเทคโนโลยีอุทัยธานี อำเภอเมือง จังหวัดอุทัยธานี | F40: £ ภาคการศึกษา £ อิสระ £ ปราชญ์ชาวบ้าน | G40: £ การบริการจัดการ £ ด้านเทคโนโลยี
A41: 18 | B41: กิจกรรม ตัดผมชาย ระดับ 1 | C41: คน | D41: 20 | E41: เดือนกุมภาพันธ์ - เมษายน 2569 | F41: £ภาครัฐ £ ภาคเอกชน | G41: £ ด้านฝีมือ £ การสื่อสาร | J41: วิทยาลัยสารพัดช่างอุทัยธานี | K41: ต้นสังกัด
C42: งบประมาณ (บาท) | E42: วิทยาลัยสารพัดช่างอุทัยธานี | F42: £ ภาคการศึกษา £ อิสระ £ ปราชญ์ชาวบ้าน | G42: £ การบริการจัดการ £ ด้านเทคโนโลยี
A43: 19 | B43: กิจกรรม คุกกี้ และเค้ก | C43: คน | D43: 40 | E43: เดือนกุมภาพันธ์ - เมษายน 2569 | F43: £ภาครัฐ £ ภาคเอกชน | G43: £ ด้านฝีมือ £ การสื่อสาร | K43: ต้นสังกัด
C44: งบประมาณ (บาท) | E44: วิทยาลัยสารพัดช่างอุทัยธานี | F44: £ ภาคการศึกษา £ อิสระ £ ปราชญ์ชาวบ้าน | G44: £ การบริการจัดการ £ ด้านเทคโนโลยี
A45: 20 | B45: กิจกรรม แต่งหน้าเค้กด้วยวิปิ้งครีม | C45: คน | D45: 40 | E45: เดือนกุมภาพันธ์ - เมษายน 2569 | F45: £ภาครัฐ £ ภาคเอกชน | G45: £ ด้านฝีมือ £ การสื่อสาร | K45: ต้นสังกัด
C46: งบประมาณ (บาท) | E46: วิทยาลัยสารพัดช่างอุทัยธานี | F46: £ ภาคการศึกษา £ อิสระ £ ปราชญ์ชาวบ้าน | G46: £ การบริการจัดการ £ ด้านเทคโนโลยี
A47: 21 | B47: กิจกรรม อาหารจายเดียวยอดนิยม | C47: คน | D47: 40 | E47: เดือนกุมภาพันธ์ - เมษายน 2569 | F47: £ภาครัฐ £ ภาคเอกชน | G47: £ ด้านฝีมือ £ การสื่อสาร | K47: ต้นสังกัด
C48: งบประมาณ (บาท) | E48: วิทยาลัยสารพัดช่างอุทัยธานี | F48: £ ภาคการศึกษา £ อิสระ £ ปราชญ์ชาวบ้าน | G48: £ การบริการจัดการ £ ด้านเทคโนโลยี
A49: 22 | B49: กิจกรรม ตัดผมชาย ระดับ 2 | C49: คน | D49: 20 | E49: เดือนกุมภาพันธ์ - เมษายน 2569 | F49: £ภาครัฐ £ ภาคเอกชน | G49: £ ด้านฝีมือ £ การสื่อสาร | K49: ต้นสังกัด
C50: งบประมาณ (บาท) | E50: วิทยาลัยสารพัดช่างอุทัยธานี | F50: £ ภาคการศึกษา £ อิสระ £ ปราชญ์ชาวบ้าน | G50: £ การบริการจัดการ £ ด้านเทคโนโลยี
A51: 23 | B51: การทำขนมไทย | C51: คน | D51: 25 | E51: ตุลาคม 68-กันยายน 69 | F51: £ภาครัฐ £ ภาคเอกชน | G51: £ ด้านฝีมือ £ การสื่อสาร | J51: วิทยาลัยชุมชนอุทัยธานี | K51: ต้นสังกัด
C52: งบประมาณ (บาท) | E52: จังหวัดอุทัยธานี | F52: £ ภาคการศึกษา £ อิสระ £ ปราชญ์ชาวบ้าน | G52: £ การบริการจัดการ £ ด้านเทคโนโลยี
A53: 24 | B53: การทำขนมอบเบเกอรี่ (เค้ก) | C53: คน | D53: 25 | E53: ตุลาคม 68-กันยายน 69 | F53: £ภาครัฐ £ ภาคเอกชน | G53: £ ด้านฝีมือ £ การสื่อสาร | K53: ต้นสังกัด
C54: งบประมาณ (บาท) | E54: จังหวัดอุทัยธานี | F54: £ ภาคการศึกษา £ อิสระ £ ปราชญ์ชาวบ้าน | G54: £ การบริการจัดการ £ ด้านเทคโนโลยี
A55: 25 | B55: การทำปลาส้มตัวปลอดสารพิษ | C55: คน | D55: 25 | E55: ตุลาคม 68-กันยายน 69 | F55: £ภาครัฐ £ ภาคเอกชน | G55: £ ด้านฝีมือ £ การสื่อสาร | K55: ต้นสังกัด
C56: งบประมาณ (บาท) | E56: จังหวัดอุทัยธานี | F56: £ ภาคการศึกษา £ อิสระ £ ปราชญ์ชาวบ้าน | G56: £ การบริการจัดการ £ ด้านเทคโนโลยี
A57: 26 | B57: การแปรรูปผลิตภัณฑ์ทางการเกษตร | C57: คน | D57: 25 | E57: ตุลาคม 68-กันยายน 69 | F57: £ภาครัฐ £ ภาคเอกชน | G57: £ ด้านฝีมือ £ การสื่อสาร | K57: ต้นสังกัด
C58: งบประมาณ (บาท) | E58: จังหวัดอุทัยธานี | F58: £ ภาคการศึกษา £ อิสระ £ ปราชญ์ชาวบ้าน | G58: £ การบริการจัดการ £ ด้านเทคโนโลยี
A59: 27 | B59: ช่างบริการรถจักรยานยนต์ | C59: คน | D59: 25 | E59: ตุลาคม 68-กันยายน 69 | F59: £ภาครัฐ £ ภาคเอกชน | G59: £ ด้านฝีมือ £ การสื่อสาร | K59: ต้นสังกัด
C60: งบประมาณ (บาท) | E60: จังหวัดอุทัยธานี | F60: £ ภาคการศึกษา £ อิสระ £ ปราชญ์ชาวบ้าน | G60: £ การบริการจัดการ £ ด้านเทคโนโลยี
A61: 28 | B61: ช่างตกแต่งรูปภาพด้วยคอมพิวเตอร์ | C61: คน | D61: 25 | E61: ตุลาคม 68-กันยายน 69 | F61: £ภาครัฐ £ ภาคเอกชน | G61: £ ด้านฝีมือ £ การสื่อสาร | K61: ต้นสังกัด
C62: งบประมาณ (บาท) | E62: จังหวัดอุทัยธานี | F62: £ ภาคการศึกษา £ อิสระ £ ปราชญ์ชาวบ้าน | G62: £ การบริการจัดการ £ ด้านเทคโนโลยี
A63: 29 | B63: งานช่างดัดแปลงมอเตอร์ไซค์ไฟฟ้า | C63: คน | D63: 25 | E63: ตุลาคม 68-กันยายน 69 | F63: £ภาครัฐ £ ภาคเอกชน | G63: £ ด้านฝีมือ £ การสื่อสาร | K63: ต้นสังกัด
C64: งบประมาณ (บาท) | E64: จังหวัดอุทัยธานี | F64: £ ภาคการศึกษา £ อิสระ £ ปราชญ์ชาวบ้าน | G64: £ การบริการจัดการ £ ด้านเทคโนโลยี
A65: 30 | B65: โครงการอบรมอาสาสมัครท่องเที่ยวและกีฬา (อสทก) จังหวัดอุทัยานี | C65: คน | D65: 40 | E65: 22-23 ธันวาคม 2568 | F65: £ภาครัฐ £ ภาคเอกชน | G65: £ ด้านฝีมือ £ การสื่อสาร | J65: สำนักงานการท่องเที่ยวและกีฬาจังหวัดอุทัยธานี | K65: ต้นสังกัด
C66: งบประมาณ (บาท) | E66: โรงแรมธาราฮิลล์ อำเภอเมืองอุทัยธานี จังหวัดอุทัยธานี | F66: £ ภาคการศึกษา £ อิสระ £ ปราชญ์ชาวบ้าน | G66: £ การบริการจัดการ £ ด้านเทคโนโลยี
A67: 31 | B67: โครงการอบรมอาสาสมัครนำเที่ยวจังหวัดอุทัยธานั | C67: คน | D67: 50 | F67: £ภาครัฐ £ ภาคเอกชน | G67: £ ด้านฝีมือ £ การสื่อสาร | K67: ต้นสังกัด
C68: งบประมาณ (บาท) | E68: จังหวัดอุทัยธานี | F68: £ ภาคการศึกษา £ อิสระ £ ปราชญ์ชาวบ้าน | G68: £ การบริการจัดการ £ ด้านเทคโนโลยี
C69: คน | E69: มกราคม - ธันวาคม 2569 | F69: £ภาครัฐ £ ภาคเอกชน | G69: £ ด้านฝีมือ £ การสื่อสาร
C70: งบประมาณ (บาท) | F70: £ ภาคการศึกษา £ อิสระ £ ปราชญ์ชาวบ้าน | G70: £ การบริการจัดการ £ ด้านเทคโนโลยี
C71: คน | E71: มกราคม - ธันวาคม 2569 | F71: £ภาครัฐ £ ภาคเอกชน | G71: £ ด้านฝีมือ £ การสื่อสาร
C72: งบประมาณ (บาท) | F72: £ ภาคการศึกษา £ อิสระ £ ปราชญ์ชาวบ้าน | G72: £ การบริการจัดการ £ ด้านเทคโนโลยี
C73: คน | E73: มกราคม - ธันวาคม 2569 | F73: £ภาครัฐ £ ภาคเอกชน | G73: £ ด้านฝีมือ £ การสื่อสาร
C74: งบประมาณ (บาท) | F74: £ ภาคการศึกษา £ อิสระ £ ปราชญ์ชาวบ้าน | G74: £ การบริการจัดการ £ ด้านเทคโนโลยี
C75: คน | E75: มกราคม - ธันวาคม 2569 | F75: £ภาครัฐ £ ภาคเอกชน | G75: £ ด้านฝีมือ £ การสื่อสาร
C76: งบประมาณ (บาท) | F76: £ ภาคการศึกษา £ อิสระ £ ปราชญ์ชาวบ้าน | G76: £ การบริการจัดการ £ ด้านเทคโนโลยี
C77: คน | E77: มกราคม - ธันวาคม 2569 | F77: £ภาครัฐ £ ภาคเอกชน | G77: £ ด้านฝีมือ £ การสื่อสาร
C78: งบประมาณ (บาท) | F78: £ ภาคการศึกษา £ อิสระ £ ปราชญ์ชาวบ้าน | G78: £ การบริการจัดการ £ ด้านเทคโนโลยี
C79: คน | E79: มกราคม - ธันวาคม 2569 | F79: £ภาครัฐ £ ภาคเอกชน | G79: £ ด้านฝีมือ £ การสื่อสาร
C80: งบประมาณ (บาท) | F80: £ ภาคการศึกษา £ อิสระ £ ปราชญ์ชาวบ้าน | G80: £ การบริการจัดการ £ ด้านเทคโนโลยี

Sheet อุตสาหกรรม วิสาหกิจชุมชน
A1: ผลการพัฒนากำลังคนจังหวัดอุทัยธานี พ.ศ. 2569
A2: การพัฒนาด้านประเภทอุตสาหกรรมวิสาหกิจชุมชน (ทอผ้า แปรรูปสินค้า)
A3: ที่ | B3: แผนงาน/โครงการ | C3: หน่วยนับ | D3: แผนดำเนินงาน | E3: ระยะเวลาดำเนินการ/ สถานที่ | F3: ข้อมูลวิทยากร | G3: งบประมาณที่เบิกจ่ายจริง | H3: จำนวนผู้ผ่านการพัฒนา | I3: รายได้เฉลี่ย/รุ่น | J3: หน่วยงานที่รับผิดชอบ | K3: แหล่งงบประมาณ
D4: พ.ศ. 2569
C5: คน
C6: งบประมาณ (บาท)
A7: 1 | B7: โครงการฝึกอบรมและส่งเสริมทักษะอาชีพการทำซุ้มไม่ไผ่ | C7: คน | D7: 25 | E7: ตุลาคม 2568-กันยายน 2569 | F7: £ภาครัฐ £ ภาคเอกชน | G7: £ ด้านฝีมือ £ การสื่อสาร | J7: สำนักงานพัฒนาสังคมและความมั่นคงของมนุษย์จังหวัดอุทัยธานี | K7: ต้นสังกัด
C8: งบประมาณ (บาท) | E8: อาคารวิสาหกิจชุมชนกลุ่มจักรสานบ้านเกาะอีเพลิน | F8: £ ภาคการศึกษา £ อิสระ £ ปราชญ์ชาวบ้าน | G8: £ การบริการจัดการ £ ด้านเทคโนโลยี
A9: 2 | B9: โครงการฝึกอบรมส่งเสริมอาชีพถักกระเป๋าจากเชือกร่ม | C9: คน | D9: 35 | E9: ตุลาคม 2568-กันยายน 2569 | F9: £ภาครัฐ £ ภาคเอกชน | G9: £ ด้านฝีมือ £ การสื่อสาร | K9: ต้นสังกัด
C10: งบประมาณ (บาท) | E10: ชมรมผู้สูงอายุเขาบางแกรก | F10: £ ภาคการศึกษา £ อิสระ £ ปราชญ์ชาวบ้าน | G10: £ การบริการจัดการ £ ด้านเทคโนโลยี
A11: 3 | B11: โครงการฝึกอบรมและส่งเสริมอาชีพผลิตภัณฑ์จักสาน (โตกหวานเทียมและฝาชีหวายเทียม) | C11: คน | D11: 35 | E11: ตุลาคม 2568-กันยายน 2569 | F11: £ภาครัฐ £ ภาคเอกชน | G11: £ ด้านฝีมือ £ การสื่อสาร | K11: ต้นสังกัด
C12: งบประมาณ (บาท) | E12: องค์การบริหารส่วนตำบลเขากวางทอง | F12: £ ภาคการศึกษา £ อิสระ £ ปราชญ์ชาวบ้าน | G12: £ การบริการจัดการ £ ด้านเทคโนโลยี
A13: 4 | B13: โครงการฝึกอบรมส่งเสริมและพัฒนาอาชีพผลิตภัณฑ์จักสาน (ฝาชีหวายเทียม) | C13: คน | D13: 30 | E13: ตุลาคม 2568-กันยายน 2569 | F13: £ภาครัฐ £ ภาคเอกชน | G13: £ ด้านฝีมือ £ การสื่อสาร | K13: ต้นสังกัด
C14: งบประมาณ (บาท) | E14: ห้องประชุม องค์การบริหารส่วนตำบลประดู่ยืน | F14: £ ภาคการศึกษา £ อิสระ £ ปราชญ์ชาวบ้าน | G14: £ การบริการจัดการ £ ด้านเทคโนโลยี
A15: 5 | B15: โครงการฝึกวิชาชีพงานปักและประดิษฐ์ของใช้ | C15: คน | D15: 30 | E15: ตุลาคม 2568-กันยายน 2569 | F15: £ภาครัฐ £ ภาคเอกชน | G15: £ ด้านฝีมือ £ การสื่อสาร | J15: เรือนจำจังหวัดอุทัยธานี | K15: ต้นสังกัด
C16: งบประมาณ (บาท) | E16: เรือนจำจังหวัดอุทัยธานี | F16: £ ภาคการศึกษา £ อิสระ £ ปราชญ์ชาวบ้าน | G16: £ การบริการจัดการ £ ด้านเทคโนโลยี
A17: 6 | B17: โครงการฝึกวิชาชีพงานปะดิษฐ์ของชำร่วยและของที่ระลึก (เพ้นท์) | C17: คน | D17: 30 | E17: ตุลาคม 2568-กันยายน 2569 | F17: £ภาครัฐ £ ภาคเอกชน | G17: £ ด้านฝีมือ £ การสื่อสาร | K17: ต้นสังกัด
C18: งบประมาณ (บาท) | E18: เรือนจำจังหวัดอุทัยธานี | F18: £ ภาคการศึกษา £ อิสระ £ ปราชญ์ชาวบ้าน | G18: £ การบริการจัดการ £ ด้านเทคโนโลยี
A19: 7 | B19: โครงการฝึกวิชาชีพประดิษฐ์กระเป๋าสตางค์ทำมือ | C19: คน | D19: 30 | E19: ตุลาคม 2568-กันยายน 2569 | F19: £ภาครัฐ £ ภาคเอกชน | G19: £ ด้านฝีมือ £ การสื่อสาร | K19: ต้นสังกัด
C20: งบประมาณ (บาท) | E20: เรือนจำจังหวัดอุทัยธานี | F20: £ ภาคการศึกษา £ อิสระ £ ปราชญ์ชาวบ้าน | G20: £ การบริการจัดการ £ ด้านเทคโนโลยี
A21: 8 | B21: โครงการพัฒนาผลิตภัณฑ์ OTOP กลุ่มปรับตัวสู่การพัมนา (Quadrant D) | C21: คน | D21: 25 | E21: เดือนมกราคม - มีนาคม 2569 | F21: £ภาครัฐ £ ภาคเอกชน | G21: £ ด้านฝีมือ £ การสื่อสาร | J21: สำนักงานพัฒนาชุมชนจังหวัดอุทัยธานี | K21: ต้นสังกัด
C22: งบประมาณ (บาท) | E22: สถานที่เอกชนในพื้นที่จังหวัดอุทัยธานี | F22: £ ภาคการศึกษา £ อิสระ £ ปราชญ์ชาวบ้าน | G22: £ การบริการจัดการ £ ด้านเทคโนโลยี
A23: 9 | B23: กิจกรรม ฝึกอบรมแรงงานกลุ่มเป้าหมายเฉพาะเพื่อเพิ่มโอกาสในการประกอบอาชีพวิถีใหม่ หลักสูตร การถนอมอาหาร | C23: คน | D23: 0 | E23: พฤศจิกายน 2568 - กุมภาพันธ์ 2569 | F23: £ภาครัฐ £ ภาคเอกชน | G23: £ ด้านฝีมือ £ การสื่อสาร | J23: วิทยาลัยเกษตรและเทคโนโลยีอุทัยธานี | K23: ต้นสังกัด
C24: งบประมาณ (บาท) | E24: วิทยาลัยเกษตรและเทคโนโลยีอุทัยธานี อำเภอเมือง จังหวัดอุทัยธานี | F24: £ ภาคการศึกษา £ อิสระ £ ปราชญ์ชาวบ้าน | G24: £ การบริการจัดการ £ ด้านเทคโนโลยี
A25: 10 | B25: กิจกรรม ฝึกอบรมแรงงานกลุ่มเป้าหมายเฉพาะเพื่อเพิ่มโอกาสในการประกอบอาชีพวิถีใหม่ หลักสูตร อาหารว่างยอดนิยม | C25: คน | D25: 60 | E25: พฤศจิกายน 2568 - กุมภาพันธ์ 2569 | F25: £ภาครัฐ £ ภาคเอกชน | G25: £ ด้านฝีมือ £ การสื่อสาร | K25: ต้นสังกัด
C26: งบประมาณ (บาท) | E26: วิทยาลัยเกษตรและเทคโนโลยีอุทัยธานี อำเภอเมือง จังหวัดอุทัยธานี | F26: £ ภาคการศึกษา £ อิสระ £ ปราชญ์ชาวบ้าน | G26: £ การบริการจัดการ £ ด้านเทคโนโลยี
A27: 11 | B27: กิจกรรม ฝึกอบรมแรงงานกลุ่มเป้าหมายเฉพาะเพื่อเพิ่มโอกาสในการประกอบอาชีพวิถีใหม่ หลักสูตร การแปรรูปอาหาร | C27: คน | D27: 20 | E27: พฤศจิกายน 2568 - กุมภาพันธ์ 2569 | F27: £ภาครัฐ £ ภาคเอกชน | G27: £ ด้านฝีมือ £ การสื่อสาร | K27: ต้นสังกัด
C28: งบประมาณ (บาท) | E28: วิทยาลัยเกษตรและเทคโนโลยีอุทัยธานี อำเภอเมือง จังหวัดอุทัยธานี | F28: £ ภาคการศึกษา £ อิสระ £ ปราชญ์ชาวบ้าน | G28: £ การบริการจัดการ £ ด้านเทคโนโลยี
A29: 12 | B29: กิจกรรม ฝึกอบรมแรงงานกลุ่มเป้าหมายเฉพาะเพื่อเพิ่มโอกาสในการประกอบอาชีพวิถีใหม่ หลักสูตร อาหารไทยชาววัง | C29: คน | D29: 20 | E29: พฤศจิกายน 2568 - กุมภาพันธ์ 2569 | F29: £ภาครัฐ £ ภาคเอกชน | G29: £ ด้านฝีมือ £ การสื่อสาร | K29: ต้นสังกัด
C30: งบประมาณ (บาท) | E30: วิทยาลัยเกษตรและเทคโนโลยีอุทัยธานี อำเภอเมือง จังหวัดอุทัยธานี | F30: £ ภาคการศึกษา £ อิสระ £ ปราชญ์ชาวบ้าน | G30: £ การบริการจัดการ £ ด้านเทคโนโลยี
A31: 13 | B31: กิจกรรม ฝึกอบรมแรงงานกลุ่มเป้าหมายเฉพาะเพื่อเพิ่มโอกาสในการประกอบอาชีพวิถีใหม่ หลักสูตร การแปรรูปผลิตภัณฑ์เนื้อสัตว์ (ลูกชิ้นหมู/ไก่) | C31: คน | D31: 40 | E31: พฤศจิกายน 2568 - กุมภาพันธ์ 2569 | F31: £ภาครัฐ £ ภาคเอกชน | G31: £ ด้านฝีมือ £ การสื่อสาร | K31: ต้นสังกัด
C32: งบประมาณ (บาท) | E32: วิทยาลัยเกษตรและเทคโนโลยีอุทัยธานี อำเภอเมือง จังหวัดอุทัยธานี | F32: £ ภาคการศึกษา £ อิสระ £ ปราชญ์ชาวบ้าน | G32: £ การบริการจัดการ £ ด้านเทคโนโลยี
A33: 14 | B33: การแปรรูปผลิตภัณฑ์จากไม้ไผ่ | C33: คน | D33: 25 | E33: ตุลาคม 68-กันยายน 69 | F33: £ภาครัฐ £ ภาคเอกชน | G33: £ ด้านฝีมือ £ การสื่อสาร | J33: วิทยาลัยชุมชนอุทัยธานี | K33: ต้นสังกัด
C34: งบประมาณ (บาท) | E34: จังหวัดอุทัยธานี | F34: £ ภาคการศึกษา £ อิสระ £ ปราชญ์ชาวบ้าน | G34: £ การบริการจัดการ £ ด้านเทคโนโลยี
A35: 15 | B35: การทอผ้าฝ้ายจกลายโบราณ | C35: คน | D35: 25 | E35: ตุลาคม 68-กันยายน 69 | F35: £ภาครัฐ £ ภาคเอกชน | G35: £ ด้านฝีมือ £ การสื่อสาร | K35: ต้นสังกัด
C36: งบประมาณ (บาท) | E36: จังหวัดอุทัยธานี | F36: £ ภาคการศึกษา £ อิสระ £ ปราชญ์ชาวบ้าน | G36: £ การบริการจัดการ £ ด้านเทคโนโลยี
A37: 16 | B37: การแปรรูปผ้าทอพื้นเมือง | C37: คน | D37: 30 | E37: ตุลาคม 68-กันยายน 69 | F37: £ภาครัฐ £ ภาคเอกชน | G37: £ ด้านฝีมือ £ การสื่อสาร | K37: ต้นสังกัด
C38: งบประมาณ (บาท) | E38: จังหวัดอุทัยธานี | F38: £ ภาคการศึกษา £ อิสระ £ ปราชญ์ชาวบ้าน | G38: £ การบริการจัดการ £ ด้านเทคโนโลยี
C39: คน | E39: มกราคม - ธันวาคม 2569 | F39: £ภาครัฐ £ ภาคเอกชน | G39: £ ด้านฝีมือ £ การสื่อสาร
C40: งบประมาณ (บาท) | F40: £ ภาคการศึกษา £ อิสระ £ ปราชญ์ชาวบ้าน | G40: £ การบริการจัดการ £ ด้านเทคโนโลยี
C41: คน | E41: มกราคม - ธันวาคม 2569 | F41: £ภาครัฐ £ ภาคเอกชน | G41: £ ด้านฝีมือ £ การสื่อสาร
C42: งบประมาณ (บาท) | F42: £ ภาคการศึกษา £ อิสระ £ ปราชญ์ชาวบ้าน | G42: £ การบริการจัดการ £ ด้านเทคโนโลยี
C43: คน | E43: มกราคม - ธันวาคม 2569 | F43: £ภาครัฐ £ ภาคเอกชน | G43: £ ด้านฝีมือ £ การสื่อสาร
C44: งบประมาณ (บาท) | F44: £ ภาคการศึกษา £ อิสระ £ ปราชญ์ชาวบ้าน | G44: £ การบริการจัดการ £ ด้านเทคโนโลยี
C45: คน | E45: มกราคม - ธันวาคม 2569 | F45: £ภาครัฐ £ ภาคเอกชน | G45: £ ด้านฝีมือ £ การสื่อสาร
C46: งบประมาณ (บาท) | F46: £ ภาคการศึกษา £ อิสระ £ ปราชญ์ชาวบ้าน | G46: £ การบริการจัดการ £ ด้านเทคโนโลยี
C47: คน | E47: มกราคม - ธันวาคม 2569 | F47: £ภาครัฐ £ ภาคเอกชน | G47: £ ด้านฝีมือ £ การสื่อสาร
C48: งบประมาณ (บาท) | F48: £ ภาคการศึกษา £ อิสระ £ ปราชญ์ชาวบ้าน | G48: £ การบริการจัดการ £ ด้านเทคโนโลยี
C49: คน | E49: มกราคม - ธันวาคม 2569 | F49: £ภาครัฐ £ ภาคเอกชน | G49: £ ด้านฝีมือ £ การสื่อสาร
C50: งบประมาณ (บาท) | F50: £ ภาคการศึกษา £ อิสระ £ ปราชญ์ชาวบ้าน | G50: £ การบริการจัดการ £ ด้านเทคโนโลยี

Sheet อุตสาหกรรม อื่นๆ
A1: ผลการพัฒนากำลังคนจังหวัดอุทัยธานี พ.ศ. 2569
A2: การพัฒนาด้านประเภทอุตสาหกรรมด้านอื่น ๆ
A3: ที่ | B3: แผนงาน/โครงการ | C3: หน่วยนับ | D3: แผนดำเนินงาน | E3: ระยะเวลาดำเนินการ/ สถานที่ | F3: ข้อมูลวิทยากร | G3: งบประมาณที่เบิกจ่ายจริง | H3: จำนวนผู้ผ่านการพัฒนา | I3: รายได้เฉลี่ย/รุ่น | J3: หน่วยงานที่รับผิดชอบ | K3: แหล่งงบประมาณ
D4: พ.ศ. 2569
C5: คน
C6: งบประมาณ (บาท)
A7: 1 | B7: กิจกรรมพัฒนาคุณภาพการบริหารจัดการภาครัฐสู่ระบบราชการ 4.0 (PMQA) จังหวัดอุทัยธานี ประจำปีงบประมาณ พ.ศ. 2569 | C7: คน | D7: 80 | E7: เมษายน - พฤษภาคม 2569 | F7: £ภาครัฐ £ ภาคเอกชน | G7: £ ด้านฝีมือ £ การสื่อสาร | J7: สำนักงานจังหวัดอุทัยธานี | K7: ต้นสังกัด
C8: งบประมาณ (บาท) | E8: จังหวัดอุทัยธานี | F8: £ ภาคการศึกษา £ อิสระ £ ปราชญ์ชาวบ้าน | G8: £ การบริการจัดการ £ ด้านเทคโนโลยี
A9: 2 | B9: โครงการประชุมเชิงปฏิบัติการเสริมสร้างความรู้ ความเข้าใจ ในการพัฒนาศักยภาพการจัดทำแผนพัฒนาจังหวัดอุทัยธานี และแผนปฏิบึติราชการประจำปีของจังหวัดอุทัยธานี เชื่อมโยงระดับพื้นที่ ประจำปีงบประมาณ พ.ศ. 2571 | C9: คน | D9: 80 | E9: มกราคม 2569 | F9: £ภาครัฐ £ ภาคเอกชน | G9: £ ด้านฝีมือ £ การสื่อสาร | K9: ต้นสังกัด
C10: งบประมาณ (บาท) | E10: จังหวัดอุทัยธานี | F10: £ ภาคการศึกษา £ อิสระ £ ปราชญ์ชาวบ้าน | G10: £ การบริการจัดการ £ ด้านเทคโนโลยี
A11: 3 | B11: โครงการประชุมถอดบทเรียนสู่การพัฒนาเพื่อยกระดับการประเมินคุณธรรมและความโปร่งใสในการดำเนินงานของหน่วยงานภาครัฐ ประจำปีงบประมาณ พ.ศ. 2569 ของจังหวัดอุทัยธานี | C11: คน | D11: 150 | E11: เดือนมกราคม 2569 | F11: £ภาครัฐ £ ภาคเอกชน | G11: £ ด้านฝีมือ £ การสื่อสาร | K11: ต้นสังกัด
C12: งบประมาณ (บาท) | E12: จังหวัดอุทัยธานี | F12: £ ภาคการศึกษา £ อิสระ £ ปราชญ์ชาวบ้าน | G12: £ การบริการจัดการ £ ด้านเทคโนโลยี
A13: 4 | B13: กิจกรรมการเรียนรู้ด้วยตนเองผ่านระบบอิเล็กทรอนิกส์ (e-Leaning) เพื่อเสริมสร้างศักยภาพในการปฏิบัติราชการ | C13: คน | D13: 32 | E13: กุมภาพันธ์ - กันยายน 2569 | F13: £ภาครัฐ £ ภาคเอกชน | G13: £ ด้านฝีมือ £ การสื่อสาร | K13: ต้นสังกัด
C14: งบประมาณ (บาท) | D14: 0 | F14: £ ภาคการศึกษา £ อิสระ £ ปราชญ์ชาวบ้าน | G14: £ การบริการจัดการ £ ด้านเทคโนโลยี
A15: 5 | B15: โครงการพัฒนาธุรกิจชฃุมชน กิจกรรม พัฒนาธุรกิจชุมชนในเขตปฏิรูปที่ดิน จังหวัดอุทัยธานี ปีงบประมาณ พ.ศ. 2569 | C15: คน | D15: 45 | E15: ตุลาคม 2568 - กันยายน 2569 | F15: £ภาครัฐ £ ภาคเอกชน | G15: £ ด้านฝีมือ £ การสื่อสาร | J15: สำนักงานการปฏิรูปที่ดินจังหวัดอุทัยธานี | K15: ต้นสังกัด
C16: งบประมาณ (บาท) | E16: เขตปฏิรูปที่ดินตำบลป่าอ้อ อำเภอลานสัก จังหวัดอุทัยธานี | F16: £ ภาคการศึกษา £ อิสระ £ ปราชญ์ชาวบ้าน | G16: £ การบริการจัดการ £ ด้านเทคโนโลยี
A17: 6 | B17: โครงการตลาดเกษตรกร กิจกรรมพัฒนาเกษตรกรเพื่อบริหารจัดการตลาดเกษตรกร Offline และ Online เพื่อยกระดับตลาดสินค้าเกษตร | C17: คน | D17: 10 | E17: ตุลาคม 2568-กันยายน 2569 | F17: £ภาครัฐ £ ภาคเอกชน | G17: £ ด้านฝีมือ £ การสื่อสาร | J17: สำนักงานการปฏิรูปที่ดินจังหวัดอุทัยธานี | K17: ต้นสังกัด
C18: งบประมาณ (บาท) | E18: จังหวัดอุทัยธานี | F18: £ ภาคการศึกษา £ อิสระ £ ปราชญ์ชาวบ้าน | G18: £ การบริการจัดการ £ ด้านเทคโนโลยี
A19: 7 | B19: โครงการส่งเสริมและพัฒนาเกษตรกรและองค์กรเกษตรกร กิจกรรม จัดกระบวนการเรียนรู้ เพื่อวิเคราะห์สถานการณ์และจัดทำแผนสร้างความมั่นคงด้านอาหารเพื่อการบริโภคในครัวเรือนเกษตรกรและชุมชน | C19: คน | D19: 15 | E19: ตุลาคม2568-กันยายน 2569 | F19: £ภาครัฐ £ ภาคเอกชน | G19: £ ด้านฝีมือ £ การสื่อสาร | J19: สำนักงานเกษตรจังหวัดอุทัยธานี | K19: กรมส่งเสริมการเกษตร
C20: งบประมาณ (บาท) | E20: อำเภอลานสัก จังหวัดอุทัยธานี | F20: £ ภาคการศึกษา £ อิสระ £ ปราชญ์ชาวบ้าน | G20: £ การบริการจัดการ £ ด้านเทคโนโลยี
A21: 8 | B21: โครงการเสริมสร้างศักยภาพด้านการจัดทำบัญชีต้นทุนอาชีพแก่เกษตรกร | C21: คน | D21: 79 | E21: มกราคม 2569 | F21: £ภาครัฐ £ ภาคเอกชน | G21: £ ด้านฝีมือ £ การสื่อสาร | H21: 79 | J21: สำนักงานตรวจบัญชีสหกรณ์อุทัยธานี | K21: ต้นสังกัด
C22: งบประมาณ (บาท) | D22: 22200 | E22: จังหวัดอุทัยธานี | F22: £ ภาคการศึกษา £ อิสระ £ ปราชญ์ชาวบ้าน | G22: £ การบริการจัดการ £ ด้านเทคโนโลยี | H22: 22200
A23: 9 | B23: โครงการแก้ไขปัญหาหนี้ครัวเรือยและพัฒนาคุณภาพชีวิตสมาชิกสหกรณ์ | C23: คน | D23: 130 | E23: กันยายน 2568-มกราคม 2569 | F23: £ภาครัฐ £ ภาคเอกชน | G23: £ ด้านฝีมือ £ การสื่อสาร | H23: 130 | J23: สำนักงานตรวจบัญชีสหกรณ์อุทัยธานี | K23: ต้นสังกัด
C24: งบประมาณ (บาท) | D24: 28400 | E24: สหกรณ์ในพื้นที่จังหวัดอุทัยธานี | F24: £ ภาคการศึกษา £ อิสระ £ ปราชญ์ชาวบ้าน | G24: £ การบริการจัดการ £ ด้านเทคโนโลยี | H24: 28400
A25: 10 | B25: โครงการอบรมเชิงปฏิบัติการ หลักสูตร อบรมการจัดทำบัญชีรายบุคคลภายใต้โครงการเสริมสร้างการจัดทำบัญชีครัวเรือน เพื่อการจัดการเศรษฐกิจระดับครัวเรือน | C25: คน | D25: 141 | E25: มกราคม 2569 | F25: £ภาครัฐ £ ภาคเอกชน | G25: £ ด้านฝีมือ £ การสื่อสาร | H25: 141 | J25: สำนักงานตรวจบัญชีสหกรณ์อุทัยธานี | K25: ต้นสังกัด
C26: งบประมาณ (บาท) | D26: 24730 | E26: สหกรณ์ในพื้นที่จังหวัดอุทัยธานี | F26: £ ภาคการศึกษา £ อิสระ £ ปราชญ์ชาวบ้าน | G26: £ การบริการจัดการ £ ด้านเทคโนโลยี | H26: 24730
A27: 11 | B27: โครงการพัฒนาศักยภาพและส่งเสริมการเรียนรู้ผู้สูงอายุในชุมชน | C27: คน | D27: 100 | E27: ตุลาคม 2568-กันยายน 2569 | F27: £ภาครัฐ £ ภาคเอกชน | G27: £ ด้านฝีมือ £ การสื่อสาร | J27: สำนักงานพัฒนาสังคมและความมั่นคงของมนุษย์จังหวัดอุทัยธานี | K27: ต้นสังกัด
C28: งบประมาณ (บาท) | E28: สนง.พัฒนาสังคมและความมั่นคงของมนุษย์จังหวัดอุทัยธานี | F28: £ ภาคการศึกษา £ อิสระ £ ปราชญ์ชาวบ้าน | G28: £ การบริการจัดการ £ ด้านเทคโนโลยี
A29: 12 | B29: โครงดารพื้นที่เรียนรู้ส่งเสริมสัมพันธภาพครอบครัวทุกช่วงวัย กิจกรรมสร้างพื้นที่สร้างสรรค์สำหรับครอบครัวในชุมชน | C29: คน | D29: 40 | E29: ตุลาคม 2568-กันยายน 2569 | F29: £ภาครัฐ £ ภาคเอกชน | G29: £ ด้านฝีมือ £ การสื่อสาร | K29: ต้นสังกัด
C30: งบประมาณ (บาท) | E30: สนง.พัฒนาสังคมและความมั่นคงของมนุษย์จังหวัดอุทัยธานี | F30: £ ภาคการศึกษา £ อิสระ £ ปราชญ์ชาวบ้าน | G30: £ การบริการจัดการ £ ด้านเทคโนโลยี
A31: 13 | B31: โครงการประดิษฐ์เครื่องแขวนไทยชั้นสูงเพื่อการอนุรักษ์ สืบสาน และสร้างอาชีพ (เครื่องแขวนพวงกลาง) | C31: คน | D31: 32 | E31: ตุลาคม 2568-กันยายน 2569 | F31: £ภาครัฐ £ ภาคเอกชน | G31: £ ด้านฝีมือ £ การสื่อสาร | K31: ต้นสังกัด
C32: งบประมาณ (บาท) | E32: ศูนย์วงเดือน อาคมสุฑัณฑ์ | F32: £ ภาคการศึกษา £ อิสระ £ ปราชญ์ชาวบ้าน | G32: £ การบริการจัดการ £ ด้านเทคโนโลยี
A33: 14 | B33: โครงการฝึกอบรมและส่งเสริมทักษะอาชีพในการทำธูปและทำสเปรย์สมุนไพรไล่ยุง | C33: คน | D33: 40 | E33: ตุลาคม 2568-กันยายน 2569 | F33: £ภาครัฐ £ ภาคเอกชน | G33: £ ด้านฝีมือ £ การสื่อสาร | K33: ต้นสังกัด
C34: งบประมาณ (บาท) | E34: อาคารภักดีเทศบาล ต.ส่วางอารมณ์ | F34: £ ภาคการศึกษา £ อิสระ £ ปราชญ์ชาวบ้าน | G34: £ การบริการจัดการ £ ด้านเทคโนโลยี
A35: 15 | B35: โครงการเสริมสร้างทักษะความรู้ให้กับจิตอาสาในการเยี่ยมบ้านผู้ป่วยติดบ้าน ติดเตียง และผู้พิการ | C35: คน | D35: 40 | E35: ตุลาคม 2568-กันยายน 2569 | F35: £ภาครัฐ £ ภาคเอกชน | G35: £ ด้านฝีมือ £ การสื่อสาร | K35: ต้นสังกัด
C36: งบประมาณ (บาท) | E36: ศูนย์พัฒนาคุณภาพชีวิตและส่งเสริมอาชีพผู้สูงอายุทุ่งนาไทย | F36: £ ภาคการศึกษา £ อิสระ £ ปราชญ์ชาวบ้าน | G36: £ การบริการจัดการ £ ด้านเทคโนโลยี
A37: 16 | B37: กิจกรรมการฝึกอบรมเชิงปฏิบัติการ "การพัฒนาองค์ความรู้ด้านการตลาดด้วย Marketing Innovation Concept" | C37: คน | D37: 50 | E37: ธันวาคม 2568 - มกราคม 2569 | F37: £ภาครัฐ £ ภาคเอกชน | G37: £ ด้านฝีมือ £ การสื่อสาร | J37: สำนักงานพาณิชย์จังหวัดอุทัยธานี | K37: ต้นสังกัด
C38: งบประมาณ (บาท) | E38: จังหวัดอุทัยธานี | F38: £ ภาคการศึกษา £ อิสระ £ ปราชญ์ชาวบ้าน | G38: £ การบริการจัดการ £ ด้านเทคโนโลยี
A39: 17 | B39: โครงการส่งเสริมและพัฒนาคุณภาพชีวิตของประชาชนจังหวัดอุทัยธานี | C39: คน | D39: 320 | E39: ตุลาคม 2568 - มีนาคม 2569 | F39: £ภาครัฐ £ ภาคเอกชน | G39: £ ด้านฝีมือ £ การสื่อสาร | J39: สำนักงานแรงงานจังหวัดอุทัยธานี | K39: งบประมาณรายจ่ายตามแผนปฏิบัติราชการ ประจำปีงบประมาณ พ.ศ. 2569 ของจังหวัดอุทัยธานี
C40: งบประมาณ (บาท) | E40: พื้นที่ 8 อำเภอในจังหวัดอุทัยธานี | F40: £ ภาคการศึกษา £ อิสระ £ ปราชญ์ชาวบ้าน | G40: £ การบริการจัดการ £ ด้านเทคโนโลยี
A41: 18 | B41: โครงการส่งเสริมความรู้เพื่อเตรียมความพร้อมเด็กก่อนเข้าสู่ตลาดแรงงาน | C41: คน | D41: 50 | E41: 26 พฤศจิกายน 2568 | F41: £ภาครัฐ £ ภาคเอกชน | G41: £ ด้านฝีมือ £ การสื่อสาร | J41: สำนักงานสวัสดิการและคุ้มครองแรงงานจังหวัดอุทัยธานี | K41: ต้นสังกัด
C42: งบประมาณ (บาท) | D42: 12500 | E42: วิทยาลัยสารพัดช่างจังหวัดอุทัยธานี | F42: £ ภาคการศึกษา £ อิสระ £ ปราชญ์ชาวบ้าน | G42: £ การบริการจัดการ £ ด้านเทคโนโลยี
A43: 19 | B43: กิจกรรมส่งเสริมการจัดตั้งศูนย์สุขภาพแรงงานในสถานประกอบกิจการ (Labour Wellness Center) | C43: คน | D43: 50 | E43: เดือนพฤษภาคม 2569 | F43: £ภาครัฐ £ ภาคเอกชน | G43: £ ด้านฝีมือ £ การสื่อสาร | K43: ต้นสังกัด
C44: งบประมาณ (บาท) | D44: 18000 | F44: £ ภาคการศึกษา £ อิสระ £ ปราชญ์ชาวบ้าน | G44: £ การบริการจัดการ £ ด้านเทคโนโลยี
A45: 20 | B45: กิจกรรมส่งเสริมสวัสดิการแรงงานเพื่อพัฒนาคุณภาพชีวิต | C45: คน | D45: 65 | E45: เดือรกรกฎาคม 2569 | F45: £ภาครัฐ £ ภาคเอกชน | G45: £ ด้านฝีมือ £ การสื่อสาร | K45: ต้นสังกัด
C46: งบประมาณ (บาท) | D46: 12000 | F46: £ ภาคการศึกษา £ อิสระ £ ปราชญ์ชาวบ้าน | G46: £ การบริการจัดการ £ ด้านเทคโนโลยี
A47: 21 | B47: กิจกรรมส้งเสริมให้มีการจัดสวัสดิการเพื่อพัฒนาคุณภาพชีวิตแรงงานหญิงในสถานประกอบกิจการ | C47: คน | D47: 20 | E47: เดือนพฤศจิกายน 2568 | F47: £ภาครัฐ £ ภาคเอกชน | G47: £ ด้านฝีมือ £ การสื่อสาร | K47: ต้นสังกัด
C48: งบประมาณ (บาท) | D48: 9000 | E48: บริษัทไทยรุ่งเรือง คอร์เปอเรชั่น จำกัด | F48: £ ภาคการศึกษา £ อิสระ £ ปราชญ์ชาวบ้าน | G48: £ การบริการจัดการ £ ด้านเทคโนโลยี
A49: 22 | B49: ประชุมคณะอนุกรรมการความปลอดภัย อาชีวอนามัยและสภาพแวดล้อมในการทำงาน ระดับจังหวัด | C49: คน | D49: 15 | E49: เดือนกุมภาพันธ์ 2569 | F49: £ภาครัฐ £ ภาคเอกชน | G49: £ ด้านฝีมือ £ การสื่อสาร | K49: ต้นสังกัด
C50: งบประมาณ (บาท) | D50: 15900 | F50: £ ภาคการศึกษา £ อิสระ £ ปราชญ์ชาวบ้าน | G50: £ การบริการจัดการ £ ด้านเทคโนโลยี
A51: 23 | B51: โครงการสร้างความเข้มแข็งชมรมแรงงานนอกระบบ | C51: คน | D51: 30 | E51: 25 พฤศจิกายน 2568 | F51: £ภาครัฐ £ ภาคเอกชน | G51: £ ด้านฝีมือ £ การสื่อสาร | K51: ต้นสังกัด
C52: งบประมาณ (บาท) | D52: 18000 | E52: ละไมฟาร์ม อำเภอสว่างอารมณ์ | F52: £ ภาคการศึกษา £ อิสระ £ ปราชญ์ชาวบ้าน | G52: £ การบริการจัดการ £ ด้านเทคโนโลยี
A53: 24 | B53: กิจกรรมส่งเสริมความปลอดภัยให้แก่เครือข่ายแรงงานนอกระบบ | C53: คน | D53: 32 | E53: เดือนกรกฎาคม 2569 | F53: £ภาครัฐ £ ภาคเอกชน | G53: £ ด้านฝีมือ £ การสื่อสาร | K53: ต้นสังกัด
C54: งบประมาณ (บาท) | D54: 11840 | F54: £ ภาคการศึกษา £ อิสระ £ ปราชญ์ชาวบ้าน | G54: £ การบริการจัดการ £ ด้านเทคโนโลยี
A55: 25 | B55: กิจกรรมวันแรงงานแห่งชาติ | C55: คน | D55: 100 | E55: เดือนพฤษภาคม 2569 | F55: £ภาครัฐ £ ภาคเอกชน | G55: £ ด้านฝีมือ £ การสื่อสาร | K55: ต้นสังกัด
C56: งบประมาณ (บาท) | D56: 20000 | F56: £ ภาคการศึกษา £ อิสระ £ ปราชญ์ชาวบ้าน | G56: £ การบริการจัดการ £ ด้านเทคโนโลยี
A57: 26 | B57: กิจกรรมเพิ่มอาชีพ เพิ่มรายได้ | C57: คน | D57: 20 | E57: ตุลาคม 2568 - กันยายน 2569 | F57: £ภาครัฐ £ ภาคเอกชน | G57: £ ด้านฝีมือ £ การสื่อสาร | J57: สำนักงานจัดหางานจังหวัดอุทัยธานี | K57: ต้นสังกัด
C58: งบประมาณ (บาท) | E58: พื้นที่จังหวัดอุทัยธานี | F58: £ ภาคการศึกษา £ อิสระ £ ปราชญ์ชาวบ้าน | G58: £ การบริการจัดการ £ ด้านเทคโนโลยี
A59: 27 | B59: กิจกรรมแนะแนวอาชีพและส่งเสริมอาชีพให้เด็กและเยาวชนในสถานพินิจ ผู้ถูกคุมประพฤติ และผู้ต้องขัง | C59: คน | D59: 50 | E59: ตุลาคม 2568 - กันยายน 2569 | F59: £ภาครัฐ £ ภาคเอกชน | G59: £ ด้านฝีมือ £ การสื่อสาร | K59: ต้นสังกัด
C60: งบประมาณ (บาท) | E60: พื้นที่จังหวัดอุทัยธานี | F60: £ ภาคการศึกษา £ อิสระ £ ปราชญ์ชาวบ้าน | G60: £ การบริการจัดการ £ ด้านเทคโนโลยี
A61: 28 | B61: กิจกรรมส่งเสริมการประกอบอาชีพอิสระให้ผู้สูงอายุ | C61: คน | D61: 20 | E61: ตุลาคม 2568 - กันยายน 2569 | F61: £ภาครัฐ £ ภาคเอกชน | G61: £ ด้านฝีมือ £ การสื่อสาร | K61: ต้นสังกัด
C62: งบประมาณ (บาท) | E62: พื้นที่จังหวัดอุทัยธานี | F62: £ ภาคการศึกษา £ อิสระ £ ปราชญ์ชาวบ้าน | G62: £ การบริการจัดการ £ ด้านเทคโนโลยี
A63: 29 | B63: กิจกรรมพัฒนาศักยภาพผู้สูงอายุสู่การเป็นวิทยากรถ่ายทอดภูมิปัญญา | C63: คน | D63: 10 | E63: ตุลาคม 2568 - กันยายน 2569 | F63: £ภาครัฐ £ ภาคเอกชน | G63: £ ด้านฝีมือ £ การสื่อสาร | K63: ต้นสังกัด
C64: งบประมาณ (บาท) | E64: พื้นที่จังหวัดอุทัยธานี | F64: £ ภาคการศึกษา £ อิสระ £ ปราชญ์ชาวบ้าน | G64: £ การบริการจัดการ £ ด้านเทคโนโลยี
A65: 30 | B65: โครงการพัฒนาศักยภาพแกนนำเครือข่ายประกันสังคม | C65: คน | D65: 100 | E65: มีนาคม 2569 | F65: £ภาครัฐ £ ภาคเอกชน | G65: £ ด้านฝีมือ £ การสื่อสาร | J65: สำนักงานประกันสังคมจังหวัดอุทัยธานี | K65: ต้นสังกัด
C66: งบประมาณ (บาท) | D66: 35700 | E66: พื้นที่จังหวัดอุทัยธานี | F66: £ ภาคการศึกษา £ อิสระ £ ปราชญ์ชาวบ้าน | G66: £ การบริการจัดการ £ ด้านเทคโนโลยี
A67: 31 | B67: โครงการให้ความรู้ และคำปรึกษาแนะนำเกียวกับสิทธิประโยชน์ประกันสังคม ผ่านการออกหน่วยเคลื่อนที่บริการเบ็ดเสร็จ (Service Unit : SDU) | C67: คน | D67: 1600 | E67: มกราคม - ธันวาคม 2569 | F67: £ภาครัฐ £ ภาคเอกชน | G67: £ ด้านฝีมือ £ การสื่อสาร | K67: ต้นสังกัด
C68: งบประมาณ (บาท) | D68: 24000 | E68: พื้นที่ 8 อำเภอ ในจังหวัดอุทัยธานี | F68: £ ภาคการศึกษา £ อิสระ £ ปราชญ์ชาวบ้าน | G68: £ การบริการจัดการ £ ด้านเทคโนโลยี
A69: 32 | B69: โครงการประชุมชี้แจงให้ความรู้งานประกันสังคม ประจำปี 2569 | C69: คน | D69: 40 | E69: มีนาคม 2569 | F69: £ภาครัฐ £ ภาคเอกชน | G69: £ ด้านฝีมือ £ การสื่อสาร | K69: ต้นสังกัด
C70: งบประมาณ (บาท) | D70: 20000 | E70: สนง.ประกันสังคมจังหวัดอุทัยธานี | F70: £ ภาคการศึกษา £ อิสระ £ ปราชญ์ชาวบ้าน | G70: £ การบริการจัดการ £ ด้านเทคโนโลยี
A71: 33 | B71: โครงการค่าใช้จ่ายในการการส่งเสริมพัฒนาศักยภาพของอุตสาหกรรมในส่วนภูมิภาค ประจำปีงบประมาณ พ.ศ. 2569 | C71: คน | D71: 100 | E71: มกราคม 2569 | F71: £ภาครัฐ £ ภาคเอกชน | G71: £ ด้านฝีมือ £ การสื่อสาร | J71: สำนักงานอุตสาหกรรมจังหวัดอุทัยธานี | K71: ต้นสังกัด
C72: งบประมาณ (บาท) | E72: โรงแรมสุขทวีรีสอร์ต อำเภอหนองฉาง จังหวัดอุทัยธานี | F72: £ ภาคการศึกษา £ อิสระ £ ปราชญ์ชาวบ้าน | G72: £ การบริการจัดการ £ ด้านเทคโนโลยี
A73: 34 | B73: โครงการประกอบผลิตภัณฑ์งานกระจก | C73: คน | D73: 30 | E73: ตุลาคม 2568-กันยายน 2569 | F73: £ภาครัฐ £ ภาคเอกชน | G73: £ ด้านฝีมือ £ การสื่อสาร | J73: เรือนจำจังหวัดอุทัยธานี | K73: ต้นสังกัด
C74: งบประมาณ (บาท) | D74: 2000 | E74: เรือนจำจังหวัดอุทัยธานี | F74: £ ภาคการศึกษา £ อิสระ £ ปราชญ์ชาวบ้าน | G74: £ การบริการจัดการ £ ด้านเทคโนโลยี
A75: 35 | B75: โครงการฝึกวิชาชีพทำน้ำยาล้างจาน | C75: คน | D75: 30 | E75: ตุลาคม 2568-กันยายน 2569 | F75: £ภาครัฐ £ ภาคเอกชน | G75: £ ด้านฝีมือ £ การสื่อสาร | K75: ต้นสังกัด
C76: งบประมาณ (บาท) | D76: 2500 | E76: เรือนจำจังหวัดอุทัยธานี | F76: £ ภาคการศึกษา £ อิสระ £ ปราชญ์ชาวบ้าน | G76: £ การบริการจัดการ £ ด้านเทคโนโลยี
A77: 36 | B77: โครงการฝึกวิชาชีพติดตั้งเครื่องใช้ไฟฟ้า | C77: คน | D77: 30 | E77: ตุลาคม 2568-กันยายน 2569 | F77: £ภาครัฐ £ ภาคเอกชน | G77: £ ด้านฝีมือ £ การสื่อสาร | K77: ต้นสังกัด
C78: งบประมาณ (บาท) | D78: 3000 | E78: เรือนจำจังหวัดอุทัยธานี | F78: £ ภาคการศึกษา £ อิสระ £ ปราชญ์ชาวบ้าน | G78: £ การบริการจัดการ £ ด้านเทคโนโลยี
A79: 37 | B79: โครงการฝึกวิชาชีพซ่อมแซมเครื่องใช้ไฟฟ้า | C79: คน | D79: 30 | E79: ตุลาคม 2568-กันยายน 2569 | F79: £ภาครัฐ £ ภาคเอกชน | G79: £ ด้านฝีมือ £ การสื่อสาร | K79: ต้นสังกัด
C80: งบประมาณ (บาท) | D80: 2000 | E80: เรือนจำจังหวัดอุทัยธานี | F80: £ ภาคการศึกษา £ อิสระ £ ปราชญ์ชาวบ้าน | G80: £ การบริการจัดการ £ ด้านเทคโนโลยี
A81: 38 | B81: โครงการฝึกวิชาชีพงานเชื่อมไฟฟ้า | C81: คน | D81: 30 | E81: ตุลาคม 2568-กันยายน 2569 | F81: £ภาครัฐ £ ภาคเอกชน | G81: £ ด้านฝีมือ £ การสื่อสาร | K81: ต้นสังกัด
C82: งบประมาณ (บาท) | D82: 2000 | E82: เรือนจำจังหวัดอุทัยธานี | F82: £ ภาคการศึกษา £ อิสระ £ ปราชญ์ชาวบ้าน | G82: £ การบริการจัดการ £ ด้านเทคโนโลยี
A83: 39 | B83: โครงการฝึกวิชาชีพทำวงกบประตู หน้าต่าง | C83: คน | D83: 30 | E83: ตุลาคม 2568-กันยายน 2569 | F83: £ภาครัฐ £ ภาคเอกชน | G83: £ ด้านฝีมือ £ การสื่อสาร | K83: ต้นสังกัด
C84: งบประมาณ (บาท) | D84: 2000 | E84: เรือนจำจังหวัดอุทัยธานี | F84: £ ภาคการศึกษา £ อิสระ £ ปราชญ์ชาวบ้าน | G84: £ การบริการจัดการ £ ด้านเทคโนโลยี
A85: 40 | B85: โครงการฝึกวิชาชีพดอกไม้ประดิษฐจากกระดาษ | C85: คน | D85: 30 | E85: ตุลาคม 2568-กันยายน 2569 | F85: £ภาครัฐ £ ภาคเอกชน | G85: £ ด้านฝีมือ £ การสื่อสาร | K85: ต้นสังกัด
C86: งบประมาณ (บาท) | D86: 2000 | E86: เรือนจำจังหวัดอุทัยธานี | F86: £ ภาคการศึกษา £ อิสระ £ ปราชญ์ชาวบ้าน | G86: £ การบริการจัดการ £ ด้านเทคโนโลยี
A87: 41 | B87: โครงการสร้างสัมมนาชีพชุมชนครัวเรือนที่ได้รับผลกระทบด้านอาชีพและรายได้ที่มีศักยภาพและสามารถพัฒนาได้ | C87: คน | D87: 240 | E87: เดือนธันวาคม 2568 | F87: £ภาครัฐ £ ภาคเอกชน | G87: £ ด้านฝีมือ £ การสื่อสาร | J87: สำนักงานพัฒนาชุมชนจังหวัดอุทัยธานี | K87: ต้นสังกัด
C88: งบประมาณ (บาท) | E88: พื้นที่ 8 อำเภอ | F88: £ ภาคการศึกษา £ อิสระ £ ปราชญ์ชาวบ้าน | G88: £ การบริการจัดการ £ ด้านเทคโนโลยี
A89: 42 | B89: โครงการส่งเสริมการจัดตั้งและพัฒนากลุ่มอาชีพ | C89: คน | D89: 80 | E89: เดือนมกราคม - มีนาคม 2569 | F89: £ภาครัฐ £ ภาคเอกชน | G89: £ ด้านฝีมือ £ การสื่อสาร | K89: ต้นสังกัด
C90: งบประมาณ (บาท) | E90: พื้นที่ 8 อำเภอ | F90: £ ภาคการศึกษา £ อิสระ £ ปราชญ์ชาวบ้าน | G90: £ การบริการจัดการ £ ด้านเทคโนโลยี
A91: 43 | B91: โครงการศูนย์ฝึกอาชีพชุมชน (หลักสูตร 10 ชั่วโมงขึ้นไป) | C91: คน | D91: 120 | E91: เดือนมกราคม - กันยายน 2569 | F91: £ภาครัฐ £ ภาคเอกชน | G91: £ ด้านฝีมือ £ การสื่อสาร | J91: สำนักงานส่งเสริมการเรียนรู้ประจำจังหวัดอุทัยธานี | K91: ต้นสังกัด
C92: งบประมาณ (บาท) | E92: พื้นที่รับผิดชอบของ สกร.ระดับอำเภอ และ ศกร.ระดับตำบลทุกแห่งในจังหวัดอุทัยธานี | F92: £ ภาคการศึกษา £ อิสระ £ ปราชญ์ชาวบ้าน | G92: £ การบริการจัดการ £ ด้านเทคโนโลยี
A93: 44 | B93: ฝึกอบรมอาชีพของศูนย์วงเดือน อาคมสุฑัณฑ์ ศูนย์ฝึกอาชีพราษฎรตามพระราชดำริ จังหวัดอุทัยธานี ประจำปีงบประมาณ พ.ศ. 2569 | C93: คน | D93: 600 | E93: เดือนธันวาคม 68-กันยายน 69 | F93: £ภาครัฐ £ ภาคเอกชน | G93: £ ด้านฝีมือ £ การสื่อสาร | J93: ศูนย์วงเดือน อาคมสุฑัณฑ์ | K93: ต้นสังกัด
C94: งบประมาณ (บาท) | E94: ศูนย์วงเดือน อาคมสุฑัณฑ์ | F94: £ ภาคการศึกษา £ อิสระ £ ปราชญ์ชาวบ้าน | G94: £ การบริการจัดการ £ ด้านเทคโนโลยี
A95: 45 | B95: การติดตั้งและบำรุงรักษาระบบเซลล์แสงอาทิตย์ | C95: คน | D95: 25 | E95: ตุลาคม 68-กันยายน 69 | F95: £ภาครัฐ £ ภาคเอกชน | G95: £ ด้านฝีมือ £ การสื่อสาร | J95: วิทยาลัยชุมชนอุทัยธานี | K95: ต้นสังกัด
C96: งบประมาณ (บาท) | E96: จังหวัดอุทัยธานี | F96: £ ภาคการศึกษา £ อิสระ £ ปราชญ์ชาวบ้าน | G96: £ การบริการจัดการ £ ด้านเทคโนโลยี
A97: 46 | B97: การพัฒนาศักยภาพการทำงานของตนเองและการทำงานเป็นทีม | C97: คน | D97: 1400 | E97: ตุลาคม 68-กันยายน 69 | F97: £ภาครัฐ £ ภาคเอกชน | G97: £ ด้านฝีมือ £ การสื่อสาร | J97: บริษัท ไทยรุ่งเรือง คอร์เปอเรชั่น จำกัด | K97: ต้นสังกัด
C98: งบประมาณ (บาท) | E98: จังหวัดอุทัยธานี | F98: £ ภาคการศึกษา £ อิสระ £ ปราชญ์ชาวบ้าน | G98: £ การบริการจัดการ £ ด้านเทคโนโลยี
A99: 47 | B99: เสริมสร้างความปลอดภัยในการขับขี่รถจักรยานยนต์ (สวมหมวกนิรภัย "สุขใจ" ทุกคน) ตำรวจ๓ธรจังหวัดอุทัยธานี ประจำงบประมาณ 2569 | C99: คน | D99: 1100 | E99: 1 ธันวามค 68 - 30 มิถุนายน 69 | F99: £ภาครัฐ £ ภาคเอกชน | G99: £ ด้านฝีมือ £ การสื่อสาร | J99: สำนักงานขนส่งจังหวัดอุทัยธานี | K99: กองทุนเพื่อความปลอดภัยในการใช้รถใช้ถนน
C100: งบประมาณ (บาท) | E100: สถานีตำรวจในสังกัดตำรวจภูธรจังหวัดอุทัยธานี | F100: £ ภาคการศึกษา £ อิสระ £ ปราชญ์ชาวบ้าน | G100: £ การบริการจัดการ £ ด้านเทคโนโลยี
...
